{"text_format":"1","workbook":"xlsx","n_sheets":28,"sheets":["Anleitung","Dat-Bl","w-E_R","w-E_Sp","m-E_R","m-E_Sp","Sum-w_R","Sum-w_Sp","Sum-m_R","Sum-m_Sp","Ez-w-R","Ez-w_Sp","Ez-m_R","Ez-m_Sp","P-60 m","P-Wurf","P-Weit","P-Staffel","P_Schulen_w","P_Schulen_m","Ez-60m","Ez-Schlagball","Ez-Kugel","Ez-Weit","Ez-Staffel","Ges-Erg_R","Ges-Erg_Sp","Schweizer-Punktetabelle"],"not_rendered":{"charts":0,"images":2,"macros":1,"external_links":0,"defined_names":22,"comments":0,"pivot_tables":0},"unopened":[],"bounds":{"document_bytes":16777216,"sheet_cells":100000,"rows_first":2000,"rows_last":500,"rows_between":2000,"halvings":0,"cell_chars":16384,"cell_head_chars":4096},"cells_cut":0,"cells_raw":0,"read":"whole","date_system":"1900"}

{"sheet":"Anleitung","index":0,"n_rows":0,"n_cols":0,"rows_kept":0,"cut":false,"hidden":false,"merged":[]}

{"sheet":"Dat-Bl","index":1,"n_rows":246,"n_cols":15,"rows_kept":246,"cut":false,"hidden":false,"merged":[[240,0,245,0],[240,8,245,8],[222,0,227,0],[222,8,227,8],[228,0,233,0],[228,8,233,8],[234,0,239,0],[234,8,239,8],[174,0,179,0],[174,8,179,8],[180,0,185,0],[180,8,185,8],[216,8,221,8],[186,0,191,0],[186,8,191,8],[192,0,197,0],[192,8,197,8],[198,0,203,0],[198,8,203,8],[204,0,209,0],[204,8,209,8],[210,0,215,0],[210,8,215,8],[216,0,221,0],[156,0,161,0],[156,8,161,8],[162,0,167,0],[162,8,167,8],[168,0,173,0],[168,8,173,8],[138,0,143,0],[138,8,143,8],[144,0,149,0],[144,8,149,8],[150,0,155,0],[150,8,155,8],[126,0,131,0],[126,8,131,8],[123,1,125,1],[132,0,137,0],[132,8,137,8],[105,0,110,0],[105,8,110,8],[111,0,116,0],[111,8,116,8],[117,0,122,0],[117,8,122,8],[87,0,92,0],[87,8,92,8],[93,0,98,0],[93,8,98,8],[99,0,104,0],[99,8,104,8],[69,0,74,0],[69,8,74,8],[75,0,80,0],[75,8,80,8],[81,0,86,0],[81,8,86,8],[51,0,56,0],[51,8,56,8],[57,0,62,0],[57,8,62,8],[63,0,68,0],[63,8,68,8],[33,0,38,0],[33,8,38,8],[39,0,44,0],[39,8,44,8],[45,0,50,0],[45,8,50,8],[15,0,20,0],[15,8,20,8],[21,0,26,0],[21,8,26,8],[27,0,32,0],[27,8,32,8],[3,0,8,0],[3,8,8,8],[0,1,2,1],[9,0,14,0],[9,8,14,8],[0,10,1,14],[123,10,124,14],[0,9,2,9],[123,2,124,6],[0,2,1,6],[123,9,125,9]]}
[null,"Kenn - ziffer","Datenerfassung_Weiblich - Regelschulen",null,null,null,null,null,null,"Kenn - ziffer","Datenerfassung_Männlich - Regelschulen"]
[]
[null,null,"Start-Nr.","Schülerinnen","Geb.Dat.","Schule ","Bezirk/Bundesland",null,null,null,"Start-Nr.","Schülerinnen","Geb.Dat.","Schule ","Bezirk/Bundesland"]
["Schule 1",1,null,"W1/01-Regel",null,null,null,null,"Schule 1",1,null,"M1/01-Regel"]
[null,2,null,"W1/02-Regel",null,{"$f":"F4","v":0},null,null,null,2,null,"M1/02-Regel",null,{"$f":"N4","v":0}]
[null,3,null,"W1/03-Regel",null,{"$f":"F5","v":0},null,null,null,3,null,"M1/03-Regel",null,{"$f":"N5","v":0}]
[null,4,null,"W1/04-Regel",null,0,null,null,null,4,null,"M1/04-Regel",null,0]
[null,5,null,"W1/05-Regel",null,0,null,null,null,5,null,"M1/05-Regel",null,0]
[null,6,null,"W1/06-Regel",null,0,null,null,null,6,null,"M1/06-Regel",null,{"$f":"N8","v":0}]
["Schule 2",7,null,"W2/01-Regel",null,null,null,null,"Schule 2",7,null,"M2/01-Regel"]
[null,8,null,"W2/02-Regel",null,{"$f":"F10","v":0},null,null,null,8,null,"M2/02-Regel",null,{"$f":"N10","v":0}]
[null,9,null,"W2/03-Regel",null,{"$f":"F11","v":0},null,null,null,9,null,"M2/03-Regel",null,{"$f":"N11","v":0}]
[null,10,null,"W2/04-Regel",null,{"$f":"F12","v":0},null,null,null,10,null,"M2/04-Regel",null,0]
[null,11,null,"W2/05-Regel",null,0,null,null,null,11,null,"M2/05-Regel",null,0]
[null,12,null,"W2/06-Regel",null,{"$f":"F14","v":0},null,null,null,12,null,"M2/06-Regel",null,{"$f":"N14","v":0}]
["Schule 3",13,null,"W3/01-Regel",null,null,null,null,"Schule 3",13,null,"M3/01-Regel"]
[null,14,null,"W3/02-Regel",null,{"$f":"F16","v":0},null,null,null,14,null,"M3/02-Regel",null,{"$f":"N16","v":0}]
[null,15,null,"W3/03-Regel",null,{"$f":"F17","v":0},null,null,null,15,null,"M3/03-Regel",null,{"$f":"N17","v":0}]
[null,16,null,"W3/04-Regel",null,{"$f":"F18","v":0},null,null,null,16,null,"M3/04-Regel",null,0]
[null,17,null,"W3/05-Regel",null,0,null,null,null,17,null,"M3/05-Regel",null,0]
[null,18,null,"W3/06-Regel",null,{"$f":"F20","v":0},null,null,null,18,null,"M3/06-Regel",null,{"$f":"N20","v":0}]
["Schule 4",19,null,"W4/01-Regel",null,null,null,null,"Schule 4",19,null,"M4/01-Regel"]
[null,20,null,"W4/02-Regel",null,{"$f":"F22","v":0},null,null,null,20,null,"M4/02-Regel",null,{"$f":"N22","v":0}]
[null,21,null,"W4/03-Regel",null,{"$f":"F23","v":0},null,null,null,21,null,"M4/03-Regel",null,{"$f":"N23","v":0}]
[null,22,null,"W4/04-Regel",null,0,null,null,null,22,null,"M4/04-Regel",null,0]
[null,23,null,"W4/05-Regel",null,0,null,null,null,23,null,"M4/05-Regel",null,0]
[null,24,null,"W4/06-Regel",null,{"$f":"F26","v":0},null,null,null,24,null,"M4/06-Regel",null,{"$f":"N26","v":0}]
["Schule 5",25,null,"W5/01-Regel",null,null,null,null,"Schule 5",25,null,"M5/01-Regel"]
[null,26,null,"W5/02-Regel",null,{"$f":"F28","v":0},null,null,null,26,null,"M5/02-Regel",null,{"$f":"N28","v":0}]
[null,27,null,"W5/03-Regel",null,{"$f":"F29","v":0},null,null,null,27,null,"M5/03-Regel",null,{"$f":"N29","v":0}]
[null,28,null,"W5/04-Regel",null,0,null,null,null,28,null,"M5/04-Regel",null,0]
[null,29,null,"W5/05-Regel",null,0,null,null,null,29,null,"M5/05-Regel",null,0]
[null,30,null,"W5/06-Regel",null,{"$f":"F32","v":0},null,null,null,30,null,"M5/06-Regel",null,{"$f":"N32","v":0}]
["Schule 6",31,null,"W6/01-Regel",null,null,null,null,"Schule 6",31,null,"M6/01-Regel"]
[null,32,null,"W6/02-Regel",null,{"$f":"F34","v":0},null,null,null,32,null,"M6/02-Regel",null,{"$f":"N34","v":0}]
[null,33,null,"W6/03-Regel",null,{"$f":"F35","v":0},null,null,null,33,null,"M6/03-Regel",null,{"$f":"N35","v":0}]
[null,34,null,"W6/04-Regel",null,0,null,null,null,34,null,"M6/04-Regel",null,0]
[null,35,null,"W6/05-Regel",null,0,null,null,null,35,null,"M6/05-Regel",null,0]
[null,36,null,"W6/06-Regel",null,{"$f":"F38","v":0},null,null,null,36,null,"M6/06-Regel",null,{"$f":"N38","v":0}]
["Schule 7",37,null,"W7/01-Regel",null,null,null,null,"Schule 7",37,null,"M7/01-Regel"]
[null,38,null,"W7/02-Regel",null,{"$f":"F40","v":0},null,null,null,38,null,"M7/02-Regel",null,{"$f":"N40","v":0}]
[null,39,null,"W7/03-Regel",null,{"$f":"F41","v":0},null,null,null,39,null,"M7/03-Regel",null,{"$f":"N41","v":0}]
[null,40,null,"W7/04-Regel",null,0,null,null,null,40,null,"M7/04-Regel",null,0]
[null,41,null,"W7/05-Regel",null,0,null,null,null,41,null,"M7/05-Regel",null,0]
[null,42,null,"W7/06-Regel",null,{"$f":"F44","v":0},null,null,null,42,null,"M7/06-Regel",null,{"$f":"N44","v":0}]
["Schule 8",43,null,"W8/01-Regel",null,null,null,null,"Schule 8",43,null,"M8/01-Regel"]
[null,44,null,"W8/02-Regel",null,{"$f":"F46","v":0},null,null,null,44,null,"M8/02-Regel",null,{"$f":"N46","v":0}]
[null,45,null,"W8/03-Regel",null,{"$f":"F47","v":0},null,null,null,45,null,"M8/03-Regel",null,{"$f":"N47","v":0}]
[null,46,null,"W8/04-Regel",null,0,null,null,null,46,null,"M8/04-Regel",null,0]
[null,47,null,"W8/05-Regel",null,0,null,null,null,47,null,"M8/05-Regel",null,0]
[null,48,null,"W8/06-Regel",null,{"$f":"F50","v":0},null,null,null,48,null,"M8/06-Regel",null,{"$f":"N50","v":0}]
["Schule 9",49,null,"W9/01-Regel",null,null,null,null,"Schule 9",49,null,"M9/01-Regel"]
[null,50,null,"W9/02-Regel",null,{"$f":"F52","v":0},null,null,null,50,null,"M9/02-Regel",null,{"$f":"N52","v":0}]
[null,51,null,"W9/03-Regel",null,{"$f":"F53","v":0},null,null,null,51,null,"M9/03-Regel",null,{"$f":"N53","v":0}]
[null,52,null,"W9/04-Regel",null,0,null,null,null,52,null,"M9/04-Regel",null,0]
[null,53,null,"W9/05-Regel",null,0,null,null,null,53,null,"M9/05-Regel",null,0]
[null,54,null,"W9/06-Regel",null,{"$f":"F56","v":0},null,null,null,54,null,"M9/06-Regel",null,{"$f":"N56","v":0}]
["Schule 10",55,null,"W10/01-Regel",null,null,null,null,"Schule 10",55,null,"M10/01-Regel"]
[null,56,null,"W10/02-Regel",null,{"$f":"F58","v":0},null,null,null,56,null,"M10/02-Regel",null,{"$f":"N58","v":0}]
[null,57,null,"W10/03-Regel",null,{"$f":"F59","v":0},null,null,null,57,null,"M10/03-Regel",null,{"$f":"N59","v":0}]
[null,58,null,"W10/04-Regel",null,0,null,null,null,58,null,"M10/04-Regel",null,0]
[null,59,null,"W10/05-Regel",null,0,null,null,null,59,null,"M10/05-Regel",null,0]
[null,60,null,"W10/06-Regel",null,{"$f":"F62","v":0},null,null,null,60,null,"M10/06-Regel",null,{"$f":"N62","v":0}]
["Schule 11",61,null,"W11/01-Regel",null,null,null,null,"Schule 11",61,null,"M11/01-Regel"]
[null,62,null,"W11/02-Regel",null,{"$f":"F64","v":0},null,null,null,62,null,"M11/02-Regel",null,{"$f":"N64","v":0}]
[null,63,null,"W11/03-Regel",null,{"$f":"F65","v":0},null,null,null,63,null,"M11/03-Regel",null,{"$f":"N65","v":0}]
[null,64,null,"W11/04-Regel",null,0,null,null,null,64,null,"M11/04-Regel",null,0]
[null,65,null,"W11/05-Regel",null,0,null,null,null,65,null,"M11/05-Regel",null,0]
[null,66,null,"W11/06-Regel",null,{"$f":"F68","v":0},null,null,null,66,null,"M11/06-Regel",null,{"$f":"N68","v":0}]
["Schule 12",67,null,"W12/01-Regel",null,null,null,null,"Schule 12",67,null,"M12/01-Regel"]
[null,68,null,"W12/02-Regel",null,{"$f":"F70","v":0},null,null,null,68,null,"M12/02-Regel",null,{"$f":"N70","v":0}]
[null,69,null,"W12/03-Regel",null,{"$f":"F71","v":0},null,null,null,69,null,"M12/03-Regel",null,{"$f":"N71","v":0}]
[null,70,null,"W12/04-Regel",null,0,null,null,null,70,null,"M12/04-Regel",null,0]
[null,71,null,"W12/05-Regel",null,0,null,null,null,71,null,"M12/05-Regel",null,0]
[null,72,null,"W12/06-Regel",null,{"$f":"F74","v":0},null,null,null,72,null,"M12/06-Regel",null,{"$f":"N74","v":0}]
["Schule 13",73,null,"W13/01-Regel",null,null,null,null,"Schule 13",73,null,"M13/01-Regel"]
[null,74,null,"W13/02-Regel",null,{"$f":"F76","v":0},null,null,null,74,null,"M13/02-Regel",null,{"$f":"N76","v":0}]
[null,75,null,"W13/03-Regel",null,{"$f":"F77","v":0},null,null,null,75,null,"M13/03-Regel",null,{"$f":"N77","v":0}]
[null,76,null,"W13/04-Regel",null,0,null,null,null,76,null,"M13/04-Regel",null,0]
[null,77,null,"W13/05-Regel",null,0,null,null,null,77,null,"M13/05-Regel",null,0]
[null,78,null,"W13/06-Regel",null,{"$f":"F80","v":0},null,null,null,78,null,"M13/06-Regel",null,{"$f":"N80","v":0}]
["Schule 14",79,null,"W14/01-Regel",null,null,null,null,"Schule 14",79,null,"M14/01-Regel"]
[null,80,null,"W14/02-Regel",null,{"$f":"F82","v":0},null,null,null,80,null,"M14/02-Regel",null,{"$f":"N82","v":0}]
[null,81,null,"W14/03-Regel",null,{"$f":"F83","v":0},null,null,null,81,null,"M14/03-Regel",null,{"$f":"N83","v":0}]
[null,82,null,"W14/04-Regel",null,0,null,null,null,82,null,"M14/04-Regel",null,0]
[null,83,null,"W14/05-Regel",null,0,null,null,null,83,null,"M14/05-Regel",null,0]
[null,84,null,"W14/06-Regel",null,{"$f":"F86","v":0},null,null,null,84,null,"M14/06-Regel",null,{"$f":"N86","v":0}]
["Schule 15",85,null,"W15/01-Regel",null,null,null,null,"Schule 15",85,null,"M15/01-Regel"]
[null,86,null,"W15/02-Regel",null,{"$f":"F88","v":0},null,null,null,86,null,"M15/02-Regel",null,{"$f":"N88","v":0}]
[null,87,null,"W15/03-Regel",null,{"$f":"F89","v":0},null,null,null,87,null,"M15/03-Regel",null,{"$f":"N89","v":0}]
[null,88,null,"W15/04-Regel",null,0,null,null,null,88,null,"M15/04-Regel",null,0]
[null,89,null,"W15/05-Regel",null,0,null,null,null,89,null,"M15/05-Regel",null,0]
[null,90,null,"W15/06-Regel",null,{"$f":"F92","v":0},null,null,null,90,null,"M15/06-Regel",null,{"$f":"N92","v":0}]
["Schule 16",91,null,"W16/01-Regel",null,null,null,null,"Schule 16",91,null,"M16/01-Regel"]
[null,92,null,"W16/02-Regel",null,{"$f":"F94","v":0},null,null,null,92,null,"M16/02-Regel",null,{"$f":"N94","v":0}]
[null,93,null,"W16/03-Regel",null,{"$f":"F95","v":0},null,null,null,93,null,"M16/03-Regel",null,{"$f":"N95","v":0}]
[null,94,null,"W16/04-Regel",null,0,null,null,null,94,null,"M16/04-Regel",null,0]
[null,95,null,"W16/05-Regel",null,0,null,null,null,95,null,"M16/05-Regel",null,0]
[null,96,null,"W16/06-Regel",null,{"$f":"F98","v":0},null,null,null,96,null,"M16/06-Regel",null,{"$f":"N98","v":0}]
["Schule 17",97,null,"W17/01-Regel",null,null,null,null,"Schule 17",97,null,"M17/01-Regel"]
[null,98,null,"W17/02-Regel",null,{"$f":"F100","v":0},null,null,null,98,null,"M17/02-Regel",null,{"$f":"N100","v":0}]
[null,99,null,"W17/03-Regel",null,{"$f":"F101","v":0},null,null,null,99,null,"M17/03-Regel",null,{"$f":"N101","v":0}]
[null,100,null,"W17/04-Regel",null,0,null,null,null,100,null,"M17/04-Regel",null,0]
[null,101,null,"W17/05-Regel",null,0,null,null,null,101,null,"M17/05-Regel",null,0]
[null,102,null,"W17/06-Regel",null,{"$f":"F104","v":0},null,null,null,102,null,"M17/06-Regel",null,{"$f":"N104","v":0}]
["Schule 18",103,null,"W18/01-Regel",null,null,null,null,"Schule 18",103,null,"M18/01-Regel"]
[null,104,null,"W18/02-Regel",null,{"$f":"F106","v":0},null,null,null,104,null,"M18/02-Regel",null,{"$f":"N106","v":0}]
[null,105,null,"W18/03-Regel",null,{"$f":"F107","v":0},null,null,null,105,null,"M18/03-Regel",null,{"$f":"N107","v":0}]
[null,106,null,"W18/04-Regel",null,0,null,null,null,106,null,"M18/04-Regel",null,0]
[null,107,null,"W18/05-Regel",null,0,null,null,null,107,null,"M18/05-Regel",null,0]
[null,108,null,"W18/06-Regel",null,{"$f":"F110","v":0},null,null,null,108,null,"M18/06-Regel",null,{"$f":"N110","v":0}]
["Schule 19",109,null,"W19/01-Regel",null,null,null,null,"Schule 19",109,null,"M19/01-Regel"]
[null,110,null,"W19/02-Regel",null,{"$f":"F112","v":0},null,null,null,110,null,"M19/02-Regel",null,{"$f":"N112","v":0}]
[null,111,null,"W19/03-Regel",null,{"$f":"F113","v":0},null,null,null,111,null,"M19/03-Regel",null,{"$f":"N113","v":0}]
[null,112,null,"W19/04-Regel",null,0,null,null,null,112,null,"M19/04-Regel",null,0]
[null,113,null,"W19/05-Regel",null,0,null,null,null,113,null,"M19/05-Regel",null,0]
[null,114,null,"W19/06-Regel",null,{"$f":"F116","v":0},null,null,null,114,null,"M19/06-Regel",null,{"$f":"N116","v":0}]
["Schule 20",115,null,"W20/01-Regel",null,null,null,null,"Schule 20",115,null,"M20/01-Regel"]
[null,116,null,"W20/02-Regel",null,{"$f":"F118","v":0},null,null,null,116,null,"M20/02-Regel",null,{"$f":"N118","v":0}]
[null,117,null,"W20/03-Regel",null,{"$f":"F119","v":0},null,null,null,117,null,"M20/03-Regel",null,{"$f":"N119","v":0}]
[null,118,null,"W20/04-Regel",null,0,null,null,null,118,null,"M20/04-Regel",null,0]
[null,119,null,"W20/05-Regel",null,0,null,null,null,119,null,"M20/05-Regel",null,0]
[null,120,null,"W20/06-Regel",null,{"$f":"F122","v":0},null,null,null,120,null,"M20/06-Regel",null,{"$f":"N122","v":0}]
[null,"Kenn - ziffer","Datenerfassung_Weiblich - Sportschwerpunkt",null,null,null,null,null,null,"Kenn - ziffer","Datenerfassung_Männlich - Sportschwerpunkt"]
[]
[null,null,"Start-Nr.","Schülerinnen","Geb.Dat.","Schule ","Bezirk/Bundesland",null,null,null,"Start-Nr.","Schülerinnen","Geb.Dat.","Schule ","Bezirk/Bundesland"]
["Schule 1",1,null,"W1/01-Sport",null,null,null,null,"Schule 1",1,null,"M1/01-Sport"]
[null,2,null,"W1/02-Sport",null,{"$f":"F127","v":0},null,null,null,2,null,"M1/02-Sport",null,{"$f":"N127","v":0}]
[null,3,null,"W1/03-Sport",null,{"$f":"F128","v":0},null,null,null,3,null,"M1/03-Sport",null,{"$f":"N128","v":0}]
[null,4,null,"W1/04-Sport",null,0,null,null,null,4,null,"M1/04-Sport",null,0]
[null,5,null,"W1/05-Sport",null,0,null,null,null,5,null,"M1/05-Sport",null,0]
[null,6,null,"W1/06-Sport",null,{"$f":"F131","v":0},null,null,null,6,null,"M1/06-Sport",null,{"$f":"N131","v":0}]
["Schule 2",7,null,"W2/01-Sport",null,null,null,null,"Schule 2",7,null,"M2/01-Sport"]
[null,8,null,"W2/02-Sport",null,{"$f":"F133","v":0},null,null,null,8,null,"M2/02-Sport",null,{"$f":"N133","v":0}]
[null,9,null,"W2/03-Sport",null,{"$f":"F134","v":0},null,null,null,9,null,"M2/03-Sport",null,{"$f":"N134","v":0}]
[null,10,null,"W2/04-Sport",null,0,null,null,null,10,null,"M2/04-Sport",null,0]
[null,11,null,"W2/05-Sport",null,0,null,null,null,11,null,"M2/05-Sport",null,0]
[null,12,null,"W2/06-Sport",null,{"$f":"F137","v":0},null,null,null,12,null,"M2/06-Sport",null,{"$f":"N137","v":0}]
["Schule 3",13,null,"W3/01-Sport",null,null,null,null,"Schule 3",13,null,"M3/01-Sport"]
[null,14,null,"W3/02-Sport",null,{"$f":"F139","v":0},null,null,null,14,null,"M3/02-Sport",null,{"$f":"N139","v":0}]
[null,15,null,"W3/03-Sport",null,{"$f":"F140","v":0},null,null,null,15,null,"M3/03-Sport",null,{"$f":"N140","v":0}]
[null,16,null,"W3/04-Sport",null,0,null,null,null,16,null,"M3/04-Sport",null,0]
[null,17,null,"W3/05-Sport",null,0,null,null,null,17,null,"M3/05-Sport",null,0]
[null,18,null,"W3/06-Sport",null,{"$f":"F143","v":0},null,null,null,18,null,"M3/06-Sport",null,{"$f":"N143","v":0}]
["Schule 4",19,null,"W4/01-Sport",null,null,null,null,"Schule 4",19,null,"M4/01-Sport"]
[null,20,null,"W4/02-Sport",null,{"$f":"F145","v":0},null,null,null,20,null,"M4/02-Sport",null,{"$f":"N145","v":0}]
[null,21,null,"W4/03-Sport",null,{"$f":"F146","v":0},null,null,null,21,null,"M4/03-Sport",null,{"$f":"N146","v":0}]
[null,22,null,"W4/04-Sport",null,0,null,null,null,22,null,"M4/04-Sport",null,0]
[null,23,null,"W4/05-Sport",null,0,null,null,null,23,null,"M4/05-Sport",null,0]
[null,24,null,"W4/06-Sport",null,{"$f":"F149","v":0},null,null,null,24,null,"M4/06-Sport",null,{"$f":"N149","v":0}]
["Schule 5",25,null,"W5/01-Sport",null,null,null,null,"Schule 5",25,null,"M5/01-Sport"]
[null,26,null,"W5/02-Sport",null,{"$f":"F151","v":0},null,null,null,26,null,"M5/02-Sport",null,{"$f":"N151","v":0}]
[null,27,null,"W5/03-Sport",null,{"$f":"F152","v":0},null,null,null,27,null,"M5/03-Sport",null,{"$f":"N152","v":0}]
[null,28,null,"W5/04-Sport",null,0,null,null,null,28,null,"M5/04-Sport",null,0]
[null,29,null,"W5/05-Sport",null,0,null,null,null,29,null,"M5/05-Sport",null,0]
[null,30,null,"W5/06-Sport",null,{"$f":"F155","v":0},null,null,null,30,null,"M5/06-Sport",null,{"$f":"N155","v":0}]
["Schule 6",31,null,"W6/01-Sport",null,null,null,null,"Schule 6",31,null,"M6/01-Sport"]
[null,32,null,"W6/02-Sport",null,{"$f":"F157","v":0},null,null,null,32,null,"M6/02-Sport",null,{"$f":"N157","v":0}]
[null,33,null,"W6/03-Sport",null,{"$f":"F158","v":0},null,null,null,33,null,"M6/03-Sport",null,{"$f":"N158","v":0}]
[null,34,null,"W6/04-Sport",null,0,null,null,null,34,null,"M6/04-Sport",null,0]
[null,35,null,"W6/05-Sport",null,0,null,null,null,35,null,"M6/05-Sport",null,0]
[null,36,null,"W6/06-Sport",null,{"$f":"F161","v":0},null,null,null,36,null,"M6/06-Sport",null,{"$f":"N161","v":0}]
["Schule 7",37,null,"W7/01-Sport",null,null,null,null,"Schule 7",37,null,"M7/01-Sport"]
[null,38,null,"W7/02-Sport",null,{"$f":"F163","v":0},null,null,null,38,null,"M7/02-Sport",null,{"$f":"N163","v":0}]
[null,39,null,"W7/03-Sport",null,{"$f":"F164","v":0},null,null,null,39,null,"M7/03-Sport",null,{"$f":"N164","v":0}]
[null,40,null,"W7/04-Sport",null,0,null,null,null,40,null,"M7/04-Sport",null,0]
[null,41,null,"W7/05-Sport",null,0,null,null,null,41,null,"M7/05-Sport",null,0]
[null,42,null,"W7/06-Sport",null,{"$f":"F167","v":0},null,null,null,42,null,"M7/06-Sport",null,{"$f":"N167","v":0}]
["Schule 8",43,null,"W8/01-Sport",null,null,null,null,"Schule 8",43,null,"M8/01-Sport"]
[null,44,null,"W8/02-Sport",null,{"$f":"F169","v":0},null,null,null,44,null,"M8/02-Sport",null,{"$f":"N169","v":0}]
[null,45,null,"W8/03-Sport",null,{"$f":"F170","v":0},null,null,null,45,null,"M8/03-Sport",null,{"$f":"N170","v":0}]
[null,46,null,"W8/04-Sport",null,0,null,null,null,46,null,"M8/04-Sport",null,0]
[null,47,null,"W8/05-Sport",null,0,null,null,null,47,null,"M8/05-Sport",null,0]
[null,48,null,"W8/06-Sport",null,{"$f":"F173","v":0},null,null,null,48,null,"M8/06-Sport",null,{"$f":"N173","v":0}]
["Schule 9",49,null,"W9/01-Sport",null,null,null,null,"Schule 9",49,null,"M9/01-Sport"]
[null,50,null,"W9/02-Sport",null,{"$f":"F175","v":0},null,null,null,50,null,"M9/02-Sport",null,{"$f":"N175","v":0}]
[null,51,null,"W9/03-Sport",null,{"$f":"F176","v":0},null,null,null,51,null,"M9/03-Sport",null,{"$f":"N176","v":0}]
[null,52,null,"W9/04-Sport",null,0,null,null,null,52,null,"M9/04-Sport",null,0]
[null,53,null,"W9/05-Sport",null,0,null,null,null,53,null,"M9/05-Sport",null,0]
[null,54,null,"W9/06-Sport",null,{"$f":"F179","v":0},null,null,null,54,null,"M9/06-Sport",null,{"$f":"N179","v":0}]
["Schule 10",55,null,"W10/01-Sport",null,null,null,null,"Schule 10",55,null,"M10/01-Sport"]
[null,56,null,"W10/02-Sport",null,{"$f":"F181","v":0},null,null,null,56,null,"M10/02-Sport",null,{"$f":"N181","v":0}]
[null,57,null,"W10/03-Sport",null,{"$f":"F182","v":0},null,null,null,57,null,"M10/03-Sport",null,{"$f":"N182","v":0}]
[null,58,null,"W10/04-Sport",null,0,null,null,null,58,null,"M10/04-Sport",null,0]
[null,59,null,"W10/05-Sport",null,0,null,null,null,59,null,"M10/05-Sport",null,0]
[null,60,null,"W10/06-Sport",null,{"$f":"F185","v":0},null,null,null,60,null,"M10/06-Sport",null,{"$f":"N185","v":0}]
["Schule 11",61,null,"W11/01-Sport",null,null,null,null,"Schule 11",61,null,"M11/01-Sport"]
[null,62,null,"W11/02-Sport",null,{"$f":"F187","v":0},null,null,null,62,null,"M11/02-Sport",null,{"$f":"N187","v":0}]
[null,63,null,"W11/03-Sport",null,{"$f":"F188","v":0},null,null,null,63,null,"M11/03-Sport",null,{"$f":"N188","v":0}]
[null,64,null,"W11/04-Sport",null,0,null,null,null,64,null,"M11/04-Sport",null,0]
[null,65,null,"W11/05-Sport",null,0,null,null,null,65,null,"M11/05-Sport",null,0]
[null,66,null,"W11/06-Sport",null,{"$f":"F191","v":0},null,null,null,66,null,"M11/06-Sport",null,{"$f":"N191","v":0}]
["Schule 12",67,null,"W12/01-Sport",null,null,null,null,"Schule 12",67,null,"M12/01-Sport"]
[null,68,null,"W12/02-Sport",null,{"$f":"F193","v":0},null,null,null,68,null,"M12/02-Sport",null,{"$f":"N193","v":0}]
[null,69,null,"W12/03-Sport",null,{"$f":"F194","v":0},null,null,null,69,null,"M12/03-Sport",null,{"$f":"N194","v":0}]
[null,70,null,"W12/04-Sport",null,0,null,null,null,70,null,"M12/04-Sport",null,0]
[null,71,null,"W12/05-Sport",null,0,null,null,null,71,null,"M12/05-Sport",null,0]
[null,72,null,"W12/06-Sport",null,{"$f":"F197","v":0},null,null,null,72,null,"M12/06-Sport",null,{"$f":"N197","v":0}]
["Schule 13",73,null,"W13/01-Sport",null,null,null,null,"Schule 13",73,null,"M13/01-Sport"]
[null,74,null,"W13/02-Sport",null,{"$f":"F199","v":0},null,null,null,74,null,"M13/02-Sport",null,{"$f":"N199","v":0}]
[null,75,null,"W13/03-Sport",null,{"$f":"F200","v":0},null,null,null,75,null,"M13/03-Sport",null,{"$f":"N200","v":0}]
[null,76,null,"W13/04-Sport",null,0,null,null,null,76,null,"M13/04-Sport",null,0]
[null,77,null,"W13/05-Sport",null,0,null,null,null,77,null,"M13/05-Sport",null,0]
[null,78,null,"W13/06-Sport",null,{"$f":"F203","v":0},null,null,null,78,null,"M13/06-Sport",null,{"$f":"N203","v":0}]
["Schule 14",79,null,"W14/01-Sport",null,null,null,null,"Schule 14",79,null,"M14/01-Sport"]
[null,80,null,"W14/02-Sport",null,{"$f":"F205","v":0},null,null,null,80,null,"M14/02-Sport",null,{"$f":"N205","v":0}]
[null,81,null,"W14/03-Sport",null,{"$f":"F206","v":0},null,null,null,81,null,"M14/03-Sport",null,{"$f":"N206","v":0}]
[null,82,null,"W14/04-Sport",null,0,null,null,null,82,null,"M14/04-Sport",null,0]
[null,83,null,"W14/05-Sport",null,0,null,null,null,83,null,"M14/05-Sport",null,0]
[null,84,null,"W14/06-Sport",null,{"$f":"F209","v":0},null,null,null,84,null,"M14/06-Sport",null,{"$f":"N209","v":0}]
["Schule 15",85,null,"W15/01-Sport",null,null,null,null,"Schule 15",85,null,"M15/01-Sport"]
[null,86,null,"W15/02-Sport",null,{"$f":"F211","v":0},null,null,null,86,null,"M15/02-Sport",null,{"$f":"N211","v":0}]
[null,87,null,"W15/03-Sport",null,{"$f":"F212","v":0},null,null,null,87,null,"M15/03-Sport",null,{"$f":"N212","v":0}]
[null,88,null,"W15/04-Sport",null,0,null,null,null,88,null,"M15/04-Sport",null,0]
[null,89,null,"W15/05-Sport",null,0,null,null,null,89,null,"M15/05-Sport",null,0]
[null,90,null,"W15/06-Sport",null,{"$f":"F215","v":0},null,null,null,90,null,"M15/06-Sport",null,{"$f":"N215","v":0}]
["Schule 16",91,null,"W16/01-Sport",null,null,null,null,"Schule 16",91,null,"M16/01-Sport"]
[null,92,null,"W16/02-Sport",null,{"$f":"F217","v":0},null,null,null,92,null,"M16/02-Sport",null,{"$f":"N217","v":0}]
[null,93,null,"W16/03-Sport",null,{"$f":"F218","v":0},null,null,null,93,null,"M16/03-Sport",null,{"$f":"N218","v":0}]
[null,94,null,"W16/04-Sport",null,0,null,null,null,94,null,"M16/04-Sport",null,0]
[null,95,null,"W16/05-Sport",null,0,null,null,null,95,null,"M16/05-Sport",null,0]
[null,96,null,"W16/06-Sport",null,{"$f":"F221","v":0},null,null,null,96,null,"M16/06-Sport",null,{"$f":"N221","v":0}]
["Schule 17",97,null,"W17/01-Sport",null,null,null,null,"Schule 17",97,null,"M17/01-Sport"]
[null,98,null,"W17/02-Sport",null,{"$f":"F223","v":0},null,null,null,98,null,"M17/02-Sport",null,{"$f":"N223","v":0}]
[null,99,null,"W17/03-Sport",null,{"$f":"F224","v":0},null,null,null,99,null,"M17/03-Sport",null,{"$f":"N224","v":0}]
[null,100,null,"W17/04-Sport",null,0,null,null,null,100,null,"M17/04-Sport",null,0]
[null,101,null,"W17/05-Sport",null,0,null,null,null,101,null,"M17/05-Sport",null,0]
[null,102,null,"W17/06-Sport",null,{"$f":"F227","v":0},null,null,null,102,null,"M17/06-Sport",null,{"$f":"N227","v":0}]
["Schule 18",103,null,"W18/01-Sport",null,null,null,null,"Schule 18",103,null,"M18/01-Sport"]
[null,104,null,"W18/02-Sport",null,{"$f":"F229","v":0},null,null,null,104,null,"M18/02-Sport",null,{"$f":"N229","v":0}]
[null,105,null,"W18/03-Sport",null,{"$f":"F230","v":0},null,null,null,105,null,"M18/03-Sport",null,{"$f":"N230","v":0}]
[null,106,null,"W18/04-Sport",null,0,null,null,null,106,null,"M18/04-Sport",null,0]
[null,107,null,"W18/05-Sport",null,0,null,null,null,107,null,"M18/05-Sport",null,0]
[null,108,null,"W18/06-Sport",null,{"$f":"F233","v":0},null,null,null,108,null,"M18/06-Sport",null,{"$f":"N233","v":0}]
["Schule 19",109,null,"W19/01-Sport",null,null,null,null,"Schule 19",109,null,"M19/01-Sport"]
[null,110,null,"W19/02-Sport",null,{"$f":"F235","v":0},null,null,null,110,null,"M19/02-Sport",null,{"$f":"N235","v":0}]
[null,111,null,"W19/03-Sport",null,{"$f":"F236","v":0},null,null,null,111,null,"M19/03-Sport",null,{"$f":"N236","v":0}]
[null,112,null,"W19/04-Sport",null,0,null,null,null,112,null,"M19/04-Sport",null,0]
[null,113,null,"W19/05-Sport",null,0,null,null,null,113,null,"M19/05-Sport",null,0]
[null,114,null,"W19/06-Sport",null,{"$f":"F239","v":0},null,null,null,114,null,"M19/06-Sport",null,{"$f":"N239","v":0}]
["Schule 20",115,null,"W20/01-Sport",null,null,null,null,"Schule 20",115,null,"M20/01-Sport"]
[null,116,null,"W20/02-Sport",null,{"$f":"F241","v":0},null,null,null,116,null,"M20/02-Sport",null,{"$f":"N241","v":0}]
[null,117,null,"W20/03-Sport",null,{"$f":"F242","v":0},null,null,null,117,null,"M20/03-Sport",null,{"$f":"N242","v":0}]
[null,118,null,"W20/04-Sport",null,0,null,null,null,118,null,"M20/04-Sport",null,0]
[null,119,null,"W20/05-Sport",null,0,null,null,null,119,null,"M20/05-Sport",null,0]
[null,120,null,"W20/06-Sport",null,{"$f":"F245","v":0},null,null,null,120,null,"M20/06-Sport",null,{"$f":"N245","v":0}]

{"sheet":"w-E_R","index":2,"n_rows":141,"n_cols":17,"rows_kept":141,"cut":false,"hidden":false,"merged":[[0,0,0,1],[0,2,0,3],[0,4,0,9]]}
["Wettkampfdaten-Art",null,"D-C/Regel-Schulen","Ortsangabe","Ortsangabe,Datum"]
["Start-Nr.","Schülerinnen","Geb.Dat.","Schule 1","Bezirk/Bundesland","60m","PUNKTE","Schlagball","PUNKTE","Kugel","PUNKTE","Weit","PUNKTE","5x80M","PUNKTE","SUMME"]
[{"$f":"'Dat-Bl'!C4","v":0},{"$f":"'Dat-Bl'!D4","v":"W1/01-Regel"},{"$f":"'Dat-Bl'!E4","v":"00:00:00"},{"$f":"'Dat-Bl'!F4","v":0},{"$f":"'Dat-Bl'!G4","v":0},null,{"$f":"IF(F3=0,0,INT(19.742424*EXP(2.1*LN((1417-F3*100)/100))))","v":0},null,{"$f":"IF(H3=0,0,INT(22*EXP(0.9*LN((H3*100-500)/100))))","v":0},null,{"$f":"IF(J3=0,0,INT(83.435373*EXP(0.9*LN((J3*100-130)/100))))","v":0},null,{"$f":"IF(L3=0,0,INT(220.628792*EXP(1*LN((L3*100-180)/100))))","v":0},null,{"$f":"IF(N3=0,0,INT(0.405548*EXP(2.1*LN((8720-N3*100)/100))))","v":0},{"$f":"SUM(G3,I3,K3,M3)","v":0}]
[{"$f":"'Dat-Bl'!C5","v":0},{"$f":"'Dat-Bl'!D5","v":"W1/02-Regel"},{"$f":"'Dat-Bl'!E5","v":"00:00:00"},{"$f":"D3","v":0},null,null,0,null,0,null,0,null,0,null,null,0]
[{"$f":"'Dat-Bl'!C6","v":0},{"$f":"'Dat-Bl'!D6","v":"W1/03-Regel"},{"$f":"'Dat-Bl'!E6","v":"00:00:00"},{"$f":"D4","v":0},null,null,0,null,0,null,0,null,0,null,null,0]
[{"$f":"'Dat-Bl'!C7","v":0},{"$f":"'Dat-Bl'!D7","v":"W1/04-Regel"},{"$f":"'Dat-Bl'!E7","v":"00:00:00"},0,null,null,0,null,0,null,0,null,0,null,null,0]
[{"$f":"'Dat-Bl'!C8","v":0},{"$f":"'Dat-Bl'!D8","v":"W1/05-Regel"},{"$f":"'Dat-Bl'!E8","v":"00:00:00"},0,null,null,0,null,0,null,0,null,0,null,null,0,"Gesamtergebnis"]
[{"$f":"'Dat-Bl'!C9","v":0},{"$f":"'Dat-Bl'!D9","v":"W1/06-Regel"},{"$f":"'Dat-Bl'!E9","v":"00:00:00"},0,null,null,0,null,0,null,0,null,0,null,null,0,{"$f":"SUM(P3:P8)-MIN(P3:P8)+O3","v":0}]
["Start-Nr.","Schülerinnen","Geb.Dat.","Schule 2","Bezirk/Bundesland","60m","PUNKTE","Schlagball","PUNKTE","Kugel","PUNKTE","Weit","PUNKTE","5x80M","PUNKTE","SUMME"]
[{"$f":"'Dat-Bl'!C10","v":0},{"$f":"'Dat-Bl'!D10","v":"W2/01-Regel"},{"$f":"'Dat-Bl'!E10","v":"00:00:00"},{"$f":"'Dat-Bl'!F10","v":0},{"$f":"'Dat-Bl'!G10","v":0},null,{"$f":"IF(F10=0,0,INT(19.742424*EXP(2.1*LN((1417-F10*100)/100))))","v":0},null,{"$f":"IF(H10=0,0,INT(22*EXP(0.9*LN((H10*100-500)/100))))","v":0},null,{"$f":"IF(J10=0,0,INT(83.435373*EXP(0.9*LN((J10*100-130)/100))))","v":0},null,{"$f":"IF(L10=0,0,INT(220.628792*EXP(1*LN((L10*100-180)/100))))","v":0},null,{"$f":"IF(N10=0,0,INT(0.405548*EXP(2.1*LN((8720-N10*100)/100))))","v":0},{"$f":"SUM(G10,I10,K10,M10)","v":0}]
[{"$f":"'Dat-Bl'!C11","v":0},{"$f":"'Dat-Bl'!D11","v":"W2/02-Regel"},{"$f":"'Dat-Bl'!E11","v":"00:00:00"},{"$f":"D10","v":0},null,null,0,null,0,null,0,null,0,null,null,0]
[{"$f":"'Dat-Bl'!C12","v":0},{"$f":"'Dat-Bl'!D12","v":"W2/03-Regel"},{"$f":"'Dat-Bl'!E12","v":"00:00:00"},{"$f":"D11","v":0},null,null,0,null,0,null,0,null,0,null,null,0]
[{"$f":"'Dat-Bl'!C13","v":0},{"$f":"'Dat-Bl'!D13","v":"W2/04-Regel"},{"$f":"'Dat-Bl'!E13","v":"00:00:00"},0,null,null,0,null,0,null,0,null,0,null,null,0]
[{"$f":"'Dat-Bl'!C14","v":0},{"$f":"'Dat-Bl'!D14","v":"W2/05-Regel"},{"$f":"'Dat-Bl'!E14","v":"00:00:00"},0,null,null,0,null,0,null,0,null,0,null,null,0,"Gesamtergebnis"]
[{"$f":"'Dat-Bl'!C15","v":0},{"$f":"'Dat-Bl'!D15","v":"W2/06-Regel"},{"$f":"'Dat-Bl'!E15","v":"00:00:00"},0,null,null,0,null,0,null,0,null,0,null,null,0,{"$f":"SUM(P10:P15)-MIN(P10:P15)+O10","v":0}]
["Start-Nr.","Schülerinnen","Geb.Dat.","Schule 3","Bezirk/Bundesland","60m","PUNKTE","Schlagball","PUNKTE","Kugel","PUNKTE","Weit","PUNKTE","5x80M","PUNKTE","SUMME"]
[{"$f":"'Dat-Bl'!C16","v":0},{"$f":"'Dat-Bl'!D16","v":"W3/01-Regel"},{"$f":"'Dat-Bl'!E16","v":"00:00:00"},{"$f":"'Dat-Bl'!F16","v":0},{"$f":"'Dat-Bl'!G16","v":0},null,{"$f":"IF(F17=0,0,INT(19.742424*EXP(2.1*LN((1417-F17*100)/100))))","v":0},null,{"$f":"IF(H17=0,0,INT(22*EXP(0.9*LN((H17*100-500)/100))))","v":0},null,{"$f":"IF(J17=0,0,INT(83.435373*EXP(0.9*LN((J17*100-130)/100))))","v":0},null,{"$f":"IF(L17=0,0,INT(220.628792*EXP(1*LN((L17*100-180)/100))))","v":0},null,{"$f":"IF(N17=0,0,INT(0.405548*EXP(2.1*LN((8720-N17*100)/100))))","v":0},{"$f":"SUM(G17,I17,K17,M17)","v":0}]
[{"$f":"'Dat-Bl'!C17","v":0},{"$f":"'Dat-Bl'!D17","v":"W3/02-Regel"},{"$f":"'Dat-Bl'!E17","v":"00:00:00"},{"$f":"D17","v":0},null,null,0,null,0,null,0,null,0,null,null,0]
[{"$f":"'Dat-Bl'!C18","v":0},{"$f":"'Dat-Bl'!D18","v":"W3/03-Regel"},{"$f":"'Dat-Bl'!E18","v":"00:00:00"},{"$f":"D18","v":0},null,null,0,null,0,null,0,null,0,null,null,0]
[{"$f":"'Dat-Bl'!C19","v":0},{"$f":"'Dat-Bl'!D19","v":"W3/04-Regel"},{"$f":"'Dat-Bl'!E19","v":"00:00:00"},0,null,null,0,null,0,null,0,null,0,null,null,0]
[{"$f":"'Dat-Bl'!C20","v":0},{"$f":"'Dat-Bl'!D20","v":"W3/05-Regel"},{"$f":"'Dat-Bl'!E20","v":"00:00:00"},0,null,null,0,null,0,null,0,null,0,null,null,0,"Gesamtergebnis"]
[{"$f":"'Dat-Bl'!C21","v":0},{"$f":"'Dat-Bl'!D21","v":"W3/06-Regel"},{"$f":"'Dat-Bl'!E21","v":"00:00:00"},0,null,null,0,null,0,null,0,null,0,null,null,0,{"$f":"SUM(P17:P22)-MIN(P17:P22)+O17","v":0}]
["Start-Nr.","Schülerinnen","Geb.Dat.","Schule 4","Bezirk/Bundesland","60m","PUNKTE","Schlagball","PUNKTE","Kugel","PUNKTE","Weit","PUNKTE","5x80M","PUNKTE","SUMME"]
[{"$f":"'Dat-Bl'!C22","v":0},{"$f":"'Dat-Bl'!D22","v":"W4/01-Regel"},{"$f":"'Dat-Bl'!E22","v":"00:00:00"},{"$f":"'Dat-Bl'!F22","v":0},{"$f":"'Dat-Bl'!G22","v":0},null,{"$f":"IF(F24=0,0,INT(19.742424*EXP(2.1*LN((1417-F24*100)/100))))","v":0},null,{"$f":"IF(H24=0,0,INT(22*EXP(0.9*LN((H24*100-500)/100))))","v":0},null,{"$f":"IF(J24=0,0,INT(83.435373*EXP(0.9*LN((J24*100-130)/100))))","v":0},null,{"$f":"IF(L24=0,0,INT(220.628792*EXP(1*LN((L24*100-180)/100))))","v":0},null,{"$f":"IF(N24=0,0,INT(0.405548*EXP(2.1*LN((8720-N24*100)/100))))","v":0},{"$f":"SUM(G24,I24,K24,M24)","v":0}]
[{"$f":"'Dat-Bl'!C23","v":0},{"$f":"'Dat-Bl'!D23","v":"W4/02-Regel"},{"$f":"'Dat-Bl'!E23","v":"00:00:00"},{"$f":"D24","v":0},null,null,0,null,0,null,0,null,0,null,null,0]
[{"$f":"'Dat-Bl'!C24","v":0},{"$f":"'Dat-Bl'!D24","v":"W4/03-Regel"},{"$f":"'Dat-Bl'!E24","v":"00:00:00"},{"$f":"D25","v":0},null,null,0,null,0,null,0,null,0,null,null,0]
[{"$f":"'Dat-Bl'!C25","v":0},{"$f":"'Dat-Bl'!D25","v":"W4/04-Regel"},{"$f":"'Dat-Bl'!E25","v":"00:00:00"},0,null,null,0,null,0,null,0,null,0,null,null,0]
[{"$f":"'Dat-Bl'!C26","v":0},{"$f":"'Dat-Bl'!D26","v":"W4/05-Regel"},{"$f":"'Dat-Bl'!E26","v":"00:00:00"},0,null,null,0,null,0,null,0,null,0,null,null,0,"Gesamtergebnis"]
[{"$f":"'Dat-Bl'!C27","v":0},{"$f":"'Dat-Bl'!D27","v":"W4/06-Regel"},{"$f":"'Dat-Bl'!E27","v":"00:00:00"},0,null,null,0,null,0,null,0,null,0,null,null,0,{"$f":"SUM(P24:P29)-MIN(P24:P29)+O24","v":0}]
["Start-Nr.","Schülerinnen","Geb.Dat.","Schule 5","Bezirk/Bundesland","60m","PUNKTE","Schlagball","PUNKTE","Kugel","PUNKTE","Weit","PUNKTE","5x80M","PUNKTE","SUMME"]
[{"$f":"'Dat-Bl'!C28","v":0},{"$f":"'Dat-Bl'!D28","v":"W5/01-Regel"},{"$f":"'Dat-Bl'!E28","v":"00:00:00"},{"$f":"'Dat-Bl'!F28","v":0},{"$f":"'Dat-Bl'!G28","v":0},null,{"$f":"IF(F31=0,0,INT(19.742424*EXP(2.1*LN((1417-F31*100)/100))))","v":0},null,{"$f":"IF(H31=0,0,INT(22*EXP(0.9*LN((H31*100-500)/100))))","v":0},null,{"$f":"IF(J31=0,0,INT(83.435373*EXP(0.9*LN((J31*100-130)/100))))","v":0},null,{"$f":"IF(L31=0,0,INT(220.628792*EXP(1*LN((L31*100-180)/100))))","v":0},null,{"$f":"IF(N31=0,0,INT(0.405548*EXP(2.1*LN((8720-N31*100)/100))))","v":0},{"$f":"SUM(G31,I31,K31,M31)","v":0}]
[{"$f":"'Dat-Bl'!C29","v":0},{"$f":"'Dat-Bl'!D29","v":"W5/02-Regel"},{"$f":"'Dat-Bl'!E29","v":"00:00:00"},{"$f":"D31","v":0},null,null,0,null,0,null,0,null,0,null,null,0]
[{"$f":"'Dat-Bl'!C30","v":0},{"$f":"'Dat-Bl'!D30","v":"W5/03-Regel"},{"$f":"'Dat-Bl'!E30","v":"00:00:00"},{"$f":"D32","v":0},null,null,0,null,0,null,0,null,0,null,null,0]
[{"$f":"'Dat-Bl'!C31","v":0},{"$f":"'Dat-Bl'!D31","v":"W5/04-Regel"},{"$f":"'Dat-Bl'!E31","v":"00:00:00"},0,null,null,0,null,0,null,0,null,0,null,null,0]
[{"$f":"'Dat-Bl'!C32","v":0},{"$f":"'Dat-Bl'!D32","v":"W5/05-Regel"},{"$f":"'Dat-Bl'!E32","v":"00:00:00"},0,null,null,0,null,0,null,0,null,0,null,null,0,"Gesamtergebnis"]
[{"$f":"'Dat-Bl'!C33","v":0},{"$f":"'Dat-Bl'!D33","v":"W5/06-Regel"},{"$f":"'Dat-Bl'!E33","v":"00:00:00"},0,null,null,0,null,0,null,0,null,0,null,null,0,{"$f":"SUM(P31:P36)-MIN(P31:P36)+O31","v":0}]
["Start-Nr.","Schülerinnen","Geb.Dat.","Schule 6","Bezirk/Bundesland","60m","PUNKTE","Schlagball","PUNKTE","Kugel","PUNKTE","Weit","PUNKTE","5x80M","PUNKTE","SUMME"]
[{"$f":"'Dat-Bl'!C34","v":0},{"$f":"'Dat-Bl'!D34","v":"W6/01-Regel"},{"$f":"'Dat-Bl'!E34","v":"00:00:00"},{"$f":"'Dat-Bl'!F34","v":0},{"$f":"'Dat-Bl'!G34","v":0},null,{"$f":"IF(F38=0,0,INT(19.742424*EXP(2.1*LN((1417-F38*100)/100))))","v":0},null,{"$f":"IF(H38=0,0,INT(22*EXP(0.9*LN((H38*100-500)/100))))","v":0},null,{"$f":"IF(J38=0,0,INT(83.435373*EXP(0.9*LN((J38*100-130)/100))))","v":0},null,{"$f":"IF(L38=0,0,INT(220.628792*EXP(1*LN((L38*100-180)/100))))","v":0},null,{"$f":"IF(N38=0,0,INT(0.405548*EXP(2.1*LN((8720-N38*100)/100))))","v":0},{"$f":"SUM(G38,I38,K38,M38)","v":0}]
[{"$f":"'Dat-Bl'!C35","v":0},{"$f":"'Dat-Bl'!D35","v":"W6/02-Regel"},{"$f":"'Dat-Bl'!E35","v":"00:00:00"},{"$f":"D38","v":0},null,null,0,null,0,null,0,null,0,null,null,0]
[{"$f":"'Dat-Bl'!C36","v":0},{"$f":"'Dat-Bl'!D36","v":"W6/03-Regel"},{"$f":"'Dat-Bl'!E36","v":"00:00:00"},{"$f":"D39","v":0},null,null,0,null,0,null,0,null,0,null,null,0]
[{"$f":"'Dat-Bl'!C37","v":0},{"$f":"'Dat-Bl'!D37","v":"W6/04-Regel"},{"$f":"'Dat-Bl'!E37","v":"00:00:00"},0,null,null,0,null,0,null,0,null,0,null,null,0]
[{"$f":"'Dat-Bl'!C38","v":0},{"$f":"'Dat-Bl'!D38","v":"W6/05-Regel"},{"$f":"'Dat-Bl'!E38","v":"00:00:00"},0,null,null,0,null,0,null,0,null,0,null,null,0,"Gesamtergebnis"]
[{"$f":"'Dat-Bl'!C39","v":0},{"$f":"'Dat-Bl'!D39","v":"W6/06-Regel"},{"$f":"'Dat-Bl'!E39","v":"00:00:00"},0,null,null,0,null,0,null,0,null,0,null,null,0,{"$f":"SUM(P38:P43)-MIN(P38:P43)+O38","v":0}]
["Start-Nr.","Schülerinnen","Geb.Dat.","Schule 7","Bezirk/Bundesland","60m","PUNKTE","Schlagball","PUNKTE","Kugel","PUNKTE","Weit","PUNKTE","5x80M","PUNKTE","SUMME"]
[{"$f":"'Dat-Bl'!C40","v":0},{"$f":"'Dat-Bl'!D40","v":"W7/01-Regel"},{"$f":"'Dat-Bl'!E40","v":"00:00:00"},{"$f":"'Dat-Bl'!F40","v":0},{"$f":"'Dat-Bl'!G40","v":0},null,{"$f":"IF(F45=0,0,INT(19.742424*EXP(2.1*LN((1417-F45*100)/100))))","v":0},null,{"$f":"IF(H45=0,0,INT(22*EXP(0.9*LN((H45*100-500)/100))))","v":0},null,{"$f":"IF(J45=0,0,INT(83.435373*EXP(0.9*LN((J45*100-130)/100))))","v":0},null,{"$f":"IF(L45=0,0,INT(220.628792*EXP(1*LN((L45*100-180)/100))))","v":0},null,{"$f":"IF(N45=0,0,INT(0.405548*EXP(2.1*LN((8720-N45*100)/100))))","v":0},{"$f":"SUM(G45,I45,K45,M45)","v":0}]
[{"$f":"'Dat-Bl'!C41","v":0},{"$f":"'Dat-Bl'!D41","v":"W7/02-Regel"},{"$f":"'Dat-Bl'!E41","v":"00:00:00"},{"$f":"D45","v":0},null,null,0,null,0,null,0,null,0,null,null,0]
[{"$f":"'Dat-Bl'!C42","v":0},{"$f":"'Dat-Bl'!D42","v":"W7/03-Regel"},{"$f":"'Dat-Bl'!E42","v":"00:00:00"},{"$f":"D46","v":0},null,null,0,null,0,null,0,null,0,null,null,0]
[{"$f":"'Dat-Bl'!C43","v":0},{"$f":"'Dat-Bl'!D43","v":"W7/04-Regel"},{"$f":"'Dat-Bl'!E43","v":"00:00:00"},0,null,null,0,null,0,null,0,null,0,null,null,0]
[{"$f":"'Dat-Bl'!C44","v":0},{"$f":"'Dat-Bl'!D44","v":"W7/05-Regel"},{"$f":"'Dat-Bl'!E44","v":"00:00:00"},0,null,null,0,null,0,null,0,null,0,null,null,0,"Gesamtergebnis"]
[{"$f":"'Dat-Bl'!C45","v":0},{"$f":"'Dat-Bl'!D45","v":"W7/06-Regel"},{"$f":"'Dat-Bl'!E45","v":"00:00:00"},0,null,null,0,null,0,null,0,null,0,null,null,0,{"$f":"SUM(P45:P50)-MIN(P45:P50)+O45","v":0}]
["Start-Nr.","Schülerinnen","Geb.Dat.","Schule 8","Bezirk/Bundesland","60m","PUNKTE","Schlagball","PUNKTE","Kugel","PUNKTE","Weit","PUNKTE","5x80M","PUNKTE","SUMME"]
[{"$f":"'Dat-Bl'!C46","v":0},{"$f":"'Dat-Bl'!D46","v":"W8/01-Regel"},{"$f":"'Dat-Bl'!E46","v":"00:00:00"},{"$f":"'Dat-Bl'!F46","v":0},{"$f":"'Dat-Bl'!G46","v":0},null,{"$f":"IF(F52=0,0,INT(19.742424*EXP(2.1*LN((1417-F52*100)/100))))","v":0},null,{"$f":"IF(H52=0,0,INT(22*EXP(0.9*LN((H52*100-500)/100))))","v":0},null,{"$f":"IF(J52=0,0,INT(83.435373*EXP(0.9*LN((J52*100-130)/100))))","v":0},null,{"$f":"IF(L52=0,0,INT(220.628792*EXP(1*LN((L52*100-180)/100))))","v":0},null,{"$f":"IF(N52=0,0,INT(0.405548*EXP(2.1*LN((8720-N52*100)/100))))","v":0},{"$f":"SUM(G52,I52,K52,M52)","v":0}]
[{"$f":"'Dat-Bl'!C47","v":0},{"$f":"'Dat-Bl'!D47","v":"W8/02-Regel"},{"$f":"'Dat-Bl'!E47","v":"00:00:00"},{"$f":"D52","v":0},null,null,0,null,0,null,0,null,0,null,null,0]
[{"$f":"'Dat-Bl'!C48","v":0},{"$f":"'Dat-Bl'!D48","v":"W8/03-Regel"},{"$f":"'Dat-Bl'!E48","v":"00:00:00"},{"$f":"D53","v":0},null,null,0,null,0,null,0,null,0,null,null,0]
[{"$f":"'Dat-Bl'!C49","v":0},{"$f":"'Dat-Bl'!D49","v":"W8/04-Regel"},{"$f":"'Dat-Bl'!E49","v":"00:00:00"},0,null,null,0,null,0,null,0,null,0,null,null,0]
[{"$f":"'Dat-Bl'!C50","v":0},{"$f":"'Dat-Bl'!D50","v":"W8/05-Regel"},{"$f":"'Dat-Bl'!E50","v":"00:00:00"},0,null,null,0,null,0,null,0,null,0,null,null,0,"Gesamtergebnis"]
[{"$f":"'Dat-Bl'!C51","v":0},{"$f":"'Dat-Bl'!D51","v":"W8/06-Regel"},{"$f":"'Dat-Bl'!E51","v":"00:00:00"},0,null,null,0,null,0,null,0,null,0,null,null,0,{"$f":"SUM(P52:P57)-MIN(P52:P57)+O52","v":0}]
["Start-Nr.","Schülerinnen","Geb.Dat.","Schule 9","Bezirk/Bundesland","60m","PUNKTE","Schlagball","PUNKTE","Kugel","PUNKTE","Weit","PUNKTE","5x80M","PUNKTE","SUMME"]
[{"$f":"'Dat-Bl'!C52","v":0},{"$f":"'Dat-Bl'!D52","v":"W9/01-Regel"},{"$f":"'Dat-Bl'!E52","v":"00:00:00"},{"$f":"'Dat-Bl'!F52","v":0},{"$f":"'Dat-Bl'!G52","v":0},null,{"$f":"IF(F59=0,0,INT(19.742424*EXP(2.1*LN((1417-F59*100)/100))))","v":0},null,{"$f":"IF(H59=0,0,INT(22*EXP(0.9*LN((H59*100-500)/100))))","v":0},null,{"$f":"IF(J59=0,0,INT(83.435373*EXP(0.9*LN((J59*100-130)/100))))","v":0},null,{"$f":"IF(L59=0,0,INT(220.628792*EXP(1*LN((L59*100-180)/100))))","v":0},null,{"$f":"IF(N59=0,0,INT(0.405548*EXP(2.1*LN((8720-N59*100)/100))))","v":0},{"$f":"SUM(G59,I59,K59,M59)","v":0}]
[{"$f":"'Dat-Bl'!C53","v":0},{"$f":"'Dat-Bl'!D53","v":"W9/02-Regel"},{"$f":"'Dat-Bl'!E53","v":"00:00:00"},{"$f":"D59","v":0},null,null,0,null,0,null,0,null,0,null,null,0]
[{"$f":"'Dat-Bl'!C54","v":0},{"$f":"'Dat-Bl'!D54","v":"W9/03-Regel"},{"$f":"'Dat-Bl'!E54","v":"00:00:00"},{"$f":"D60","v":0},null,null,0,null,0,null,0,null,0,null,null,0]
[{"$f":"'Dat-Bl'!C55","v":0},{"$f":"'Dat-Bl'!D55","v":"W9/04-Regel"},{"$f":"'Dat-Bl'!E55","v":"00:00:00"},0,null,null,0,null,0,null,0,null,0,null,null,0]
[{"$f":"'Dat-Bl'!C56","v":0},{"$f":"'Dat-Bl'!D56","v":"W9/05-Regel"},{"$f":"'Dat-Bl'!E56","v":"00:00:00"},0,null,null,0,null,0,null,0,null,0,null,null,0,"Gesamtergebnis"]
[{"$f":"'Dat-Bl'!C57","v":0},{"$f":"'Dat-Bl'!D57","v":"W9/06-Regel"},{"$f":"'Dat-Bl'!E57","v":"00:00:00"},0,null,null,0,null,0,null,0,null,0,null,null,0,{"$f":"SUM(P59:P64)-MIN(P59:P64)+O59","v":0}]
["Start-Nr.","Schülerinnen","Geb.Dat.","Schule 10","Bezirk/Bundesland","60m","PUNKTE","Schlagball","PUNKTE","Kugel","PUNKTE","Weit","PUNKTE","5x80M","PUNKTE","SUMME"]
[{"$f":"'Dat-Bl'!C58","v":0},{"$f":"'Dat-Bl'!D58","v":"W10/01-Regel"},{"$f":"'Dat-Bl'!E58","v":"00:00:00"},{"$f":"'Dat-Bl'!F58","v":0},{"$f":"'Dat-Bl'!G58","v":0},null,{"$f":"IF(F66=0,0,INT(19.742424*EXP(2.1*LN((1417-F66*100)/100))))","v":0},null,{"$f":"IF(H66=0,0,INT(22*EXP(0.9*LN((H66*100-500)/100))))","v":0},null,{"$f":"IF(J66=0,0,INT(83.435373*EXP(0.9*LN((J66*100-130)/100))))","v":0},null,{"$f":"IF(L66=0,0,INT(220.628792*EXP(1*LN((L66*100-180)/100))))","v":0},null,{"$f":"IF(N66=0,0,INT(0.405548*EXP(2.1*LN((8720-N66*100)/100))))","v":0},{"$f":"SUM(G66,I66,K66,M66)","v":0}]
[{"$f":"'Dat-Bl'!C59","v":0},{"$f":"'Dat-Bl'!D59","v":"W10/02-Regel"},{"$f":"'Dat-Bl'!E59","v":"00:00:00"},{"$f":"D66","v":0},null,null,0,null,0,null,0,null,0,null,null,0]
[{"$f":"'Dat-Bl'!C60","v":0},{"$f":"'Dat-Bl'!D60","v":"W10/03-Regel"},{"$f":"'Dat-Bl'!E60","v":"00:00:00"},{"$f":"D67","v":0},null,null,0,null,0,null,0,null,0,null,null,0]
[{"$f":"'Dat-Bl'!C61","v":0},{"$f":"'Dat-Bl'!D61","v":"W10/04-Regel"},{"$f":"'Dat-Bl'!E61","v":"00:00:00"},0,null,null,0,null,0,null,0,null,0,null,null,0]
[{"$f":"'Dat-Bl'!C62","v":0},{"$f":"'Dat-Bl'!D62","v":"W10/05-Regel"},{"$f":"'Dat-Bl'!E62","v":"00:00:00"},0,null,null,0,null,0,null,0,null,0,null,null,0,"Gesamtergebnis"]
[{"$f":"'Dat-Bl'!C63","v":0},{"$f":"'Dat-Bl'!D63","v":"W10/06-Regel"},{"$f":"'Dat-Bl'!E63","v":"00:00:00"},0,null,null,0,null,0,null,0,null,0,null,null,0,{"$f":"SUM(P66:P71)-MIN(P66:P71)+O66","v":0}]
["Start-Nr.","Schülerinnen","Geb.Dat.","Schule 11","Bezirk/Bundesland","60m","PUNKTE","Schlagball","PUNKTE","Kugel","PUNKTE","Weit","PUNKTE","5x80M","PUNKTE","SUMME"]
[{"$f":"'Dat-Bl'!C64","v":0},{"$f":"'Dat-Bl'!D64","v":"W11/01-Regel"},{"$f":"'Dat-Bl'!E64","v":"00:00:00"},{"$f":"'Dat-Bl'!F64","v":0},{"$f":"'Dat-Bl'!G64","v":0},null,{"$f":"IF(F73=0,0,INT(19.742424*EXP(2.1*LN((1417-F73*100)/100))))","v":0},null,{"$f":"IF(H73=0,0,INT(22*EXP(0.9*LN((H73*100-500)/100))))","v":0},null,{"$f":"IF(J73=0,0,INT(83.435373*EXP(0.9*LN((J73*100-130)/100))))","v":0},null,{"$f":"IF(L73=0,0,INT(220.628792*EXP(1*LN((L73*100-180)/100))))","v":0},null,{"$f":"IF(N73=0,0,INT(0.405548*EXP(2.1*LN((8720-N73*100)/100))))","v":0},{"$f":"SUM(G73,I73,K73,M73)","v":0}]
[{"$f":"'Dat-Bl'!C65","v":0},{"$f":"'Dat-Bl'!D65","v":"W11/02-Regel"},{"$f":"'Dat-Bl'!E65","v":"00:00:00"},{"$f":"D73","v":0},null,null,0,null,0,null,0,null,0,null,null,0]
[{"$f":"'Dat-Bl'!C66","v":0},{"$f":"'Dat-Bl'!D66","v":"W11/03-Regel"},{"$f":"'Dat-Bl'!E66","v":"00:00:00"},{"$f":"D74","v":0},null,null,0,null,0,null,0,null,0,null,null,0]
[{"$f":"'Dat-Bl'!C67","v":0},{"$f":"'Dat-Bl'!D67","v":"W11/04-Regel"},{"$f":"'Dat-Bl'!E67","v":"00:00:00"},0,null,null,0,null,0,null,0,null,0,null,null,0]
[{"$f":"'Dat-Bl'!C68","v":0},{"$f":"'Dat-Bl'!D68","v":"W11/05-Regel"},{"$f":"'Dat-Bl'!E68","v":"00:00:00"},0,null,null,0,null,0,null,0,null,0,null,null,0,"Gesamtergebnis"]
[{"$f":"'Dat-Bl'!C69","v":0},{"$f":"'Dat-Bl'!D69","v":"W11/06-Regel"},{"$f":"'Dat-Bl'!E69","v":"00:00:00"},0,null,null,0,null,0,null,0,null,0,null,null,0,{"$f":"SUM(P73:P78)-MIN(P73:P78)+O73","v":0}]
["Start-Nr.","Schülerinnen","Geb.Dat.","Schule 12","Bezirk/Bundesland","60m","PUNKTE","Schlagball","PUNKTE","Kugel","PUNKTE","Weit","PUNKTE","5x80M","PUNKTE","SUMME"]
[{"$f":"'Dat-Bl'!C70","v":0},{"$f":"'Dat-Bl'!D70","v":"W12/01-Regel"},{"$f":"'Dat-Bl'!E70","v":"00:00:00"},{"$f":"'Dat-Bl'!F70","v":0},{"$f":"'Dat-Bl'!G70","v":0},null,{"$f":"IF(F80=0,0,INT(19.742424*EXP(2.1*LN((1417-F80*100)/100))))","v":0},null,{"$f":"IF(H80=0,0,INT(22*EXP(0.9*LN((H80*100-500)/100))))","v":0},null,{"$f":"IF(J80=0,0,INT(83.435373*EXP(0.9*LN((J80*100-130)/100))))","v":0},null,{"$f":"IF(L80=0,0,INT(220.628792*EXP(1*LN((L80*100-180)/100))))","v":0},null,{"$f":"IF(N80=0,0,INT(0.405548*EXP(2.1*LN((8720-N80*100)/100))))","v":0},{"$f":"SUM(G80,I80,K80,M80)","v":0}]
[{"$f":"'Dat-Bl'!C71","v":0},{"$f":"'Dat-Bl'!D71","v":"W12/02-Regel"},{"$f":"'Dat-Bl'!E71","v":"00:00:00"},{"$f":"D80","v":0},null,null,0,null,0,null,0,null,0,null,null,0]
[{"$f":"'Dat-Bl'!C72","v":0},{"$f":"'Dat-Bl'!D72","v":"W12/03-Regel"},{"$f":"'Dat-Bl'!E72","v":"00:00:00"},{"$f":"D81","v":0},null,null,0,null,0,null,0,null,0,null,null,0]
[{"$f":"'Dat-Bl'!C73","v":0},{"$f":"'Dat-Bl'!D73","v":"W12/04-Regel"},{"$f":"'Dat-Bl'!E73","v":"00:00:00"},0,null,null,0,null,0,null,0,null,0,null,null,0]
[{"$f":"'Dat-Bl'!C74","v":0},{"$f":"'Dat-Bl'!D74","v":"W12/05-Regel"},{"$f":"'Dat-Bl'!E74","v":"00:00:00"},0,null,null,0,null,0,null,0,null,0,null,null,0,"Gesamtergebnis"]
[{"$f":"'Dat-Bl'!C75","v":0},{"$f":"'Dat-Bl'!D75","v":"W12/06-Regel"},{"$f":"'Dat-Bl'!E75","v":"00:00:00"},0,null,null,0,null,0,null,0,null,0,null,null,0,{"$f":"SUM(P80:P85)-MIN(P80:P85)+O80","v":0}]
["Start-Nr.","Schülerinnen","Geb.Dat.","Schule 13","Bezirk/Bundesland","60m","PUNKTE","Schlagball","PUNKTE","Kugel","PUNKTE","Weit","PUNKTE","5x80M","PUNKTE","SUMME"]
[{"$f":"'Dat-Bl'!C76","v":0},{"$f":"'Dat-Bl'!D76","v":"W13/01-Regel"},{"$f":"'Dat-Bl'!E76","v":"00:00:00"},{"$f":"'Dat-Bl'!F76","v":0},{"$f":"'Dat-Bl'!G76","v":0},null,{"$f":"IF(F87=0,0,INT(19.742424*EXP(2.1*LN((1417-F87*100)/100))))","v":0},null,{"$f":"IF(H87=0,0,INT(22*EXP(0.9*LN((H87*100-500)/100))))","v":0},null,{"$f":"IF(J87=0,0,INT(83.435373*EXP(0.9*LN((J87*100-130)/100))))","v":0},null,{"$f":"IF(L87=0,0,INT(220.628792*EXP(1*LN((L87*100-180)/100))))","v":0},null,{"$f":"IF(N87=0,0,INT(0.405548*EXP(2.1*LN((8720-N87*100)/100))))","v":0},{"$f":"SUM(G87,I87,K87,M87)","v":0}]
[{"$f":"'Dat-Bl'!C77","v":0},{"$f":"'Dat-Bl'!D77","v":"W13/02-Regel"},{"$f":"'Dat-Bl'!E77","v":"00:00:00"},{"$f":"D87","v":0},null,null,0,null,0,null,0,null,0,null,null,0]
[{"$f":"'Dat-Bl'!C78","v":0},{"$f":"'Dat-Bl'!D78","v":"W13/03-Regel"},{"$f":"'Dat-Bl'!E78","v":"00:00:00"},{"$f":"D88","v":0},null,null,0,null,0,null,0,null,0,null,null,0]
[{"$f":"'Dat-Bl'!C79","v":0},{"$f":"'Dat-Bl'!D79","v":"W13/04-Regel"},{"$f":"'Dat-Bl'!E79","v":"00:00:00"},0,null,null,0,null,0,null,0,null,0,null,null,0]
[{"$f":"'Dat-Bl'!C80","v":0},{"$f":"'Dat-Bl'!D80","v":"W13/05-Regel"},{"$f":"'Dat-Bl'!E80","v":"00:00:00"},0,null,null,0,null,0,null,0,null,0,null,null,0,"Gesamtergebnis"]
[{"$f":"'Dat-Bl'!C81","v":0},{"$f":"'Dat-Bl'!D81","v":"W13/06-Regel"},{"$f":"'Dat-Bl'!E81","v":"00:00:00"},0,null,null,0,null,0,null,0,null,0,null,null,0,{"$f":"SUM(P87:P92)-MIN(P87:P92)+O87","v":0}]
["Start-Nr.","Schülerinnen","Geb.Dat.","Schule 14","Bezirk/Bundesland","60m","PUNKTE","Schlagball","PUNKTE","Kugel","PUNKTE","Weit","PUNKTE","5x80M","PUNKTE","SUMME"]
[{"$f":"'Dat-Bl'!C82","v":0},{"$f":"'Dat-Bl'!D82","v":"W14/01-Regel"},{"$f":"'Dat-Bl'!E82","v":"00:00:00"},{"$f":"'Dat-Bl'!F82","v":0},{"$f":"'Dat-Bl'!G82","v":0},null,{"$f":"IF(F94=0,0,INT(19.742424*EXP(2.1*LN((1417-F94*100)/100))))","v":0},null,{"$f":"IF(H94=0,0,INT(22*EXP(0.9*LN((H94*100-500)/100))))","v":0},null,{"$f":"IF(J94=0,0,INT(83.435373*EXP(0.9*LN((J94*100-130)/100))))","v":0},null,{"$f":"IF(L94=0,0,INT(220.628792*EXP(1*LN((L94*100-180)/100))))","v":0},null,{"$f":"IF(N94=0,0,INT(0.405548*EXP(2.1*LN((8720-N94*100)/100))))","v":0},{"$f":"SUM(G94,I94,K94,M94)","v":0}]
[{"$f":"'Dat-Bl'!C83","v":0},{"$f":"'Dat-Bl'!D83","v":"W14/02-Regel"},{"$f":"'Dat-Bl'!E83","v":"00:00:00"},{"$f":"D94","v":0},null,null,0,null,0,null,0,null,0,null,null,0]
[{"$f":"'Dat-Bl'!C84","v":0},{"$f":"'Dat-Bl'!D84","v":"W14/03-Regel"},{"$f":"'Dat-Bl'!E84","v":"00:00:00"},{"$f":"D95","v":0},null,null,0,null,0,null,0,null,0,null,null,0]
[{"$f":"'Dat-Bl'!C85","v":0},{"$f":"'Dat-Bl'!D85","v":"W14/04-Regel"},{"$f":"'Dat-Bl'!E85","v":"00:00:00"},0,null,null,0,null,0,null,0,null,0,null,null,0]
[{"$f":"'Dat-Bl'!C86","v":0},{"$f":"'Dat-Bl'!D86","v":"W14/05-Regel"},{"$f":"'Dat-Bl'!E86","v":"00:00:00"},0,null,null,0,null,0,null,0,null,0,null,null,0,"Gesamtergebnis"]
[{"$f":"'Dat-Bl'!C87","v":0},{"$f":"'Dat-Bl'!D87","v":"W14/06-Regel"},{"$f":"'Dat-Bl'!E87","v":"00:00:00"},0,null,null,0,null,0,null,0,null,0,null,null,0,{"$f":"SUM(P94:P99)-MIN(P94:P99)+O94","v":0}]
["Start-Nr.","Schülerinnen","Geb.Dat.","Schule 15","Bezirk/Bundesland","60m","PUNKTE","Schlagball","PUNKTE","Kugel","PUNKTE","Weit","PUNKTE","5x80M","PUNKTE","SUMME"]
[{"$f":"'Dat-Bl'!C88","v":0},{"$f":"'Dat-Bl'!D88","v":"W15/01-Regel"},{"$f":"'Dat-Bl'!E88","v":"00:00:00"},{"$f":"'Dat-Bl'!F88","v":0},{"$f":"'Dat-Bl'!G88","v":0},null,{"$f":"IF(F101=0,0,INT(19.742424*EXP(2.1*LN((1417-F101*100)/100))))","v":0},null,{"$f":"IF(H101=0,0,INT(22*EXP(0.9*LN((H101*100-500)/100))))","v":0},null,{"$f":"IF(J101=0,0,INT(83.435373*EXP(0.9*LN((J101*100-130)/100))))","v":0},null,{"$f":"IF(L101=0,0,INT(220.628792*EXP(1*LN((L101*100-180)/100))))","v":0},null,{"$f":"IF(N101=0,0,INT(0.405548*EXP(2.1*LN((8720-N101*100)/100))))","v":0},{"$f":"SUM(G101,I101,K101,M101)","v":0}]
[{"$f":"'Dat-Bl'!C89","v":0},{"$f":"'Dat-Bl'!D89","v":"W15/02-Regel"},{"$f":"'Dat-Bl'!E89","v":"00:00:00"},{"$f":"D101","v":0},null,null,0,null,0,null,0,null,0,null,null,0]
[{"$f":"'Dat-Bl'!C90","v":0},{"$f":"'Dat-Bl'!D90","v":"W15/03-Regel"},{"$f":"'Dat-Bl'!E90","v":"00:00:00"},{"$f":"D102","v":0},null,null,0,null,0,null,0,null,0,null,null,0]
[{"$f":"'Dat-Bl'!C91","v":0},{"$f":"'Dat-Bl'!D91","v":"W15/04-Regel"},{"$f":"'Dat-Bl'!E91","v":"00:00:00"},0,null,null,0,null,0,null,0,null,0,null,null,0]
[{"$f":"'Dat-Bl'!C92","v":0},{"$f":"'Dat-Bl'!D92","v":"W15/05-Regel"},{"$f":"'Dat-Bl'!E92","v":"00:00:00"},0,null,null,0,null,0,null,0,null,0,null,null,0,"Gesamtergebnis"]
[{"$f":"'Dat-Bl'!C93","v":0},{"$f":"'Dat-Bl'!D93","v":"W15/06-Regel"},{"$f":"'Dat-Bl'!E93","v":"00:00:00"},0,null,null,0,null,0,null,0,null,0,null,null,0,{"$f":"SUM(P101:P106)-MIN(P101:P106)+O101","v":0}]
["Start-Nr.","Schülerinnen","Geb.Dat.","Schule 16","Bezirk/Bundesland","60m","PUNKTE","Schlagball","PUNKTE","Kugel","PUNKTE","Weit","PUNKTE","5x80M","PUNKTE","SUMME"]
[{"$f":"'Dat-Bl'!C94","v":0},{"$f":"'Dat-Bl'!D94","v":"W16/01-Regel"},{"$f":"'Dat-Bl'!E94","v":"00:00:00"},{"$f":"'Dat-Bl'!F94","v":0},{"$f":"'Dat-Bl'!G94","v":0},null,{"$f":"IF(F108=0,0,INT(19.742424*EXP(2.1*LN((1417-F108*100)/100))))","v":0},null,{"$f":"IF(H108=0,0,INT(22*EXP(0.9*LN((H108*100-500)/100))))","v":0},null,{"$f":"IF(J108=0,0,INT(83.435373*EXP(0.9*LN((J108*100-130)/100))))","v":0},null,{"$f":"IF(L108=0,0,INT(220.628792*EXP(1*LN((L108*100-180)/100))))","v":0},null,{"$f":"IF(N108=0,0,INT(0.405548*EXP(2.1*LN((8720-N108*100)/100))))","v":0},{"$f":"SUM(G108,I108,K108,M108)","v":0}]
[{"$f":"'Dat-Bl'!C95","v":0},{"$f":"'Dat-Bl'!D95","v":"W16/02-Regel"},{"$f":"'Dat-Bl'!E95","v":"00:00:00"},{"$f":"D108","v":0},null,null,0,null,0,null,0,null,0,null,null,0]
[{"$f":"'Dat-Bl'!C96","v":0},{"$f":"'Dat-Bl'!D96","v":"W16/03-Regel"},{"$f":"'Dat-Bl'!E96","v":"00:00:00"},{"$f":"D109","v":0},null,null,0,null,0,null,0,null,0,null,null,0]
[{"$f":"'Dat-Bl'!C97","v":0},{"$f":"'Dat-Bl'!D97","v":"W16/04-Regel"},{"$f":"'Dat-Bl'!E97","v":"00:00:00"},0,null,null,0,null,0,null,0,null,0,null,null,0]
[{"$f":"'Dat-Bl'!C98","v":0},{"$f":"'Dat-Bl'!D98","v":"W16/05-Regel"},{"$f":"'Dat-Bl'!E98","v":"00:00:00"},0,null,null,0,null,0,null,0,null,0,null,null,0,"Gesamtergebnis"]
[{"$f":"'Dat-Bl'!C99","v":0},{"$f":"'Dat-Bl'!D99","v":"W16/06-Regel"},{"$f":"'Dat-Bl'!E99","v":"00:00:00"},0,null,null,0,null,0,null,0,null,0,null,null,0,{"$f":"SUM(P108:P113)-MIN(P108:P113)+O108","v":0}]
["Start-Nr.","Schülerinnen","Geb.Dat.","Schule 17","Bezirk/Bundesland","60m","PUNKTE","Schlagball","PUNKTE","Kugel","PUNKTE","Weit","PUNKTE","5x80M","PUNKTE","SUMME"]
[{"$f":"'Dat-Bl'!C100","v":0},{"$f":"'Dat-Bl'!D100","v":"W17/01-Regel"},{"$f":"'Dat-Bl'!E100","v":"00:00:00"},{"$f":"'Dat-Bl'!F100","v":0},{"$f":"'Dat-Bl'!G100","v":0},null,{"$f":"IF(F115=0,0,INT(19.742424*EXP(2.1*LN((1417-F115*100)/100))))","v":0},null,{"$f":"IF(H115=0,0,INT(22*EXP(0.9*LN((H115*100-500)/100))))","v":0},null,{"$f":"IF(J115=0,0,INT(83.435373*EXP(0.9*LN((J115*100-130)/100))))","v":0},null,{"$f":"IF(L115=0,0,INT(220.628792*EXP(1*LN((L115*100-180)/100))))","v":0},null,{"$f":"IF(N115=0,0,INT(0.405548*EXP(2.1*LN((8720-N115*100)/100))))","v":0},{"$f":"SUM(G115,I115,K115,M115)","v":0}]
[{"$f":"'Dat-Bl'!C101","v":0},{"$f":"'Dat-Bl'!D101","v":"W17/02-Regel"},{"$f":"'Dat-Bl'!E101","v":"00:00:00"},{"$f":"D115","v":0},null,null,0,null,0,null,0,null,0,null,null,0]
[{"$f":"'Dat-Bl'!C102","v":0},{"$f":"'Dat-Bl'!D102","v":"W17/03-Regel"},{"$f":"'Dat-Bl'!E102","v":"00:00:00"},{"$f":"D116","v":0},null,null,0,null,0,null,0,null,0,null,null,0]
[{"$f":"'Dat-Bl'!C103","v":0},{"$f":"'Dat-Bl'!D103","v":"W17/04-Regel"},{"$f":"'Dat-Bl'!E103","v":"00:00:00"},0,null,null,0,null,0,null,0,null,0,null,null,0]
[{"$f":"'Dat-Bl'!C104","v":0},{"$f":"'Dat-Bl'!D104","v":"W17/05-Regel"},{"$f":"'Dat-Bl'!E104","v":"00:00:00"},0,null,null,0,null,0,null,0,null,0,null,null,0,"Gesamtergebnis"]
[{"$f":"'Dat-Bl'!C105","v":0},{"$f":"'Dat-Bl'!D105","v":"W17/06-Regel"},{"$f":"'Dat-Bl'!E105","v":"00:00:00"},0,null,null,0,null,0,null,0,null,0,null,null,0,{"$f":"SUM(P115:P120)-MIN(P115:P120)+O115","v":0}]
["Start-Nr.","Schülerinnen","Geb.Dat.","Schule 18","Bezirk/Bundesland","60m","PUNKTE","Schlagball","PUNKTE","Kugel","PUNKTE","Weit","PUNKTE","5x80M","PUNKTE","SUMME"]
[{"$f":"'Dat-Bl'!C106","v":0},{"$f":"'Dat-Bl'!D106","v":"W18/01-Regel"},{"$f":"'Dat-Bl'!E106","v":"00:00:00"},{"$f":"'Dat-Bl'!F106","v":0},{"$f":"'Dat-Bl'!G106","v":0},null,{"$f":"IF(F122=0,0,INT(19.742424*EXP(2.1*LN((1417-F122*100)/100))))","v":0},null,{"$f":"IF(H122=0,0,INT(22*EXP(0.9*LN((H122*100-500)/100))))","v":0},null,{"$f":"IF(J122=0,0,INT(83.435373*EXP(0.9*LN((J122*100-130)/100))))","v":0},null,{"$f":"IF(L122=0,0,INT(220.628792*EXP(1*LN((L122*100-180)/100))))","v":0},null,{"$f":"IF(N122=0,0,INT(0.405548*EXP(2.1*LN((8720-N122*100)/100))))","v":0},{"$f":"SUM(G122,I122,K122,M122)","v":0}]
[{"$f":"'Dat-Bl'!C107","v":0},{"$f":"'Dat-Bl'!D107","v":"W18/02-Regel"},{"$f":"'Dat-Bl'!E107","v":"00:00:00"},{"$f":"D122","v":0},null,null,0,null,0,null,0,null,0,null,null,0]
[{"$f":"'Dat-Bl'!C108","v":0},{"$f":"'Dat-Bl'!D108","v":"W18/03-Regel"},{"$f":"'Dat-Bl'!E108","v":"00:00:00"},{"$f":"D123","v":0},null,null,0,null,0,null,0,null,0,null,null,0]
[{"$f":"'Dat-Bl'!C109","v":0},{"$f":"'Dat-Bl'!D109","v":"W18/04-Regel"},{"$f":"'Dat-Bl'!E109","v":"00:00:00"},0,null,null,0,null,0,null,0,null,0,null,null,0]
[{"$f":"'Dat-Bl'!C110","v":0},{"$f":"'Dat-Bl'!D110","v":"W18/05-Regel"},{"$f":"'Dat-Bl'!E110","v":"00:00:00"},0,null,null,0,null,0,null,0,null,0,null,null,0,"Gesamtergebnis"]
[{"$f":"'Dat-Bl'!C111","v":0},{"$f":"'Dat-Bl'!D111","v":"W18/06-Regel"},{"$f":"'Dat-Bl'!E111","v":"00:00:00"},0,null,null,0,null,0,null,0,null,0,null,null,0,{"$f":"SUM(P122:P127)-MIN(P122:P127)+O122","v":0}]
["Start-Nr.","Schülerinnen","Geb.Dat.","Schule 19","Bezirk/Bundesland","60m","PUNKTE","Schlagball","PUNKTE","Kugel","PUNKTE","Weit","PUNKTE","5x80M","PUNKTE","SUMME"]
[{"$f":"'Dat-Bl'!C112","v":0},{"$f":"'Dat-Bl'!D112","v":"W19/01-Regel"},{"$f":"'Dat-Bl'!E112","v":"00:00:00"},{"$f":"'Dat-Bl'!F112","v":0},{"$f":"'Dat-Bl'!G112","v":0},null,{"$f":"IF(F129=0,0,INT(19.742424*EXP(2.1*LN((1417-F129*100)/100))))","v":0},null,{"$f":"IF(H129=0,0,INT(22*EXP(0.9*LN((H129*100-500)/100))))","v":0},null,{"$f":"IF(J129=0,0,INT(83.435373*EXP(0.9*LN((J129*100-130)/100))))","v":0},null,{"$f":"IF(L129=0,0,INT(220.628792*EXP(1*LN((L129*100-180)/100))))","v":0},null,{"$f":"IF(N129=0,0,INT(0.405548*EXP(2.1*LN((8720-N129*100)/100))))","v":0},{"$f":"SUM(G129,I129,K129,M129)","v":0}]
[{"$f":"'Dat-Bl'!C113","v":0},{"$f":"'Dat-Bl'!D113","v":"W19/02-Regel"},{"$f":"'Dat-Bl'!E113","v":"00:00:00"},{"$f":"D129","v":0},null,null,0,null,0,null,0,null,0,null,null,0]
[{"$f":"'Dat-Bl'!C114","v":0},{"$f":"'Dat-Bl'!D114","v":"W19/03-Regel"},{"$f":"'Dat-Bl'!E114","v":"00:00:00"},{"$f":"D130","v":0},null,null,0,null,0,null,0,null,0,null,null,0]
[{"$f":"'Dat-Bl'!C115","v":0},{"$f":"'Dat-Bl'!D115","v":"W19/04-Regel"},{"$f":"'Dat-Bl'!E115","v":"00:00:00"},0,null,null,0,null,0,null,0,null,0,null,null,0]
[{"$f":"'Dat-Bl'!C116","v":0},{"$f":"'Dat-Bl'!D116","v":"W19/05-Regel"},{"$f":"'Dat-Bl'!E116","v":"00:00:00"},0,null,null,0,null,0,null,0,null,0,null,null,0,"Gesamtergebnis"]
[{"$f":"'Dat-Bl'!C117","v":0},{"$f":"'Dat-Bl'!D117","v":"W19/06-Regel"},{"$f":"'Dat-Bl'!E117","v":"00:00:00"},0,null,null,0,null,0,null,0,null,0,null,null,0,{"$f":"SUM(P129:P134)-MIN(P129:P134)+O129","v":0}]
["Start-Nr.","Schülerinnen","Geb.Dat.","Schule 20","Bezirk/Bundesland","60m","PUNKTE","Schlagball","PUNKTE","Kugel","PUNKTE","Weit","PUNKTE","5x80M","PUNKTE","SUMME"]
[{"$f":"'Dat-Bl'!C118","v":0},{"$f":"'Dat-Bl'!D118","v":"W20/01-Regel"},{"$f":"'Dat-Bl'!E118","v":"00:00:00"},{"$f":"'Dat-Bl'!F118","v":0},{"$f":"'Dat-Bl'!G118","v":0},null,{"$f":"IF(F136=0,0,INT(19.742424*EXP(2.1*LN((1417-F136*100)/100))))","v":0},null,{"$f":"IF(H136=0,0,INT(22*EXP(0.9*LN((H136*100-500)/100))))","v":0},null,{"$f":"IF(J136=0,0,INT(83.435373*EXP(0.9*LN((J136*100-130)/100))))","v":0},null,{"$f":"IF(L136=0,0,INT(220.628792*EXP(1*LN((L136*100-180)/100))))","v":0},null,{"$f":"IF(N136=0,0,INT(0.405548*EXP(2.1*LN((8720-N136*100)/100))))","v":0},{"$f":"SUM(G136,I136,K136,M136)","v":0}]
[{"$f":"'Dat-Bl'!C119","v":0},{"$f":"'Dat-Bl'!D119","v":"W20/02-Regel"},{"$f":"'Dat-Bl'!E119","v":"00:00:00"},{"$f":"D136","v":0},null,null,0,null,0,null,0,null,0,null,null,0]
[{"$f":"'Dat-Bl'!C120","v":0},{"$f":"'Dat-Bl'!D120","v":"W20/03-Regel"},{"$f":"'Dat-Bl'!E120","v":"00:00:00"},{"$f":"D137","v":0},null,null,0,null,0,null,0,null,0,null,null,0]
[{"$f":"'Dat-Bl'!C121","v":0},{"$f":"'Dat-Bl'!D121","v":"W20/04-Regel"},{"$f":"'Dat-Bl'!E121","v":"00:00:00"},0,null,null,0,null,0,null,0,null,0,null,null,0]
[{"$f":"'Dat-Bl'!C122","v":0},{"$f":"'Dat-Bl'!D122","v":"W20/05-Regel"},{"$f":"'Dat-Bl'!E122","v":"00:00:00"},0,null,null,0,null,0,null,0,null,0,null,null,0,"Gesamtergebnis"]
[{"$f":"'Dat-Bl'!C123","v":0},{"$f":"'Dat-Bl'!D123","v":"W20/06-Regel"},{"$f":"'Dat-Bl'!E123","v":"00:00:00"},0,null,null,0,null,0,null,0,null,0,null,null,0,{"$f":"SUM(P136:P141)-MIN(P136:P141)+O136","v":0}]

{"sheet":"w-E_Sp","index":3,"n_rows":141,"n_cols":17,"rows_kept":141,"cut":false,"hidden":false,"merged":[[0,4,0,9],[0,2,0,3],[0,0,0,1]]}
["Wettkampfdaten-Art",null,"D-C/Sport-Schwerpunkt",null,"Ortsangabe,Datum"]
["Start-Nr.","Schülerinnen","Geb.Dat.","Schule 1","Bezirk/Bundesland","60m","PUNKTE","Schlagball","PUNKTE","Kugel","PUNKTE","Weit","PUNKTE","5x80M","PUNKTE","SUMME"]
[{"$f":"'Dat-Bl'!C127","v":0},{"$f":"'Dat-Bl'!D127","v":"W1/01-Sport"},{"$f":"'Dat-Bl'!E127","v":"00:00:00"},{"$f":"'Dat-Bl'!F127","v":0},{"$f":"'Dat-Bl'!G127","v":0},null,{"$f":"IF(F3=0,0,INT(19.742424*EXP(2.1*LN((1417-F3*100)/100))))","v":0},null,{"$f":"IF(H3=0,0,INT(22*EXP(0.9*LN((H3*100-500)/100))))","v":0},null,{"$f":"IF(J3=0,0,INT(83.435373*EXP(0.9*LN((J3*100-130)/100))))","v":0},null,{"$f":"IF(L3=0,0,INT(220.628792*EXP(1*LN((L3*100-180)/100))))","v":0},null,{"$f":"IF(N3=0,0,INT(0.405548*EXP(2.1*LN((8720-N3*100)/100))))","v":0},{"$f":"SUM(G3,I3,K3,M3)","v":0}]
[{"$f":"'Dat-Bl'!C128","v":0},{"$f":"'Dat-Bl'!D128","v":"W1/02-Sport"},{"$f":"'Dat-Bl'!E128","v":"00:00:00"},{"$f":"D3","v":0},null,null,0,null,0,null,0,null,0,null,null,0]
[{"$f":"'Dat-Bl'!C129","v":0},{"$f":"'Dat-Bl'!D129","v":"W1/03-Sport"},{"$f":"'Dat-Bl'!E129","v":"00:00:00"},{"$f":"D4","v":0},null,null,0,null,0,null,0,null,0,null,null,0]
[{"$f":"'Dat-Bl'!C130","v":0},{"$f":"'Dat-Bl'!D130","v":"W1/04-Sport"},{"$f":"'Dat-Bl'!E130","v":"00:00:00"},0,null,null,0,null,0,null,0,null,0,null,null,0]
[{"$f":"'Dat-Bl'!C131","v":0},{"$f":"'Dat-Bl'!D131","v":"W1/05-Sport"},{"$f":"'Dat-Bl'!E131","v":"00:00:00"},0,null,null,0,null,0,null,0,null,0,null,null,0,"Gesamtergebnis"]
[{"$f":"'Dat-Bl'!C132","v":0},{"$f":"'Dat-Bl'!D132","v":"W1/06-Sport"},{"$f":"'Dat-Bl'!E132","v":"00:00:00"},0,null,null,0,null,0,null,0,null,0,null,null,0,{"$f":"SUM(P3:P8)-MIN(P3:P8)+O3","v":0}]
["Start-Nr.","Schülerinnen","Geb.Dat.","Schule 2","Bezirk/Bundesland","60m","PUNKTE","Schlagball","PUNKTE","Kugel","PUNKTE","Weit","PUNKTE","5x80M","PUNKTE","SUMME"]
[{"$f":"'Dat-Bl'!C133","v":0},{"$f":"'Dat-Bl'!D133","v":"W2/01-Sport"},{"$f":"'Dat-Bl'!E133","v":"00:00:00"},{"$f":"'Dat-Bl'!F133","v":0},{"$f":"'Dat-Bl'!G133","v":0},null,{"$f":"IF(F10=0,0,INT(19.742424*EXP(2.1*LN((1417-F10*100)/100))))","v":0},null,{"$f":"IF(H10=0,0,INT(22*EXP(0.9*LN((H10*100-500)/100))))","v":0},null,{"$f":"IF(J10=0,0,INT(83.435373*EXP(0.9*LN((J10*100-130)/100))))","v":0},null,{"$f":"IF(L10=0,0,INT(220.628792*EXP(1*LN((L10*100-180)/100))))","v":0},null,{"$f":"IF(N10=0,0,INT(0.405548*EXP(2.1*LN((8720-N10*100)/100))))","v":0},{"$f":"SUM(G10,I10,K10,M10)","v":0}]
[{"$f":"'Dat-Bl'!C134","v":0},{"$f":"'Dat-Bl'!D134","v":"W2/02-Sport"},{"$f":"'Dat-Bl'!E134","v":"00:00:00"},{"$f":"D10","v":0},null,null,0,null,0,null,0,null,0,null,null,0]
[{"$f":"'Dat-Bl'!C135","v":0},{"$f":"'Dat-Bl'!D135","v":"W2/03-Sport"},{"$f":"'Dat-Bl'!E135","v":"00:00:00"},{"$f":"D11","v":0},null,null,0,null,0,null,0,null,0,null,null,0]
[{"$f":"'Dat-Bl'!C136","v":0},{"$f":"'Dat-Bl'!D136","v":"W2/04-Sport"},{"$f":"'Dat-Bl'!E136","v":"00:00:00"},0,null,null,0,null,0,null,0,null,0,null,null,0]
[{"$f":"'Dat-Bl'!C137","v":0},{"$f":"'Dat-Bl'!D137","v":"W2/05-Sport"},{"$f":"'Dat-Bl'!E137","v":"00:00:00"},0,null,null,0,null,0,null,0,null,0,null,null,0,"Gesamtergebnis"]
[{"$f":"'Dat-Bl'!C138","v":0},{"$f":"'Dat-Bl'!D138","v":"W2/06-Sport"},{"$f":"'Dat-Bl'!E138","v":"00:00:00"},0,null,null,0,null,0,null,0,null,0,null,null,0,{"$f":"SUM(P10:P15)-MIN(P10:P15)+O10","v":0}]
["Start-Nr.","Schülerinnen","Geb.Dat.","Schule 3","Bezirk/Bundesland","60m","PUNKTE","Schlagball","PUNKTE","Kugel","PUNKTE","Weit","PUNKTE","5x80M","PUNKTE","SUMME"]
[{"$f":"'Dat-Bl'!C139","v":0},{"$f":"'Dat-Bl'!D139","v":"W3/01-Sport"},{"$f":"'Dat-Bl'!E139","v":"00:00:00"},{"$f":"'Dat-Bl'!F139","v":0},{"$f":"'Dat-Bl'!G139","v":0},null,{"$f":"IF(F17=0,0,INT(19.742424*EXP(2.1*LN((1417-F17*100)/100))))","v":0},null,{"$f":"IF(H17=0,0,INT(22*EXP(0.9*LN((H17*100-500)/100))))","v":0},null,{"$f":"IF(J17=0,0,INT(83.435373*EXP(0.9*LN((J17*100-130)/100))))","v":0},null,{"$f":"IF(L17=0,0,INT(220.628792*EXP(1*LN((L17*100-180)/100))))","v":0},null,{"$f":"IF(N17=0,0,INT(0.405548*EXP(2.1*LN((8720-N17*100)/100))))","v":0},{"$f":"SUM(G17,I17,K17,M17)","v":0}]
[{"$f":"'Dat-Bl'!C140","v":0},{"$f":"'Dat-Bl'!D140","v":"W3/02-Sport"},{"$f":"'Dat-Bl'!E140","v":"00:00:00"},{"$f":"D17","v":0},null,null,0,null,0,null,0,null,0,null,null,0]
[{"$f":"'Dat-Bl'!C141","v":0},{"$f":"'Dat-Bl'!D141","v":"W3/03-Sport"},{"$f":"'Dat-Bl'!E141","v":"00:00:00"},{"$f":"D18","v":0},null,null,0,null,0,null,0,null,0,null,null,0]
[{"$f":"'Dat-Bl'!C142","v":0},{"$f":"'Dat-Bl'!D142","v":"W3/04-Sport"},{"$f":"'Dat-Bl'!E142","v":"00:00:00"},0,null,null,0,null,0,null,0,null,0,null,null,0]
[{"$f":"'Dat-Bl'!C143","v":0},{"$f":"'Dat-Bl'!D143","v":"W3/05-Sport"},{"$f":"'Dat-Bl'!E143","v":"00:00:00"},0,null,null,0,null,0,null,0,null,0,null,null,0,"Gesamtergebnis"]
[{"$f":"'Dat-Bl'!C144","v":0},{"$f":"'Dat-Bl'!D144","v":"W3/06-Sport"},{"$f":"'Dat-Bl'!E144","v":"00:00:00"},0,null,null,0,null,0,null,0,null,0,null,null,0,{"$f":"SUM(P17:P22)-MIN(P17:P22)+O17","v":0}]
["Start-Nr.","Schülerinnen","Geb.Dat.","Schule 4","Bezirk/Bundesland","60m","PUNKTE","Schlagball","PUNKTE","Kugel","PUNKTE","Weit","PUNKTE","5x80M","PUNKTE","SUMME"]
[{"$f":"'Dat-Bl'!C145","v":0},{"$f":"'Dat-Bl'!D145","v":"W4/01-Sport"},{"$f":"'Dat-Bl'!E145","v":"00:00:00"},{"$f":"'Dat-Bl'!F145","v":0},{"$f":"'Dat-Bl'!G145","v":0},null,{"$f":"IF(F24=0,0,INT(19.742424*EXP(2.1*LN((1417-F24*100)/100))))","v":0},null,{"$f":"IF(H24=0,0,INT(22*EXP(0.9*LN((H24*100-500)/100))))","v":0},null,{"$f":"IF(J24=0,0,INT(83.435373*EXP(0.9*LN((J24*100-130)/100))))","v":0},null,{"$f":"IF(L24=0,0,INT(220.628792*EXP(1*LN((L24*100-180)/100))))","v":0},null,{"$f":"IF(N24=0,0,INT(0.405548*EXP(2.1*LN((8720-N24*100)/100))))","v":0},{"$f":"SUM(G24,I24,K24,M24)","v":0}]
[{"$f":"'Dat-Bl'!C146","v":0},{"$f":"'Dat-Bl'!D146","v":"W4/02-Sport"},{"$f":"'Dat-Bl'!E146","v":"00:00:00"},{"$f":"D24","v":0},null,null,0,null,0,null,0,null,0,null,null,0]
[{"$f":"'Dat-Bl'!C147","v":0},{"$f":"'Dat-Bl'!D147","v":"W4/03-Sport"},{"$f":"'Dat-Bl'!E147","v":"00:00:00"},{"$f":"D25","v":0},null,null,0,null,0,null,0,null,0,null,null,0]
[{"$f":"'Dat-Bl'!C148","v":0},{"$f":"'Dat-Bl'!D148","v":"W4/04-Sport"},{"$f":"'Dat-Bl'!E148","v":"00:00:00"},0,null,null,0,null,0,null,0,null,0,null,null,0]
[{"$f":"'Dat-Bl'!C149","v":0},{"$f":"'Dat-Bl'!D149","v":"W4/05-Sport"},{"$f":"'Dat-Bl'!E149","v":"00:00:00"},0,null,null,0,null,0,null,0,null,0,null,null,0,"Gesamtergebnis"]
[{"$f":"'Dat-Bl'!C150","v":0},{"$f":"'Dat-Bl'!D150","v":"W4/06-Sport"},{"$f":"'Dat-Bl'!E150","v":"00:00:00"},0,null,null,0,null,0,null,0,null,0,null,null,0,{"$f":"SUM(P24:P29)-MIN(P24:P29)+O24","v":0}]
["Start-Nr.","Schülerinnen","Geb.Dat.","Schule 5","Bezirk/Bundesland","60m","PUNKTE","Schlagball","PUNKTE","Kugel","PUNKTE","Weit","PUNKTE","5x80M","PUNKTE","SUMME"]
[{"$f":"'Dat-Bl'!C151","v":0},{"$f":"'Dat-Bl'!D151","v":"W5/01-Sport"},{"$f":"'Dat-Bl'!E151","v":"00:00:00"},{"$f":"'Dat-Bl'!F151","v":0},{"$f":"'Dat-Bl'!G151","v":0},null,{"$f":"IF(F31=0,0,INT(19.742424*EXP(2.1*LN((1417-F31*100)/100))))","v":0},null,{"$f":"IF(H31=0,0,INT(22*EXP(0.9*LN((H31*100-500)/100))))","v":0},null,{"$f":"IF(J31=0,0,INT(83.435373*EXP(0.9*LN((J31*100-130)/100))))","v":0},null,{"$f":"IF(L31=0,0,INT(220.628792*EXP(1*LN((L31*100-180)/100))))","v":0},null,{"$f":"IF(N31=0,0,INT(0.405548*EXP(2.1*LN((8720-N31*100)/100))))","v":0},{"$f":"SUM(G31,I31,K31,M31)","v":0}]
[{"$f":"'Dat-Bl'!C152","v":0},{"$f":"'Dat-Bl'!D152","v":"W5/02-Sport"},{"$f":"'Dat-Bl'!E152","v":"00:00:00"},{"$f":"D31","v":0},null,null,0,null,0,null,0,null,0,null,null,0]
[{"$f":"'Dat-Bl'!C153","v":0},{"$f":"'Dat-Bl'!D153","v":"W5/03-Sport"},{"$f":"'Dat-Bl'!E153","v":"00:00:00"},{"$f":"D32","v":0},null,null,0,null,0,null,0,null,0,null,null,0]
[{"$f":"'Dat-Bl'!C154","v":0},{"$f":"'Dat-Bl'!D154","v":"W5/04-Sport"},{"$f":"'Dat-Bl'!E154","v":"00:00:00"},0,null,null,0,null,0,null,0,null,0,null,null,0]
[{"$f":"'Dat-Bl'!C155","v":0},{"$f":"'Dat-Bl'!D155","v":"W5/05-Sport"},{"$f":"'Dat-Bl'!E155","v":"00:00:00"},0,null,null,0,null,0,null,0,null,0,null,null,0,"Gesamtergebnis"]
[{"$f":"'Dat-Bl'!C156","v":0},{"$f":"'Dat-Bl'!D156","v":"W5/06-Sport"},{"$f":"'Dat-Bl'!E156","v":"00:00:00"},0,null,null,0,null,0,null,0,null,0,null,null,0,{"$f":"SUM(P31:P36)-MIN(P31:P36)+O31","v":0}]
["Start-Nr.","Schülerinnen","Geb.Dat.","Schule 6","Bezirk/Bundesland","60m","PUNKTE","Schlagball","PUNKTE","Kugel","PUNKTE","Weit","PUNKTE","5x80M","PUNKTE","SUMME"]
[{"$f":"'Dat-Bl'!C157","v":0},{"$f":"'Dat-Bl'!D157","v":"W6/01-Sport"},{"$f":"'Dat-Bl'!E157","v":"00:00:00"},{"$f":"'Dat-Bl'!F157","v":0},{"$f":"'Dat-Bl'!G157","v":0},null,{"$f":"IF(F38=0,0,INT(19.742424*EXP(2.1*LN((1417-F38*100)/100))))","v":0},null,{"$f":"IF(H38=0,0,INT(22*EXP(0.9*LN((H38*100-500)/100))))","v":0},null,{"$f":"IF(J38=0,0,INT(83.435373*EXP(0.9*LN((J38*100-130)/100))))","v":0},null,{"$f":"IF(L38=0,0,INT(220.628792*EXP(1*LN((L38*100-180)/100))))","v":0},null,{"$f":"IF(N38=0,0,INT(0.405548*EXP(2.1*LN((8720-N38*100)/100))))","v":0},{"$f":"SUM(G38,I38,K38,M38)","v":0}]
[{"$f":"'Dat-Bl'!C158","v":0},{"$f":"'Dat-Bl'!D158","v":"W6/02-Sport"},{"$f":"'Dat-Bl'!E158","v":"00:00:00"},{"$f":"D38","v":0},null,null,0,null,0,null,0,null,0,null,null,0]
[{"$f":"'Dat-Bl'!C159","v":0},{"$f":"'Dat-Bl'!D159","v":"W6/03-Sport"},{"$f":"'Dat-Bl'!E159","v":"00:00:00"},{"$f":"D39","v":0},null,null,0,null,0,null,0,null,0,null,null,0]
[{"$f":"'Dat-Bl'!C160","v":0},{"$f":"'Dat-Bl'!D160","v":"W6/04-Sport"},{"$f":"'Dat-Bl'!E160","v":"00:00:00"},0,null,null,0,null,0,null,0,null,0,null,null,0]
[{"$f":"'Dat-Bl'!C161","v":0},{"$f":"'Dat-Bl'!D161","v":"W6/05-Sport"},{"$f":"'Dat-Bl'!E161","v":"00:00:00"},0,null,null,0,null,0,null,0,null,0,null,null,0,"Gesamtergebnis"]
[{"$f":"'Dat-Bl'!C162","v":0},{"$f":"'Dat-Bl'!D162","v":"W6/06-Sport"},{"$f":"'Dat-Bl'!E162","v":"00:00:00"},0,null,null,0,null,0,null,0,null,0,null,null,0,{"$f":"SUM(P38:P43)-MIN(P38:P43)+O38","v":0}]
["Start-Nr.","Schülerinnen","Geb.Dat.","Schule 7","Bezirk/Bundesland","60m","PUNKTE","Schlagball","PUNKTE","Kugel","PUNKTE","Weit","PUNKTE","5x80M","PUNKTE","SUMME"]
[{"$f":"'Dat-Bl'!C163","v":0},{"$f":"'Dat-Bl'!D163","v":"W7/01-Sport"},{"$f":"'Dat-Bl'!E163","v":"00:00:00"},{"$f":"'Dat-Bl'!F163","v":0},{"$f":"'Dat-Bl'!G163","v":0},null,{"$f":"IF(F45=0,0,INT(19.742424*EXP(2.1*LN((1417-F45*100)/100))))","v":0},null,{"$f":"IF(H45=0,0,INT(22*EXP(0.9*LN((H45*100-500)/100))))","v":0},null,{"$f":"IF(J45=0,0,INT(83.435373*EXP(0.9*LN((J45*100-130)/100))))","v":0},null,{"$f":"IF(L45=0,0,INT(220.628792*EXP(1*LN((L45*100-180)/100))))","v":0},null,{"$f":"IF(N45=0,0,INT(0.405548*EXP(2.1*LN((8720-N45*100)/100))))","v":0},{"$f":"SUM(G45,I45,K45,M45)","v":0}]
[{"$f":"'Dat-Bl'!C164","v":0},{"$f":"'Dat-Bl'!D164","v":"W7/02-Sport"},{"$f":"'Dat-Bl'!E164","v":"00:00:00"},{"$f":"D45","v":0},null,null,0,null,0,null,0,null,0,null,null,0]
[{"$f":"'Dat-Bl'!C165","v":0},{"$f":"'Dat-Bl'!D165","v":"W7/03-Sport"},{"$f":"'Dat-Bl'!E165","v":"00:00:00"},{"$f":"D46","v":0},null,null,0,null,0,null,0,null,0,null,null,0]
[{"$f":"'Dat-Bl'!C166","v":0},{"$f":"'Dat-Bl'!D166","v":"W7/04-Sport"},{"$f":"'Dat-Bl'!E166","v":"00:00:00"},0,null,null,0,null,0,null,0,null,0,null,null,0]
[{"$f":"'Dat-Bl'!C167","v":0},{"$f":"'Dat-Bl'!D167","v":"W7/05-Sport"},{"$f":"'Dat-Bl'!E167","v":"00:00:00"},0,null,null,0,null,0,null,0,null,0,null,null,0,"Gesamtergebnis"]
[{"$f":"'Dat-Bl'!C168","v":0},{"$f":"'Dat-Bl'!D168","v":"W7/06-Sport"},{"$f":"'Dat-Bl'!E168","v":"00:00:00"},0,null,null,0,null,0,null,0,null,0,null,null,0,{"$f":"SUM(P45:P50)-MIN(P45:P50)+O45","v":0}]
["Start-Nr.","Schülerinnen","Geb.Dat.","Schule 8","Bezirk/Bundesland","60m","PUNKTE","Schlagball","PUNKTE","Kugel","PUNKTE","Weit","PUNKTE","5x80M","PUNKTE","SUMME"]
[{"$f":"'Dat-Bl'!C169","v":0},{"$f":"'Dat-Bl'!D169","v":"W8/01-Sport"},{"$f":"'Dat-Bl'!E169","v":"00:00:00"},{"$f":"'Dat-Bl'!F169","v":0},{"$f":"'Dat-Bl'!G169","v":0},null,{"$f":"IF(F52=0,0,INT(19.742424*EXP(2.1*LN((1417-F52*100)/100))))","v":0},null,{"$f":"IF(H52=0,0,INT(22*EXP(0.9*LN((H52*100-500)/100))))","v":0},null,{"$f":"IF(J52=0,0,INT(83.435373*EXP(0.9*LN((J52*100-130)/100))))","v":0},null,{"$f":"IF(L52=0,0,INT(220.628792*EXP(1*LN((L52*100-180)/100))))","v":0},null,{"$f":"IF(N52=0,0,INT(0.405548*EXP(2.1*LN((8720-N52*100)/100))))","v":0},{"$f":"SUM(G52,I52,K52,M52)","v":0}]
[{"$f":"'Dat-Bl'!C170","v":0},{"$f":"'Dat-Bl'!D170","v":"W8/02-Sport"},{"$f":"'Dat-Bl'!E170","v":"00:00:00"},{"$f":"D52","v":0},null,null,0,null,0,null,0,null,0,null,null,0]
[{"$f":"'Dat-Bl'!C171","v":0},{"$f":"'Dat-Bl'!D171","v":"W8/03-Sport"},{"$f":"'Dat-Bl'!E171","v":"00:00:00"},{"$f":"D53","v":0},null,null,0,null,0,null,0,null,0,null,null,0]
[{"$f":"'Dat-Bl'!C172","v":0},{"$f":"'Dat-Bl'!D172","v":"W8/04-Sport"},{"$f":"'Dat-Bl'!E172","v":"00:00:00"},0,null,null,0,null,0,null,0,null,0,null,null,0]
[{"$f":"'Dat-Bl'!C173","v":0},{"$f":"'Dat-Bl'!D173","v":"W8/05-Sport"},{"$f":"'Dat-Bl'!E173","v":"00:00:00"},0,null,null,0,null,0,null,0,null,0,null,null,0,"Gesamtergebnis"]
[{"$f":"'Dat-Bl'!C174","v":0},{"$f":"'Dat-Bl'!D174","v":"W8/06-Sport"},{"$f":"'Dat-Bl'!E174","v":"00:00:00"},0,null,null,0,null,0,null,0,null,0,null,null,0,{"$f":"SUM(P52:P57)-MIN(P52:P57)+O52","v":0}]
["Start-Nr.","Schülerinnen","Geb.Dat.","Schule 9","Bezirk/Bundesland","60m","PUNKTE","Schlagball","PUNKTE","Kugel","PUNKTE","Weit","PUNKTE","5x80M","PUNKTE","SUMME"]
[{"$f":"'Dat-Bl'!C175","v":0},{"$f":"'Dat-Bl'!D175","v":"W9/01-Sport"},{"$f":"'Dat-Bl'!E175","v":"00:00:00"},{"$f":"'Dat-Bl'!F175","v":0},{"$f":"'Dat-Bl'!G175","v":0},null,{"$f":"IF(F59=0,0,INT(19.742424*EXP(2.1*LN((1417-F59*100)/100))))","v":0},null,{"$f":"IF(H59=0,0,INT(22*EXP(0.9*LN((H59*100-500)/100))))","v":0},null,{"$f":"IF(J59=0,0,INT(83.435373*EXP(0.9*LN((J59*100-130)/100))))","v":0},null,{"$f":"IF(L59=0,0,INT(220.628792*EXP(1*LN((L59*100-180)/100))))","v":0},null,{"$f":"IF(N59=0,0,INT(0.405548*EXP(2.1*LN((8720-N59*100)/100))))","v":0},{"$f":"SUM(G59,I59,K59,M59)","v":0}]
[{"$f":"'Dat-Bl'!C176","v":0},{"$f":"'Dat-Bl'!D176","v":"W9/02-Sport"},{"$f":"'Dat-Bl'!E176","v":"00:00:00"},{"$f":"D59","v":0},null,null,0,null,0,null,0,null,0,null,null,0]
[{"$f":"'Dat-Bl'!C177","v":0},{"$f":"'Dat-Bl'!D177","v":"W9/03-Sport"},{"$f":"'Dat-Bl'!E177","v":"00:00:00"},{"$f":"D60","v":0},null,null,0,null,0,null,0,null,0,null,null,0]
[{"$f":"'Dat-Bl'!C178","v":0},{"$f":"'Dat-Bl'!D178","v":"W9/04-Sport"},{"$f":"'Dat-Bl'!E178","v":"00:00:00"},0,null,null,0,null,0,null,0,null,0,null,null,0]
[{"$f":"'Dat-Bl'!C179","v":0},{"$f":"'Dat-Bl'!D179","v":"W9/05-Sport"},{"$f":"'Dat-Bl'!E179","v":"00:00:00"},0,null,null,0,null,0,null,0,null,0,null,null,0,"Gesamtergebnis"]
[{"$f":"'Dat-Bl'!C180","v":0},{"$f":"'Dat-Bl'!D180","v":"W9/06-Sport"},{"$f":"'Dat-Bl'!E180","v":"00:00:00"},0,null,null,0,null,0,null,0,null,0,null,null,0,{"$f":"SUM(P59:P64)-MIN(P59:P64)+O59","v":0}]
["Start-Nr.","Schülerinnen","Geb.Dat.","Schule 10","Bezirk/Bundesland","60m","PUNKTE","Schlagball","PUNKTE","Kugel","PUNKTE","Weit","PUNKTE","5x80M","PUNKTE","SUMME"]
[{"$f":"'Dat-Bl'!C181","v":0},{"$f":"'Dat-Bl'!D181","v":"W10/01-Sport"},{"$f":"'Dat-Bl'!E181","v":"00:00:00"},{"$f":"'Dat-Bl'!F181","v":0},{"$f":"'Dat-Bl'!G181","v":0},null,{"$f":"IF(F66=0,0,INT(19.742424*EXP(2.1*LN((1417-F66*100)/100))))","v":0},null,{"$f":"IF(H66=0,0,INT(22*EXP(0.9*LN((H66*100-500)/100))))","v":0},null,{"$f":"IF(J66=0,0,INT(83.435373*EXP(0.9*LN((J66*100-130)/100))))","v":0},null,{"$f":"IF(L66=0,0,INT(220.628792*EXP(1*LN((L66*100-180)/100))))","v":0},null,{"$f":"IF(N66=0,0,INT(0.405548*EXP(2.1*LN((8720-N66*100)/100))))","v":0},{"$f":"SUM(G66,I66,K66,M66)","v":0}]
[{"$f":"'Dat-Bl'!C182","v":0},{"$f":"'Dat-Bl'!D182","v":"W10/02-Sport"},{"$f":"'Dat-Bl'!E182","v":"00:00:00"},{"$f":"D66","v":0},null,null,0,null,0,null,0,null,0,null,null,0]
[{"$f":"'Dat-Bl'!C183","v":0},{"$f":"'Dat-Bl'!D183","v":"W10/03-Sport"},{"$f":"'Dat-Bl'!E183","v":"00:00:00"},{"$f":"D67","v":0},null,null,0,null,0,null,0,null,0,null,null,0]
[{"$f":"'Dat-Bl'!C184","v":0},{"$f":"'Dat-Bl'!D184","v":"W10/04-Sport"},{"$f":"'Dat-Bl'!E184","v":"00:00:00"},0,null,null,0,null,0,null,0,null,0,null,null,0]
[{"$f":"'Dat-Bl'!C185","v":0},{"$f":"'Dat-Bl'!D185","v":"W10/05-Sport"},{"$f":"'Dat-Bl'!E185","v":"00:00:00"},0,null,null,0,null,0,null,0,null,0,null,null,0,"Gesamtergebnis"]
[{"$f":"'Dat-Bl'!C186","v":0},{"$f":"'Dat-Bl'!D186","v":"W10/06-Sport"},{"$f":"'Dat-Bl'!E186","v":"00:00:00"},0,null,null,0,null,0,null,0,null,0,null,null,0,{"$f":"SUM(P66:P71)-MIN(P66:P71)+O66","v":0}]
["Start-Nr.","Schülerinnen","Geb.Dat.","Schule 11","Bezirk/Bundesland","60m","PUNKTE","Schlagball","PUNKTE","Kugel","PUNKTE","Weit","PUNKTE","5x80M","PUNKTE","SUMME"]
[{"$f":"'Dat-Bl'!C187","v":0},{"$f":"'Dat-Bl'!D187","v":"W11/01-Sport"},{"$f":"'Dat-Bl'!E187","v":"00:00:00"},{"$f":"'Dat-Bl'!F187","v":0},{"$f":"'Dat-Bl'!G187","v":0},null,{"$f":"IF(F73=0,0,INT(19.742424*EXP(2.1*LN((1417-F73*100)/100))))","v":0},null,{"$f":"IF(H73=0,0,INT(22*EXP(0.9*LN((H73*100-500)/100))))","v":0},null,{"$f":"IF(J73=0,0,INT(83.435373*EXP(0.9*LN((J73*100-130)/100))))","v":0},null,{"$f":"IF(L73=0,0,INT(220.628792*EXP(1*LN((L73*100-180)/100))))","v":0},null,{"$f":"IF(N73=0,0,INT(0.405548*EXP(2.1*LN((8720-N73*100)/100))))","v":0},{"$f":"SUM(G73,I73,K73,M73)","v":0}]
[{"$f":"'Dat-Bl'!C188","v":0},{"$f":"'Dat-Bl'!D188","v":"W11/02-Sport"},{"$f":"'Dat-Bl'!E188","v":"00:00:00"},{"$f":"D73","v":0},null,null,0,null,0,null,0,null,0,null,null,0]
[{"$f":"'Dat-Bl'!C189","v":0},{"$f":"'Dat-Bl'!D189","v":"W11/03-Sport"},{"$f":"'Dat-Bl'!E189","v":"00:00:00"},{"$f":"D74","v":0},null,null,0,null,0,null,0,null,0,null,null,0]
[{"$f":"'Dat-Bl'!C190","v":0},{"$f":"'Dat-Bl'!D190","v":"W11/04-Sport"},{"$f":"'Dat-Bl'!E190","v":"00:00:00"},0,null,null,0,null,0,null,0,null,0,null,null,0]
[{"$f":"'Dat-Bl'!C191","v":0},{"$f":"'Dat-Bl'!D191","v":"W11/05-Sport"},{"$f":"'Dat-Bl'!E191","v":"00:00:00"},0,null,null,0,null,0,null,0,null,0,null,null,0,"Gesamtergebnis"]
[{"$f":"'Dat-Bl'!C192","v":0},{"$f":"'Dat-Bl'!D192","v":"W11/06-Sport"},{"$f":"'Dat-Bl'!E192","v":"00:00:00"},0,null,null,0,null,0,null,0,null,0,null,null,0,{"$f":"SUM(P73:P78)-MIN(P73:P78)+O73","v":0}]
["Start-Nr.","Schülerinnen","Geb.Dat.","Schule 12","Bezirk/Bundesland","60m","PUNKTE","Schlagball","PUNKTE","Kugel","PUNKTE","Weit","PUNKTE","5x80M","PUNKTE","SUMME"]
[{"$f":"'Dat-Bl'!C193","v":0},{"$f":"'Dat-Bl'!D193","v":"W12/01-Sport"},{"$f":"'Dat-Bl'!E193","v":"00:00:00"},{"$f":"'Dat-Bl'!F193","v":0},{"$f":"'Dat-Bl'!G193","v":0},null,{"$f":"IF(F80=0,0,INT(19.742424*EXP(2.1*LN((1417-F80*100)/100))))","v":0},null,{"$f":"IF(H80=0,0,INT(22*EXP(0.9*LN((H80*100-500)/100))))","v":0},null,{"$f":"IF(J80=0,0,INT(83.435373*EXP(0.9*LN((J80*100-130)/100))))","v":0},null,{"$f":"IF(L80=0,0,INT(220.628792*EXP(1*LN((L80*100-180)/100))))","v":0},null,{"$f":"IF(N80=0,0,INT(0.405548*EXP(2.1*LN((8720-N80*100)/100))))","v":0},{"$f":"SUM(G80,I80,K80,M80)","v":0}]
[{"$f":"'Dat-Bl'!C194","v":0},{"$f":"'Dat-Bl'!D194","v":"W12/02-Sport"},{"$f":"'Dat-Bl'!E194","v":"00:00:00"},{"$f":"D80","v":0},null,null,0,null,0,null,0,null,0,null,null,0]
[{"$f":"'Dat-Bl'!C195","v":0},{"$f":"'Dat-Bl'!D195","v":"W12/03-Sport"},{"$f":"'Dat-Bl'!E195","v":"00:00:00"},{"$f":"D81","v":0},null,null,0,null,0,null,0,null,0,null,null,0]
[{"$f":"'Dat-Bl'!C196","v":0},{"$f":"'Dat-Bl'!D196","v":"W12/04-Sport"},{"$f":"'Dat-Bl'!E196","v":"00:00:00"},0,null,null,0,null,0,null,0,null,0,null,null,0]
[{"$f":"'Dat-Bl'!C197","v":0},{"$f":"'Dat-Bl'!D197","v":"W12/05-Sport"},{"$f":"'Dat-Bl'!E197","v":"00:00:00"},0,null,null,0,null,0,null,0,null,0,null,null,0,"Gesamtergebnis"]
[{"$f":"'Dat-Bl'!C198","v":0},{"$f":"'Dat-Bl'!D198","v":"W12/06-Sport"},{"$f":"'Dat-Bl'!E198","v":"00:00:00"},0,null,null,0,null,0,null,0,null,0,null,null,0,{"$f":"SUM(P80:P85)-MIN(P80:P85)+O80","v":0}]
["Start-Nr.","Schülerinnen","Geb.Dat.","Schule 13","Bezirk/Bundesland","60m","PUNKTE","Schlagball","PUNKTE","Kugel","PUNKTE","Weit","PUNKTE","5x80M","PUNKTE","SUMME"]
[{"$f":"'Dat-Bl'!C199","v":0},{"$f":"'Dat-Bl'!D199","v":"W13/01-Sport"},{"$f":"'Dat-Bl'!E199","v":"00:00:00"},{"$f":"'Dat-Bl'!F199","v":0},{"$f":"'Dat-Bl'!G199","v":0},null,{"$f":"IF(F87=0,0,INT(19.742424*EXP(2.1*LN((1417-F87*100)/100))))","v":0},null,{"$f":"IF(H87=0,0,INT(22*EXP(0.9*LN((H87*100-500)/100))))","v":0},null,{"$f":"IF(J87=0,0,INT(83.435373*EXP(0.9*LN((J87*100-130)/100))))","v":0},null,{"$f":"IF(L87=0,0,INT(220.628792*EXP(1*LN((L87*100-180)/100))))","v":0},null,{"$f":"IF(N87=0,0,INT(0.405548*EXP(2.1*LN((8720-N87*100)/100))))","v":0},{"$f":"SUM(G87,I87,K87,M87)","v":0}]
[{"$f":"'Dat-Bl'!C200","v":0},{"$f":"'Dat-Bl'!D200","v":"W13/02-Sport"},{"$f":"'Dat-Bl'!E200","v":"00:00:00"},{"$f":"D87","v":0},null,null,0,null,0,null,0,null,0,null,null,0]
[{"$f":"'Dat-Bl'!C201","v":0},{"$f":"'Dat-Bl'!D201","v":"W13/03-Sport"},{"$f":"'Dat-Bl'!E201","v":"00:00:00"},{"$f":"D88","v":0},null,null,0,null,0,null,0,null,0,null,null,0]
[{"$f":"'Dat-Bl'!C202","v":0},{"$f":"'Dat-Bl'!D202","v":"W13/04-Sport"},{"$f":"'Dat-Bl'!E202","v":"00:00:00"},0,null,null,0,null,0,null,0,null,0,null,null,0]
[{"$f":"'Dat-Bl'!C203","v":0},{"$f":"'Dat-Bl'!D203","v":"W13/05-Sport"},{"$f":"'Dat-Bl'!E203","v":"00:00:00"},0,null,null,0,null,0,null,0,null,0,null,null,0,"Gesamtergebnis"]
[{"$f":"'Dat-Bl'!C204","v":0},{"$f":"'Dat-Bl'!D204","v":"W13/06-Sport"},{"$f":"'Dat-Bl'!E204","v":"00:00:00"},0,null,null,0,null,0,null,0,null,0,null,null,0,{"$f":"SUM(P87:P92)-MIN(P87:P92)+O87","v":0}]
["Start-Nr.","Schülerinnen","Geb.Dat.","Schule 14","Bezirk/Bundesland","60m","PUNKTE","Schlagball","PUNKTE","Kugel","PUNKTE","Weit","PUNKTE","5x80M","PUNKTE","SUMME"]
[{"$f":"'Dat-Bl'!C205","v":0},{"$f":"'Dat-Bl'!D205","v":"W14/01-Sport"},{"$f":"'Dat-Bl'!E205","v":"00:00:00"},{"$f":"'Dat-Bl'!F205","v":0},{"$f":"'Dat-Bl'!G205","v":0},null,{"$f":"IF(F94=0,0,INT(19.742424*EXP(2.1*LN((1417-F94*100)/100))))","v":0},null,{"$f":"IF(H94=0,0,INT(22*EXP(0.9*LN((H94*100-500)/100))))","v":0},null,{"$f":"IF(J94=0,0,INT(83.435373*EXP(0.9*LN((J94*100-130)/100))))","v":0},null,{"$f":"IF(L94=0,0,INT(220.628792*EXP(1*LN((L94*100-180)/100))))","v":0},null,{"$f":"IF(N94=0,0,INT(0.405548*EXP(2.1*LN((8720-N94*100)/100))))","v":0},{"$f":"SUM(G94,I94,K94,M94)","v":0}]
[{"$f":"'Dat-Bl'!C206","v":0},{"$f":"'Dat-Bl'!D206","v":"W14/02-Sport"},{"$f":"'Dat-Bl'!E206","v":"00:00:00"},{"$f":"D94","v":0},null,null,0,null,0,null,0,null,0,null,null,0]
[{"$f":"'Dat-Bl'!C207","v":0},{"$f":"'Dat-Bl'!D207","v":"W14/03-Sport"},{"$f":"'Dat-Bl'!E207","v":"00:00:00"},{"$f":"D95","v":0},null,null,0,null,0,null,0,null,0,null,null,0]
[{"$f":"'Dat-Bl'!C208","v":0},{"$f":"'Dat-Bl'!D208","v":"W14/04-Sport"},{"$f":"'Dat-Bl'!E208","v":"00:00:00"},0,null,null,0,null,0,null,0,null,0,null,null,0]
[{"$f":"'Dat-Bl'!C209","v":0},{"$f":"'Dat-Bl'!D209","v":"W14/05-Sport"},{"$f":"'Dat-Bl'!E209","v":"00:00:00"},0,null,null,0,null,0,null,0,null,0,null,null,0,"Gesamtergebnis"]
[{"$f":"'Dat-Bl'!C210","v":0},{"$f":"'Dat-Bl'!D210","v":"W14/06-Sport"},{"$f":"'Dat-Bl'!E210","v":"00:00:00"},0,null,null,0,null,0,null,0,null,0,null,null,0,{"$f":"SUM(P94:P99)-MIN(P94:P99)+O94","v":0}]
["Start-Nr.","Schülerinnen","Geb.Dat.","Schule 15","Bezirk/Bundesland","60m","PUNKTE","Schlagball","PUNKTE","Kugel","PUNKTE","Weit","PUNKTE","5x80M","PUNKTE","SUMME"]
[{"$f":"'Dat-Bl'!C211","v":0},{"$f":"'Dat-Bl'!D211","v":"W15/01-Sport"},{"$f":"'Dat-Bl'!E211","v":"00:00:00"},{"$f":"'Dat-Bl'!F211","v":0},{"$f":"'Dat-Bl'!G211","v":0},null,{"$f":"IF(F101=0,0,INT(19.742424*EXP(2.1*LN((1417-F101*100)/100))))","v":0},null,{"$f":"IF(H101=0,0,INT(22*EXP(0.9*LN((H101*100-500)/100))))","v":0},null,{"$f":"IF(J101=0,0,INT(83.435373*EXP(0.9*LN((J101*100-130)/100))))","v":0},null,{"$f":"IF(L101=0,0,INT(220.628792*EXP(1*LN((L101*100-180)/100))))","v":0},null,{"$f":"IF(N101=0,0,INT(0.405548*EXP(2.1*LN((8720-N101*100)/100))))","v":0},{"$f":"SUM(G101,I101,K101,M101)","v":0}]
[{"$f":"'Dat-Bl'!C212","v":0},{"$f":"'Dat-Bl'!D212","v":"W15/02-Sport"},{"$f":"'Dat-Bl'!E212","v":"00:00:00"},{"$f":"D101","v":0},null,null,0,null,0,null,0,null,{"$f":"IF(L102=0,0,INT(220.628792*EXP(1*LN((L102*100-180)/100))))","v":0},null,null,0]
[{"$f":"'Dat-Bl'!C213","v":0},{"$f":"'Dat-Bl'!D213","v":"W15/03-Sport"},{"$f":"'Dat-Bl'!E213","v":"00:00:00"},{"$f":"D102","v":0},null,null,0,null,0,null,0,null,{"$f":"IF(L103=0,0,INT(220.628792*EXP(1*LN((L103*100-180)/100))))","v":0},null,null,0]
[{"$f":"'Dat-Bl'!C214","v":0},{"$f":"'Dat-Bl'!D214","v":"W15/04-Sport"},{"$f":"'Dat-Bl'!E214","v":"00:00:00"},0,null,null,0,null,0,null,0,null,{"$f":"IF(L104=0,0,INT(220.628792*EXP(1*LN((L104*100-180)/100))))","v":0},null,null,0]
[{"$f":"'Dat-Bl'!C215","v":0},{"$f":"'Dat-Bl'!D215","v":"W15/05-Sport"},{"$f":"'Dat-Bl'!E215","v":"00:00:00"},0,null,null,0,null,0,null,0,null,0,null,null,0,"Gesamtergebnis"]
[{"$f":"'Dat-Bl'!C216","v":0},{"$f":"'Dat-Bl'!D216","v":"W15/06-Sport"},{"$f":"'Dat-Bl'!E216","v":"00:00:00"},0,null,null,0,null,0,null,0,null,0,null,null,0,{"$f":"SUM(P101:P106)-MIN(P101:P106)+O101","v":0}]
["Start-Nr.","Schülerinnen","Geb.Dat.","Schule 16","Bezirk/Bundesland","60m","PUNKTE","Schlagball","PUNKTE","Kugel","PUNKTE","Weit","PUNKTE","5x80M","PUNKTE","SUMME"]
[{"$f":"'Dat-Bl'!C217","v":0},{"$f":"'Dat-Bl'!D217","v":"W16/01-Sport"},{"$f":"'Dat-Bl'!E217","v":"00:00:00"},{"$f":"'Dat-Bl'!F217","v":0},{"$f":"'Dat-Bl'!G217","v":0},null,{"$f":"IF(F108=0,0,INT(19.742424*EXP(2.1*LN((1417-F108*100)/100))))","v":0},null,{"$f":"IF(H108=0,0,INT(22*EXP(0.9*LN((H108*100-500)/100))))","v":0},null,{"$f":"IF(J108=0,0,INT(83.435373*EXP(0.9*LN((J108*100-130)/100))))","v":0},null,{"$f":"IF(L108=0,0,INT(220.628792*EXP(1*LN((L108*100-180)/100))))","v":0},null,{"$f":"IF(N108=0,0,INT(0.405548*EXP(2.1*LN((8720-N108*100)/100))))","v":0},{"$f":"SUM(G108,I108,K108,M108)","v":0}]
[{"$f":"'Dat-Bl'!C218","v":0},{"$f":"'Dat-Bl'!D218","v":"W16/02-Sport"},{"$f":"'Dat-Bl'!E218","v":"00:00:00"},{"$f":"D108","v":0},null,null,0,null,0,null,0,null,0,null,null,0]
[{"$f":"'Dat-Bl'!C219","v":0},{"$f":"'Dat-Bl'!D219","v":"W16/03-Sport"},{"$f":"'Dat-Bl'!E219","v":"00:00:00"},{"$f":"D109","v":0},null,null,0,null,0,null,0,null,0,null,null,0]
[{"$f":"'Dat-Bl'!C220","v":0},{"$f":"'Dat-Bl'!D220","v":"W16/04-Sport"},{"$f":"'Dat-Bl'!E220","v":"00:00:00"},0,null,null,0,null,0,null,0,null,0,null,null,0]
[{"$f":"'Dat-Bl'!C221","v":0},{"$f":"'Dat-Bl'!D221","v":"W16/05-Sport"},{"$f":"'Dat-Bl'!E221","v":"00:00:00"},0,null,null,0,null,0,null,0,null,0,null,null,0,"Gesamtergebnis"]
[{"$f":"'Dat-Bl'!C222","v":0},{"$f":"'Dat-Bl'!D222","v":"W16/06-Sport"},{"$f":"'Dat-Bl'!E222","v":"00:00:00"},0,null,null,0,null,0,null,0,null,0,null,null,0,{"$f":"SUM(P108:P113)-MIN(P108:P113)+O108","v":0}]
["Start-Nr.","Schülerinnen","Geb.Dat.","Schule 17","Bezirk/Bundesland","60m","PUNKTE","Schlagball","PUNKTE","Kugel","PUNKTE","Weit","PUNKTE","5x80M","PUNKTE","SUMME"]
[{"$f":"'Dat-Bl'!C223","v":0},{"$f":"'Dat-Bl'!D223","v":"W17/01-Sport"},{"$f":"'Dat-Bl'!E223","v":"00:00:00"},{"$f":"'Dat-Bl'!F223","v":0},{"$f":"'Dat-Bl'!G223","v":0},null,{"$f":"IF(F115=0,0,INT(19.742424*EXP(2.1*LN((1417-F115*100)/100))))","v":0},null,{"$f":"IF(H115=0,0,INT(22*EXP(0.9*LN((H115*100-500)/100))))","v":0},null,{"$f":"IF(J115=0,0,INT(83.435373*EXP(0.9*LN((J115*100-130)/100))))","v":0},null,{"$f":"IF(L115=0,0,INT(220.628792*EXP(1*LN((L115*100-180)/100))))","v":0},null,{"$f":"IF(N115=0,0,INT(0.405548*EXP(2.1*LN((8720-N115*100)/100))))","v":0},{"$f":"SUM(G115,I115,K115,M115)","v":0}]
[{"$f":"'Dat-Bl'!C224","v":0},{"$f":"'Dat-Bl'!D224","v":"W17/02-Sport"},{"$f":"'Dat-Bl'!E224","v":"00:00:00"},{"$f":"D115","v":0},null,null,0,null,0,null,0,null,0,null,null,0]
[{"$f":"'Dat-Bl'!C225","v":0},{"$f":"'Dat-Bl'!D225","v":"W17/03-Sport"},{"$f":"'Dat-Bl'!E225","v":"00:00:00"},{"$f":"D116","v":0},null,null,0,null,0,null,0,null,0,null,null,0]
[{"$f":"'Dat-Bl'!C226","v":0},{"$f":"'Dat-Bl'!D226","v":"W17/04-Sport"},{"$f":"'Dat-Bl'!E226","v":"00:00:00"},0,null,null,0,null,0,null,0,null,0,null,null,0]
[{"$f":"'Dat-Bl'!C227","v":0},{"$f":"'Dat-Bl'!D227","v":"W17/05-Sport"},{"$f":"'Dat-Bl'!E227","v":"00:00:00"},0,null,null,0,null,0,null,0,null,0,null,null,0,"Gesamtergebnis"]
[{"$f":"'Dat-Bl'!C228","v":0},{"$f":"'Dat-Bl'!D228","v":"W17/06-Sport"},{"$f":"'Dat-Bl'!E228","v":"00:00:00"},0,null,null,0,null,0,null,0,null,0,null,null,0,{"$f":"SUM(P115:P120)-MIN(P115:P120)+O115","v":0}]
["Start-Nr.","Schülerinnen","Geb.Dat.","Schule 18","Bezirk/Bundesland","60m","PUNKTE","Schlagball","PUNKTE","Kugel","PUNKTE","Weit","PUNKTE","5x80M","PUNKTE","SUMME"]
[{"$f":"'Dat-Bl'!C229","v":0},{"$f":"'Dat-Bl'!D229","v":"W18/01-Sport"},{"$f":"'Dat-Bl'!E229","v":"00:00:00"},{"$f":"'Dat-Bl'!F229","v":0},{"$f":"'Dat-Bl'!G229","v":0},null,{"$f":"IF(F122=0,0,INT(19.742424*EXP(2.1*LN((1417-F122*100)/100))))","v":0},null,{"$f":"IF(H122=0,0,INT(22*EXP(0.9*LN((H122*100-500)/100))))","v":0},null,{"$f":"IF(J122=0,0,INT(83.435373*EXP(0.9*LN((J122*100-130)/100))))","v":0},null,{"$f":"IF(L122=0,0,INT(220.628792*EXP(1*LN((L122*100-180)/100))))","v":0},null,{"$f":"IF(N122=0,0,INT(0.405548*EXP(2.1*LN((8720-N122*100)/100))))","v":0},{"$f":"SUM(G122,I122,K122,M122)","v":0}]
[{"$f":"'Dat-Bl'!C230","v":0},{"$f":"'Dat-Bl'!D230","v":"W18/02-Sport"},{"$f":"'Dat-Bl'!E230","v":"00:00:00"},{"$f":"D122","v":0},null,null,0,null,0,null,0,null,0,null,null,0]
[{"$f":"'Dat-Bl'!C231","v":0},{"$f":"'Dat-Bl'!D231","v":"W18/03-Sport"},{"$f":"'Dat-Bl'!E231","v":"00:00:00"},{"$f":"D123","v":0},null,null,0,null,0,null,0,null,0,null,null,0]
[{"$f":"'Dat-Bl'!C232","v":0},{"$f":"'Dat-Bl'!D232","v":"W18/04-Sport"},{"$f":"'Dat-Bl'!E232","v":"00:00:00"},0,null,null,0,null,0,null,0,null,0,null,null,0]
[{"$f":"'Dat-Bl'!C233","v":0},{"$f":"'Dat-Bl'!D233","v":"W18/05-Sport"},{"$f":"'Dat-Bl'!E233","v":"00:00:00"},0,null,null,0,null,0,null,0,null,0,null,null,0,"Gesamtergebnis"]
[{"$f":"'Dat-Bl'!C234","v":0},{"$f":"'Dat-Bl'!D234","v":"W18/06-Sport"},{"$f":"'Dat-Bl'!E234","v":"00:00:00"},0,null,null,0,null,0,null,0,null,0,null,null,0,{"$f":"SUM(P122:P127)-MIN(P122:P127)+O122","v":0}]
["Start-Nr.","Schülerinnen","Geb.Dat.","Schule 19","Bezirk/Bundesland","60m","PUNKTE","Schlagball","PUNKTE","Kugel","PUNKTE","Weit","PUNKTE","5x80M","PUNKTE","SUMME"]
[{"$f":"'Dat-Bl'!C235","v":0},{"$f":"'Dat-Bl'!D235","v":"W19/01-Sport"},{"$f":"'Dat-Bl'!E235","v":"00:00:00"},{"$f":"'Dat-Bl'!F235","v":0},{"$f":"'Dat-Bl'!G235","v":0},null,{"$f":"IF(F129=0,0,INT(19.742424*EXP(2.1*LN((1417-F129*100)/100))))","v":0},null,{"$f":"IF(H129=0,0,INT(22*EXP(0.9*LN((H129*100-500)/100))))","v":0},null,{"$f":"IF(J129=0,0,INT(83.435373*EXP(0.9*LN((J129*100-130)/100))))","v":0},null,{"$f":"IF(L129=0,0,INT(220.628792*EXP(1*LN((L129*100-180)/100))))","v":0},null,{"$f":"IF(N129=0,0,INT(0.405548*EXP(2.1*LN((8720-N129*100)/100))))","v":0},{"$f":"SUM(G129,I129,K129,M129)","v":0}]
[{"$f":"'Dat-Bl'!C236","v":0},{"$f":"'Dat-Bl'!D236","v":"W19/02-Sport"},{"$f":"'Dat-Bl'!E236","v":"00:00:00"},{"$f":"D129","v":0},null,null,0,null,0,null,0,null,0,null,null,0]
[{"$f":"'Dat-Bl'!C237","v":0},{"$f":"'Dat-Bl'!D237","v":"W19/03-Sport"},{"$f":"'Dat-Bl'!E237","v":"00:00:00"},{"$f":"D130","v":0},null,null,0,null,0,null,0,null,0,null,null,0]
[{"$f":"'Dat-Bl'!C238","v":0},{"$f":"'Dat-Bl'!D238","v":"W19/04-Sport"},{"$f":"'Dat-Bl'!E238","v":"00:00:00"},0,null,null,0,null,0,null,0,null,0,null,null,0]
[{"$f":"'Dat-Bl'!C239","v":0},{"$f":"'Dat-Bl'!D239","v":"W19/05-Sport"},{"$f":"'Dat-Bl'!E239","v":"00:00:00"},0,null,null,0,null,0,null,0,null,0,null,null,0,"Gesamtergebnis"]
[{"$f":"'Dat-Bl'!C240","v":0},{"$f":"'Dat-Bl'!D240","v":"W19/06-Sport"},{"$f":"'Dat-Bl'!E240","v":"00:00:00"},0,null,null,0,null,0,null,0,null,0,null,null,0,{"$f":"SUM(P129:P134)-MIN(P129:P134)+O129","v":0}]
["Start-Nr.","Schülerinnen","Geb.Dat.","Schule 20","Bezirk/Bundesland","60m","PUNKTE","Schlagball","PUNKTE","Kugel","PUNKTE","Weit","PUNKTE","5x80M","PUNKTE","SUMME"]
[{"$f":"'Dat-Bl'!C241","v":0},{"$f":"'Dat-Bl'!D241","v":"W20/01-Sport"},{"$f":"'Dat-Bl'!E241","v":"00:00:00"},{"$f":"'Dat-Bl'!F241","v":0},{"$f":"'Dat-Bl'!G241","v":0},null,{"$f":"IF(F136=0,0,INT(19.742424*EXP(2.1*LN((1417-F136*100)/100))))","v":0},null,{"$f":"IF(H136=0,0,INT(22*EXP(0.9*LN((H136*100-500)/100))))","v":0},null,{"$f":"IF(J136=0,0,INT(83.435373*EXP(0.9*LN((J136*100-130)/100))))","v":0},null,{"$f":"IF(L136=0,0,INT(220.628792*EXP(1*LN((L136*100-180)/100))))","v":0},null,{"$f":"IF(N136=0,0,INT(0.405548*EXP(2.1*LN((8720-N136*100)/100))))","v":0},{"$f":"SUM(G136,I136,K136,M136)","v":0}]
[{"$f":"'Dat-Bl'!C242","v":0},{"$f":"'Dat-Bl'!D242","v":"W20/02-Sport"},{"$f":"'Dat-Bl'!E242","v":"00:00:00"},{"$f":"D136","v":0},null,null,0,null,0,null,0,null,0,null,null,0]
[{"$f":"'Dat-Bl'!C243","v":0},{"$f":"'Dat-Bl'!D243","v":"W20/03-Sport"},{"$f":"'Dat-Bl'!E243","v":"00:00:00"},{"$f":"D137","v":0},null,null,0,null,0,null,0,null,0,null,null,0]
[{"$f":"'Dat-Bl'!C244","v":0},{"$f":"'Dat-Bl'!D244","v":"W20/04-Sport"},{"$f":"'Dat-Bl'!E244","v":"00:00:00"},0,null,null,0,null,0,null,0,null,0,null,null,0]
[{"$f":"'Dat-Bl'!C245","v":0},{"$f":"'Dat-Bl'!D245","v":"W20/05-Sport"},{"$f":"'Dat-Bl'!E245","v":"00:00:00"},0,null,null,0,null,0,null,0,null,0,null,null,0,"Gesamtergebnis"]
[{"$f":"'Dat-Bl'!C246","v":0},{"$f":"'Dat-Bl'!D246","v":"W20/06-Sport"},{"$f":"'Dat-Bl'!E246","v":"00:00:00"},0,null,null,0,null,0,null,0,null,0,null,null,0,{"$f":"SUM(P136:P141)-MIN(P136:P141)+O136","v":0}]

{"sheet":"m-E_R","index":4,"n_rows":141,"n_cols":17,"rows_kept":141,"cut":false,"hidden":false,"merged":[[0,0,0,1],[0,2,0,3],[0,4,0,9]]}
["Wettkampfdaten-Art",null,"D-C/Regel-Schulen","Ortsangabe","Ortsangabe,Datum"]
["Start-Nr.","Schüler","Geb.Dat.","Schule 1","Bezirk/Bundesland","60m","PUNKTE","Schlagball","PUNKTE","Kugel","PUNKTE","Weit","PUNKTE","5x80M","PUNKTE","SUMME"]
[{"$f":"'Dat-Bl'!K4","v":0},{"$f":"'Dat-Bl'!L4","v":"M1/01-Regel"},{"$f":"'Dat-Bl'!M4","v":"00:00:00"},{"$f":"'Dat-Bl'!N4","v":0},{"$f":"'Dat-Bl'!O4","v":0},null,{"$f":"IF(F3=0,0,INT(17.686955*EXP(2.1*LN((1397-F3*100)/100))))","v":0},null,{"$f":"IF(H3=0,0,INT(18*EXP(0.9*LN((H3*100-800)/100))))","v":0},null,{"$f":"IF(J3=0,0,INT(82.491673*EXP(0.9*LN((J3*100-178)/100))))","v":0},null,{"$f":"IF(L3=0,0,INT(180.85908*EXP(1*LN((L3*100-190)/100))))","v":0},null,{"$f":"IF(N3=0,0,INT(0.355982*EXP(2.1*LN((8600-N3*100)/100))))","v":0},{"$f":"SUM(G3,I3,K3,M3)","v":0}]
[{"$f":"'Dat-Bl'!K5","v":0},{"$f":"'Dat-Bl'!L5","v":"M1/02-Regel"},{"$f":"'Dat-Bl'!M5","v":"00:00:00"},{"$f":"D3","v":0},null,null,0,null,0,null,0,null,0,null,null,0]
[{"$f":"'Dat-Bl'!K6","v":0},{"$f":"'Dat-Bl'!L6","v":"M1/03-Regel"},{"$f":"'Dat-Bl'!M6","v":"00:00:00"},{"$f":"D4","v":0},null,null,0,null,0,null,0,null,0,null,null,0]
[{"$f":"'Dat-Bl'!K7","v":0},{"$f":"'Dat-Bl'!L7","v":"M1/04-Regel"},{"$f":"'Dat-Bl'!M7","v":"00:00:00"},0,null,null,0,null,0,null,0,null,0,null,null,0]
[{"$f":"'Dat-Bl'!K8","v":0},{"$f":"'Dat-Bl'!L8","v":"M1/05-Regel"},{"$f":"'Dat-Bl'!M8","v":"00:00:00"},0,null,null,0,null,0,null,0,null,0,null,null,0,"Gesamtergebnis"]
[{"$f":"'Dat-Bl'!K9","v":0},{"$f":"'Dat-Bl'!L9","v":"M1/06-Regel"},{"$f":"'Dat-Bl'!M9","v":"00:00:00"},0,null,null,0,null,0,null,0,null,0,null,null,0,{"$f":"SUM(P3:P8)-MIN(P3:P8)+O3","v":0}]
["Start-Nr.","Schüler","Geb.Dat.","Schule 2","Bezirk/Bundesland","60m","PUNKTE","Schlagball","PUNKTE","Kugel","PUNKTE","Weit","PUNKTE","5x80M","PUNKTE","SUMME"]
[{"$f":"'Dat-Bl'!K10","v":0},{"$f":"'Dat-Bl'!L10","v":"M2/01-Regel"},{"$f":"'Dat-Bl'!M10","v":"00:00:00"},{"$f":"'Dat-Bl'!N10","v":0},{"$f":"'Dat-Bl'!O10","v":0},null,{"$f":"IF(F10=0,0,INT(17.686955*EXP(2.1*LN((1397-F10*100)/100))))","v":0},null,{"$f":"IF(H10=0,0,INT(18*EXP(0.9*LN((H10*100-800)/100))))","v":0},null,{"$f":"IF(J10=0,0,INT(82.491673*EXP(0.9*LN((J10*100-178)/100))))","v":0},null,{"$f":"IF(L10=0,0,INT(180.85908*EXP(1*LN((L10*100-190)/100))))","v":0},null,{"$f":"IF(N10=0,0,INT(0.355982*EXP(2.1*LN((8600-N10*100)/100))))","v":0},{"$f":"SUM(G10,I10,K10,M10)","v":0}]
[{"$f":"'Dat-Bl'!K11","v":0},{"$f":"'Dat-Bl'!L11","v":"M2/02-Regel"},{"$f":"'Dat-Bl'!M11","v":"00:00:00"},{"$f":"D10","v":0},null,null,0,null,0,null,0,null,0,null,null,0]
[{"$f":"'Dat-Bl'!K12","v":0},{"$f":"'Dat-Bl'!L12","v":"M2/03-Regel"},{"$f":"'Dat-Bl'!M12","v":"00:00:00"},{"$f":"D11","v":0},null,null,0,null,0,null,0,null,0,null,null,0]
[{"$f":"'Dat-Bl'!K13","v":0},{"$f":"'Dat-Bl'!L13","v":"M2/04-Regel"},{"$f":"'Dat-Bl'!M13","v":"00:00:00"},0,null,null,0,null,0,null,0,null,0,null,null,0]
[{"$f":"'Dat-Bl'!K14","v":0},{"$f":"'Dat-Bl'!L14","v":"M2/05-Regel"},{"$f":"'Dat-Bl'!M14","v":"00:00:00"},0,null,null,0,null,0,null,0,null,0,null,null,0,"Gesamtergebnis"]
[{"$f":"'Dat-Bl'!K15","v":0},{"$f":"'Dat-Bl'!L15","v":"M2/06-Regel"},{"$f":"'Dat-Bl'!M15","v":"00:00:00"},0,null,null,0,null,0,null,0,null,0,null,null,0,{"$f":"SUM(P10:P15)-MIN(P10:P15)+O10","v":0}]
["Start-Nr.","Schüler","Geb.Dat.","Schule 3","Bezirk/Bundesland","60m","PUNKTE","Schlagball","PUNKTE","Kugel","PUNKTE","Weit","PUNKTE","5x80M","PUNKTE","SUMME"]
[{"$f":"'Dat-Bl'!K16","v":0},{"$f":"'Dat-Bl'!L16","v":"M3/01-Regel"},{"$f":"'Dat-Bl'!M16","v":"00:00:00"},{"$f":"'Dat-Bl'!N16","v":0},{"$f":"'Dat-Bl'!O16","v":0},null,{"$f":"IF(F17=0,0,INT(17.686955*EXP(2.1*LN((1397-F17*100)/100))))","v":0},null,{"$f":"IF(H17=0,0,INT(18*EXP(0.9*LN((H17*100-800)/100))))","v":0},null,{"$f":"IF(J17=0,0,INT(82.491673*EXP(0.9*LN((J17*100-178)/100))))","v":0},null,{"$f":"IF(L17=0,0,INT(180.85908*EXP(1*LN((L17*100-190)/100))))","v":0},null,{"$f":"IF(N17=0,0,INT(0.355982*EXP(2.1*LN((8600-N17*100)/100))))","v":0},{"$f":"SUM(G17,I17,K17,M17)","v":0}]
[{"$f":"'Dat-Bl'!K17","v":0},{"$f":"'Dat-Bl'!L17","v":"M3/02-Regel"},{"$f":"'Dat-Bl'!M17","v":"00:00:00"},{"$f":"D17","v":0},null,null,0,null,0,null,0,null,0,null,null,0]
[{"$f":"'Dat-Bl'!K18","v":0},{"$f":"'Dat-Bl'!L18","v":"M3/03-Regel"},{"$f":"'Dat-Bl'!M18","v":"00:00:00"},{"$f":"D18","v":0},null,null,0,null,0,null,0,null,0,null,null,0]
[{"$f":"'Dat-Bl'!K19","v":0},{"$f":"'Dat-Bl'!L19","v":"M3/04-Regel"},{"$f":"'Dat-Bl'!M19","v":"00:00:00"},0,null,null,0,null,0,null,0,null,0,null,null,0]
[{"$f":"'Dat-Bl'!K20","v":0},{"$f":"'Dat-Bl'!L20","v":"M3/05-Regel"},{"$f":"'Dat-Bl'!M20","v":"00:00:00"},0,null,null,0,null,0,null,0,null,0,null,null,0,"Gesamtergebnis"]
[{"$f":"'Dat-Bl'!K21","v":0},{"$f":"'Dat-Bl'!L21","v":"M3/06-Regel"},{"$f":"'Dat-Bl'!M21","v":"00:00:00"},0,null,null,0,null,0,null,0,null,0,null,null,0,{"$f":"SUM(P17:P22)-MIN(P17:P22)+O17","v":0}]
["Start-Nr.","Schüler","Geb.Dat.","Schule 4","Bezirk/Bundesland","60m","PUNKTE","Schlagball","PUNKTE","Kugel","PUNKTE","Weit","PUNKTE","5x80M","PUNKTE","SUMME"]
[{"$f":"'Dat-Bl'!K22","v":0},{"$f":"'Dat-Bl'!L22","v":"M4/01-Regel"},{"$f":"'Dat-Bl'!M22","v":"00:00:00"},{"$f":"'Dat-Bl'!N22","v":0},{"$f":"'Dat-Bl'!O22","v":0},null,{"$f":"IF(F24=0,0,INT(17.686955*EXP(2.1*LN((1397-F24*100)/100))))","v":0},null,{"$f":"IF(H24=0,0,INT(18*EXP(0.9*LN((H24*100-800)/100))))","v":0},null,{"$f":"IF(J24=0,0,INT(82.491673*EXP(0.9*LN((J24*100-178)/100))))","v":0},null,{"$f":"IF(L24=0,0,INT(180.85908*EXP(1*LN((L24*100-190)/100))))","v":0},null,{"$f":"IF(N24=0,0,INT(0.355982*EXP(2.1*LN((8600-N24*100)/100))))","v":0},{"$f":"SUM(G24,I24,K24,M24)","v":0}]
[{"$f":"'Dat-Bl'!K23","v":0},{"$f":"'Dat-Bl'!L23","v":"M4/02-Regel"},{"$f":"'Dat-Bl'!M23","v":"00:00:00"},{"$f":"D24","v":0},null,null,0,null,0,null,0,null,0,null,null,0]
[{"$f":"'Dat-Bl'!K24","v":0},{"$f":"'Dat-Bl'!L24","v":"M4/03-Regel"},{"$f":"'Dat-Bl'!M24","v":"00:00:00"},{"$f":"D25","v":0},null,null,0,null,0,null,0,null,0,null,null,0]
[{"$f":"'Dat-Bl'!K25","v":0},{"$f":"'Dat-Bl'!L25","v":"M4/04-Regel"},{"$f":"'Dat-Bl'!M25","v":"00:00:00"},0,null,null,0,null,0,null,0,null,0,null,null,0]
[{"$f":"'Dat-Bl'!K26","v":0},{"$f":"'Dat-Bl'!L26","v":"M4/05-Regel"},{"$f":"'Dat-Bl'!M26","v":"00:00:00"},0,null,null,0,null,0,null,0,null,0,null,null,0,"Gesamtergebnis"]
[{"$f":"'Dat-Bl'!K27","v":0},{"$f":"'Dat-Bl'!L27","v":"M4/06-Regel"},{"$f":"'Dat-Bl'!M27","v":"00:00:00"},0,null,null,0,null,0,null,0,null,0,null,null,0,{"$f":"SUM(P24:P29)-MIN(P24:P29)+O24","v":0}]
["Start-Nr.","Schüler","Geb.Dat.","Schule 5","Bezirk/Bundesland","60m","PUNKTE","Schlagball","PUNKTE","Kugel","PUNKTE","Weit","PUNKTE","5x80M","PUNKTE","SUMME"]
[{"$f":"'Dat-Bl'!K28","v":0},{"$f":"'Dat-Bl'!L28","v":"M5/01-Regel"},{"$f":"'Dat-Bl'!M28","v":"00:00:00"},{"$f":"'Dat-Bl'!N28","v":0},{"$f":"'Dat-Bl'!O28","v":0},null,{"$f":"IF(F31=0,0,INT(17.686955*EXP(2.1*LN((1397-F31*100)/100))))","v":0},null,{"$f":"IF(H31=0,0,INT(18*EXP(0.9*LN((H31*100-800)/100))))","v":0},null,{"$f":"IF(J31=0,0,INT(82.491673*EXP(0.9*LN((J31*100-178)/100))))","v":0},null,{"$f":"IF(L31=0,0,INT(180.85908*EXP(1*LN((L31*100-190)/100))))","v":0},null,{"$f":"IF(N31=0,0,INT(0.355982*EXP(2.1*LN((8600-N31*100)/100))))","v":0},{"$f":"SUM(G31,I31,K31,M31)","v":0}]
[{"$f":"'Dat-Bl'!K29","v":0},{"$f":"'Dat-Bl'!L29","v":"M5/02-Regel"},{"$f":"'Dat-Bl'!M29","v":"00:00:00"},{"$f":"D31","v":0},null,null,0,null,0,null,0,null,0,null,null,0]
[{"$f":"'Dat-Bl'!K30","v":0},{"$f":"'Dat-Bl'!L30","v":"M5/03-Regel"},{"$f":"'Dat-Bl'!M30","v":"00:00:00"},{"$f":"D32","v":0},null,null,0,null,0,null,0,null,0,null,null,0]
[{"$f":"'Dat-Bl'!K31","v":0},{"$f":"'Dat-Bl'!L31","v":"M5/04-Regel"},{"$f":"'Dat-Bl'!M31","v":"00:00:00"},0,null,null,0,null,0,null,0,null,0,null,null,0]
[{"$f":"'Dat-Bl'!K32","v":0},{"$f":"'Dat-Bl'!L32","v":"M5/05-Regel"},{"$f":"'Dat-Bl'!M32","v":"00:00:00"},0,null,null,0,null,0,null,0,null,0,null,null,0,"Gesamtergebnis"]
[{"$f":"'Dat-Bl'!K33","v":0},{"$f":"'Dat-Bl'!L33","v":"M5/06-Regel"},{"$f":"'Dat-Bl'!M33","v":"00:00:00"},0,null,null,0,null,0,null,0,null,0,null,null,0,{"$f":"SUM(P31:P36)-MIN(P31:P36)+O31","v":0}]
["Start-Nr.","Schüler","Geb.Dat.","Schule 6","Bezirk/Bundesland","60m","PUNKTE","Schlagball","PUNKTE","Kugel","PUNKTE","Weit","PUNKTE","5x80M","PUNKTE","SUMME"]
[{"$f":"'Dat-Bl'!K34","v":0},{"$f":"'Dat-Bl'!L34","v":"M6/01-Regel"},{"$f":"'Dat-Bl'!M34","v":"00:00:00"},{"$f":"'Dat-Bl'!N34","v":0},{"$f":"'Dat-Bl'!O34","v":0},null,{"$f":"IF(F38=0,0,INT(17.686955*EXP(2.1*LN((1397-F38*100)/100))))","v":0},null,{"$f":"IF(H38=0,0,INT(18*EXP(0.9*LN((H38*100-800)/100))))","v":0},null,{"$f":"IF(J38=0,0,INT(82.491673*EXP(0.9*LN((J38*100-178)/100))))","v":0},null,{"$f":"IF(L38=0,0,INT(180.85908*EXP(1*LN((L38*100-190)/100))))","v":0},null,{"$f":"IF(N38=0,0,INT(0.355982*EXP(2.1*LN((8600-N38*100)/100))))","v":0},{"$f":"SUM(G38,I38,K38,M38)","v":0}]
[{"$f":"'Dat-Bl'!K35","v":0},{"$f":"'Dat-Bl'!L35","v":"M6/02-Regel"},{"$f":"'Dat-Bl'!M35","v":"00:00:00"},{"$f":"D38","v":0},null,null,0,null,0,null,0,null,0,null,null,0]
[{"$f":"'Dat-Bl'!K36","v":0},{"$f":"'Dat-Bl'!L36","v":"M6/03-Regel"},{"$f":"'Dat-Bl'!M36","v":"00:00:00"},{"$f":"D39","v":0},null,null,0,null,0,null,0,null,0,null,null,0]
[{"$f":"'Dat-Bl'!K37","v":0},{"$f":"'Dat-Bl'!L37","v":"M6/04-Regel"},{"$f":"'Dat-Bl'!M37","v":"00:00:00"},0,null,null,0,null,0,null,0,null,0,null,null,0]
[{"$f":"'Dat-Bl'!K38","v":0},{"$f":"'Dat-Bl'!L38","v":"M6/05-Regel"},{"$f":"'Dat-Bl'!M38","v":"00:00:00"},0,null,null,0,null,0,null,0,null,0,null,null,0,"Gesamtergebnis"]
[{"$f":"'Dat-Bl'!K39","v":0},{"$f":"'Dat-Bl'!L39","v":"M6/06-Regel"},{"$f":"'Dat-Bl'!M39","v":"00:00:00"},0,null,null,0,null,0,null,0,null,0,null,null,0,{"$f":"SUM(P38:P43)-MIN(P38:P43)+O38","v":0}]
["Start-Nr.","Schüler","Geb.Dat.","Schule 7","Bezirk/Bundesland","60m","PUNKTE","Schlagball","PUNKTE","Kugel","PUNKTE","Weit","PUNKTE","5x80M","PUNKTE","SUMME"]
[{"$f":"'Dat-Bl'!K40","v":0},{"$f":"'Dat-Bl'!L40","v":"M7/01-Regel"},{"$f":"'Dat-Bl'!M40","v":"00:00:00"},{"$f":"'Dat-Bl'!N40","v":0},{"$f":"'Dat-Bl'!O40","v":0},null,{"$f":"IF(F45=0,0,INT(17.686955*EXP(2.1*LN((1397-F45*100)/100))))","v":0},null,{"$f":"IF(H45=0,0,INT(18*EXP(0.9*LN((H45*100-800)/100))))","v":0},null,{"$f":"IF(J45=0,0,INT(82.491673*EXP(0.9*LN((J45*100-178)/100))))","v":0},null,{"$f":"IF(L45=0,0,INT(180.85908*EXP(1*LN((L45*100-190)/100))))","v":0},null,{"$f":"IF(N45=0,0,INT(0.355982*EXP(2.1*LN((8600-N45*100)/100))))","v":0},{"$f":"SUM(G45,I45,K45,M45)","v":0}]
[{"$f":"'Dat-Bl'!K41","v":0},{"$f":"'Dat-Bl'!L41","v":"M7/02-Regel"},{"$f":"'Dat-Bl'!M41","v":"00:00:00"},{"$f":"D45","v":0},null,null,0,null,0,null,0,null,0,null,null,0]
[{"$f":"'Dat-Bl'!K42","v":0},{"$f":"'Dat-Bl'!L42","v":"M7/03-Regel"},{"$f":"'Dat-Bl'!M42","v":"00:00:00"},{"$f":"D46","v":0},null,null,0,null,0,null,0,null,0,null,null,0]
[{"$f":"'Dat-Bl'!K43","v":0},{"$f":"'Dat-Bl'!L43","v":"M7/04-Regel"},{"$f":"'Dat-Bl'!M43","v":"00:00:00"},0,null,null,0,null,0,null,0,null,0,null,null,0]
[{"$f":"'Dat-Bl'!K44","v":0},{"$f":"'Dat-Bl'!L44","v":"M7/05-Regel"},{"$f":"'Dat-Bl'!M44","v":"00:00:00"},0,null,null,0,null,0,null,0,null,0,null,null,0,"Gesamtergebnis"]
[{"$f":"'Dat-Bl'!K45","v":0},{"$f":"'Dat-Bl'!L45","v":"M7/06-Regel"},{"$f":"'Dat-Bl'!M45","v":"00:00:00"},0,null,null,0,null,0,null,0,null,0,null,null,0,{"$f":"SUM(P45:P50)-MIN(P45:P50)+O45","v":0}]
["Start-Nr.","Schüler","Geb.Dat.","Schule 8","Bezirk/Bundesland","60m","PUNKTE","Schlagball","PUNKTE","Kugel","PUNKTE","Weit","PUNKTE","5x80M","PUNKTE","SUMME"]
[{"$f":"'Dat-Bl'!K46","v":0},{"$f":"'Dat-Bl'!L46","v":"M8/01-Regel"},{"$f":"'Dat-Bl'!M46","v":"00:00:00"},{"$f":"'Dat-Bl'!N46","v":0},{"$f":"'Dat-Bl'!O46","v":0},null,{"$f":"IF(F52=0,0,INT(17.686955*EXP(2.1*LN((1397-F52*100)/100))))","v":0},null,{"$f":"IF(H52=0,0,INT(18*EXP(0.9*LN((H52*100-800)/100))))","v":0},null,{"$f":"IF(J52=0,0,INT(82.491673*EXP(0.9*LN((J52*100-178)/100))))","v":0},null,{"$f":"IF(L52=0,0,INT(180.85908*EXP(1*LN((L52*100-190)/100))))","v":0},null,{"$f":"IF(N52=0,0,INT(0.355982*EXP(2.1*LN((8600-N52*100)/100))))","v":0},{"$f":"SUM(G52,I52,K52,M52)","v":0}]
[{"$f":"'Dat-Bl'!K47","v":0},{"$f":"'Dat-Bl'!L47","v":"M8/02-Regel"},{"$f":"'Dat-Bl'!M47","v":"00:00:00"},{"$f":"D52","v":0},null,null,0,null,0,null,0,null,0,null,null,0]
[{"$f":"'Dat-Bl'!K48","v":0},{"$f":"'Dat-Bl'!L48","v":"M8/03-Regel"},{"$f":"'Dat-Bl'!M48","v":"00:00:00"},{"$f":"D53","v":0},null,null,0,null,0,null,0,null,0,null,null,0]
[{"$f":"'Dat-Bl'!K49","v":0},{"$f":"'Dat-Bl'!L49","v":"M8/04-Regel"},{"$f":"'Dat-Bl'!M49","v":"00:00:00"},0,null,null,0,null,0,null,0,null,0,null,null,0]
[{"$f":"'Dat-Bl'!K50","v":0},{"$f":"'Dat-Bl'!L50","v":"M8/05-Regel"},{"$f":"'Dat-Bl'!M50","v":"00:00:00"},0,null,null,0,null,0,null,0,null,0,null,null,0,"Gesamtergebnis"]
[{"$f":"'Dat-Bl'!K51","v":0},{"$f":"'Dat-Bl'!L51","v":"M8/06-Regel"},{"$f":"'Dat-Bl'!M51","v":"00:00:00"},0,null,null,0,null,0,null,0,null,0,null,null,0,{"$f":"SUM(P52:P57)-MIN(P52:P57)+O52","v":0}]
["Start-Nr.","Schüler","Geb.Dat.","Schule 9","Bezirk/Bundesland","60m","PUNKTE","Schlagball","PUNKTE","Kugel","PUNKTE","Weit","PUNKTE","5x80M","PUNKTE","SUMME"]
[{"$f":"'Dat-Bl'!K52","v":0},{"$f":"'Dat-Bl'!L52","v":"M9/01-Regel"},{"$f":"'Dat-Bl'!M52","v":"00:00:00"},{"$f":"'Dat-Bl'!N52","v":0},{"$f":"'Dat-Bl'!O52","v":0},null,{"$f":"IF(F59=0,0,INT(17.686955*EXP(2.1*LN((1397-F59*100)/100))))","v":0},null,{"$f":"IF(H59=0,0,INT(18*EXP(0.9*LN((H59*100-800)/100))))","v":0},null,{"$f":"IF(J59=0,0,INT(82.491673*EXP(0.9*LN((J59*100-178)/100))))","v":0},null,{"$f":"IF(L59=0,0,INT(180.85908*EXP(1*LN((L59*100-190)/100))))","v":0},null,{"$f":"IF(N59=0,0,INT(0.355982*EXP(2.1*LN((8600-N59*100)/100))))","v":0},{"$f":"SUM(G59,I59,K59,M59)","v":0}]
[{"$f":"'Dat-Bl'!K53","v":0},{"$f":"'Dat-Bl'!L53","v":"M9/02-Regel"},{"$f":"'Dat-Bl'!M53","v":"00:00:00"},{"$f":"D59","v":0},null,null,0,null,0,null,0,null,0,null,null,0]
[{"$f":"'Dat-Bl'!K54","v":0},{"$f":"'Dat-Bl'!L54","v":"M9/03-Regel"},{"$f":"'Dat-Bl'!M54","v":"00:00:00"},{"$f":"D60","v":0},null,null,0,null,0,null,0,null,0,null,null,0]
[{"$f":"'Dat-Bl'!K55","v":0},{"$f":"'Dat-Bl'!L55","v":"M9/04-Regel"},{"$f":"'Dat-Bl'!M55","v":"00:00:00"},0,null,null,0,null,0,null,0,null,0,null,null,0]
[{"$f":"'Dat-Bl'!K56","v":0},{"$f":"'Dat-Bl'!L56","v":"M9/05-Regel"},{"$f":"'Dat-Bl'!M56","v":"00:00:00"},0,null,null,0,null,0,null,0,null,0,null,null,0,"Gesamtergebnis"]
[{"$f":"'Dat-Bl'!K57","v":0},{"$f":"'Dat-Bl'!L57","v":"M9/06-Regel"},{"$f":"'Dat-Bl'!M57","v":"00:00:00"},0,null,null,0,null,0,null,0,null,0,null,null,0,{"$f":"SUM(P59:P64)-MIN(P59:P64)+O59","v":0}]
["Start-Nr.","Schüler","Geb.Dat.","Schule 10","Bezirk/Bundesland","60m","PUNKTE","Schlagball","PUNKTE","Kugel","PUNKTE","Weit","PUNKTE","5x80M","PUNKTE","SUMME"]
[{"$f":"'Dat-Bl'!K58","v":0},{"$f":"'Dat-Bl'!L58","v":"M10/01-Regel"},{"$f":"'Dat-Bl'!M58","v":"00:00:00"},{"$f":"'Dat-Bl'!N58","v":0},{"$f":"'Dat-Bl'!O58","v":0},null,{"$f":"IF(F66=0,0,INT(17.686955*EXP(2.1*LN((1397-F66*100)/100))))","v":0},null,{"$f":"IF(H66=0,0,INT(18*EXP(0.9*LN((H66*100-800)/100))))","v":0},null,{"$f":"IF(J66=0,0,INT(82.491673*EXP(0.9*LN((J66*100-178)/100))))","v":0},null,{"$f":"IF(L66=0,0,INT(180.85908*EXP(1*LN((L66*100-190)/100))))","v":0},null,{"$f":"IF(N66=0,0,INT(0.355982*EXP(2.1*LN((8600-N66*100)/100))))","v":0},{"$f":"SUM(G66,I66,K66,M66)","v":0}]
[{"$f":"'Dat-Bl'!K59","v":0},{"$f":"'Dat-Bl'!L59","v":"M10/02-Regel"},{"$f":"'Dat-Bl'!M59","v":"00:00:00"},{"$f":"D66","v":0},null,null,0,null,0,null,0,null,0,null,null,0]
[{"$f":"'Dat-Bl'!K60","v":0},{"$f":"'Dat-Bl'!L60","v":"M10/03-Regel"},{"$f":"'Dat-Bl'!M60","v":"00:00:00"},{"$f":"D67","v":0},null,null,0,null,0,null,0,null,0,null,null,0]
[{"$f":"'Dat-Bl'!K61","v":0},{"$f":"'Dat-Bl'!L61","v":"M10/04-Regel"},{"$f":"'Dat-Bl'!M61","v":"00:00:00"},0,null,null,0,null,0,null,0,null,0,null,null,0]
[{"$f":"'Dat-Bl'!K62","v":0},{"$f":"'Dat-Bl'!L62","v":"M10/05-Regel"},{"$f":"'Dat-Bl'!M62","v":"00:00:00"},0,null,null,0,null,0,null,0,null,0,null,null,0,"Gesamtergebnis"]
[{"$f":"'Dat-Bl'!K63","v":0},{"$f":"'Dat-Bl'!L63","v":"M10/06-Regel"},{"$f":"'Dat-Bl'!M63","v":"00:00:00"},0,null,null,0,null,0,null,0,null,0,null,null,0,{"$f":"SUM(P66:P71)-MIN(P66:P71)+O66","v":0}]
["Start-Nr.","Schüler","Geb.Dat.","Schule 11","Bezirk/Bundesland","60m","PUNKTE","Schlagball","PUNKTE","Kugel","PUNKTE","Weit","PUNKTE","5x80M","PUNKTE","SUMME"]
[{"$f":"'Dat-Bl'!K64","v":0},{"$f":"'Dat-Bl'!L64","v":"M11/01-Regel"},{"$f":"'Dat-Bl'!M64","v":"00:00:00"},{"$f":"'Dat-Bl'!N64","v":0},{"$f":"'Dat-Bl'!O64","v":0},null,{"$f":"IF(F73=0,0,INT(17.686955*EXP(2.1*LN((1397-F73*100)/100))))","v":0},null,{"$f":"IF(H73=0,0,INT(18*EXP(0.9*LN((H73*100-800)/100))))","v":0},null,{"$f":"IF(J73=0,0,INT(82.491673*EXP(0.9*LN((J73*100-178)/100))))","v":0},null,{"$f":"IF(L73=0,0,INT(180.85908*EXP(1*LN((L73*100-190)/100))))","v":0},null,{"$f":"IF(N73=0,0,INT(0.355982*EXP(2.1*LN((8600-N73*100)/100))))","v":0},{"$f":"SUM(G73,I73,K73,M73)","v":0}]
[{"$f":"'Dat-Bl'!K65","v":0},{"$f":"'Dat-Bl'!L65","v":"M11/02-Regel"},{"$f":"'Dat-Bl'!M65","v":"00:00:00"},{"$f":"D73","v":0},null,null,0,null,0,null,0,null,0,null,null,0]
[{"$f":"'Dat-Bl'!K66","v":0},{"$f":"'Dat-Bl'!L66","v":"M11/03-Regel"},{"$f":"'Dat-Bl'!M66","v":"00:00:00"},{"$f":"D74","v":0},null,null,0,null,0,null,0,null,0,null,null,0]
[{"$f":"'Dat-Bl'!K67","v":0},{"$f":"'Dat-Bl'!L67","v":"M11/04-Regel"},{"$f":"'Dat-Bl'!M67","v":"00:00:00"},0,null,null,0,null,0,null,0,null,0,null,null,0]
[{"$f":"'Dat-Bl'!K68","v":0},{"$f":"'Dat-Bl'!L68","v":"M11/05-Regel"},{"$f":"'Dat-Bl'!M68","v":"00:00:00"},0,null,null,0,null,0,null,0,null,0,null,null,0,"Gesamtergebnis"]
[{"$f":"'Dat-Bl'!K69","v":0},{"$f":"'Dat-Bl'!L69","v":"M11/06-Regel"},{"$f":"'Dat-Bl'!M69","v":"00:00:00"},0,null,null,0,null,0,null,0,null,0,null,null,0,{"$f":"SUM(P73:P78)-MIN(P73:P78)+O73","v":0}]
["Start-Nr.","Schüler","Geb.Dat.","Schule 12","Bezirk/Bundesland","60m","PUNKTE","Schlagball","PUNKTE","Kugel","PUNKTE","Weit","PUNKTE","5x80M","PUNKTE","SUMME"]
[{"$f":"'Dat-Bl'!K70","v":0},{"$f":"'Dat-Bl'!L70","v":"M12/01-Regel"},{"$f":"'Dat-Bl'!M70","v":"00:00:00"},{"$f":"'Dat-Bl'!N70","v":0},{"$f":"'Dat-Bl'!O70","v":0},null,{"$f":"IF(F80=0,0,INT(17.686955*EXP(2.1*LN((1397-F80*100)/100))))","v":0},null,{"$f":"IF(H80=0,0,INT(18*EXP(0.9*LN((H80*100-800)/100))))","v":0},null,{"$f":"IF(J80=0,0,INT(82.491673*EXP(0.9*LN((J80*100-178)/100))))","v":0},null,{"$f":"IF(L80=0,0,INT(180.85908*EXP(1*LN((L80*100-190)/100))))","v":0},null,{"$f":"IF(N80=0,0,INT(0.355982*EXP(2.1*LN((8600-N80*100)/100))))","v":0},{"$f":"SUM(G80,I80,K80,M80)","v":0}]
[{"$f":"'Dat-Bl'!K71","v":0},{"$f":"'Dat-Bl'!L71","v":"M12/02-Regel"},{"$f":"'Dat-Bl'!M71","v":"00:00:00"},{"$f":"D80","v":0},null,null,0,null,0,null,0,null,0,null,null,0]
[{"$f":"'Dat-Bl'!K72","v":0},{"$f":"'Dat-Bl'!L72","v":"M12/03-Regel"},{"$f":"'Dat-Bl'!M72","v":"00:00:00"},{"$f":"D81","v":0},null,null,0,null,0,null,0,null,0,null,null,0]
[{"$f":"'Dat-Bl'!K73","v":0},{"$f":"'Dat-Bl'!L73","v":"M12/04-Regel"},{"$f":"'Dat-Bl'!M73","v":"00:00:00"},0,null,null,0,null,0,null,0,null,0,null,null,0]
[{"$f":"'Dat-Bl'!K74","v":0},{"$f":"'Dat-Bl'!L74","v":"M12/05-Regel"},{"$f":"'Dat-Bl'!M74","v":"00:00:00"},0,null,null,0,null,0,null,0,null,0,null,null,0,"Gesamtergebnis"]
[{"$f":"'Dat-Bl'!K75","v":0},{"$f":"'Dat-Bl'!L75","v":"M12/06-Regel"},{"$f":"'Dat-Bl'!M75","v":"00:00:00"},0,null,null,0,null,0,null,0,null,0,null,null,0,{"$f":"SUM(P80:P85)-MIN(P80:P85)+O80","v":0}]
["Start-Nr.","Schüler","Geb.Dat.","Schule 13","Bezirk/Bundesland","60m","PUNKTE","Schlagball","PUNKTE","Kugel","PUNKTE","Weit","PUNKTE","5x80M","PUNKTE","SUMME"]
[{"$f":"'Dat-Bl'!K76","v":0},{"$f":"'Dat-Bl'!L76","v":"M13/01-Regel"},{"$f":"'Dat-Bl'!M76","v":"00:00:00"},{"$f":"'Dat-Bl'!N76","v":0},{"$f":"'Dat-Bl'!O76","v":0},null,{"$f":"IF(F87=0,0,INT(17.686955*EXP(2.1*LN((1397-F87*100)/100))))","v":0},null,{"$f":"IF(H87=0,0,INT(18*EXP(0.9*LN((H87*100-800)/100))))","v":0},null,{"$f":"IF(J87=0,0,INT(82.491673*EXP(0.9*LN((J87*100-178)/100))))","v":0},null,{"$f":"IF(L87=0,0,INT(180.85908*EXP(1*LN((L87*100-190)/100))))","v":0},null,{"$f":"IF(N87=0,0,INT(0.355982*EXP(2.1*LN((8600-N87*100)/100))))","v":0},{"$f":"SUM(G87,I87,K87,M87)","v":0}]
[{"$f":"'Dat-Bl'!K77","v":0},{"$f":"'Dat-Bl'!L77","v":"M13/02-Regel"},{"$f":"'Dat-Bl'!M77","v":"00:00:00"},{"$f":"D87","v":0},null,null,0,null,0,null,0,null,0,null,null,0]
[{"$f":"'Dat-Bl'!K78","v":0},{"$f":"'Dat-Bl'!L78","v":"M13/03-Regel"},{"$f":"'Dat-Bl'!M78","v":"00:00:00"},{"$f":"D88","v":0},null,null,0,null,0,null,0,null,0,null,null,0]
[{"$f":"'Dat-Bl'!K79","v":0},{"$f":"'Dat-Bl'!L79","v":"M13/04-Regel"},{"$f":"'Dat-Bl'!M79","v":"00:00:00"},0,null,null,0,null,0,null,0,null,0,null,null,0]
[{"$f":"'Dat-Bl'!K80","v":0},{"$f":"'Dat-Bl'!L80","v":"M13/05-Regel"},{"$f":"'Dat-Bl'!M80","v":"00:00:00"},0,null,null,0,null,0,null,0,null,0,null,null,0,"Gesamtergebnis"]
[{"$f":"'Dat-Bl'!K81","v":0},{"$f":"'Dat-Bl'!L81","v":"M13/06-Regel"},{"$f":"'Dat-Bl'!M81","v":"00:00:00"},0,null,null,0,null,0,null,0,null,0,null,null,0,{"$f":"SUM(P87:P92)-MIN(P87:P92)+O87","v":0}]
["Start-Nr.","Schüler","Geb.Dat.","Schule 14","Bezirk/Bundesland","60m","PUNKTE","Schlagball","PUNKTE","Kugel","PUNKTE","Weit","PUNKTE","5x80M","PUNKTE","SUMME"]
[{"$f":"'Dat-Bl'!K82","v":0},{"$f":"'Dat-Bl'!L82","v":"M14/01-Regel"},{"$f":"'Dat-Bl'!M82","v":"00:00:00"},{"$f":"'Dat-Bl'!N82","v":0},{"$f":"'Dat-Bl'!O82","v":0},null,{"$f":"IF(F94=0,0,INT(17.686955*EXP(2.1*LN((1397-F94*100)/100))))","v":0},null,{"$f":"IF(H94=0,0,INT(18*EXP(0.9*LN((H94*100-800)/100))))","v":0},null,{"$f":"IF(J94=0,0,INT(82.491673*EXP(0.9*LN((J94*100-178)/100))))","v":0},null,{"$f":"IF(L94=0,0,INT(180.85908*EXP(1*LN((L94*100-190)/100))))","v":0},null,{"$f":"IF(N94=0,0,INT(0.355982*EXP(2.1*LN((8600-N94*100)/100))))","v":0},{"$f":"SUM(G94,I94,K94,M94)","v":0}]
[{"$f":"'Dat-Bl'!K83","v":0},{"$f":"'Dat-Bl'!L83","v":"M14/02-Regel"},{"$f":"'Dat-Bl'!M83","v":"00:00:00"},{"$f":"D94","v":0},null,null,{"$f":"IF(F95=0,0,INT(17.686955*EXP(2.1*LN((1397-F95*100)/100))))","v":0},null,0,null,0,null,0,null,null,0]
[{"$f":"'Dat-Bl'!K84","v":0},{"$f":"'Dat-Bl'!L84","v":"M14/03-Regel"},{"$f":"'Dat-Bl'!M84","v":"00:00:00"},{"$f":"D95","v":0},null,null,{"$f":"IF(F96=0,0,INT(17.686955*EXP(2.1*LN((1397-F96*100)/100))))","v":0},null,0,null,0,null,0,null,null,0]
[{"$f":"'Dat-Bl'!K85","v":0},{"$f":"'Dat-Bl'!L85","v":"M14/04-Regel"},{"$f":"'Dat-Bl'!M85","v":"00:00:00"},0,null,null,0,null,0,null,0,null,0,null,null,0]
[{"$f":"'Dat-Bl'!K86","v":0},{"$f":"'Dat-Bl'!L86","v":"M14/05-Regel"},{"$f":"'Dat-Bl'!M86","v":"00:00:00"},0,null,null,{"$f":"IF(F98=0,0,INT(17.686955*EXP(2.1*LN((1397-F98*100)/100))))","v":0},null,0,null,0,null,0,null,null,0,"Gesamtergebnis"]
[{"$f":"'Dat-Bl'!K87","v":0},{"$f":"'Dat-Bl'!L87","v":"M14/06-Regel"},{"$f":"'Dat-Bl'!M87","v":"00:00:00"},0,null,null,{"$f":"IF(F99=0,0,INT(17.686955*EXP(2.1*LN((1397-F99*100)/100))))","v":0},null,0,null,0,null,0,null,null,0,{"$f":"SUM(P94:P99)-MIN(P94:P99)+O94","v":0}]
["Start-Nr.","Schüler","Geb.Dat.","Schule 15","Bezirk/Bundesland","60m","PUNKTE","Schlagball","PUNKTE","Kugel","PUNKTE","Weit","PUNKTE","5x80M","PUNKTE","SUMME"]
[{"$f":"'Dat-Bl'!K88","v":0},{"$f":"'Dat-Bl'!L88","v":"M15/01-Regel"},{"$f":"'Dat-Bl'!M88","v":"00:00:00"},{"$f":"'Dat-Bl'!N88","v":0},{"$f":"'Dat-Bl'!O88","v":0},null,{"$f":"IF(F101=0,0,INT(17.686955*EXP(2.1*LN((1397-F101*100)/100))))","v":0},null,{"$f":"IF(H101=0,0,INT(18*EXP(0.9*LN((H101*100-800)/100))))","v":0},null,{"$f":"IF(J101=0,0,INT(82.491673*EXP(0.9*LN((J101*100-178)/100))))","v":0},null,{"$f":"IF(L101=0,0,INT(180.85908*EXP(1*LN((L101*100-190)/100))))","v":0},null,{"$f":"IF(N101=0,0,INT(0.355982*EXP(2.1*LN((8600-N101*100)/100))))","v":0},{"$f":"SUM(G101,I101,K101,M101)","v":0}]
[{"$f":"'Dat-Bl'!K89","v":0},{"$f":"'Dat-Bl'!L89","v":"M15/02-Regel"},{"$f":"'Dat-Bl'!M89","v":"00:00:00"},{"$f":"D101","v":0},null,null,0,null,0,null,0,null,0,null,null,0]
[{"$f":"'Dat-Bl'!K90","v":0},{"$f":"'Dat-Bl'!L90","v":"M15/03-Regel"},{"$f":"'Dat-Bl'!M90","v":"00:00:00"},{"$f":"D102","v":0},null,null,0,null,0,null,0,null,0,null,null,0]
[{"$f":"'Dat-Bl'!K91","v":0},{"$f":"'Dat-Bl'!L91","v":"M15/04-Regel"},{"$f":"'Dat-Bl'!M91","v":"00:00:00"},0,null,null,0,null,0,null,0,null,0,null,null,0]
[{"$f":"'Dat-Bl'!K92","v":0},{"$f":"'Dat-Bl'!L92","v":"M15/05-Regel"},{"$f":"'Dat-Bl'!M92","v":"00:00:00"},0,null,null,0,null,0,null,0,null,0,null,null,0,"Gesamtergebnis"]
[{"$f":"'Dat-Bl'!K93","v":0},{"$f":"'Dat-Bl'!L93","v":"M15/06-Regel"},{"$f":"'Dat-Bl'!M93","v":"00:00:00"},0,null,null,0,null,0,null,0,null,0,null,null,0,{"$f":"SUM(P101:P106)-MIN(P101:P106)+O101","v":0}]
["Start-Nr.","Schüler","Geb.Dat.","Schule 16","Bezirk/Bundesland","60m","PUNKTE","Schlagball","PUNKTE","Kugel","PUNKTE","Weit","PUNKTE","5x80M","PUNKTE","SUMME"]
[{"$f":"'Dat-Bl'!K94","v":0},{"$f":"'Dat-Bl'!L94","v":"M16/01-Regel"},{"$f":"'Dat-Bl'!M94","v":"00:00:00"},{"$f":"'Dat-Bl'!N94","v":0},{"$f":"'Dat-Bl'!O94","v":0},null,{"$f":"IF(F108=0,0,INT(17.686955*EXP(2.1*LN((1397-F108*100)/100))))","v":0},null,{"$f":"IF(H108=0,0,INT(18*EXP(0.9*LN((H108*100-800)/100))))","v":0},null,{"$f":"IF(J108=0,0,INT(82.491673*EXP(0.9*LN((J108*100-178)/100))))","v":0},null,{"$f":"IF(L108=0,0,INT(180.85908*EXP(1*LN((L108*100-190)/100))))","v":0},null,{"$f":"IF(N108=0,0,INT(0.355982*EXP(2.1*LN((8600-N108*100)/100))))","v":0},{"$f":"SUM(G108,I108,K108,M108)","v":0}]
[{"$f":"'Dat-Bl'!K95","v":0},{"$f":"'Dat-Bl'!L95","v":"M16/02-Regel"},{"$f":"'Dat-Bl'!M95","v":"00:00:00"},{"$f":"D108","v":0},null,null,0,null,0,null,0,null,0,null,null,0]
[{"$f":"'Dat-Bl'!K96","v":0},{"$f":"'Dat-Bl'!L96","v":"M16/03-Regel"},{"$f":"'Dat-Bl'!M96","v":"00:00:00"},{"$f":"D109","v":0},null,null,0,null,0,null,0,null,0,null,null,0]
[{"$f":"'Dat-Bl'!K97","v":0},{"$f":"'Dat-Bl'!L97","v":"M16/04-Regel"},{"$f":"'Dat-Bl'!M97","v":"00:00:00"},0,null,null,0,null,0,null,0,null,0,null,null,0]
[{"$f":"'Dat-Bl'!K98","v":0},{"$f":"'Dat-Bl'!L98","v":"M16/05-Regel"},{"$f":"'Dat-Bl'!M98","v":"00:00:00"},0,null,null,0,null,0,null,0,null,0,null,null,0,"Gesamtergebnis"]
[{"$f":"'Dat-Bl'!K99","v":0},{"$f":"'Dat-Bl'!L99","v":"M16/06-Regel"},{"$f":"'Dat-Bl'!M99","v":"00:00:00"},0,null,null,0,null,0,null,0,null,0,null,null,0,{"$f":"SUM(P108:P113)-MIN(P108:P113)+O108","v":0}]
["Start-Nr.","Schüler","Geb.Dat.","Schule 17","Bezirk/Bundesland","60m","PUNKTE","Schlagball","PUNKTE","Kugel","PUNKTE","Weit","PUNKTE","5x80M","PUNKTE","SUMME"]
[{"$f":"'Dat-Bl'!K100","v":0},{"$f":"'Dat-Bl'!L100","v":"M17/01-Regel"},{"$f":"'Dat-Bl'!M100","v":"00:00:00"},{"$f":"'Dat-Bl'!N100","v":0},{"$f":"'Dat-Bl'!O100","v":0},null,{"$f":"IF(F115=0,0,INT(17.686955*EXP(2.1*LN((1397-F115*100)/100))))","v":0},null,{"$f":"IF(H115=0,0,INT(18*EXP(0.9*LN((H115*100-800)/100))))","v":0},null,{"$f":"IF(J115=0,0,INT(82.491673*EXP(0.9*LN((J115*100-178)/100))))","v":0},null,{"$f":"IF(L115=0,0,INT(180.85908*EXP(1*LN((L115*100-190)/100))))","v":0},null,{"$f":"IF(N115=0,0,INT(0.355982*EXP(2.1*LN((8600-N115*100)/100))))","v":0},{"$f":"SUM(G115,I115,K115,M115)","v":0}]
[{"$f":"'Dat-Bl'!K101","v":0},{"$f":"'Dat-Bl'!L101","v":"M17/02-Regel"},{"$f":"'Dat-Bl'!M101","v":"00:00:00"},{"$f":"D115","v":0},null,null,0,null,0,null,0,null,0,null,null,0]
[{"$f":"'Dat-Bl'!K102","v":0},{"$f":"'Dat-Bl'!L102","v":"M17/03-Regel"},{"$f":"'Dat-Bl'!M102","v":"00:00:00"},{"$f":"D116","v":0},null,null,0,null,0,null,0,null,0,null,null,0]
[{"$f":"'Dat-Bl'!K103","v":0},{"$f":"'Dat-Bl'!L103","v":"M17/04-Regel"},{"$f":"'Dat-Bl'!M103","v":"00:00:00"},0,null,null,0,null,0,null,0,null,0,null,null,0]
[{"$f":"'Dat-Bl'!K104","v":0},{"$f":"'Dat-Bl'!L104","v":"M17/05-Regel"},{"$f":"'Dat-Bl'!M104","v":"00:00:00"},0,null,null,0,null,0,null,0,null,0,null,null,0,"Gesamtergebnis"]
[{"$f":"'Dat-Bl'!K105","v":0},{"$f":"'Dat-Bl'!L105","v":"M17/06-Regel"},{"$f":"'Dat-Bl'!M105","v":"00:00:00"},0,null,null,0,null,0,null,0,null,0,null,null,0,{"$f":"SUM(P115:P120)-MIN(P115:P120)+O115","v":0}]
["Start-Nr.","Schüler","Geb.Dat.","Schule 18","Bezirk/Bundesland","60m","PUNKTE","Schlagball","PUNKTE","Kugel","PUNKTE","Weit","PUNKTE","5x80M","PUNKTE","SUMME"]
[{"$f":"'Dat-Bl'!K106","v":0},{"$f":"'Dat-Bl'!L106","v":"M18/01-Regel"},{"$f":"'Dat-Bl'!M106","v":"00:00:00"},{"$f":"'Dat-Bl'!N106","v":0},{"$f":"'Dat-Bl'!O106","v":0},null,{"$f":"IF(F122=0,0,INT(17.686955*EXP(2.1*LN((1397-F122*100)/100))))","v":0},null,{"$f":"IF(H122=0,0,INT(18*EXP(0.9*LN((H122*100-800)/100))))","v":0},null,{"$f":"IF(J122=0,0,INT(82.491673*EXP(0.9*LN((J122*100-178)/100))))","v":0},null,{"$f":"IF(L122=0,0,INT(180.85908*EXP(1*LN((L122*100-190)/100))))","v":0},null,{"$f":"IF(N122=0,0,INT(0.355982*EXP(2.1*LN((8600-N122*100)/100))))","v":0},{"$f":"SUM(G122,I122,K122,M122)","v":0}]
[{"$f":"'Dat-Bl'!K107","v":0},{"$f":"'Dat-Bl'!L107","v":"M18/02-Regel"},{"$f":"'Dat-Bl'!M107","v":"00:00:00"},{"$f":"D122","v":0},null,null,0,null,0,null,0,null,0,null,null,0]
[{"$f":"'Dat-Bl'!K108","v":0},{"$f":"'Dat-Bl'!L108","v":"M18/03-Regel"},{"$f":"'Dat-Bl'!M108","v":"00:00:00"},{"$f":"D123","v":0},null,null,0,null,0,null,0,null,0,null,null,0]
[{"$f":"'Dat-Bl'!K109","v":0},{"$f":"'Dat-Bl'!L109","v":"M18/04-Regel"},{"$f":"'Dat-Bl'!M109","v":"00:00:00"},0,null,null,0,null,0,null,0,null,0,null,null,0]
[{"$f":"'Dat-Bl'!K110","v":0},{"$f":"'Dat-Bl'!L110","v":"M18/05-Regel"},{"$f":"'Dat-Bl'!M110","v":"00:00:00"},0,null,null,0,null,0,null,0,null,0,null,null,0,"Gesamtergebnis"]
[{"$f":"'Dat-Bl'!K111","v":0},{"$f":"'Dat-Bl'!L111","v":"M18/06-Regel"},{"$f":"'Dat-Bl'!M111","v":"00:00:00"},0,null,null,0,null,0,null,0,null,0,null,null,0,{"$f":"SUM(P122:P127)-MIN(P122:P127)+O122","v":0}]
["Start-Nr.","Schüler","Geb.Dat.","Schule 19","Bezirk/Bundesland","60m","PUNKTE","Schlagball","PUNKTE","Kugel","PUNKTE","Weit","PUNKTE","5x80M","PUNKTE","SUMME"]
[{"$f":"'Dat-Bl'!K112","v":0},{"$f":"'Dat-Bl'!L112","v":"M19/01-Regel"},{"$f":"'Dat-Bl'!M112","v":"00:00:00"},{"$f":"'Dat-Bl'!N112","v":0},{"$f":"'Dat-Bl'!O112","v":0},null,{"$f":"IF(F129=0,0,INT(17.686955*EXP(2.1*LN((1397-F129*100)/100))))","v":0},null,{"$f":"IF(H129=0,0,INT(18*EXP(0.9*LN((H129*100-800)/100))))","v":0},null,{"$f":"IF(J129=0,0,INT(82.491673*EXP(0.9*LN((J129*100-178)/100))))","v":0},null,{"$f":"IF(L129=0,0,INT(180.85908*EXP(1*LN((L129*100-190)/100))))","v":0},null,{"$f":"IF(N129=0,0,INT(0.355982*EXP(2.1*LN((8600-N129*100)/100))))","v":0},{"$f":"SUM(G129,I129,K129,M129)","v":0}]
[{"$f":"'Dat-Bl'!K113","v":0},{"$f":"'Dat-Bl'!L113","v":"M19/02-Regel"},{"$f":"'Dat-Bl'!M113","v":"00:00:00"},{"$f":"D129","v":0},null,null,0,null,0,null,0,null,0,null,null,0]
[{"$f":"'Dat-Bl'!K114","v":0},{"$f":"'Dat-Bl'!L114","v":"M19/03-Regel"},{"$f":"'Dat-Bl'!M114","v":"00:00:00"},{"$f":"D130","v":0},null,null,0,null,0,null,0,null,0,null,null,0]
[{"$f":"'Dat-Bl'!K115","v":0},{"$f":"'Dat-Bl'!L115","v":"M19/04-Regel"},{"$f":"'Dat-Bl'!M115","v":"00:00:00"},0,null,null,0,null,0,null,0,null,0,null,null,0]
[{"$f":"'Dat-Bl'!K116","v":0},{"$f":"'Dat-Bl'!L116","v":"M19/05-Regel"},{"$f":"'Dat-Bl'!M116","v":"00:00:00"},0,null,null,0,null,0,null,0,null,0,null,null,0,"Gesamtergebnis"]
[{"$f":"'Dat-Bl'!K117","v":0},{"$f":"'Dat-Bl'!L117","v":"M19/06-Regel"},{"$f":"'Dat-Bl'!M117","v":"00:00:00"},0,null,null,0,null,0,null,0,null,0,null,null,0,{"$f":"SUM(P129:P134)-MIN(P129:P134)+O129","v":0}]
["Start-Nr.","Schüler","Geb.Dat.","Schule 20","Bezirk/Bundesland","60m","PUNKTE","Schlagball","PUNKTE","Kugel","PUNKTE","Weit","PUNKTE","5x80M","PUNKTE","SUMME"]
[{"$f":"'Dat-Bl'!K118","v":0},{"$f":"'Dat-Bl'!L118","v":"M20/01-Regel"},{"$f":"'Dat-Bl'!M118","v":"00:00:00"},{"$f":"'Dat-Bl'!N118","v":0},{"$f":"'Dat-Bl'!O118","v":0},null,{"$f":"IF(F136=0,0,INT(17.686955*EXP(2.1*LN((1397-F136*100)/100))))","v":0},null,{"$f":"IF(H136=0,0,INT(18*EXP(0.9*LN((H136*100-800)/100))))","v":0},null,{"$f":"IF(J136=0,0,INT(82.491673*EXP(0.9*LN((J136*100-178)/100))))","v":0},null,{"$f":"IF(L136=0,0,INT(180.85908*EXP(1*LN((L136*100-190)/100))))","v":0},null,{"$f":"IF(N136=0,0,INT(0.355982*EXP(2.1*LN((8600-N136*100)/100))))","v":0},{"$f":"SUM(G136,I136,K136,M136)","v":0}]
[{"$f":"'Dat-Bl'!K119","v":0},{"$f":"'Dat-Bl'!L119","v":"M20/02-Regel"},{"$f":"'Dat-Bl'!M119","v":"00:00:00"},{"$f":"D136","v":0},null,null,0,null,0,null,0,null,0,null,null,0]
[{"$f":"'Dat-Bl'!K120","v":0},{"$f":"'Dat-Bl'!L120","v":"M20/03-Regel"},{"$f":"'Dat-Bl'!M120","v":"00:00:00"},{"$f":"D137","v":0},null,null,0,null,0,null,0,null,0,null,null,0]
[{"$f":"'Dat-Bl'!K121","v":0},{"$f":"'Dat-Bl'!L121","v":"M20/04-Regel"},{"$f":"'Dat-Bl'!M121","v":"00:00:00"},0,null,null,0,null,0,null,0,null,0,null,null,0]
[{"$f":"'Dat-Bl'!K122","v":0},{"$f":"'Dat-Bl'!L122","v":"M20/05-Regel"},{"$f":"'Dat-Bl'!M122","v":"00:00:00"},0,null,null,0,null,0,null,0,null,0,null,null,0,"Gesamtergebnis"]
[{"$f":"'Dat-Bl'!K123","v":0},{"$f":"'Dat-Bl'!L123","v":"M20/06-Regel"},{"$f":"'Dat-Bl'!M123","v":"00:00:00"},0,null,null,0,null,0,null,0,null,0,null,null,0,{"$f":"SUM(P136:P141)-MIN(P136:P141)+O136","v":0}]

{"sheet":"m-E_Sp","index":5,"n_rows":141,"n_cols":17,"rows_kept":141,"cut":false,"hidden":false,"merged":[[0,0,0,1],[0,2,0,3],[0,4,0,9]]}
["Wettkampfdaten-Art",null,"D-C/Sport-Schwerpunkt",null,"Ortsangabe,Datum"]
["Start-Nr.","Schüler","Geb.Dat.","Schule 1","Bezirk/Bundesland","60m","PUNKTE","Schlagball","PUNKTE","Kugel","PUNKTE","Weit","PUNKTE","5x80M","PUNKTE","SUMME"]
[{"$f":"'Dat-Bl'!K127","v":0},{"$f":"'Dat-Bl'!L127","v":"M1/01-Sport"},{"$f":"'Dat-Bl'!M127","v":"00:00:00"},{"$f":"'Dat-Bl'!N127","v":0},{"$f":"'Dat-Bl'!O127","v":0},null,{"$f":"IF(F3=0,0,INT(17.686955*EXP(2.1*LN((1397-F3*100)/100))))","v":0},null,{"$f":"IF(H3=0,0,INT(18*EXP(0.9*LN((H3*100-800)/100))))","v":0},null,{"$f":"IF(J3=0,0,INT(82.491673*EXP(0.9*LN((J3*100-178)/100))))","v":0},null,{"$f":"IF(L3=0,0,INT(180.85908*EXP(1*LN((L3*100-190)/100))))","v":0},null,{"$f":"IF(N3=0,0,INT(0.355982*EXP(2.1*LN((8600-N3*100)/100))))","v":0},{"$f":"SUM(G3,I3,K3,M3)","v":0}]
[{"$f":"'Dat-Bl'!K128","v":0},{"$f":"'Dat-Bl'!L128","v":"M1/02-Sport"},{"$f":"'Dat-Bl'!M128","v":"00:00:00"},{"$f":"D3","v":0},null,null,0,null,0,null,0,null,0,null,null,0]
[{"$f":"'Dat-Bl'!K129","v":0},{"$f":"'Dat-Bl'!L129","v":"M1/03-Sport"},{"$f":"'Dat-Bl'!M129","v":"00:00:00"},{"$f":"D4","v":0},null,null,0,null,0,null,0,null,0,null,null,0]
[{"$f":"'Dat-Bl'!K130","v":0},{"$f":"'Dat-Bl'!L130","v":"M1/04-Sport"},{"$f":"'Dat-Bl'!M130","v":"00:00:00"},0,null,null,0,null,0,null,0,null,0,null,null,0]
[{"$f":"'Dat-Bl'!K131","v":0},{"$f":"'Dat-Bl'!L131","v":"M1/05-Sport"},{"$f":"'Dat-Bl'!M131","v":"00:00:00"},0,null,null,0,null,0,null,0,null,0,null,null,0,"Gesamtergebnis"]
[{"$f":"'Dat-Bl'!K132","v":0},{"$f":"'Dat-Bl'!L132","v":"M1/06-Sport"},{"$f":"'Dat-Bl'!M132","v":"00:00:00"},0,null,null,0,null,0,null,0,null,0,null,null,0,{"$f":"SUM(P3:P8)-MIN(P3:P8)+O3","v":0}]
["Start-Nr.","Schüler","Geb.Dat.","Schule 2","Bezirk/Bundesland","60m","PUNKTE","Schlagball","PUNKTE","Kugel","PUNKTE","Weit","PUNKTE","5x80M","PUNKTE","SUMME"]
[{"$f":"'Dat-Bl'!K133","v":0},{"$f":"'Dat-Bl'!L133","v":"M2/01-Sport"},{"$f":"'Dat-Bl'!M133","v":"00:00:00"},{"$f":"'Dat-Bl'!N133","v":0},{"$f":"'Dat-Bl'!O133","v":0},null,{"$f":"IF(F10=0,0,INT(17.686955*EXP(2.1*LN((1397-F10*100)/100))))","v":0},null,{"$f":"IF(H10=0,0,INT(18*EXP(0.9*LN((H10*100-800)/100))))","v":0},null,{"$f":"IF(J10=0,0,INT(82.491673*EXP(0.9*LN((J10*100-178)/100))))","v":0},null,{"$f":"IF(L10=0,0,INT(180.85908*EXP(1*LN((L10*100-190)/100))))","v":0},null,{"$f":"IF(N10=0,0,INT(0.355982*EXP(2.1*LN((8600-N10*100)/100))))","v":0},{"$f":"SUM(G10,I10,K10,M10)","v":0}]
[{"$f":"'Dat-Bl'!K134","v":0},{"$f":"'Dat-Bl'!L134","v":"M2/02-Sport"},{"$f":"'Dat-Bl'!M134","v":"00:00:00"},{"$f":"D10","v":0},null,null,0,null,0,null,0,null,0,null,null,0]
[{"$f":"'Dat-Bl'!K135","v":0},{"$f":"'Dat-Bl'!L135","v":"M2/03-Sport"},{"$f":"'Dat-Bl'!M135","v":"00:00:00"},{"$f":"D11","v":0},null,null,0,null,0,null,0,null,0,null,null,0]
[{"$f":"'Dat-Bl'!K136","v":0},{"$f":"'Dat-Bl'!L136","v":"M2/04-Sport"},{"$f":"'Dat-Bl'!M136","v":"00:00:00"},0,null,null,0,null,0,null,0,null,0,null,null,0]
[{"$f":"'Dat-Bl'!K137","v":0},{"$f":"'Dat-Bl'!L137","v":"M2/05-Sport"},{"$f":"'Dat-Bl'!M137","v":"00:00:00"},0,null,null,0,null,0,null,0,null,0,null,null,0,"Gesamtergebnis"]
[{"$f":"'Dat-Bl'!K138","v":0},{"$f":"'Dat-Bl'!L138","v":"M2/06-Sport"},{"$f":"'Dat-Bl'!M138","v":"00:00:00"},0,null,null,0,null,0,null,0,null,0,null,null,0,{"$f":"SUM(P10:P15)-MIN(P10:P15)+O10","v":0}]
["Start-Nr.","Schüler","Geb.Dat.","Schule 3","Bezirk/Bundesland","60m","PUNKTE","Schlagball","PUNKTE","Kugel","PUNKTE","Weit","PUNKTE","5x80M","PUNKTE","SUMME"]
[{"$f":"'Dat-Bl'!K139","v":0},{"$f":"'Dat-Bl'!L139","v":"M3/01-Sport"},{"$f":"'Dat-Bl'!M139","v":"00:00:00"},{"$f":"'Dat-Bl'!N139","v":0},{"$f":"'Dat-Bl'!O139","v":0},null,{"$f":"IF(F17=0,0,INT(17.686955*EXP(2.1*LN((1397-F17*100)/100))))","v":0},null,{"$f":"IF(H17=0,0,INT(18*EXP(0.9*LN((H17*100-800)/100))))","v":0},null,{"$f":"IF(J17=0,0,INT(82.491673*EXP(0.9*LN((J17*100-178)/100))))","v":0},null,{"$f":"IF(L17=0,0,INT(180.85908*EXP(1*LN((L17*100-190)/100))))","v":0},null,{"$f":"IF(N17=0,0,INT(0.355982*EXP(2.1*LN((8600-N17*100)/100))))","v":0},{"$f":"SUM(G17,I17,K17,M17)","v":0}]
[{"$f":"'Dat-Bl'!K140","v":0},{"$f":"'Dat-Bl'!L140","v":"M3/02-Sport"},{"$f":"'Dat-Bl'!M140","v":"00:00:00"},{"$f":"D17","v":0},null,null,0,null,0,null,0,null,0,null,null,0]
[{"$f":"'Dat-Bl'!K141","v":0},{"$f":"'Dat-Bl'!L141","v":"M3/03-Sport"},{"$f":"'Dat-Bl'!M141","v":"00:00:00"},{"$f":"D18","v":0},null,null,0,null,0,null,0,null,0,null,null,0]
[{"$f":"'Dat-Bl'!K142","v":0},{"$f":"'Dat-Bl'!L142","v":"M3/04-Sport"},{"$f":"'Dat-Bl'!M142","v":"00:00:00"},0,null,null,0,null,0,null,0,null,0,null,null,0]
[{"$f":"'Dat-Bl'!K143","v":0},{"$f":"'Dat-Bl'!L143","v":"M3/05-Sport"},{"$f":"'Dat-Bl'!M143","v":"00:00:00"},0,null,null,0,null,0,null,0,null,0,null,null,0,"Gesamtergebnis"]
[{"$f":"'Dat-Bl'!K144","v":0},{"$f":"'Dat-Bl'!L144","v":"M3/06-Sport"},{"$f":"'Dat-Bl'!M144","v":"00:00:00"},0,null,null,0,null,0,null,0,null,0,null,null,0,{"$f":"SUM(P17:P22)-MIN(P17:P22)+O17","v":0}]
["Start-Nr.","Schüler","Geb.Dat.","Schule 4","Bezirk/Bundesland","60m","PUNKTE","Schlagball","PUNKTE","Kugel","PUNKTE","Weit","PUNKTE","5x80M","PUNKTE","SUMME"]
[{"$f":"'Dat-Bl'!K145","v":0},{"$f":"'Dat-Bl'!L145","v":"M4/01-Sport"},{"$f":"'Dat-Bl'!M145","v":"00:00:00"},{"$f":"'Dat-Bl'!N145","v":0},{"$f":"'Dat-Bl'!O145","v":0},null,{"$f":"IF(F24=0,0,INT(17.686955*EXP(2.1*LN((1397-F24*100)/100))))","v":0},null,{"$f":"IF(H24=0,0,INT(18*EXP(0.9*LN((H24*100-800)/100))))","v":0},null,{"$f":"IF(J24=0,0,INT(82.491673*EXP(0.9*LN((J24*100-178)/100))))","v":0},null,{"$f":"IF(L24=0,0,INT(180.85908*EXP(1*LN((L24*100-190)/100))))","v":0},null,{"$f":"IF(N24=0,0,INT(0.355982*EXP(2.1*LN((8600-N24*100)/100))))","v":0},{"$f":"SUM(G24,I24,K24,M24)","v":0}]
[{"$f":"'Dat-Bl'!K146","v":0},{"$f":"'Dat-Bl'!L146","v":"M4/02-Sport"},{"$f":"'Dat-Bl'!M146","v":"00:00:00"},{"$f":"D24","v":0},null,null,0,null,0,null,0,null,0,null,null,0]
[{"$f":"'Dat-Bl'!K147","v":0},{"$f":"'Dat-Bl'!L147","v":"M4/03-Sport"},{"$f":"'Dat-Bl'!M147","v":"00:00:00"},{"$f":"D25","v":0},null,null,0,null,0,null,0,null,0,null,null,0]
[{"$f":"'Dat-Bl'!K148","v":0},{"$f":"'Dat-Bl'!L148","v":"M4/04-Sport"},{"$f":"'Dat-Bl'!M148","v":"00:00:00"},0,null,null,0,null,0,null,0,null,0,null,null,0]
[{"$f":"'Dat-Bl'!K149","v":0},{"$f":"'Dat-Bl'!L149","v":"M4/05-Sport"},{"$f":"'Dat-Bl'!M149","v":"00:00:00"},0,null,null,0,null,0,null,0,null,0,null,null,0,"Gesamtergebnis"]
[{"$f":"'Dat-Bl'!K150","v":0},{"$f":"'Dat-Bl'!L150","v":"M4/06-Sport"},{"$f":"'Dat-Bl'!M150","v":"00:00:00"},0,null,null,0,null,0,null,0,null,0,null,null,0,{"$f":"SUM(P24:P29)-MIN(P24:P29)+O24","v":0}]
["Start-Nr.","Schüler","Geb.Dat.","Schule 5","Bezirk/Bundesland","60m","PUNKTE","Schlagball","PUNKTE","Kugel","PUNKTE","Weit","PUNKTE","5x80M","PUNKTE","SUMME"]
[{"$f":"'Dat-Bl'!K151","v":0},{"$f":"'Dat-Bl'!L151","v":"M5/01-Sport"},{"$f":"'Dat-Bl'!M151","v":"00:00:00"},{"$f":"'Dat-Bl'!N151","v":0},{"$f":"'Dat-Bl'!O151","v":0},null,{"$f":"IF(F31=0,0,INT(17.686955*EXP(2.1*LN((1397-F31*100)/100))))","v":0},null,{"$f":"IF(H31=0,0,INT(18*EXP(0.9*LN((H31*100-800)/100))))","v":0},null,{"$f":"IF(J31=0,0,INT(82.491673*EXP(0.9*LN((J31*100-178)/100))))","v":0},null,{"$f":"IF(L31=0,0,INT(180.85908*EXP(1*LN((L31*100-190)/100))))","v":0},null,{"$f":"IF(N31=0,0,INT(0.355982*EXP(2.1*LN((8600-N31*100)/100))))","v":0},{"$f":"SUM(G31,I31,K31,M31)","v":0}]
[{"$f":"'Dat-Bl'!K152","v":0},{"$f":"'Dat-Bl'!L152","v":"M5/02-Sport"},{"$f":"'Dat-Bl'!M152","v":"00:00:00"},{"$f":"D31","v":0},null,null,0,null,0,null,0,null,0,null,null,0]
[{"$f":"'Dat-Bl'!K153","v":0},{"$f":"'Dat-Bl'!L153","v":"M5/03-Sport"},{"$f":"'Dat-Bl'!M153","v":"00:00:00"},{"$f":"D32","v":0},null,null,0,null,0,null,0,null,0,null,null,0]
[{"$f":"'Dat-Bl'!K154","v":0},{"$f":"'Dat-Bl'!L154","v":"M5/04-Sport"},{"$f":"'Dat-Bl'!M154","v":"00:00:00"},0,null,null,0,null,0,null,0,null,0,null,null,0]
[{"$f":"'Dat-Bl'!K155","v":0},{"$f":"'Dat-Bl'!L155","v":"M5/05-Sport"},{"$f":"'Dat-Bl'!M155","v":"00:00:00"},0,null,null,0,null,0,null,0,null,0,null,null,0,"Gesamtergebnis"]
[{"$f":"'Dat-Bl'!K156","v":0},{"$f":"'Dat-Bl'!L156","v":"M5/06-Sport"},{"$f":"'Dat-Bl'!M156","v":"00:00:00"},0,null,null,0,null,0,null,0,null,0,null,null,0,{"$f":"SUM(P31:P36)-MIN(P31:P36)+O31","v":0}]
["Start-Nr.","Schüler","Geb.Dat.","Schule 6","Bezirk/Bundesland","60m","PUNKTE","Schlagball","PUNKTE","Kugel","PUNKTE","Weit","PUNKTE","5x80M","PUNKTE","SUMME"]
[{"$f":"'Dat-Bl'!K157","v":0},{"$f":"'Dat-Bl'!L157","v":"M6/01-Sport"},{"$f":"'Dat-Bl'!M157","v":"00:00:00"},{"$f":"'Dat-Bl'!N157","v":0},{"$f":"'Dat-Bl'!O157","v":0},null,{"$f":"IF(F38=0,0,INT(17.686955*EXP(2.1*LN((1397-F38*100)/100))))","v":0},null,{"$f":"IF(H38=0,0,INT(18*EXP(0.9*LN((H38*100-800)/100))))","v":0},null,{"$f":"IF(J38=0,0,INT(82.491673*EXP(0.9*LN((J38*100-178)/100))))","v":0},null,{"$f":"IF(L38=0,0,INT(180.85908*EXP(1*LN((L38*100-190)/100))))","v":0},null,{"$f":"IF(N38=0,0,INT(0.355982*EXP(2.1*LN((8600-N38*100)/100))))","v":0},{"$f":"SUM(G38,I38,K38,M38)","v":0}]
[{"$f":"'Dat-Bl'!K158","v":0},{"$f":"'Dat-Bl'!L158","v":"M6/02-Sport"},{"$f":"'Dat-Bl'!M158","v":"00:00:00"},{"$f":"D38","v":0},null,null,0,null,0,null,0,null,0,null,null,0]
[{"$f":"'Dat-Bl'!K159","v":0},{"$f":"'Dat-Bl'!L159","v":"M6/03-Sport"},{"$f":"'Dat-Bl'!M159","v":"00:00:00"},{"$f":"D39","v":0},null,null,0,null,0,null,0,null,0,null,null,0]
[{"$f":"'Dat-Bl'!K160","v":0},{"$f":"'Dat-Bl'!L160","v":"M6/04-Sport"},{"$f":"'Dat-Bl'!M160","v":"00:00:00"},0,null,null,0,null,0,null,0,null,0,null,null,0]
[{"$f":"'Dat-Bl'!K161","v":0},{"$f":"'Dat-Bl'!L161","v":"M6/05-Sport"},{"$f":"'Dat-Bl'!M161","v":"00:00:00"},0,null,null,0,null,0,null,0,null,0,null,null,0,"Gesamtergebnis"]
[{"$f":"'Dat-Bl'!K162","v":0},{"$f":"'Dat-Bl'!L162","v":"M6/06-Sport"},{"$f":"'Dat-Bl'!M162","v":"00:00:00"},0,null,null,0,null,0,null,0,null,0,null,null,0,{"$f":"SUM(P38:P43)-MIN(P38:P43)+O38","v":0}]
["Start-Nr.","Schüler","Geb.Dat.","Schule 7","Bezirk/Bundesland","60m","PUNKTE","Schlagball","PUNKTE","Kugel","PUNKTE","Weit","PUNKTE","5x80M","PUNKTE","SUMME"]
[{"$f":"'Dat-Bl'!K163","v":0},{"$f":"'Dat-Bl'!L163","v":"M7/01-Sport"},{"$f":"'Dat-Bl'!M163","v":"00:00:00"},{"$f":"'Dat-Bl'!N163","v":0},{"$f":"'Dat-Bl'!O163","v":0},null,{"$f":"IF(F45=0,0,INT(17.686955*EXP(2.1*LN((1397-F45*100)/100))))","v":0},null,{"$f":"IF(H45=0,0,INT(18*EXP(0.9*LN((H45*100-800)/100))))","v":0},null,{"$f":"IF(J45=0,0,INT(82.491673*EXP(0.9*LN((J45*100-178)/100))))","v":0},null,{"$f":"IF(L45=0,0,INT(180.85908*EXP(1*LN((L45*100-190)/100))))","v":0},null,{"$f":"IF(N45=0,0,INT(0.355982*EXP(2.1*LN((8600-N45*100)/100))))","v":0},{"$f":"SUM(G45,I45,K45,M45)","v":0}]
[{"$f":"'Dat-Bl'!K164","v":0},{"$f":"'Dat-Bl'!L164","v":"M7/02-Sport"},{"$f":"'Dat-Bl'!M164","v":"00:00:00"},{"$f":"D45","v":0},null,null,0,null,0,null,0,null,0,null,null,0]
[{"$f":"'Dat-Bl'!K165","v":0},{"$f":"'Dat-Bl'!L165","v":"M7/03-Sport"},{"$f":"'Dat-Bl'!M165","v":"00:00:00"},{"$f":"D46","v":0},null,null,0,null,0,null,0,null,0,null,null,0]
[{"$f":"'Dat-Bl'!K166","v":0},{"$f":"'Dat-Bl'!L166","v":"M7/04-Sport"},{"$f":"'Dat-Bl'!M166","v":"00:00:00"},0,null,null,0,null,0,null,0,null,0,null,null,0]
[{"$f":"'Dat-Bl'!K167","v":0},{"$f":"'Dat-Bl'!L167","v":"M7/05-Sport"},{"$f":"'Dat-Bl'!M167","v":"00:00:00"},0,null,null,0,null,0,null,0,null,0,null,null,0,"Gesamtergebnis"]
[{"$f":"'Dat-Bl'!K168","v":0},{"$f":"'Dat-Bl'!L168","v":"M7/06-Sport"},{"$f":"'Dat-Bl'!M168","v":"00:00:00"},0,null,null,0,null,0,null,0,null,0,null,null,0,{"$f":"SUM(P45:P50)-MIN(P45:P50)+O45","v":0}]
["Start-Nr.","Schüler","Geb.Dat.","Schule 8","Bezirk/Bundesland","60m","PUNKTE","Schlagball","PUNKTE","Kugel","PUNKTE","Weit","PUNKTE","5x80M","PUNKTE","SUMME"]
[{"$f":"'Dat-Bl'!K169","v":0},{"$f":"'Dat-Bl'!L169","v":"M8/01-Sport"},{"$f":"'Dat-Bl'!M169","v":"00:00:00"},{"$f":"'Dat-Bl'!N169","v":0},{"$f":"'Dat-Bl'!O169","v":0},null,{"$f":"IF(F52=0,0,INT(17.686955*EXP(2.1*LN((1397-F52*100)/100))))","v":0},null,{"$f":"IF(H52=0,0,INT(18*EXP(0.9*LN((H52*100-800)/100))))","v":0},null,{"$f":"IF(J52=0,0,INT(82.491673*EXP(0.9*LN((J52*100-178)/100))))","v":0},null,{"$f":"IF(L52=0,0,INT(180.85908*EXP(1*LN((L52*100-190)/100))))","v":0},null,{"$f":"IF(N52=0,0,INT(0.355982*EXP(2.1*LN((8600-N52*100)/100))))","v":0},{"$f":"SUM(G52,I52,K52,M52)","v":0}]
[{"$f":"'Dat-Bl'!K170","v":0},{"$f":"'Dat-Bl'!L170","v":"M8/02-Sport"},{"$f":"'Dat-Bl'!M170","v":"00:00:00"},{"$f":"D52","v":0},null,null,0,null,0,null,0,null,0,null,null,0]
[{"$f":"'Dat-Bl'!K171","v":0},{"$f":"'Dat-Bl'!L171","v":"M8/03-Sport"},{"$f":"'Dat-Bl'!M171","v":"00:00:00"},{"$f":"D53","v":0},null,null,0,null,0,null,0,null,0,null,null,0]
[{"$f":"'Dat-Bl'!K172","v":0},{"$f":"'Dat-Bl'!L172","v":"M8/04-Sport"},{"$f":"'Dat-Bl'!M172","v":"00:00:00"},0,null,null,0,null,0,null,0,null,0,null,null,0]
[{"$f":"'Dat-Bl'!K173","v":0},{"$f":"'Dat-Bl'!L173","v":"M8/05-Sport"},{"$f":"'Dat-Bl'!M173","v":"00:00:00"},0,null,null,0,null,0,null,0,null,0,null,null,0,"Gesamtergebnis"]
[{"$f":"'Dat-Bl'!K174","v":0},{"$f":"'Dat-Bl'!L174","v":"M8/06-Sport"},{"$f":"'Dat-Bl'!M174","v":"00:00:00"},0,null,null,0,null,0,null,0,null,0,null,null,0,{"$f":"SUM(P52:P57)-MIN(P52:P57)+O52","v":0}]
["Start-Nr.","Schüler","Geb.Dat.","Schule 9","Bezirk/Bundesland","60m","PUNKTE","Schlagball","PUNKTE","Kugel","PUNKTE","Weit","PUNKTE","5x80M","PUNKTE","SUMME"]
[{"$f":"'Dat-Bl'!K175","v":0},{"$f":"'Dat-Bl'!L175","v":"M9/01-Sport"},{"$f":"'Dat-Bl'!M175","v":"00:00:00"},{"$f":"'Dat-Bl'!N175","v":0},{"$f":"'Dat-Bl'!O175","v":0},null,{"$f":"IF(F59=0,0,INT(17.686955*EXP(2.1*LN((1397-F59*100)/100))))","v":0},null,{"$f":"IF(H59=0,0,INT(18*EXP(0.9*LN((H59*100-800)/100))))","v":0},null,{"$f":"IF(J59=0,0,INT(82.491673*EXP(0.9*LN((J59*100-178)/100))))","v":0},null,{"$f":"IF(L59=0,0,INT(180.85908*EXP(1*LN((L59*100-190)/100))))","v":0},null,{"$f":"IF(N59=0,0,INT(0.355982*EXP(2.1*LN((8600-N59*100)/100))))","v":0},{"$f":"SUM(G59,I59,K59,M59)","v":0}]
[{"$f":"'Dat-Bl'!K176","v":0},{"$f":"'Dat-Bl'!L176","v":"M9/02-Sport"},{"$f":"'Dat-Bl'!M176","v":"00:00:00"},{"$f":"D59","v":0},null,null,0,null,0,null,0,null,0,null,null,0]
[{"$f":"'Dat-Bl'!K177","v":0},{"$f":"'Dat-Bl'!L177","v":"M9/03-Sport"},{"$f":"'Dat-Bl'!M177","v":"00:00:00"},{"$f":"D60","v":0},null,null,0,null,0,null,0,null,0,null,null,0]
[{"$f":"'Dat-Bl'!K178","v":0},{"$f":"'Dat-Bl'!L178","v":"M9/04-Sport"},{"$f":"'Dat-Bl'!M178","v":"00:00:00"},0,null,null,0,null,0,null,0,null,0,null,null,0]
[{"$f":"'Dat-Bl'!K179","v":0},{"$f":"'Dat-Bl'!L179","v":"M9/05-Sport"},{"$f":"'Dat-Bl'!M179","v":"00:00:00"},0,null,null,0,null,0,null,0,null,0,null,null,0,"Gesamtergebnis"]
[{"$f":"'Dat-Bl'!K180","v":0},{"$f":"'Dat-Bl'!L180","v":"M9/06-Sport"},{"$f":"'Dat-Bl'!M180","v":"00:00:00"},0,null,null,0,null,0,null,0,null,0,null,null,0,{"$f":"SUM(P59:P64)-MIN(P59:P64)+O59","v":0}]
["Start-Nr.","Schüler","Geb.Dat.","Schule 10","Bezirk/Bundesland","60m","PUNKTE","Schlagball","PUNKTE","Kugel","PUNKTE","Weit","PUNKTE","5x80M","PUNKTE","SUMME"]
[{"$f":"'Dat-Bl'!K181","v":0},{"$f":"'Dat-Bl'!L181","v":"M10/01-Sport"},{"$f":"'Dat-Bl'!M181","v":"00:00:00"},{"$f":"'Dat-Bl'!N181","v":0},{"$f":"'Dat-Bl'!O181","v":0},null,{"$f":"IF(F66=0,0,INT(17.686955*EXP(2.1*LN((1397-F66*100)/100))))","v":0},null,{"$f":"IF(H66=0,0,INT(18*EXP(0.9*LN((H66*100-800)/100))))","v":0},null,{"$f":"IF(J66=0,0,INT(82.491673*EXP(0.9*LN((J66*100-178)/100))))","v":0},null,{"$f":"IF(L66=0,0,INT(180.85908*EXP(1*LN((L66*100-190)/100))))","v":0},null,{"$f":"IF(N66=0,0,INT(0.355982*EXP(2.1*LN((8600-N66*100)/100))))","v":0},{"$f":"SUM(G66,I66,K66,M66)","v":0}]
[{"$f":"'Dat-Bl'!K182","v":0},{"$f":"'Dat-Bl'!L182","v":"M10/02-Sport"},{"$f":"'Dat-Bl'!M182","v":"00:00:00"},{"$f":"D66","v":0},null,null,0,null,0,null,0,null,0,null,null,0]
[{"$f":"'Dat-Bl'!K183","v":0},{"$f":"'Dat-Bl'!L183","v":"M10/03-Sport"},{"$f":"'Dat-Bl'!M183","v":"00:00:00"},{"$f":"D67","v":0},null,null,0,null,0,null,0,null,0,null,null,0]
[{"$f":"'Dat-Bl'!K184","v":0},{"$f":"'Dat-Bl'!L184","v":"M10/04-Sport"},{"$f":"'Dat-Bl'!M184","v":"00:00:00"},0,null,null,0,null,0,null,0,null,0,null,null,0]
[{"$f":"'Dat-Bl'!K185","v":0},{"$f":"'Dat-Bl'!L185","v":"M10/05-Sport"},{"$f":"'Dat-Bl'!M185","v":"00:00:00"},0,null,null,0,null,0,null,0,null,0,null,null,0,"Gesamtergebnis"]
[{"$f":"'Dat-Bl'!K186","v":0},{"$f":"'Dat-Bl'!L186","v":"M10/06-Sport"},{"$f":"'Dat-Bl'!M186","v":"00:00:00"},0,null,null,0,null,0,null,0,null,0,null,null,0,{"$f":"SUM(P66:P71)-MIN(P66:P71)+O66","v":0}]
["Start-Nr.","Schüler","Geb.Dat.","Schule 11","Bezirk/Bundesland","60m","PUNKTE","Schlagball","PUNKTE","Kugel","PUNKTE","Weit","PUNKTE","5x80M","PUNKTE","SUMME"]
[{"$f":"'Dat-Bl'!K187","v":0},{"$f":"'Dat-Bl'!L187","v":"M11/01-Sport"},{"$f":"'Dat-Bl'!M187","v":"00:00:00"},{"$f":"'Dat-Bl'!N187","v":0},{"$f":"'Dat-Bl'!O187","v":0},null,{"$f":"IF(F73=0,0,INT(17.686955*EXP(2.1*LN((1397-F73*100)/100))))","v":0},null,{"$f":"IF(H73=0,0,INT(18*EXP(0.9*LN((H73*100-800)/100))))","v":0},null,{"$f":"IF(J73=0,0,INT(82.491673*EXP(0.9*LN((J73*100-178)/100))))","v":0},null,{"$f":"IF(L73=0,0,INT(180.85908*EXP(1*LN((L73*100-190)/100))))","v":0},null,{"$f":"IF(N73=0,0,INT(0.355982*EXP(2.1*LN((8600-N73*100)/100))))","v":0},{"$f":"SUM(G73,I73,K73,M73)","v":0}]
[{"$f":"'Dat-Bl'!K188","v":0},{"$f":"'Dat-Bl'!L188","v":"M11/02-Sport"},{"$f":"'Dat-Bl'!M188","v":"00:00:00"},{"$f":"D73","v":0},null,null,0,null,0,null,0,null,0,null,null,0]
[{"$f":"'Dat-Bl'!K189","v":0},{"$f":"'Dat-Bl'!L189","v":"M11/03-Sport"},{"$f":"'Dat-Bl'!M189","v":"00:00:00"},{"$f":"D74","v":0},null,null,0,null,0,null,0,null,0,null,null,0]
[{"$f":"'Dat-Bl'!K190","v":0},{"$f":"'Dat-Bl'!L190","v":"M11/04-Sport"},{"$f":"'Dat-Bl'!M190","v":"00:00:00"},0,null,null,0,null,0,null,0,null,0,null,null,0]
[{"$f":"'Dat-Bl'!K191","v":0},{"$f":"'Dat-Bl'!L191","v":"M11/05-Sport"},{"$f":"'Dat-Bl'!M191","v":"00:00:00"},0,null,null,0,null,0,null,0,null,0,null,null,0,"Gesamtergebnis"]
[{"$f":"'Dat-Bl'!K192","v":0},{"$f":"'Dat-Bl'!L192","v":"M11/06-Sport"},{"$f":"'Dat-Bl'!M192","v":"00:00:00"},0,null,null,0,null,0,null,0,null,0,null,null,0,{"$f":"SUM(P73:P78)-MIN(P73:P78)+O73","v":0}]
["Start-Nr.","Schüler","Geb.Dat.","Schule 12","Bezirk/Bundesland","60m","PUNKTE","Schlagball","PUNKTE","Kugel","PUNKTE","Weit","PUNKTE","5x80M","PUNKTE","SUMME"]
[{"$f":"'Dat-Bl'!K193","v":0},{"$f":"'Dat-Bl'!L193","v":"M12/01-Sport"},{"$f":"'Dat-Bl'!M193","v":"00:00:00"},{"$f":"'Dat-Bl'!N193","v":0},{"$f":"'Dat-Bl'!O193","v":0},null,{"$f":"IF(F80=0,0,INT(17.686955*EXP(2.1*LN((1397-F80*100)/100))))","v":0},null,{"$f":"IF(H80=0,0,INT(18*EXP(0.9*LN((H80*100-800)/100))))","v":0},null,{"$f":"IF(J80=0,0,INT(82.491673*EXP(0.9*LN((J80*100-178)/100))))","v":0},null,{"$f":"IF(L80=0,0,INT(180.85908*EXP(1*LN((L80*100-190)/100))))","v":0},null,{"$f":"IF(N80=0,0,INT(0.355982*EXP(2.1*LN((8600-N80*100)/100))))","v":0},{"$f":"SUM(G80,I80,K80,M80)","v":0}]
[{"$f":"'Dat-Bl'!K194","v":0},{"$f":"'Dat-Bl'!L194","v":"M12/02-Sport"},{"$f":"'Dat-Bl'!M194","v":"00:00:00"},{"$f":"D80","v":0},null,null,0,null,0,null,0,null,0,null,null,0]
[{"$f":"'Dat-Bl'!K195","v":0},{"$f":"'Dat-Bl'!L195","v":"M12/03-Sport"},{"$f":"'Dat-Bl'!M195","v":"00:00:00"},{"$f":"D81","v":0},null,null,0,null,0,null,0,null,0,null,null,0]
[{"$f":"'Dat-Bl'!K196","v":0},{"$f":"'Dat-Bl'!L196","v":"M12/04-Sport"},{"$f":"'Dat-Bl'!M196","v":"00:00:00"},0,null,null,0,null,0,null,0,null,0,null,null,0]
[{"$f":"'Dat-Bl'!K197","v":0},{"$f":"'Dat-Bl'!L197","v":"M12/05-Sport"},{"$f":"'Dat-Bl'!M197","v":"00:00:00"},0,null,null,0,null,0,null,0,null,0,null,null,0,"Gesamtergebnis"]
[{"$f":"'Dat-Bl'!K198","v":0},{"$f":"'Dat-Bl'!L198","v":"M12/06-Sport"},{"$f":"'Dat-Bl'!M198","v":"00:00:00"},0,null,null,0,null,0,null,0,null,0,null,null,0,{"$f":"SUM(P80:P85)-MIN(P80:P85)+O80","v":0}]
["Start-Nr.","Schüler","Geb.Dat.","Schule 13","Bezirk/Bundesland","60m","PUNKTE","Schlagball","PUNKTE","Kugel","PUNKTE","Weit","PUNKTE","5x80M","PUNKTE","SUMME"]
[{"$f":"'Dat-Bl'!K199","v":0},{"$f":"'Dat-Bl'!L199","v":"M13/01-Sport"},{"$f":"'Dat-Bl'!M199","v":"00:00:00"},{"$f":"'Dat-Bl'!N199","v":0},{"$f":"'Dat-Bl'!O199","v":0},null,{"$f":"IF(F87=0,0,INT(17.686955*EXP(2.1*LN((1397-F87*100)/100))))","v":0},null,{"$f":"IF(H87=0,0,INT(18*EXP(0.9*LN((H87*100-800)/100))))","v":0},null,{"$f":"IF(J87=0,0,INT(82.491673*EXP(0.9*LN((J87*100-178)/100))))","v":0},null,{"$f":"IF(L87=0,0,INT(180.85908*EXP(1*LN((L87*100-190)/100))))","v":0},null,{"$f":"IF(N87=0,0,INT(0.355982*EXP(2.1*LN((8600-N87*100)/100))))","v":0},{"$f":"SUM(G87,I87,K87,M87)","v":0}]
[{"$f":"'Dat-Bl'!K200","v":0},{"$f":"'Dat-Bl'!L200","v":"M13/02-Sport"},{"$f":"'Dat-Bl'!M200","v":"00:00:00"},{"$f":"D87","v":0},null,null,0,null,0,null,0,null,0,null,null,0]
[{"$f":"'Dat-Bl'!K201","v":0},{"$f":"'Dat-Bl'!L201","v":"M13/03-Sport"},{"$f":"'Dat-Bl'!M201","v":"00:00:00"},{"$f":"D88","v":0},null,null,0,null,0,null,0,null,0,null,null,0]
[{"$f":"'Dat-Bl'!K202","v":0},{"$f":"'Dat-Bl'!L202","v":"M13/04-Sport"},{"$f":"'Dat-Bl'!M202","v":"00:00:00"},0,null,null,0,null,0,null,0,null,0,null,null,0]
[{"$f":"'Dat-Bl'!K203","v":0},{"$f":"'Dat-Bl'!L203","v":"M13/05-Sport"},{"$f":"'Dat-Bl'!M203","v":"00:00:00"},0,null,null,0,null,0,null,0,null,0,null,null,0,"Gesamtergebnis"]
[{"$f":"'Dat-Bl'!K204","v":0},{"$f":"'Dat-Bl'!L204","v":"M13/06-Sport"},{"$f":"'Dat-Bl'!M204","v":"00:00:00"},0,null,null,0,null,0,null,0,null,0,null,null,0,{"$f":"SUM(P87:P92)-MIN(P87:P92)+O87","v":0}]
["Start-Nr.","Schüler","Geb.Dat.","Schule 14","Bezirk/Bundesland","60m","PUNKTE","Schlagball","PUNKTE","Kugel","PUNKTE","Weit","PUNKTE","5x80M","PUNKTE","SUMME"]
[{"$f":"'Dat-Bl'!K205","v":0},{"$f":"'Dat-Bl'!L205","v":"M14/01-Sport"},{"$f":"'Dat-Bl'!M205","v":"00:00:00"},{"$f":"'Dat-Bl'!N205","v":0},{"$f":"'Dat-Bl'!O205","v":0},null,{"$f":"IF(F94=0,0,INT(17.686955*EXP(2.1*LN((1397-F94*100)/100))))","v":0},null,{"$f":"IF(H94=0,0,INT(18*EXP(0.9*LN((H94*100-800)/100))))","v":0},null,{"$f":"IF(J94=0,0,INT(82.491673*EXP(0.9*LN((J94*100-178)/100))))","v":0},null,{"$f":"IF(L94=0,0,INT(180.85908*EXP(1*LN((L94*100-190)/100))))","v":0},null,{"$f":"IF(N94=0,0,INT(0.355982*EXP(2.1*LN((8600-N94*100)/100))))","v":0},{"$f":"SUM(G94,I94,K94,M94)","v":0}]
[{"$f":"'Dat-Bl'!K206","v":0},{"$f":"'Dat-Bl'!L206","v":"M14/02-Sport"},{"$f":"'Dat-Bl'!M206","v":"00:00:00"},{"$f":"D94","v":0},null,null,0,null,0,null,0,null,0,null,null,0]
[{"$f":"'Dat-Bl'!K207","v":0},{"$f":"'Dat-Bl'!L207","v":"M14/03-Sport"},{"$f":"'Dat-Bl'!M207","v":"00:00:00"},{"$f":"D95","v":0},null,null,0,null,0,null,0,null,0,null,null,0]
[{"$f":"'Dat-Bl'!K208","v":0},{"$f":"'Dat-Bl'!L208","v":"M14/04-Sport"},{"$f":"'Dat-Bl'!M208","v":"00:00:00"},0,null,null,0,null,0,null,0,null,0,null,null,0]
[{"$f":"'Dat-Bl'!K209","v":0},{"$f":"'Dat-Bl'!L209","v":"M14/05-Sport"},{"$f":"'Dat-Bl'!M209","v":"00:00:00"},0,null,null,0,null,0,null,0,null,0,null,null,0,"Gesamtergebnis"]
[{"$f":"'Dat-Bl'!K210","v":0},{"$f":"'Dat-Bl'!L210","v":"M14/06-Sport"},{"$f":"'Dat-Bl'!M210","v":"00:00:00"},0,null,null,0,null,0,null,0,null,0,null,null,0,{"$f":"SUM(P94:P99)-MIN(P94:P99)+O94","v":0}]
["Start-Nr.","Schüler","Geb.Dat.","Schule 15","Bezirk/Bundesland","60m","PUNKTE","Schlagball","PUNKTE","Kugel","PUNKTE","Weit","PUNKTE","5x80M","PUNKTE","SUMME"]
[{"$f":"'Dat-Bl'!K211","v":0},{"$f":"'Dat-Bl'!L211","v":"M15/01-Sport"},{"$f":"'Dat-Bl'!M211","v":"00:00:00"},{"$f":"'Dat-Bl'!N211","v":0},{"$f":"'Dat-Bl'!O211","v":0},null,{"$f":"IF(F101=0,0,INT(17.686955*EXP(2.1*LN((1397-F101*100)/100))))","v":0},null,{"$f":"IF(H101=0,0,INT(18*EXP(0.9*LN((H101*100-800)/100))))","v":0},null,{"$f":"IF(J101=0,0,INT(82.491673*EXP(0.9*LN((J101*100-178)/100))))","v":0},null,{"$f":"IF(L101=0,0,INT(180.85908*EXP(1*LN((L101*100-190)/100))))","v":0},null,{"$f":"IF(N101=0,0,INT(0.355982*EXP(2.1*LN((8600-N101*100)/100))))","v":0},{"$f":"SUM(G101,I101,K101,M101)","v":0}]
[{"$f":"'Dat-Bl'!K212","v":0},{"$f":"'Dat-Bl'!L212","v":"M15/02-Sport"},{"$f":"'Dat-Bl'!M212","v":"00:00:00"},{"$f":"D101","v":0},null,null,0,null,0,null,0,null,0,null,null,0]
[{"$f":"'Dat-Bl'!K213","v":0},{"$f":"'Dat-Bl'!L213","v":"M15/03-Sport"},{"$f":"'Dat-Bl'!M213","v":"00:00:00"},{"$f":"D102","v":0},null,null,0,null,0,null,0,null,0,null,null,0]
[{"$f":"'Dat-Bl'!K214","v":0},{"$f":"'Dat-Bl'!L214","v":"M15/04-Sport"},{"$f":"'Dat-Bl'!M214","v":"00:00:00"},0,null,null,0,null,0,null,0,null,0,null,null,0]
[{"$f":"'Dat-Bl'!K215","v":0},{"$f":"'Dat-Bl'!L215","v":"M15/05-Sport"},{"$f":"'Dat-Bl'!M215","v":"00:00:00"},0,null,null,0,null,0,null,0,null,0,null,null,0,"Gesamtergebnis"]
[{"$f":"'Dat-Bl'!K216","v":0},{"$f":"'Dat-Bl'!L216","v":"M15/06-Sport"},{"$f":"'Dat-Bl'!M216","v":"00:00:00"},0,null,null,0,null,0,null,0,null,0,null,null,0,{"$f":"SUM(P101:P106)-MIN(P101:P106)+O101","v":0}]
["Start-Nr.","Schüler","Geb.Dat.","Schule 16","Bezirk/Bundesland","60m","PUNKTE","Schlagball","PUNKTE","Kugel","PUNKTE","Weit","PUNKTE","5x80M","PUNKTE","SUMME"]
[{"$f":"'Dat-Bl'!K217","v":0},{"$f":"'Dat-Bl'!L217","v":"M16/01-Sport"},{"$f":"'Dat-Bl'!M217","v":"00:00:00"},{"$f":"'Dat-Bl'!N217","v":0},{"$f":"'Dat-Bl'!O217","v":0},null,{"$f":"IF(F108=0,0,INT(17.686955*EXP(2.1*LN((1397-F108*100)/100))))","v":0},null,{"$f":"IF(H108=0,0,INT(18*EXP(0.9*LN((H108*100-800)/100))))","v":0},null,{"$f":"IF(J108=0,0,INT(82.491673*EXP(0.9*LN((J108*100-178)/100))))","v":0},null,{"$f":"IF(L108=0,0,INT(180.85908*EXP(1*LN((L108*100-190)/100))))","v":0},null,{"$f":"IF(N108=0,0,INT(0.355982*EXP(2.1*LN((8600-N108*100)/100))))","v":0},{"$f":"SUM(G108,I108,K108,M108)","v":0}]
[{"$f":"'Dat-Bl'!K218","v":0},{"$f":"'Dat-Bl'!L218","v":"M16/02-Sport"},{"$f":"'Dat-Bl'!M218","v":"00:00:00"},{"$f":"D108","v":0},null,null,0,null,0,null,0,null,0,null,null,0]
[{"$f":"'Dat-Bl'!K219","v":0},{"$f":"'Dat-Bl'!L219","v":"M16/03-Sport"},{"$f":"'Dat-Bl'!M219","v":"00:00:00"},{"$f":"D109","v":0},null,null,0,null,0,null,0,null,0,null,null,0]
[{"$f":"'Dat-Bl'!K220","v":0},{"$f":"'Dat-Bl'!L220","v":"M16/04-Sport"},{"$f":"'Dat-Bl'!M220","v":"00:00:00"},0,null,null,0,null,0,null,0,null,0,null,null,0]
[{"$f":"'Dat-Bl'!K221","v":0},{"$f":"'Dat-Bl'!L221","v":"M16/05-Sport"},{"$f":"'Dat-Bl'!M221","v":"00:00:00"},0,null,null,0,null,0,null,0,null,0,null,null,0,"Gesamtergebnis"]
[{"$f":"'Dat-Bl'!K222","v":0},{"$f":"'Dat-Bl'!L222","v":"M16/06-Sport"},{"$f":"'Dat-Bl'!M222","v":"00:00:00"},0,null,null,0,null,0,null,0,null,0,null,null,0,{"$f":"SUM(P108:P113)-MIN(P108:P113)+O108","v":0}]
["Start-Nr.","Schüler","Geb.Dat.","Schule 17","Bezirk/Bundesland","60m","PUNKTE","Schlagball","PUNKTE","Kugel","PUNKTE","Weit","PUNKTE","5x80M","PUNKTE","SUMME"]
[{"$f":"'Dat-Bl'!K223","v":0},{"$f":"'Dat-Bl'!L223","v":"M17/01-Sport"},{"$f":"'Dat-Bl'!M223","v":"00:00:00"},{"$f":"'Dat-Bl'!N223","v":0},{"$f":"'Dat-Bl'!O223","v":0},null,{"$f":"IF(F115=0,0,INT(17.686955*EXP(2.1*LN((1397-F115*100)/100))))","v":0},null,{"$f":"IF(H115=0,0,INT(18*EXP(0.9*LN((H115*100-800)/100))))","v":0},null,{"$f":"IF(J115=0,0,INT(82.491673*EXP(0.9*LN((J115*100-178)/100))))","v":0},null,{"$f":"IF(L115=0,0,INT(180.85908*EXP(1*LN((L115*100-190)/100))))","v":0},null,{"$f":"IF(N115=0,0,INT(0.355982*EXP(2.1*LN((8600-N115*100)/100))))","v":0},{"$f":"SUM(G115,I115,K115,M115)","v":0}]
[{"$f":"'Dat-Bl'!K224","v":0},{"$f":"'Dat-Bl'!L224","v":"M17/02-Sport"},{"$f":"'Dat-Bl'!M224","v":"00:00:00"},{"$f":"D115","v":0},null,null,0,null,0,null,0,null,0,null,null,0]
[{"$f":"'Dat-Bl'!K225","v":0},{"$f":"'Dat-Bl'!L225","v":"M17/03-Sport"},{"$f":"'Dat-Bl'!M225","v":"00:00:00"},{"$f":"D116","v":0},null,null,0,null,0,null,0,null,0,null,null,0]
[{"$f":"'Dat-Bl'!K226","v":0},{"$f":"'Dat-Bl'!L226","v":"M17/04-Sport"},{"$f":"'Dat-Bl'!M226","v":"00:00:00"},0,null,null,0,null,0,null,0,null,0,null,null,0]
[{"$f":"'Dat-Bl'!K227","v":0},{"$f":"'Dat-Bl'!L227","v":"M17/05-Sport"},{"$f":"'Dat-Bl'!M227","v":"00:00:00"},0,null,null,0,null,0,null,0,null,0,null,null,0,"Gesamtergebnis"]
[{"$f":"'Dat-Bl'!K228","v":0},{"$f":"'Dat-Bl'!L228","v":"M17/06-Sport"},{"$f":"'Dat-Bl'!M228","v":"00:00:00"},0,null,null,0,null,0,null,0,null,0,null,null,0,{"$f":"SUM(P115:P120)-MIN(P115:P120)+O115","v":0}]
["Start-Nr.","Schüler","Geb.Dat.","Schule 18","Bezirk/Bundesland","60m","PUNKTE","Schlagball","PUNKTE","Kugel","PUNKTE","Weit","PUNKTE","5x80M","PUNKTE","SUMME"]
[{"$f":"'Dat-Bl'!K229","v":0},{"$f":"'Dat-Bl'!L229","v":"M18/01-Sport"},{"$f":"'Dat-Bl'!M229","v":"00:00:00"},{"$f":"'Dat-Bl'!N229","v":0},{"$f":"'Dat-Bl'!O229","v":0},null,{"$f":"IF(F122=0,0,INT(17.686955*EXP(2.1*LN((1397-F122*100)/100))))","v":0},null,{"$f":"IF(H122=0,0,INT(18*EXP(0.9*LN((H122*100-800)/100))))","v":0},null,{"$f":"IF(J122=0,0,INT(82.491673*EXP(0.9*LN((J122*100-178)/100))))","v":0},null,{"$f":"IF(L122=0,0,INT(180.85908*EXP(1*LN((L122*100-190)/100))))","v":0},null,{"$f":"IF(N122=0,0,INT(0.355982*EXP(2.1*LN((8600-N122*100)/100))))","v":0},{"$f":"SUM(G122,I122,K122,M122)","v":0}]
[{"$f":"'Dat-Bl'!K230","v":0},{"$f":"'Dat-Bl'!L230","v":"M18/02-Sport"},{"$f":"'Dat-Bl'!M230","v":"00:00:00"},{"$f":"D122","v":0},null,null,0,null,0,null,0,null,0,null,null,0]
[{"$f":"'Dat-Bl'!K231","v":0},{"$f":"'Dat-Bl'!L231","v":"M18/03-Sport"},{"$f":"'Dat-Bl'!M231","v":"00:00:00"},{"$f":"D123","v":0},null,null,0,null,0,null,0,null,0,null,null,0]
[{"$f":"'Dat-Bl'!K232","v":0},{"$f":"'Dat-Bl'!L232","v":"M18/04-Sport"},{"$f":"'Dat-Bl'!M232","v":"00:00:00"},0,null,null,0,null,0,null,0,null,0,null,null,0]
[{"$f":"'Dat-Bl'!K233","v":0},{"$f":"'Dat-Bl'!L233","v":"M18/05-Sport"},{"$f":"'Dat-Bl'!M233","v":"00:00:00"},0,null,null,0,null,0,null,0,null,0,null,null,0,"Gesamtergebnis"]
[{"$f":"'Dat-Bl'!K234","v":0},{"$f":"'Dat-Bl'!L234","v":"M18/06-Sport"},{"$f":"'Dat-Bl'!M234","v":"00:00:00"},0,null,null,0,null,0,null,0,null,0,null,null,0,{"$f":"SUM(P122:P127)-MIN(P122:P127)+O122","v":0}]
["Start-Nr.","Schüler","Geb.Dat.","Schule 19","Bezirk/Bundesland","60m","PUNKTE","Schlagball","PUNKTE","Kugel","PUNKTE","Weit","PUNKTE","5x80M","PUNKTE","SUMME"]
[{"$f":"'Dat-Bl'!K235","v":0},{"$f":"'Dat-Bl'!L235","v":"M19/01-Sport"},{"$f":"'Dat-Bl'!M235","v":"00:00:00"},{"$f":"'Dat-Bl'!N235","v":0},{"$f":"'Dat-Bl'!O235","v":0},null,{"$f":"IF(F129=0,0,INT(17.686955*EXP(2.1*LN((1397-F129*100)/100))))","v":0},null,{"$f":"IF(H129=0,0,INT(18*EXP(0.9*LN((H129*100-800)/100))))","v":0},null,{"$f":"IF(J129=0,0,INT(82.491673*EXP(0.9*LN((J129*100-178)/100))))","v":0},null,{"$f":"IF(L129=0,0,INT(180.85908*EXP(1*LN((L129*100-190)/100))))","v":0},null,{"$f":"IF(N129=0,0,INT(0.355982*EXP(2.1*LN((8600-N129*100)/100))))","v":0},{"$f":"SUM(G129,I129,K129,M129)","v":0}]
[{"$f":"'Dat-Bl'!K236","v":0},{"$f":"'Dat-Bl'!L236","v":"M19/02-Sport"},{"$f":"'Dat-Bl'!M236","v":"00:00:00"},{"$f":"D129","v":0},null,null,0,null,0,null,0,null,0,null,null,0]
[{"$f":"'Dat-Bl'!K237","v":0},{"$f":"'Dat-Bl'!L237","v":"M19/03-Sport"},{"$f":"'Dat-Bl'!M237","v":"00:00:00"},{"$f":"D130","v":0},null,null,0,null,0,null,0,null,0,null,null,0]
[{"$f":"'Dat-Bl'!K238","v":0},{"$f":"'Dat-Bl'!L238","v":"M19/04-Sport"},{"$f":"'Dat-Bl'!M238","v":"00:00:00"},0,null,null,0,null,0,null,0,null,0,null,null,0]
[{"$f":"'Dat-Bl'!K239","v":0},{"$f":"'Dat-Bl'!L239","v":"M19/05-Sport"},{"$f":"'Dat-Bl'!M239","v":"00:00:00"},0,null,null,0,null,0,null,0,null,0,null,null,0,"Gesamtergebnis"]
[{"$f":"'Dat-Bl'!K240","v":0},{"$f":"'Dat-Bl'!L240","v":"M19/06-Sport"},{"$f":"'Dat-Bl'!M240","v":"00:00:00"},0,null,null,0,null,0,null,0,null,0,null,null,0,{"$f":"SUM(P129:P134)-MIN(P129:P134)+O129","v":0}]
["Start-Nr.","Schüler","Geb.Dat.","Schule 20","Bezirk/Bundesland","60m","PUNKTE","Schlagball","PUNKTE","Kugel","PUNKTE","Weit","PUNKTE","5x80M","PUNKTE","SUMME"]
[{"$f":"'Dat-Bl'!K241","v":0},{"$f":"'Dat-Bl'!L241","v":"M20/01-Sport"},{"$f":"'Dat-Bl'!M241","v":"00:00:00"},{"$f":"'Dat-Bl'!N241","v":0},{"$f":"'Dat-Bl'!O241","v":0},null,{"$f":"IF(F136=0,0,INT(17.686955*EXP(2.1*LN((1397-F136*100)/100))))","v":0},null,{"$f":"IF(H136=0,0,INT(18*EXP(0.9*LN((H136*100-800)/100))))","v":0},null,{"$f":"IF(J136=0,0,INT(82.491673*EXP(0.9*LN((J136*100-178)/100))))","v":0},null,{"$f":"IF(L136=0,0,INT(180.85908*EXP(1*LN((L136*100-190)/100))))","v":0},null,{"$f":"IF(N136=0,0,INT(0.355982*EXP(2.1*LN((8600-N136*100)/100))))","v":0},{"$f":"SUM(G136,I136,K136,M136)","v":0}]
[{"$f":"'Dat-Bl'!K242","v":0},{"$f":"'Dat-Bl'!L242","v":"M20/02-Sport"},{"$f":"'Dat-Bl'!M242","v":"00:00:00"},{"$f":"D136","v":0},null,null,0,null,0,null,0,null,0,null,null,0]
[{"$f":"'Dat-Bl'!K243","v":0},{"$f":"'Dat-Bl'!L243","v":"M20/03-Sport"},{"$f":"'Dat-Bl'!M243","v":"00:00:00"},{"$f":"D137","v":0},null,null,0,null,0,null,0,null,0,null,null,0]
[{"$f":"'Dat-Bl'!K244","v":0},{"$f":"'Dat-Bl'!L244","v":"M20/04-Sport"},{"$f":"'Dat-Bl'!M244","v":"00:00:00"},0,null,null,0,null,0,null,0,null,0,null,null,0]
[{"$f":"'Dat-Bl'!K245","v":0},{"$f":"'Dat-Bl'!L245","v":"M20/05-Sport"},{"$f":"'Dat-Bl'!M245","v":"00:00:00"},0,null,null,0,null,0,null,0,null,0,null,null,0,"Gesamtergebnis"]
[{"$f":"'Dat-Bl'!K246","v":0},{"$f":"'Dat-Bl'!L246","v":"M20/06-Sport"},{"$f":"'Dat-Bl'!M246","v":"00:00:00"},0,null,null,0,null,0,null,0,null,0,null,null,0,{"$f":"SUM(P136:P141)-MIN(P136:P141)+O136","v":0}]

{"sheet":"Sum-w_R","index":6,"n_rows":22,"n_cols":5,"rows_kept":22,"cut":false,"hidden":false,"merged":[[0,3,0,4],[0,0,0,1]]}
[{"$f":"'w-E_R'!A1","v":"Wettkampfdaten-Art"},null,{"$f":"'w-E_R'!C1","v":"D-C/Regel-Schulen"},{"$f":"'w-E_R'!E1","v":"Ortsangabe,Datum"}]
["Rang","Mannschaft-SCHÜLERINNEN","Bundesland/Bezirk","Punkte"]
[{"$f":"RANK(D3,$D$3:$D$22,0)","v":1},{"$f":"'w-E_R'!D115","v":0},{"$f":"'w-E_R'!E115","v":0},{"$f":"'w-E_R'!Q120","v":0},"Pkt."]
[1,{"$f":"'w-E_R'!D87","v":0},{"$f":"'w-E_R'!E87","v":0},{"$f":"'w-E_R'!Q92","v":0},"Pkt."]
[1,{"$f":"'w-E_R'!D52","v":0},{"$f":"'w-E_R'!E52","v":0},{"$f":"'w-E_R'!Q57","v":0},"Pkt."]
[1,{"$f":"'w-E_R'!D129","v":0},{"$f":"'w-E_R'!E129","v":0},{"$f":"'w-E_R'!Q134","v":0},"Pkt."]
[1,{"$f":"'w-E_R'!D10","v":0},{"$f":"'w-E_R'!E10","v":0},{"$f":"'w-E_R'!Q15","v":0},"Pkt."]
[1,{"$f":"'w-E_R'!D94","v":0},{"$f":"'w-E_R'!E94","v":0},{"$f":"'w-E_R'!Q99","v":0},"Pkt."]
[1,{"$f":"'w-E_R'!D17","v":0},{"$f":"'w-E_R'!E17","v":0},{"$f":"'w-E_R'!Q22","v":0},"Pkt."]
[1,{"$f":"'w-E_R'!D136","v":0},{"$f":"'w-E_R'!E136","v":0},{"$f":"'w-E_R'!Q141","v":0},"Pkt."]
[1,{"$f":"'w-E_R'!D24","v":0},{"$f":"'w-E_R'!E24","v":0},{"$f":"'w-E_R'!Q29","v":0},"Pkt."]
[1,{"$f":"'w-E_R'!D31","v":0},{"$f":"'w-E_R'!E31","v":0},{"$f":"'w-E_R'!Q36","v":0},"Pkt."]
[1,{"$f":"'w-E_R'!D73","v":0},{"$f":"'w-E_R'!E73","v":0},{"$f":"'w-E_R'!Q78","v":0},"Pkt."]
[1,{"$f":"'w-E_R'!D38","v":0},{"$f":"'w-E_R'!E38","v":0},{"$f":"'w-E_R'!Q43","v":0},"Pkt."]
[1,{"$f":"'w-E_R'!D66","v":0},{"$f":"'w-E_R'!E66","v":0},{"$f":"'w-E_R'!Q71","v":0},"Pkt."]
[1,{"$f":"'w-E_R'!D3","v":0},{"$f":"'w-E_R'!E3","v":0},{"$f":"'w-E_R'!Q8","v":0},"Pkt."]
[1,{"$f":"'w-E_R'!D45","v":0},{"$f":"'w-E_R'!E45","v":0},{"$f":"'w-E_R'!Q50","v":0},"Pkt."]
[1,{"$f":"'w-E_R'!D80","v":0},{"$f":"'w-E_R'!E80","v":0},{"$f":"'w-E_R'!Q85","v":0},"Pkt."]
[1,{"$f":"'w-E_R'!D122","v":0},{"$f":"'w-E_R'!E122","v":0},{"$f":"'w-E_R'!Q127","v":0},"Pkt."]
[1,{"$f":"'w-E_R'!D59","v":0},{"$f":"'w-E_R'!E59","v":0},{"$f":"'w-E_R'!Q64","v":0},"Pkt."]
[1,{"$f":"'w-E_R'!D101","v":0},{"$f":"'w-E_R'!E101","v":0},{"$f":"'w-E_R'!Q106","v":0},"Pkt."]
[1,{"$f":"'w-E_R'!D108","v":0},{"$f":"'w-E_R'!E108","v":0},{"$f":"'w-E_R'!Q113","v":0},"Pkt."]

{"sheet":"Sum-w_Sp","index":7,"n_rows":22,"n_cols":5,"rows_kept":22,"cut":false,"hidden":false,"merged":[[0,0,0,1],[0,3,0,4]]}
[{"$f":"'w-E_Sp'!A1","v":"Wettkampfdaten-Art"},null,{"$f":"'w-E_Sp'!C1","v":"D-C/Sport-Schwerpunkt"},{"$f":"'w-E_Sp'!E1","v":"Ortsangabe,Datum"}]
["Rang","Mannschaft-SCHÜLERINNEN","Bundesland/Bezirk","Punkte"]
[{"$f":"RANK(D3,$D$3:$D$22,0)","v":1},{"$f":"'w-E_Sp'!D52","v":0},{"$f":"'w-E_Sp'!E52","v":0},{"$f":"'w-E_Sp'!Q57","v":0},"Pkt."]
[1,{"$f":"'w-E_Sp'!D59","v":0},{"$f":"'w-E_Sp'!E59","v":0},{"$f":"'w-E_Sp'!Q64","v":0},"Pkt."]
[1,{"$f":"'w-E_Sp'!D45","v":0},{"$f":"'w-E_Sp'!E45","v":0},{"$f":"'w-E_Sp'!Q50","v":0},"Pkt."]
[1,{"$f":"'w-E_Sp'!D3","v":0},{"$f":"'w-E_Sp'!E3","v":0},{"$f":"'w-E_Sp'!Q8","v":0},"Pkt."]
[1,{"$f":"'w-E_Sp'!D38","v":0},{"$f":"'w-E_Sp'!E38","v":0},{"$f":"'w-E_Sp'!Q43","v":0},"Pkt."]
[1,{"$f":"'w-E_Sp'!D31","v":0},{"$f":"'w-E_Sp'!E31","v":0},{"$f":"'w-E_Sp'!Q36","v":0},"Pkt."]
[1,{"$f":"'w-E_Sp'!D10","v":0},{"$f":"'w-E_Sp'!E10","v":0},{"$f":"'w-E_Sp'!Q15","v":0},"Pkt."]
[1,{"$f":"'w-E_Sp'!D17","v":0},{"$f":"'w-E_Sp'!E17","v":0},{"$f":"'w-E_Sp'!Q22","v":0},"Pkt."]
[1,{"$f":"'w-E_Sp'!D24","v":0},{"$f":"'w-E_Sp'!E24","v":0},{"$f":"'w-E_Sp'!Q29","v":0},"Pkt."]
[1,{"$f":"'w-E_Sp'!D66","v":0},{"$f":"'w-E_Sp'!E66","v":0},{"$f":"'w-E_Sp'!Q71","v":0},"Pkt."]
[1,{"$f":"'w-E_Sp'!D73","v":0},{"$f":"'w-E_Sp'!E73","v":0},{"$f":"'w-E_Sp'!Q78","v":0},"Pkt."]
[1,{"$f":"'w-E_Sp'!D80","v":0},{"$f":"'w-E_Sp'!E80","v":0},{"$f":"'w-E_Sp'!Q85","v":0},"Pkt."]
[1,{"$f":"'w-E_Sp'!D87","v":0},{"$f":"'w-E_Sp'!E87","v":0},{"$f":"'w-E_Sp'!Q92","v":0},"Pkt."]
[1,{"$f":"'w-E_Sp'!D94","v":0},{"$f":"'w-E_Sp'!E94","v":0},{"$f":"'w-E_Sp'!Q99","v":0},"Pkt."]
[1,{"$f":"'w-E_Sp'!D101","v":0},{"$f":"'w-E_Sp'!E101","v":0},{"$f":"'w-E_Sp'!Q106","v":0},"Pkt."]
[1,{"$f":"'w-E_Sp'!D108","v":0},{"$f":"'w-E_Sp'!E108","v":0},{"$f":"'w-E_Sp'!Q113","v":0},"Pkt."]
[1,{"$f":"'w-E_Sp'!D115","v":0},{"$f":"'w-E_Sp'!E115","v":0},{"$f":"'w-E_Sp'!Q120","v":0},"Pkt."]
[1,{"$f":"'w-E_Sp'!D122","v":0},{"$f":"'w-E_Sp'!E122","v":0},{"$f":"'w-E_Sp'!Q127","v":0},"Pkt."]
[1,{"$f":"'w-E_Sp'!D129","v":0},{"$f":"'w-E_Sp'!E129","v":0},{"$f":"'w-E_Sp'!Q134","v":0},"Pkt."]
[1,{"$f":"'w-E_Sp'!D136","v":0},{"$f":"'w-E_Sp'!E136","v":0},{"$f":"'w-E_Sp'!Q141","v":0},"Pkt."]

{"sheet":"Sum-m_R","index":8,"n_rows":22,"n_cols":5,"rows_kept":22,"cut":false,"hidden":false,"merged":[[0,0,0,1],[0,3,0,4]]}
[{"$f":"'m-E_R'!A1","v":"Wettkampfdaten-Art"},null,{"$f":"'m-E_R'!C1","v":"D-C/Regel-Schulen"},{"$f":"'m-E_R'!E1","v":"Ortsangabe,Datum"}]
["Rang","Mannschaft- SCHÜLER","Bundesland/Bezirk","Punkte"]
[{"$f":"RANK(D3,$D$3:$D$22,0)","v":1},{"$f":"'m-E_R'!D38","v":0},{"$f":"'m-E_R'!E38","v":0},{"$f":"'m-E_R'!Q43","v":0},"Pkt."]
[1,{"$f":"'m-E_R'!D52","v":0},{"$f":"'m-E_R'!E52","v":0},{"$f":"'m-E_R'!Q57","v":0},"Pkt."]
[1,{"$f":"'m-E_R'!D31","v":0},{"$f":"'m-E_R'!E31","v":0},{"$f":"'m-E_R'!Q36","v":0},"Pkt."]
[1,{"$f":"'m-E_R'!D59","v":0},{"$f":"'m-E_R'!E59","v":0},{"$f":"'m-E_R'!Q64","v":0},"Pkt."]
[1,{"$f":"'m-E_R'!D3","v":0},{"$f":"'m-E_R'!E3","v":0},{"$f":"'m-E_R'!Q8","v":0},"Pkt."]
[1,{"$f":"'m-E_R'!D17","v":0},{"$f":"'m-E_R'!E17","v":0},{"$f":"'m-E_R'!Q22","v":0},"Pkt."]
[1,{"$f":"'m-E_R'!D45","v":0},{"$f":"'m-E_R'!E45","v":0},{"$f":"'m-E_R'!Q50","v":0},"Pkt."]
[1,{"$f":"'m-E_R'!D10","v":0},{"$f":"'m-E_R'!E10","v":0},{"$f":"'m-E_R'!Q15","v":0},"Pkt."]
[1,{"$f":"'m-E_R'!D24","v":0},{"$f":"'m-E_R'!E24","v":0},{"$f":"'m-E_R'!Q29","v":0},"Pkt."]
[1,{"$f":"'m-E_R'!D66","v":0},{"$f":"'m-E_R'!E66","v":0},{"$f":"'m-E_R'!Q71","v":0},"Pkt."]
[1,{"$f":"'m-E_R'!D73","v":0},{"$f":"'m-E_R'!E73","v":0},{"$f":"'m-E_R'!Q78","v":0},"Pkt."]
[1,{"$f":"'m-E_R'!D80","v":0},{"$f":"'m-E_R'!E80","v":0},{"$f":"'m-E_R'!Q85","v":0},"Pkt."]
[1,{"$f":"'m-E_R'!D87","v":0},{"$f":"'m-E_R'!E87","v":0},{"$f":"'m-E_R'!Q92","v":0},"Pkt."]
[1,{"$f":"'m-E_R'!D94","v":0},{"$f":"'m-E_R'!E94","v":0},{"$f":"'m-E_R'!Q99","v":0},"Pkt."]
[1,{"$f":"'m-E_R'!D101","v":0},{"$f":"'m-E_R'!E101","v":0},{"$f":"'m-E_R'!Q106","v":0},"Pkt."]
[1,{"$f":"'m-E_R'!D108","v":0},{"$f":"'m-E_R'!E108","v":0},{"$f":"'m-E_R'!Q113","v":0},"Pkt."]
[1,{"$f":"'m-E_R'!D115","v":0},{"$f":"'m-E_R'!E115","v":0},{"$f":"'m-E_R'!Q120","v":0},"Pkt."]
[1,{"$f":"'m-E_R'!D122","v":0},{"$f":"'m-E_R'!E122","v":0},{"$f":"'m-E_R'!Q127","v":0},"Pkt."]
[1,{"$f":"'m-E_R'!D129","v":0},{"$f":"'m-E_R'!E129","v":0},{"$f":"'m-E_R'!Q134","v":0},"Pkt."]
[1,{"$f":"'m-E_R'!D136","v":0},{"$f":"'m-E_R'!E136","v":0},{"$f":"'m-E_R'!Q141","v":0},"Pkt."]

{"sheet":"Sum-m_Sp","index":9,"n_rows":22,"n_cols":5,"rows_kept":22,"cut":false,"hidden":false,"merged":[[0,0,0,1],[0,3,0,4]]}
[{"$f":"'m-E_Sp'!A1","v":"Wettkampfdaten-Art"},null,{"$f":"'m-E_Sp'!C1","v":"D-C/Sport-Schwerpunkt"},{"$f":"'m-E_Sp'!E1","v":"Ortsangabe,Datum"}]
["Rang","Mannschaft- SCHÜLER","Bundesland/Bezirk","Punkte"]
[{"$f":"RANK(D3,$D$3:$D$22,0)","v":1},{"$f":"'m-E_Sp'!D59","v":0},{"$f":"'m-E_Sp'!E59","v":0},{"$f":"'m-E_Sp'!Q64","v":0},"Pkt."]
[1,{"$f":"'m-E_Sp'!D3","v":0},{"$f":"'m-E_Sp'!E3","v":0},{"$f":"'m-E_Sp'!Q8","v":0},"Pkt."]
[1,{"$f":"'m-E_Sp'!D52","v":0},{"$f":"'m-E_Sp'!E52","v":0},{"$f":"'m-E_Sp'!Q57","v":0},"Pkt."]
[1,{"$f":"'m-E_Sp'!D38","v":0},{"$f":"'m-E_Sp'!E38","v":0},{"$f":"'m-E_Sp'!Q43","v":0},"Pkt."]
[1,{"$f":"'m-E_Sp'!D17","v":0},{"$f":"'m-E_Sp'!E17","v":0},{"$f":"'m-E_Sp'!Q22","v":0},"Pkt."]
[1,{"$f":"'m-E_Sp'!D10","v":0},{"$f":"'m-E_Sp'!E10","v":0},{"$f":"'m-E_Sp'!Q15","v":0},"Pkt."]
[1,{"$f":"'m-E_Sp'!D31","v":0},{"$f":"'m-E_Sp'!E31","v":0},{"$f":"'m-E_Sp'!Q36","v":0},"Pkt."]
[1,{"$f":"'m-E_Sp'!D24","v":0},{"$f":"'m-E_Sp'!E24","v":0},{"$f":"'m-E_Sp'!Q29","v":0},"Pkt."]
[1,{"$f":"'m-E_Sp'!D45","v":0},{"$f":"'m-E_Sp'!E45","v":0},{"$f":"'m-E_Sp'!Q50","v":0},"Pkt."]
[1,{"$f":"'m-E_Sp'!D66","v":0},{"$f":"'m-E_Sp'!E66","v":0},{"$f":"'m-E_Sp'!Q71","v":0},"Pkt."]
[1,{"$f":"'m-E_Sp'!D73","v":0},{"$f":"'m-E_Sp'!E73","v":0},{"$f":"'m-E_Sp'!Q78","v":0},"Pkt."]
[1,{"$f":"'m-E_Sp'!D80","v":0},{"$f":"'m-E_Sp'!E80","v":0},{"$f":"'m-E_Sp'!Q85","v":0},"Pkt."]
[1,{"$f":"'m-E_Sp'!D87","v":0},{"$f":"'m-E_Sp'!E87","v":0},{"$f":"'m-E_Sp'!Q92","v":0},"Pkt."]
[1,{"$f":"'m-E_Sp'!D94","v":0},{"$f":"'m-E_Sp'!E94","v":0},{"$f":"'m-E_Sp'!Q99","v":0},"Pkt."]
[1,{"$f":"'m-E_Sp'!D101","v":0},{"$f":"'m-E_Sp'!E101","v":0},{"$f":"'m-E_Sp'!Q106","v":0},"Pkt."]
[1,{"$f":"'m-E_Sp'!D108","v":0},{"$f":"'m-E_Sp'!E108","v":0},{"$f":"'m-E_Sp'!Q113","v":0},"Pkt."]
[1,{"$f":"'m-E_Sp'!D115","v":0},{"$f":"'m-E_Sp'!E115","v":0},{"$f":"'m-E_Sp'!Q120","v":0},"Pkt."]
[1,{"$f":"'m-E_Sp'!D122","v":0},{"$f":"'m-E_Sp'!E122","v":0},{"$f":"'m-E_Sp'!Q127","v":0},"Pkt."]
[1,{"$f":"'m-E_Sp'!D129","v":0},{"$f":"'m-E_Sp'!E129","v":0},{"$f":"'m-E_Sp'!Q134","v":0},"Pkt."]
[1,{"$f":"'m-E_Sp'!D136","v":0},{"$f":"'m-E_Sp'!E136","v":0},{"$f":"'m-E_Sp'!Q141","v":0},"Pkt."]

{"sheet":"Ez-w-R","index":10,"n_rows":122,"n_cols":5,"rows_kept":122,"cut":false,"hidden":false,"merged":[[0,0,0,1],[0,3,0,4]]}
[{"$f":"'w-E_R'!A1","v":"Wettkampfdaten-Art"},null,{"$f":"'w-E_R'!C1","v":"D-C/Regel-Schulen"},{"$f":"'w-E_R'!E1","v":"Ortsangabe,Datum"}]
["Rang","SCHÜLERINNEN","Schule:","Punkte"]
[{"$f":"RANK(D3,$D$3:$D$122,0)","v":1},{"$f":"'w-E_R'!B3","v":"W1/01-Regel"},{"$f":"'w-E_R'!D3","v":0},{"$f":"'w-E_R'!P3","v":0},"Pkt."]
[1,{"$f":"'w-E_R'!B4","v":"W1/02-Regel"},{"$f":"'w-E_R'!D4","v":0},{"$f":"'w-E_R'!P4","v":0},"Pkt."]
[1,{"$f":"'w-E_R'!B5","v":"W1/03-Regel"},{"$f":"'w-E_R'!D5","v":0},{"$f":"'w-E_R'!P5","v":0},"Pkt."]
[1,{"$f":"'w-E_R'!B6","v":"W1/04-Regel"},{"$f":"'w-E_R'!D6","v":0},{"$f":"'w-E_R'!P6","v":0},"Pkt."]
[1,{"$f":"'w-E_R'!B7","v":"W1/05-Regel"},{"$f":"'w-E_R'!D7","v":0},{"$f":"'w-E_R'!P7","v":0},"Pkt."]
[1,{"$f":"'w-E_R'!B8","v":"W1/06-Regel"},{"$f":"'w-E_R'!D8","v":0},{"$f":"'w-E_R'!P8","v":0},"Pkt."]
[1,{"$f":"'w-E_R'!B10","v":"W2/01-Regel"},{"$f":"'w-E_R'!D10","v":0},{"$f":"'w-E_R'!P10","v":0},"Pkt."]
[1,{"$f":"'w-E_R'!B11","v":"W2/02-Regel"},{"$f":"'w-E_R'!D11","v":0},{"$f":"'w-E_R'!P11","v":0},"Pkt."]
[1,{"$f":"'w-E_R'!B12","v":"W2/03-Regel"},{"$f":"'w-E_R'!D12","v":0},{"$f":"'w-E_R'!P12","v":0},"Pkt."]
[1,{"$f":"'w-E_R'!B13","v":"W2/04-Regel"},{"$f":"'w-E_R'!D13","v":0},{"$f":"'w-E_R'!P13","v":0},"Pkt."]
[1,{"$f":"'w-E_R'!B14","v":"W2/05-Regel"},{"$f":"'w-E_R'!D14","v":0},{"$f":"'w-E_R'!P14","v":0},"Pkt."]
[1,{"$f":"'w-E_R'!B15","v":"W2/06-Regel"},{"$f":"'w-E_R'!D15","v":0},{"$f":"'w-E_R'!P15","v":0},"Pkt."]
[1,{"$f":"'w-E_R'!B17","v":"W3/01-Regel"},{"$f":"'w-E_R'!D17","v":0},{"$f":"'w-E_R'!P17","v":0},"Pkt."]
[1,{"$f":"'w-E_R'!B18","v":"W3/02-Regel"},{"$f":"'w-E_R'!D18","v":0},{"$f":"'w-E_R'!P18","v":0},"Pkt."]
[1,{"$f":"'w-E_R'!B19","v":"W3/03-Regel"},{"$f":"'w-E_R'!D19","v":0},{"$f":"'w-E_R'!P19","v":0},"Pkt."]
[1,{"$f":"'w-E_R'!B20","v":"W3/04-Regel"},{"$f":"'w-E_R'!D20","v":0},{"$f":"'w-E_R'!P20","v":0},"Pkt."]
[1,{"$f":"'w-E_R'!B21","v":"W3/05-Regel"},{"$f":"'w-E_R'!D21","v":0},{"$f":"'w-E_R'!P21","v":0},"Pkt."]
[1,{"$f":"'w-E_R'!B22","v":"W3/06-Regel"},{"$f":"'w-E_R'!D22","v":0},{"$f":"'w-E_R'!P22","v":0},"Pkt."]
[1,{"$f":"'w-E_R'!B24","v":"W4/01-Regel"},{"$f":"'w-E_R'!D24","v":0},{"$f":"'w-E_R'!P24","v":0},"Pkt."]
[1,{"$f":"'w-E_R'!B25","v":"W4/02-Regel"},{"$f":"'w-E_R'!D25","v":0},{"$f":"'w-E_R'!P25","v":0},"Pkt."]
[1,{"$f":"'w-E_R'!B26","v":"W4/03-Regel"},{"$f":"'w-E_R'!D26","v":0},{"$f":"'w-E_R'!P26","v":0},"Pkt."]
[1,{"$f":"'w-E_R'!B27","v":"W4/04-Regel"},{"$f":"'w-E_R'!D27","v":0},{"$f":"'w-E_R'!P27","v":0},"Pkt."]
[1,{"$f":"'w-E_R'!B28","v":"W4/05-Regel"},{"$f":"'w-E_R'!D28","v":0},{"$f":"'w-E_R'!P28","v":0},"Pkt."]
[1,{"$f":"'w-E_R'!B29","v":"W4/06-Regel"},{"$f":"'w-E_R'!D29","v":0},{"$f":"'w-E_R'!P29","v":0},"Pkt."]
[1,{"$f":"'w-E_R'!B31","v":"W5/01-Regel"},{"$f":"'w-E_R'!D31","v":0},{"$f":"'w-E_R'!P31","v":0},"Pkt."]
[1,{"$f":"'w-E_R'!B32","v":"W5/02-Regel"},{"$f":"'w-E_R'!D32","v":0},{"$f":"'w-E_R'!P32","v":0},"Pkt."]
[1,{"$f":"'w-E_R'!B33","v":"W5/03-Regel"},{"$f":"'w-E_R'!D33","v":0},{"$f":"'w-E_R'!P33","v":0},"Pkt."]
[1,{"$f":"'w-E_R'!B34","v":"W5/04-Regel"},{"$f":"'w-E_R'!D34","v":0},{"$f":"'w-E_R'!P34","v":0},"Pkt."]
[1,{"$f":"'w-E_R'!B35","v":"W5/05-Regel"},{"$f":"'w-E_R'!D35","v":0},{"$f":"'w-E_R'!P35","v":0},"Pkt."]
[1,{"$f":"'w-E_R'!B36","v":"W5/06-Regel"},{"$f":"'w-E_R'!D36","v":0},{"$f":"'w-E_R'!P36","v":0},"Pkt."]
[1,{"$f":"'w-E_R'!B38","v":"W6/01-Regel"},{"$f":"'w-E_R'!D38","v":0},{"$f":"'w-E_R'!P38","v":0},"Pkt."]
[1,{"$f":"'w-E_R'!B39","v":"W6/02-Regel"},{"$f":"'w-E_R'!D39","v":0},{"$f":"'w-E_R'!P39","v":0},"Pkt."]
[{"$f":"RANK(D35,$D$3:$D$122,0)","v":1},{"$f":"'w-E_R'!B40","v":"W6/03-Regel"},{"$f":"'w-E_R'!D40","v":0},{"$f":"'w-E_R'!P40","v":0},"Pkt."]
[1,{"$f":"'w-E_R'!B41","v":"W6/04-Regel"},{"$f":"'w-E_R'!D41","v":0},{"$f":"'w-E_R'!P41","v":0},"Pkt."]
[1,{"$f":"'w-E_R'!B42","v":"W6/05-Regel"},{"$f":"'w-E_R'!D42","v":0},{"$f":"'w-E_R'!P42","v":0},"Pkt."]
[1,{"$f":"'w-E_R'!B43","v":"W6/06-Regel"},{"$f":"'w-E_R'!D43","v":0},{"$f":"'w-E_R'!P43","v":0},"Pkt."]
[1,{"$f":"'w-E_R'!B45","v":"W7/01-Regel"},{"$f":"'w-E_R'!D45","v":0},{"$f":"'w-E_R'!P45","v":0},"Pkt."]
[1,{"$f":"'w-E_R'!B46","v":"W7/02-Regel"},{"$f":"'w-E_R'!D46","v":0},{"$f":"'w-E_R'!P46","v":0},"Pkt."]
[1,{"$f":"'w-E_R'!B47","v":"W7/03-Regel"},{"$f":"'w-E_R'!D47","v":0},{"$f":"'w-E_R'!P47","v":0},"Pkt."]
[1,{"$f":"'w-E_R'!B48","v":"W7/04-Regel"},{"$f":"'w-E_R'!D48","v":0},{"$f":"'w-E_R'!P48","v":0},"Pkt."]
[1,{"$f":"'w-E_R'!B49","v":"W7/05-Regel"},{"$f":"'w-E_R'!D49","v":0},{"$f":"'w-E_R'!P49","v":0},"Pkt."]
[1,{"$f":"'w-E_R'!B50","v":"W7/06-Regel"},{"$f":"'w-E_R'!D50","v":0},{"$f":"'w-E_R'!P50","v":0},"Pkt."]
[1,{"$f":"'w-E_R'!B52","v":"W8/01-Regel"},{"$f":"'w-E_R'!D52","v":0},{"$f":"'w-E_R'!P52","v":0},"Pkt."]
[1,{"$f":"'w-E_R'!B53","v":"W8/02-Regel"},{"$f":"'w-E_R'!D53","v":0},{"$f":"'w-E_R'!P53","v":0},"Pkt."]
[1,{"$f":"'w-E_R'!B54","v":"W8/03-Regel"},{"$f":"'w-E_R'!D54","v":0},{"$f":"'w-E_R'!P54","v":0},"Pkt."]
[1,{"$f":"'w-E_R'!B55","v":"W8/04-Regel"},{"$f":"'w-E_R'!D55","v":0},{"$f":"'w-E_R'!P55","v":0},"Pkt."]
[1,{"$f":"'w-E_R'!B56","v":"W8/05-Regel"},{"$f":"'w-E_R'!D56","v":0},{"$f":"'w-E_R'!P56","v":0},"Pkt."]
[1,{"$f":"'w-E_R'!B57","v":"W8/06-Regel"},{"$f":"'w-E_R'!D57","v":0},{"$f":"'w-E_R'!P57","v":0},"Pkt."]
[1,{"$f":"'w-E_R'!B59","v":"W9/01-Regel"},{"$f":"'w-E_R'!D59","v":0},{"$f":"'w-E_R'!P59","v":0},"Pkt."]
[1,{"$f":"'w-E_R'!B60","v":"W9/02-Regel"},{"$f":"'w-E_R'!D60","v":0},{"$f":"'w-E_R'!P60","v":0},"Pkt."]
[1,{"$f":"'w-E_R'!B61","v":"W9/03-Regel"},{"$f":"'w-E_R'!D61","v":0},{"$f":"'w-E_R'!P61","v":0},"Pkt."]
[1,{"$f":"'w-E_R'!B62","v":"W9/04-Regel"},{"$f":"'w-E_R'!D62","v":0},{"$f":"'w-E_R'!P62","v":0},"Pkt."]
[1,{"$f":"'w-E_R'!B63","v":"W9/05-Regel"},{"$f":"'w-E_R'!D63","v":0},{"$f":"'w-E_R'!P63","v":0},"Pkt."]
[1,{"$f":"'w-E_R'!B64","v":"W9/06-Regel"},{"$f":"'w-E_R'!D64","v":0},{"$f":"'w-E_R'!P64","v":0},"Pkt."]
[1,{"$f":"'w-E_R'!B66","v":"W10/01-Regel"},{"$f":"'w-E_R'!D66","v":0},{"$f":"'w-E_R'!P66","v":0},"Pkt."]
[1,{"$f":"'w-E_R'!B67","v":"W10/02-Regel"},{"$f":"'w-E_R'!D67","v":0},{"$f":"'w-E_R'!P67","v":0},"Pkt."]
[1,{"$f":"'w-E_R'!B68","v":"W10/03-Regel"},{"$f":"'w-E_R'!D68","v":0},{"$f":"'w-E_R'!P68","v":0},"Pkt."]
[1,{"$f":"'w-E_R'!B69","v":"W10/04-Regel"},{"$f":"'w-E_R'!D69","v":0},{"$f":"'w-E_R'!P69","v":0},"Pkt."]
[1,{"$f":"'w-E_R'!B70","v":"W10/05-Regel"},{"$f":"'w-E_R'!D70","v":0},{"$f":"'w-E_R'!P70","v":0},"Pkt."]
[1,{"$f":"'w-E_R'!B71","v":"W10/06-Regel"},{"$f":"'w-E_R'!D71","v":0},{"$f":"'w-E_R'!P71","v":0},"Pkt."]
[1,{"$f":"'w-E_R'!B73","v":"W11/01-Regel"},{"$f":"'w-E_R'!D73","v":0},{"$f":"'w-E_R'!P73","v":0},"Pkt."]
[1,{"$f":"'w-E_R'!B74","v":"W11/02-Regel"},{"$f":"'w-E_R'!D74","v":0},{"$f":"'w-E_R'!P74","v":0},"Pkt."]
[1,{"$f":"'w-E_R'!B75","v":"W11/03-Regel"},{"$f":"'w-E_R'!D75","v":0},{"$f":"'w-E_R'!P75","v":0},"Pkt."]
[1,{"$f":"'w-E_R'!B76","v":"W11/04-Regel"},{"$f":"'w-E_R'!D76","v":0},{"$f":"'w-E_R'!P76","v":0},"Pkt."]
[{"$f":"RANK(D67,$D$3:$D$122,0)","v":1},{"$f":"'w-E_R'!B77","v":"W11/05-Regel"},{"$f":"'w-E_R'!D77","v":0},{"$f":"'w-E_R'!P77","v":0},"Pkt."]
[1,{"$f":"'w-E_R'!B78","v":"W11/06-Regel"},{"$f":"'w-E_R'!D78","v":0},{"$f":"'w-E_R'!P78","v":0},"Pkt."]
[1,{"$f":"'w-E_R'!B80","v":"W12/01-Regel"},{"$f":"'w-E_R'!D80","v":0},{"$f":"'w-E_R'!P80","v":0},"Pkt."]
[1,{"$f":"'w-E_R'!B81","v":"W12/02-Regel"},{"$f":"'w-E_R'!D81","v":0},{"$f":"'w-E_R'!P81","v":0},"Pkt."]
[1,{"$f":"'w-E_R'!B82","v":"W12/03-Regel"},{"$f":"'w-E_R'!D82","v":0},{"$f":"'w-E_R'!P82","v":0},"Pkt."]
[1,{"$f":"'w-E_R'!B83","v":"W12/04-Regel"},{"$f":"'w-E_R'!D83","v":0},{"$f":"'w-E_R'!P83","v":0},"Pkt."]
[1,{"$f":"'w-E_R'!B84","v":"W12/05-Regel"},{"$f":"'w-E_R'!D84","v":0},{"$f":"'w-E_R'!P84","v":0},"Pkt."]
[1,{"$f":"'w-E_R'!B85","v":"W12/06-Regel"},{"$f":"'w-E_R'!D85","v":0},{"$f":"'w-E_R'!P85","v":0},"Pkt."]
[1,{"$f":"'w-E_R'!B87","v":"W13/01-Regel"},{"$f":"'w-E_R'!D87","v":0},{"$f":"'w-E_R'!P87","v":0},"Pkt."]
[1,{"$f":"'w-E_R'!B88","v":"W13/02-Regel"},{"$f":"'w-E_R'!D88","v":0},{"$f":"'w-E_R'!P88","v":0},"Pkt."]
[1,{"$f":"'w-E_R'!B89","v":"W13/03-Regel"},{"$f":"'w-E_R'!D89","v":0},{"$f":"'w-E_R'!P89","v":0},"Pkt."]
[1,{"$f":"'w-E_R'!B90","v":"W13/04-Regel"},{"$f":"'w-E_R'!D90","v":0},{"$f":"'w-E_R'!P90","v":0},"Pkt."]
[1,{"$f":"'w-E_R'!B91","v":"W13/05-Regel"},{"$f":"'w-E_R'!D91","v":0},{"$f":"'w-E_R'!P91","v":0},"Pkt."]
[1,{"$f":"'w-E_R'!B92","v":"W13/06-Regel"},{"$f":"'w-E_R'!D92","v":0},{"$f":"'w-E_R'!P92","v":0},"Pkt."]
[1,{"$f":"'w-E_R'!B94","v":"W14/01-Regel"},{"$f":"'w-E_R'!D94","v":0},{"$f":"'w-E_R'!P94","v":0},"Pkt."]
[1,{"$f":"'w-E_R'!B95","v":"W14/02-Regel"},{"$f":"'w-E_R'!D95","v":0},{"$f":"'w-E_R'!P95","v":0},"Pkt."]
[1,{"$f":"'w-E_R'!B96","v":"W14/03-Regel"},{"$f":"'w-E_R'!D96","v":0},{"$f":"'w-E_R'!P96","v":0},"Pkt."]
[1,{"$f":"'w-E_R'!B97","v":"W14/04-Regel"},{"$f":"'w-E_R'!D97","v":0},{"$f":"'w-E_R'!P97","v":0},"Pkt."]
[1,{"$f":"'w-E_R'!B98","v":"W14/05-Regel"},{"$f":"'w-E_R'!D98","v":0},{"$f":"'w-E_R'!P98","v":0},"Pkt."]
[1,{"$f":"'w-E_R'!B99","v":"W14/06-Regel"},{"$f":"'w-E_R'!D99","v":0},{"$f":"'w-E_R'!P99","v":0},"Pkt."]
[1,{"$f":"'w-E_R'!B101","v":"W15/01-Regel"},{"$f":"'w-E_R'!D101","v":0},{"$f":"'w-E_R'!P101","v":0},"Pkt."]
[1,{"$f":"'w-E_R'!B102","v":"W15/02-Regel"},{"$f":"'w-E_R'!D102","v":0},{"$f":"'w-E_R'!P102","v":0},"Pkt."]
[1,{"$f":"'w-E_R'!B103","v":"W15/03-Regel"},{"$f":"'w-E_R'!D103","v":0},{"$f":"'w-E_R'!P103","v":0},"Pkt."]
[1,{"$f":"'w-E_R'!B104","v":"W15/04-Regel"},{"$f":"'w-E_R'!D104","v":0},{"$f":"'w-E_R'!P104","v":0},"Pkt."]
[1,{"$f":"'w-E_R'!B105","v":"W15/05-Regel"},{"$f":"'w-E_R'!D105","v":0},{"$f":"'w-E_R'!P105","v":0},"Pkt."]
[1,{"$f":"'w-E_R'!B106","v":"W15/06-Regel"},{"$f":"'w-E_R'!D106","v":0},{"$f":"'w-E_R'!P106","v":0},"Pkt."]
[1,{"$f":"'w-E_R'!B108","v":"W16/01-Regel"},{"$f":"'w-E_R'!D108","v":0},{"$f":"'w-E_R'!P108","v":0},"Pkt."]
[1,{"$f":"'w-E_R'!B109","v":"W16/02-Regel"},{"$f":"'w-E_R'!D109","v":0},{"$f":"'w-E_R'!P109","v":0},"Pkt."]
[1,{"$f":"'w-E_R'!B110","v":"W16/03-Regel"},{"$f":"'w-E_R'!D110","v":0},{"$f":"'w-E_R'!P110","v":0},"Pkt."]
[1,{"$f":"'w-E_R'!B111","v":"W16/04-Regel"},{"$f":"'w-E_R'!D111","v":0},{"$f":"'w-E_R'!P111","v":0},"Pkt."]
[1,{"$f":"'w-E_R'!B112","v":"W16/05-Regel"},{"$f":"'w-E_R'!D112","v":0},{"$f":"'w-E_R'!P112","v":0},"Pkt."]
[1,{"$f":"'w-E_R'!B113","v":"W16/06-Regel"},{"$f":"'w-E_R'!D113","v":0},{"$f":"'w-E_R'!P113","v":0},"Pkt."]
[{"$f":"RANK(D99,$D$3:$D$122,0)","v":1},{"$f":"'w-E_R'!B115","v":"W17/01-Regel"},{"$f":"'w-E_R'!D115","v":0},{"$f":"'w-E_R'!P115","v":0},"Pkt."]
[1,{"$f":"'w-E_R'!B116","v":"W17/02-Regel"},{"$f":"'w-E_R'!D116","v":0},{"$f":"'w-E_R'!P116","v":0},"Pkt."]
[1,{"$f":"'w-E_R'!B117","v":"W17/03-Regel"},{"$f":"'w-E_R'!D117","v":0},{"$f":"'w-E_R'!P117","v":0},"Pkt."]
[1,{"$f":"'w-E_R'!B118","v":"W17/04-Regel"},{"$f":"'w-E_R'!D118","v":0},{"$f":"'w-E_R'!P118","v":0},"Pkt."]
[1,{"$f":"'w-E_R'!B119","v":"W17/05-Regel"},{"$f":"'w-E_R'!D119","v":0},{"$f":"'w-E_R'!P119","v":0},"Pkt."]
[1,{"$f":"'w-E_R'!B120","v":"W17/06-Regel"},{"$f":"'w-E_R'!D120","v":0},{"$f":"'w-E_R'!P120","v":0},"Pkt."]
[1,{"$f":"'w-E_R'!B122","v":"W18/01-Regel"},{"$f":"'w-E_R'!D122","v":0},{"$f":"'w-E_R'!P122","v":0},"Pkt."]
[1,{"$f":"'w-E_R'!B123","v":"W18/02-Regel"},{"$f":"'w-E_R'!D123","v":0},{"$f":"'w-E_R'!P123","v":0},"Pkt."]
[1,{"$f":"'w-E_R'!B124","v":"W18/03-Regel"},{"$f":"'w-E_R'!D124","v":0},{"$f":"'w-E_R'!P124","v":0},"Pkt."]
[1,{"$f":"'w-E_R'!B125","v":"W18/04-Regel"},{"$f":"'w-E_R'!D125","v":0},{"$f":"'w-E_R'!P125","v":0},"Pkt."]
[1,{"$f":"'w-E_R'!B126","v":"W18/05-Regel"},{"$f":"'w-E_R'!D126","v":0},{"$f":"'w-E_R'!P126","v":0},"Pkt."]
[1,{"$f":"'w-E_R'!B127","v":"W18/06-Regel"},{"$f":"'w-E_R'!D127","v":0},{"$f":"'w-E_R'!P127","v":0},"Pkt."]
[1,{"$f":"'w-E_R'!B129","v":"W19/01-Regel"},{"$f":"'w-E_R'!D129","v":0},{"$f":"'w-E_R'!P129","v":0},"Pkt."]
[1,{"$f":"'w-E_R'!B130","v":"W19/02-Regel"},{"$f":"'w-E_R'!D130","v":0},{"$f":"'w-E_R'!P130","v":0},"Pkt."]
[1,{"$f":"'w-E_R'!B131","v":"W19/03-Regel"},{"$f":"'w-E_R'!D131","v":0},{"$f":"'w-E_R'!P131","v":0},"Pkt."]
[1,{"$f":"'w-E_R'!B132","v":"W19/04-Regel"},{"$f":"'w-E_R'!D132","v":0},{"$f":"'w-E_R'!P132","v":0},"Pkt."]
[1,{"$f":"'w-E_R'!B133","v":"W19/05-Regel"},{"$f":"'w-E_R'!D133","v":0},{"$f":"'w-E_R'!P133","v":0},"Pkt."]
[1,{"$f":"'w-E_R'!B134","v":"W19/06-Regel"},{"$f":"'w-E_R'!D134","v":0},{"$f":"'w-E_R'!P134","v":0},"Pkt."]
[1,{"$f":"'w-E_R'!B136","v":"W20/01-Regel"},{"$f":"'w-E_R'!D136","v":0},{"$f":"'w-E_R'!P136","v":0},"Pkt."]
[1,{"$f":"'w-E_R'!B137","v":"W20/02-Regel"},{"$f":"'w-E_R'!D137","v":0},{"$f":"'w-E_R'!P137","v":0},"Pkt."]
[1,{"$f":"'w-E_R'!B138","v":"W20/03-Regel"},{"$f":"'w-E_R'!D138","v":0},{"$f":"'w-E_R'!P138","v":0},"Pkt."]
[1,{"$f":"'w-E_R'!B139","v":"W20/04-Regel"},{"$f":"'w-E_R'!D139","v":0},{"$f":"'w-E_R'!P139","v":0},"Pkt."]
[1,{"$f":"'w-E_R'!B140","v":"W20/05-Regel"},{"$f":"'w-E_R'!D140","v":0},{"$f":"'w-E_R'!P140","v":0},"Pkt."]
[1,{"$f":"'w-E_R'!B141","v":"W20/06-Regel"},{"$f":"'w-E_R'!D141","v":0},{"$f":"'w-E_R'!P141","v":0},"Pkt."]

{"sheet":"Ez-w_Sp","index":11,"n_rows":122,"n_cols":5,"rows_kept":122,"cut":false,"hidden":false,"merged":[[0,0,0,1],[0,3,0,4]]}
[{"$f":"'w-E_Sp'!A1","v":"Wettkampfdaten-Art"},null,{"$f":"'w-E_Sp'!C1","v":"D-C/Sport-Schwerpunkt"},{"$f":"'w-E_Sp'!E1","v":"Ortsangabe,Datum"}]
["Rang","SCHÜLERINNEN","Schule:","Punkte"]
[{"$f":"RANK(D3,$D$3:$D$122,0)","v":1},{"$f":"'w-E_Sp'!B3","v":"W1/01-Sport"},{"$f":"'w-E_Sp'!D3","v":0},{"$f":"'w-E_Sp'!P3","v":0},"Pkt."]
[1,{"$f":"'w-E_Sp'!B4","v":"W1/02-Sport"},{"$f":"'w-E_Sp'!D4","v":0},{"$f":"'w-E_Sp'!P4","v":0},"Pkt."]
[1,{"$f":"'w-E_Sp'!B5","v":"W1/03-Sport"},{"$f":"'w-E_Sp'!D5","v":0},{"$f":"'w-E_Sp'!P5","v":0},"Pkt."]
[1,{"$f":"'w-E_Sp'!B6","v":"W1/04-Sport"},{"$f":"'w-E_Sp'!D6","v":0},{"$f":"'w-E_Sp'!P6","v":0},"Pkt."]
[1,{"$f":"'w-E_Sp'!B7","v":"W1/05-Sport"},{"$f":"'w-E_Sp'!D7","v":0},{"$f":"'w-E_Sp'!P7","v":0},"Pkt."]
[1,{"$f":"'w-E_Sp'!B8","v":"W1/06-Sport"},{"$f":"'w-E_Sp'!D8","v":0},{"$f":"'w-E_Sp'!P8","v":0},"Pkt."]
[1,{"$f":"'w-E_Sp'!B10","v":"W2/01-Sport"},{"$f":"'w-E_Sp'!D10","v":0},{"$f":"'w-E_Sp'!P10","v":0},"Pkt."]
[1,{"$f":"'w-E_Sp'!B11","v":"W2/02-Sport"},{"$f":"'w-E_Sp'!D11","v":0},{"$f":"'w-E_Sp'!P11","v":0},"Pkt."]
[1,{"$f":"'w-E_Sp'!B12","v":"W2/03-Sport"},{"$f":"'w-E_Sp'!D12","v":0},{"$f":"'w-E_Sp'!P12","v":0},"Pkt."]
[1,{"$f":"'w-E_Sp'!B13","v":"W2/04-Sport"},{"$f":"'w-E_Sp'!D13","v":0},{"$f":"'w-E_Sp'!P13","v":0},"Pkt."]
[1,{"$f":"'w-E_Sp'!B14","v":"W2/05-Sport"},{"$f":"'w-E_Sp'!D14","v":0},{"$f":"'w-E_Sp'!P14","v":0},"Pkt."]
[1,{"$f":"'w-E_Sp'!B15","v":"W2/06-Sport"},{"$f":"'w-E_Sp'!D15","v":0},{"$f":"'w-E_Sp'!P15","v":0},"Pkt."]
[1,{"$f":"'w-E_Sp'!B17","v":"W3/01-Sport"},{"$f":"'w-E_Sp'!D17","v":0},{"$f":"'w-E_Sp'!P17","v":0},"Pkt."]
[1,{"$f":"'w-E_Sp'!B18","v":"W3/02-Sport"},{"$f":"'w-E_Sp'!D18","v":0},{"$f":"'w-E_Sp'!P18","v":0},"Pkt."]
[1,{"$f":"'w-E_Sp'!B19","v":"W3/03-Sport"},{"$f":"'w-E_Sp'!D19","v":0},{"$f":"'w-E_Sp'!P19","v":0},"Pkt."]
[1,{"$f":"'w-E_Sp'!B20","v":"W3/04-Sport"},{"$f":"'w-E_Sp'!D20","v":0},{"$f":"'w-E_Sp'!P20","v":0},"Pkt."]
[1,{"$f":"'w-E_Sp'!B21","v":"W3/05-Sport"},{"$f":"'w-E_Sp'!D21","v":0},{"$f":"'w-E_Sp'!P21","v":0},"Pkt."]
[1,{"$f":"'w-E_Sp'!B22","v":"W3/06-Sport"},{"$f":"'w-E_Sp'!D22","v":0},{"$f":"'w-E_Sp'!P22","v":0},"Pkt."]
[1,{"$f":"'w-E_Sp'!B24","v":"W4/01-Sport"},{"$f":"'w-E_Sp'!D24","v":0},{"$f":"'w-E_Sp'!P24","v":0},"Pkt."]
[1,{"$f":"'w-E_Sp'!B25","v":"W4/02-Sport"},{"$f":"'w-E_Sp'!D25","v":0},{"$f":"'w-E_Sp'!P25","v":0},"Pkt."]
[1,{"$f":"'w-E_Sp'!B26","v":"W4/03-Sport"},{"$f":"'w-E_Sp'!D26","v":0},{"$f":"'w-E_Sp'!P26","v":0},"Pkt."]
[1,{"$f":"'w-E_Sp'!B27","v":"W4/04-Sport"},{"$f":"'w-E_Sp'!D27","v":0},{"$f":"'w-E_Sp'!P27","v":0},"Pkt."]
[1,{"$f":"'w-E_Sp'!B28","v":"W4/05-Sport"},{"$f":"'w-E_Sp'!D28","v":0},{"$f":"'w-E_Sp'!P28","v":0},"Pkt."]
[1,{"$f":"'w-E_Sp'!B29","v":"W4/06-Sport"},{"$f":"'w-E_Sp'!D29","v":0},{"$f":"'w-E_Sp'!P29","v":0},"Pkt."]
[1,{"$f":"'w-E_Sp'!B31","v":"W5/01-Sport"},{"$f":"'w-E_Sp'!D31","v":0},{"$f":"'w-E_Sp'!P31","v":0},"Pkt."]
[1,{"$f":"'w-E_Sp'!B32","v":"W5/02-Sport"},{"$f":"'w-E_Sp'!D32","v":0},{"$f":"'w-E_Sp'!P32","v":0},"Pkt."]
[1,{"$f":"'w-E_Sp'!B33","v":"W5/03-Sport"},{"$f":"'w-E_Sp'!D33","v":0},{"$f":"'w-E_Sp'!P33","v":0},"Pkt."]
[1,{"$f":"'w-E_Sp'!B34","v":"W5/04-Sport"},{"$f":"'w-E_Sp'!D34","v":0},{"$f":"'w-E_Sp'!P34","v":0},"Pkt."]
[1,{"$f":"'w-E_Sp'!B35","v":"W5/05-Sport"},{"$f":"'w-E_Sp'!D35","v":0},{"$f":"'w-E_Sp'!P35","v":0},"Pkt."]
[1,{"$f":"'w-E_Sp'!B36","v":"W5/06-Sport"},{"$f":"'w-E_Sp'!D36","v":0},{"$f":"'w-E_Sp'!P36","v":0},"Pkt."]
[1,{"$f":"'w-E_Sp'!B38","v":"W6/01-Sport"},{"$f":"'w-E_Sp'!D38","v":0},{"$f":"'w-E_Sp'!P38","v":0},"Pkt."]
[1,{"$f":"'w-E_Sp'!B39","v":"W6/02-Sport"},{"$f":"'w-E_Sp'!D39","v":0},{"$f":"'w-E_Sp'!P39","v":0},"Pkt."]
[{"$f":"RANK(D35,$D$3:$D$122,0)","v":1},{"$f":"'w-E_Sp'!B40","v":"W6/03-Sport"},{"$f":"'w-E_Sp'!D40","v":0},{"$f":"'w-E_Sp'!P40","v":0},"Pkt."]
[1,{"$f":"'w-E_Sp'!B41","v":"W6/04-Sport"},{"$f":"'w-E_Sp'!D41","v":0},{"$f":"'w-E_Sp'!P41","v":0},"Pkt."]
[1,{"$f":"'w-E_Sp'!B42","v":"W6/05-Sport"},{"$f":"'w-E_Sp'!D42","v":0},{"$f":"'w-E_Sp'!P42","v":0},"Pkt."]
[1,{"$f":"'w-E_Sp'!B43","v":"W6/06-Sport"},{"$f":"'w-E_Sp'!D43","v":0},{"$f":"'w-E_Sp'!P43","v":0},"Pkt."]
[1,{"$f":"'w-E_Sp'!B45","v":"W7/01-Sport"},{"$f":"'w-E_Sp'!D45","v":0},{"$f":"'w-E_Sp'!P45","v":0},"Pkt."]
[1,{"$f":"'w-E_Sp'!B46","v":"W7/02-Sport"},{"$f":"'w-E_Sp'!D46","v":0},{"$f":"'w-E_Sp'!P46","v":0},"Pkt."]
[1,{"$f":"'w-E_Sp'!B47","v":"W7/03-Sport"},{"$f":"'w-E_Sp'!D47","v":0},{"$f":"'w-E_Sp'!P47","v":0},"Pkt."]
[1,{"$f":"'w-E_Sp'!B48","v":"W7/04-Sport"},{"$f":"'w-E_Sp'!D48","v":0},{"$f":"'w-E_Sp'!P48","v":0},"Pkt."]
[1,{"$f":"'w-E_Sp'!B49","v":"W7/05-Sport"},{"$f":"'w-E_Sp'!D49","v":0},{"$f":"'w-E_Sp'!P49","v":0},"Pkt."]
[1,{"$f":"'w-E_Sp'!B50","v":"W7/06-Sport"},{"$f":"'w-E_Sp'!D50","v":0},{"$f":"'w-E_Sp'!P50","v":0},"Pkt."]
[1,{"$f":"'w-E_Sp'!B52","v":"W8/01-Sport"},{"$f":"'w-E_Sp'!D52","v":0},{"$f":"'w-E_Sp'!P52","v":0},"Pkt."]
[1,{"$f":"'w-E_Sp'!B53","v":"W8/02-Sport"},{"$f":"'w-E_Sp'!D53","v":0},{"$f":"'w-E_Sp'!P53","v":0},"Pkt."]
[1,{"$f":"'w-E_Sp'!B54","v":"W8/03-Sport"},{"$f":"'w-E_Sp'!D54","v":0},{"$f":"'w-E_Sp'!P54","v":0},"Pkt."]
[1,{"$f":"'w-E_Sp'!B55","v":"W8/04-Sport"},{"$f":"'w-E_Sp'!D55","v":0},{"$f":"'w-E_Sp'!P55","v":0},"Pkt."]
[1,{"$f":"'w-E_Sp'!B56","v":"W8/05-Sport"},{"$f":"'w-E_Sp'!D56","v":0},{"$f":"'w-E_Sp'!P56","v":0},"Pkt."]
[1,{"$f":"'w-E_Sp'!B57","v":"W8/06-Sport"},{"$f":"'w-E_Sp'!D57","v":0},{"$f":"'w-E_Sp'!P57","v":0},"Pkt."]
[1,{"$f":"'w-E_Sp'!B59","v":"W9/01-Sport"},{"$f":"'w-E_Sp'!D59","v":0},{"$f":"'w-E_Sp'!P59","v":0},"Pkt."]
[1,{"$f":"'w-E_Sp'!B60","v":"W9/02-Sport"},{"$f":"'w-E_Sp'!D60","v":0},{"$f":"'w-E_Sp'!P60","v":0},"Pkt."]
[1,{"$f":"'w-E_Sp'!B61","v":"W9/03-Sport"},{"$f":"'w-E_Sp'!D61","v":0},{"$f":"'w-E_Sp'!P61","v":0},"Pkt."]
[1,{"$f":"'w-E_Sp'!B62","v":"W9/04-Sport"},{"$f":"'w-E_Sp'!D62","v":0},{"$f":"'w-E_Sp'!P62","v":0},"Pkt."]
[1,{"$f":"'w-E_Sp'!B63","v":"W9/05-Sport"},{"$f":"'w-E_Sp'!D63","v":0},{"$f":"'w-E_Sp'!P63","v":0},"Pkt."]
[1,{"$f":"'w-E_Sp'!B64","v":"W9/06-Sport"},{"$f":"'w-E_Sp'!D64","v":0},{"$f":"'w-E_Sp'!P64","v":0},"Pkt."]
[1,{"$f":"'w-E_Sp'!B66","v":"W10/01-Sport"},{"$f":"'w-E_Sp'!D66","v":0},{"$f":"'w-E_Sp'!P66","v":0},"Pkt."]
[1,{"$f":"'w-E_Sp'!B67","v":"W10/02-Sport"},{"$f":"'w-E_Sp'!D67","v":0},{"$f":"'w-E_Sp'!P67","v":0},"Pkt."]
[1,{"$f":"'w-E_Sp'!B68","v":"W10/03-Sport"},{"$f":"'w-E_Sp'!D68","v":0},{"$f":"'w-E_Sp'!P68","v":0},"Pkt."]
[1,{"$f":"'w-E_Sp'!B69","v":"W10/04-Sport"},{"$f":"'w-E_Sp'!D69","v":0},{"$f":"'w-E_Sp'!P69","v":0},"Pkt."]
[1,{"$f":"'w-E_Sp'!B70","v":"W10/05-Sport"},{"$f":"'w-E_Sp'!D70","v":0},{"$f":"'w-E_Sp'!P70","v":0},"Pkt."]
[1,{"$f":"'w-E_Sp'!B71","v":"W10/06-Sport"},{"$f":"'w-E_Sp'!D71","v":0},{"$f":"'w-E_Sp'!P71","v":0},"Pkt."]
[1,{"$f":"'w-E_Sp'!B73","v":"W11/01-Sport"},{"$f":"'w-E_Sp'!D73","v":0},{"$f":"'w-E_Sp'!P73","v":0},"Pkt."]
[1,{"$f":"'w-E_Sp'!B74","v":"W11/02-Sport"},{"$f":"'w-E_Sp'!D74","v":0},{"$f":"'w-E_Sp'!P74","v":0},"Pkt."]
[1,{"$f":"'w-E_Sp'!B75","v":"W11/03-Sport"},{"$f":"'w-E_Sp'!D75","v":0},{"$f":"'w-E_Sp'!P75","v":0},"Pkt."]
[1,{"$f":"'w-E_Sp'!B76","v":"W11/04-Sport"},{"$f":"'w-E_Sp'!D76","v":0},{"$f":"'w-E_Sp'!P76","v":0},"Pkt."]
[{"$f":"RANK(D67,$D$3:$D$122,0)","v":1},{"$f":"'w-E_Sp'!B77","v":"W11/05-Sport"},{"$f":"'w-E_Sp'!D77","v":0},{"$f":"'w-E_Sp'!P77","v":0},"Pkt."]
[1,{"$f":"'w-E_Sp'!B78","v":"W11/06-Sport"},{"$f":"'w-E_Sp'!D78","v":0},{"$f":"'w-E_Sp'!P78","v":0},"Pkt."]
[1,{"$f":"'w-E_Sp'!B80","v":"W12/01-Sport"},{"$f":"'w-E_Sp'!D80","v":0},{"$f":"'w-E_Sp'!P80","v":0},"Pkt."]
[1,{"$f":"'w-E_Sp'!B81","v":"W12/02-Sport"},{"$f":"'w-E_Sp'!D81","v":0},{"$f":"'w-E_Sp'!P81","v":0},"Pkt."]
[1,{"$f":"'w-E_Sp'!B82","v":"W12/03-Sport"},{"$f":"'w-E_Sp'!D82","v":0},{"$f":"'w-E_Sp'!P82","v":0},"Pkt."]
[1,{"$f":"'w-E_Sp'!B83","v":"W12/04-Sport"},{"$f":"'w-E_Sp'!D83","v":0},{"$f":"'w-E_Sp'!P83","v":0},"Pkt."]
[1,{"$f":"'w-E_Sp'!B84","v":"W12/05-Sport"},{"$f":"'w-E_Sp'!D84","v":0},{"$f":"'w-E_Sp'!P84","v":0},"Pkt."]
[1,{"$f":"'w-E_Sp'!B85","v":"W12/06-Sport"},{"$f":"'w-E_Sp'!D85","v":0},{"$f":"'w-E_Sp'!P85","v":0},"Pkt."]
[1,{"$f":"'w-E_Sp'!B87","v":"W13/01-Sport"},{"$f":"'w-E_Sp'!D87","v":0},{"$f":"'w-E_Sp'!P87","v":0},"Pkt."]
[1,{"$f":"'w-E_Sp'!B88","v":"W13/02-Sport"},{"$f":"'w-E_Sp'!D88","v":0},{"$f":"'w-E_Sp'!P88","v":0},"Pkt."]
[1,{"$f":"'w-E_Sp'!B89","v":"W13/03-Sport"},{"$f":"'w-E_Sp'!D89","v":0},{"$f":"'w-E_Sp'!P89","v":0},"Pkt."]
[1,{"$f":"'w-E_Sp'!B90","v":"W13/04-Sport"},{"$f":"'w-E_Sp'!D90","v":0},{"$f":"'w-E_Sp'!P90","v":0},"Pkt."]
[1,{"$f":"'w-E_Sp'!B91","v":"W13/05-Sport"},{"$f":"'w-E_Sp'!D91","v":0},{"$f":"'w-E_Sp'!P91","v":0},"Pkt."]
[1,{"$f":"'w-E_Sp'!B92","v":"W13/06-Sport"},{"$f":"'w-E_Sp'!D92","v":0},{"$f":"'w-E_Sp'!P92","v":0},"Pkt."]
[1,{"$f":"'w-E_Sp'!B94","v":"W14/01-Sport"},{"$f":"'w-E_Sp'!D94","v":0},{"$f":"'w-E_Sp'!P94","v":0},"Pkt."]
[1,{"$f":"'w-E_Sp'!B95","v":"W14/02-Sport"},{"$f":"'w-E_Sp'!D95","v":0},{"$f":"'w-E_Sp'!P95","v":0},"Pkt."]
[1,{"$f":"'w-E_Sp'!B96","v":"W14/03-Sport"},{"$f":"'w-E_Sp'!D96","v":0},{"$f":"'w-E_Sp'!P96","v":0},"Pkt."]
[1,{"$f":"'w-E_Sp'!B97","v":"W14/04-Sport"},{"$f":"'w-E_Sp'!D97","v":0},{"$f":"'w-E_Sp'!P97","v":0},"Pkt."]
[1,{"$f":"'w-E_Sp'!B98","v":"W14/05-Sport"},{"$f":"'w-E_Sp'!D98","v":0},{"$f":"'w-E_Sp'!P98","v":0},"Pkt."]
[1,{"$f":"'w-E_Sp'!B99","v":"W14/06-Sport"},{"$f":"'w-E_Sp'!D99","v":0},{"$f":"'w-E_Sp'!P99","v":0},"Pkt."]
[1,{"$f":"'w-E_Sp'!B101","v":"W15/01-Sport"},{"$f":"'w-E_Sp'!D101","v":0},{"$f":"'w-E_Sp'!P101","v":0},"Pkt."]
[1,{"$f":"'w-E_Sp'!B102","v":"W15/02-Sport"},{"$f":"'w-E_Sp'!D102","v":0},{"$f":"'w-E_Sp'!P102","v":0},"Pkt."]
[1,{"$f":"'w-E_Sp'!B103","v":"W15/03-Sport"},{"$f":"'w-E_Sp'!D103","v":0},{"$f":"'w-E_Sp'!P103","v":0},"Pkt."]
[1,{"$f":"'w-E_Sp'!B104","v":"W15/04-Sport"},{"$f":"'w-E_Sp'!D104","v":0},{"$f":"'w-E_Sp'!P104","v":0},"Pkt."]
[1,{"$f":"'w-E_Sp'!B105","v":"W15/05-Sport"},{"$f":"'w-E_Sp'!D105","v":0},{"$f":"'w-E_Sp'!P105","v":0},"Pkt."]
[1,{"$f":"'w-E_Sp'!B106","v":"W15/06-Sport"},{"$f":"'w-E_Sp'!D106","v":0},{"$f":"'w-E_Sp'!P106","v":0},"Pkt."]
[1,{"$f":"'w-E_Sp'!B108","v":"W16/01-Sport"},{"$f":"'w-E_Sp'!D108","v":0},{"$f":"'w-E_Sp'!P108","v":0},"Pkt."]
[1,{"$f":"'w-E_Sp'!B109","v":"W16/02-Sport"},{"$f":"'w-E_Sp'!D109","v":0},{"$f":"'w-E_Sp'!P109","v":0},"Pkt."]
[1,{"$f":"'w-E_Sp'!B110","v":"W16/03-Sport"},{"$f":"'w-E_Sp'!D110","v":0},{"$f":"'w-E_Sp'!P110","v":0},"Pkt."]
[1,{"$f":"'w-E_Sp'!B111","v":"W16/04-Sport"},{"$f":"'w-E_Sp'!D111","v":0},{"$f":"'w-E_Sp'!P111","v":0},"Pkt."]
[1,{"$f":"'w-E_Sp'!B112","v":"W16/05-Sport"},{"$f":"'w-E_Sp'!D112","v":0},{"$f":"'w-E_Sp'!P112","v":0},"Pkt."]
[1,{"$f":"'w-E_Sp'!B113","v":"W16/06-Sport"},{"$f":"'w-E_Sp'!D113","v":0},{"$f":"'w-E_Sp'!P113","v":0},"Pkt."]
[{"$f":"RANK(D99,$D$3:$D$122,0)","v":1},{"$f":"'w-E_Sp'!B115","v":"W17/01-Sport"},{"$f":"'w-E_Sp'!D115","v":0},{"$f":"'w-E_Sp'!P115","v":0},"Pkt."]
[1,{"$f":"'w-E_Sp'!B116","v":"W17/02-Sport"},{"$f":"'w-E_Sp'!D116","v":0},{"$f":"'w-E_Sp'!P116","v":0},"Pkt."]
[1,{"$f":"'w-E_Sp'!B117","v":"W17/03-Sport"},{"$f":"'w-E_Sp'!D117","v":0},{"$f":"'w-E_Sp'!P117","v":0},"Pkt."]
[1,{"$f":"'w-E_Sp'!B118","v":"W17/04-Sport"},{"$f":"'w-E_Sp'!D118","v":0},{"$f":"'w-E_Sp'!P118","v":0},"Pkt."]
[1,{"$f":"'w-E_Sp'!B119","v":"W17/05-Sport"},{"$f":"'w-E_Sp'!D119","v":0},{"$f":"'w-E_Sp'!P119","v":0},"Pkt."]
[1,{"$f":"'w-E_Sp'!B120","v":"W17/06-Sport"},{"$f":"'w-E_Sp'!D120","v":0},{"$f":"'w-E_Sp'!P120","v":0},"Pkt."]
[1,{"$f":"'w-E_Sp'!B122","v":"W18/01-Sport"},{"$f":"'w-E_Sp'!D122","v":0},{"$f":"'w-E_Sp'!P122","v":0},"Pkt."]
[1,{"$f":"'w-E_Sp'!B123","v":"W18/02-Sport"},{"$f":"'w-E_Sp'!D123","v":0},{"$f":"'w-E_Sp'!P123","v":0},"Pkt."]
[1,{"$f":"'w-E_Sp'!B124","v":"W18/03-Sport"},{"$f":"'w-E_Sp'!D124","v":0},{"$f":"'w-E_Sp'!P124","v":0},"Pkt."]
[1,{"$f":"'w-E_Sp'!B125","v":"W18/04-Sport"},{"$f":"'w-E_Sp'!D125","v":0},{"$f":"'w-E_Sp'!P125","v":0},"Pkt."]
[1,{"$f":"'w-E_Sp'!B126","v":"W18/05-Sport"},{"$f":"'w-E_Sp'!D126","v":0},{"$f":"'w-E_Sp'!P126","v":0},"Pkt."]
[1,{"$f":"'w-E_Sp'!B127","v":"W18/06-Sport"},{"$f":"'w-E_Sp'!D127","v":0},{"$f":"'w-E_Sp'!P127","v":0},"Pkt."]
[1,{"$f":"'w-E_Sp'!B129","v":"W19/01-Sport"},{"$f":"'w-E_Sp'!D129","v":0},{"$f":"'w-E_Sp'!P129","v":0},"Pkt."]
[1,{"$f":"'w-E_Sp'!B130","v":"W19/02-Sport"},{"$f":"'w-E_Sp'!D130","v":0},{"$f":"'w-E_Sp'!P130","v":0},"Pkt."]
[1,{"$f":"'w-E_Sp'!B131","v":"W19/03-Sport"},{"$f":"'w-E_Sp'!D131","v":0},{"$f":"'w-E_Sp'!P131","v":0},"Pkt."]
[1,{"$f":"'w-E_Sp'!B132","v":"W19/04-Sport"},{"$f":"'w-E_Sp'!D132","v":0},{"$f":"'w-E_Sp'!P132","v":0},"Pkt."]
[1,{"$f":"'w-E_Sp'!B133","v":"W19/05-Sport"},{"$f":"'w-E_Sp'!D133","v":0},{"$f":"'w-E_Sp'!P133","v":0},"Pkt."]
[1,{"$f":"'w-E_Sp'!B134","v":"W19/06-Sport"},{"$f":"'w-E_Sp'!D134","v":0},{"$f":"'w-E_Sp'!P134","v":0},"Pkt."]
[1,{"$f":"'w-E_Sp'!B136","v":"W20/01-Sport"},{"$f":"'w-E_Sp'!D136","v":0},{"$f":"'w-E_Sp'!P136","v":0},"Pkt."]
[1,{"$f":"'w-E_Sp'!B137","v":"W20/02-Sport"},{"$f":"'w-E_Sp'!D137","v":0},{"$f":"'w-E_Sp'!P137","v":0},"Pkt."]
[1,{"$f":"'w-E_Sp'!B138","v":"W20/03-Sport"},{"$f":"'w-E_Sp'!D138","v":0},{"$f":"'w-E_Sp'!P138","v":0},"Pkt."]
[1,{"$f":"'w-E_Sp'!B139","v":"W20/04-Sport"},{"$f":"'w-E_Sp'!D139","v":0},{"$f":"'w-E_Sp'!P139","v":0},"Pkt."]
[1,{"$f":"'w-E_Sp'!B140","v":"W20/05-Sport"},{"$f":"'w-E_Sp'!D140","v":0},{"$f":"'w-E_Sp'!P140","v":0},"Pkt."]
[1,{"$f":"'w-E_Sp'!B141","v":"W20/06-Sport"},{"$f":"'w-E_Sp'!D141","v":0},{"$f":"'w-E_Sp'!P141","v":0},"Pkt."]

{"sheet":"Ez-m_R","index":12,"n_rows":122,"n_cols":5,"rows_kept":122,"cut":false,"hidden":false,"merged":[[0,0,0,1],[0,3,0,4]]}
[{"$f":"'m-E_R'!A1","v":"Wettkampfdaten-Art"},null,{"$f":"'m-E_R'!C1","v":"D-C/Regel-Schulen"},{"$f":"'m-E_R'!E1","v":"Ortsangabe,Datum"}]
["Rang","SCHÜLER","Schule:","Punkte"]
[{"$f":"RANK(D3,$D$3:$D$122,0)","v":1},{"$f":"'m-E_R'!B3","v":"M1/01-Regel"},{"$f":"'m-E_R'!D3","v":0},{"$f":"'m-E_R'!P3","v":0},"Pkt."]
[1,{"$f":"'m-E_R'!B4","v":"M1/02-Regel"},{"$f":"'m-E_R'!D4","v":0},{"$f":"'m-E_R'!P4","v":0},"Pkt."]
[1,{"$f":"'m-E_R'!B5","v":"M1/03-Regel"},{"$f":"'m-E_R'!D5","v":0},{"$f":"'m-E_R'!P5","v":0},"Pkt."]
[1,{"$f":"'m-E_R'!B6","v":"M1/04-Regel"},{"$f":"'m-E_R'!D6","v":0},{"$f":"'m-E_R'!P6","v":0},"Pkt."]
[1,{"$f":"'m-E_R'!B7","v":"M1/05-Regel"},{"$f":"'m-E_R'!D7","v":0},{"$f":"'m-E_R'!P7","v":0},"Pkt."]
[1,{"$f":"'m-E_R'!B8","v":"M1/06-Regel"},{"$f":"'m-E_R'!D8","v":0},{"$f":"'m-E_R'!P8","v":0},"Pkt."]
[1,{"$f":"'m-E_R'!B10","v":"M2/01-Regel"},{"$f":"'m-E_R'!D10","v":0},{"$f":"'m-E_R'!P10","v":0},"Pkt."]
[1,{"$f":"'m-E_R'!B11","v":"M2/02-Regel"},{"$f":"'m-E_R'!D11","v":0},{"$f":"'m-E_R'!P11","v":0},"Pkt."]
[1,{"$f":"'m-E_R'!B12","v":"M2/03-Regel"},{"$f":"'m-E_R'!D12","v":0},{"$f":"'m-E_R'!P12","v":0},"Pkt."]
[1,{"$f":"'m-E_R'!B13","v":"M2/04-Regel"},{"$f":"'m-E_R'!D13","v":0},{"$f":"'m-E_R'!P13","v":0},"Pkt."]
[1,{"$f":"'m-E_R'!B14","v":"M2/05-Regel"},{"$f":"'m-E_R'!D14","v":0},{"$f":"'m-E_R'!P14","v":0},"Pkt."]
[1,{"$f":"'m-E_R'!B15","v":"M2/06-Regel"},{"$f":"'m-E_R'!D15","v":0},{"$f":"'m-E_R'!P15","v":0},"Pkt."]
[1,{"$f":"'m-E_R'!B17","v":"M3/01-Regel"},{"$f":"'m-E_R'!D17","v":0},{"$f":"'m-E_R'!P17","v":0},"Pkt."]
[1,{"$f":"'m-E_R'!B18","v":"M3/02-Regel"},{"$f":"'m-E_R'!D18","v":0},{"$f":"'m-E_R'!P18","v":0},"Pkt."]
[1,{"$f":"'m-E_R'!B19","v":"M3/03-Regel"},{"$f":"'m-E_R'!D19","v":0},{"$f":"'m-E_R'!P19","v":0},"Pkt."]
[1,{"$f":"'m-E_R'!B20","v":"M3/04-Regel"},{"$f":"'m-E_R'!D20","v":0},{"$f":"'m-E_R'!P20","v":0},"Pkt."]
[1,{"$f":"'m-E_R'!B21","v":"M3/05-Regel"},{"$f":"'m-E_R'!D21","v":0},{"$f":"'m-E_R'!P21","v":0},"Pkt."]
[1,{"$f":"'m-E_R'!B22","v":"M3/06-Regel"},{"$f":"'m-E_R'!D22","v":0},{"$f":"'m-E_R'!P22","v":0},"Pkt."]
[1,{"$f":"'m-E_R'!B24","v":"M4/01-Regel"},{"$f":"'m-E_R'!D24","v":0},{"$f":"'m-E_R'!P24","v":0},"Pkt."]
[1,{"$f":"'m-E_R'!B25","v":"M4/02-Regel"},{"$f":"'m-E_R'!D25","v":0},{"$f":"'m-E_R'!P25","v":0},"Pkt."]
[1,{"$f":"'m-E_R'!B26","v":"M4/03-Regel"},{"$f":"'m-E_R'!D26","v":0},{"$f":"'m-E_R'!P26","v":0},"Pkt."]
[1,{"$f":"'m-E_R'!B27","v":"M4/04-Regel"},{"$f":"'m-E_R'!D27","v":0},{"$f":"'m-E_R'!P27","v":0},"Pkt."]
[1,{"$f":"'m-E_R'!B28","v":"M4/05-Regel"},{"$f":"'m-E_R'!D28","v":0},{"$f":"'m-E_R'!P28","v":0},"Pkt."]
[1,{"$f":"'m-E_R'!B29","v":"M4/06-Regel"},{"$f":"'m-E_R'!D29","v":0},{"$f":"'m-E_R'!P29","v":0},"Pkt."]
[1,{"$f":"'m-E_R'!B31","v":"M5/01-Regel"},{"$f":"'m-E_R'!D31","v":0},{"$f":"'m-E_R'!P31","v":0},"Pkt."]
[1,{"$f":"'m-E_R'!B32","v":"M5/02-Regel"},{"$f":"'m-E_R'!D32","v":0},{"$f":"'m-E_R'!P32","v":0},"Pkt."]
[1,{"$f":"'m-E_R'!B33","v":"M5/03-Regel"},{"$f":"'m-E_R'!D33","v":0},{"$f":"'m-E_R'!P33","v":0},"Pkt."]
[1,{"$f":"'m-E_R'!B34","v":"M5/04-Regel"},{"$f":"'m-E_R'!D34","v":0},{"$f":"'m-E_R'!P34","v":0},"Pkt."]
[1,{"$f":"'m-E_R'!B35","v":"M5/05-Regel"},{"$f":"'m-E_R'!D35","v":0},{"$f":"'m-E_R'!P35","v":0},"Pkt."]
[1,{"$f":"'m-E_R'!B36","v":"M5/06-Regel"},{"$f":"'m-E_R'!D36","v":0},{"$f":"'m-E_R'!P36","v":0},"Pkt."]
[1,{"$f":"'m-E_R'!B38","v":"M6/01-Regel"},{"$f":"'m-E_R'!D38","v":0},{"$f":"'m-E_R'!P38","v":0},"Pkt."]
[1,{"$f":"'m-E_R'!B39","v":"M6/02-Regel"},{"$f":"'m-E_R'!D39","v":0},{"$f":"'m-E_R'!P39","v":0},"Pkt."]
[{"$f":"RANK(D35,$D$3:$D$122,0)","v":1},{"$f":"'m-E_R'!B40","v":"M6/03-Regel"},{"$f":"'m-E_R'!D40","v":0},{"$f":"'m-E_R'!P40","v":0},"Pkt."]
[1,{"$f":"'m-E_R'!B41","v":"M6/04-Regel"},{"$f":"'m-E_R'!D41","v":0},{"$f":"'m-E_R'!P41","v":0},"Pkt."]
[1,{"$f":"'m-E_R'!B42","v":"M6/05-Regel"},{"$f":"'m-E_R'!D42","v":0},{"$f":"'m-E_R'!P42","v":0},"Pkt."]
[1,{"$f":"'m-E_R'!B43","v":"M6/06-Regel"},{"$f":"'m-E_R'!D43","v":0},{"$f":"'m-E_R'!P43","v":0},"Pkt."]
[1,{"$f":"'m-E_R'!B45","v":"M7/01-Regel"},{"$f":"'m-E_R'!D45","v":0},{"$f":"'m-E_R'!P45","v":0},"Pkt."]
[1,{"$f":"'m-E_R'!B46","v":"M7/02-Regel"},{"$f":"'m-E_R'!D46","v":0},{"$f":"'m-E_R'!P46","v":0},"Pkt."]
[1,{"$f":"'m-E_R'!B47","v":"M7/03-Regel"},{"$f":"'m-E_R'!D47","v":0},{"$f":"'m-E_R'!P47","v":0},"Pkt."]
[1,{"$f":"'m-E_R'!B48","v":"M7/04-Regel"},{"$f":"'m-E_R'!D48","v":0},{"$f":"'m-E_R'!P48","v":0},"Pkt."]
[1,{"$f":"'m-E_R'!B49","v":"M7/05-Regel"},{"$f":"'m-E_R'!D49","v":0},{"$f":"'m-E_R'!P49","v":0},"Pkt."]
[1,{"$f":"'m-E_R'!B50","v":"M7/06-Regel"},{"$f":"'m-E_R'!D50","v":0},{"$f":"'m-E_R'!P50","v":0},"Pkt."]
[1,{"$f":"'m-E_R'!B52","v":"M8/01-Regel"},{"$f":"'m-E_R'!D52","v":0},{"$f":"'m-E_R'!P52","v":0},"Pkt."]
[1,{"$f":"'m-E_R'!B53","v":"M8/02-Regel"},{"$f":"'m-E_R'!D53","v":0},{"$f":"'m-E_R'!P53","v":0},"Pkt."]
[1,{"$f":"'m-E_R'!B54","v":"M8/03-Regel"},{"$f":"'m-E_R'!D54","v":0},{"$f":"'m-E_R'!P54","v":0},"Pkt."]
[1,{"$f":"'m-E_R'!B55","v":"M8/04-Regel"},{"$f":"'m-E_R'!D55","v":0},{"$f":"'m-E_R'!P55","v":0},"Pkt."]
[1,{"$f":"'m-E_R'!B56","v":"M8/05-Regel"},{"$f":"'m-E_R'!D56","v":0},{"$f":"'m-E_R'!P56","v":0},"Pkt."]
[1,{"$f":"'m-E_R'!B57","v":"M8/06-Regel"},{"$f":"'m-E_R'!D57","v":0},{"$f":"'m-E_R'!P57","v":0},"Pkt."]
[1,{"$f":"'m-E_R'!B59","v":"M9/01-Regel"},{"$f":"'m-E_R'!D59","v":0},{"$f":"'m-E_R'!P59","v":0},"Pkt."]
[1,{"$f":"'m-E_R'!B60","v":"M9/02-Regel"},{"$f":"'m-E_R'!D60","v":0},{"$f":"'m-E_R'!P60","v":0},"Pkt."]
[1,{"$f":"'m-E_R'!B61","v":"M9/03-Regel"},{"$f":"'m-E_R'!D61","v":0},{"$f":"'m-E_R'!P61","v":0},"Pkt."]
[1,{"$f":"'m-E_R'!B62","v":"M9/04-Regel"},{"$f":"'m-E_R'!D62","v":0},{"$f":"'m-E_R'!P62","v":0},"Pkt."]
[1,{"$f":"'m-E_R'!B63","v":"M9/05-Regel"},{"$f":"'m-E_R'!D63","v":0},{"$f":"'m-E_R'!P63","v":0},"Pkt."]
[1,{"$f":"'m-E_R'!B64","v":"M9/06-Regel"},{"$f":"'m-E_R'!D64","v":0},{"$f":"'m-E_R'!P64","v":0},"Pkt."]
[1,{"$f":"'m-E_R'!B66","v":"M10/01-Regel"},{"$f":"'m-E_R'!D66","v":0},{"$f":"'m-E_R'!P66","v":0},"Pkt."]
[1,{"$f":"'m-E_R'!B67","v":"M10/02-Regel"},{"$f":"'m-E_R'!D67","v":0},{"$f":"'m-E_R'!P67","v":0},"Pkt."]
[1,{"$f":"'m-E_R'!B68","v":"M10/03-Regel"},{"$f":"'m-E_R'!D68","v":0},{"$f":"'m-E_R'!P68","v":0},"Pkt."]
[1,{"$f":"'m-E_R'!B69","v":"M10/04-Regel"},{"$f":"'m-E_R'!D69","v":0},{"$f":"'m-E_R'!P69","v":0},"Pkt."]
[1,{"$f":"'m-E_R'!B70","v":"M10/05-Regel"},{"$f":"'m-E_R'!D70","v":0},{"$f":"'m-E_R'!P70","v":0},"Pkt."]
[1,{"$f":"'m-E_R'!B71","v":"M10/06-Regel"},{"$f":"'m-E_R'!D71","v":0},{"$f":"'m-E_R'!P71","v":0},"Pkt."]
[1,{"$f":"'m-E_R'!B73","v":"M11/01-Regel"},{"$f":"'m-E_R'!D73","v":0},{"$f":"'m-E_R'!P73","v":0},"Pkt."]
[1,{"$f":"'m-E_R'!B74","v":"M11/02-Regel"},{"$f":"'m-E_R'!D74","v":0},{"$f":"'m-E_R'!P74","v":0},"Pkt."]
[1,{"$f":"'m-E_R'!B75","v":"M11/03-Regel"},{"$f":"'m-E_R'!D75","v":0},{"$f":"'m-E_R'!P75","v":0},"Pkt."]
[1,{"$f":"'m-E_R'!B76","v":"M11/04-Regel"},{"$f":"'m-E_R'!D76","v":0},{"$f":"'m-E_R'!P76","v":0},"Pkt."]
[{"$f":"RANK(D67,$D$3:$D$122,0)","v":1},{"$f":"'m-E_R'!B77","v":"M11/05-Regel"},{"$f":"'m-E_R'!D77","v":0},{"$f":"'m-E_R'!P77","v":0},"Pkt."]
[1,{"$f":"'m-E_R'!B78","v":"M11/06-Regel"},{"$f":"'m-E_R'!D78","v":0},{"$f":"'m-E_R'!P78","v":0},"Pkt."]
[1,{"$f":"'m-E_R'!B80","v":"M12/01-Regel"},{"$f":"'m-E_R'!D80","v":0},{"$f":"'m-E_R'!P80","v":0},"Pkt."]
[1,{"$f":"'m-E_R'!B81","v":"M12/02-Regel"},{"$f":"'m-E_R'!D81","v":0},{"$f":"'m-E_R'!P81","v":0},"Pkt."]
[1,{"$f":"'m-E_R'!B82","v":"M12/03-Regel"},{"$f":"'m-E_R'!D82","v":0},{"$f":"'m-E_R'!P82","v":0},"Pkt."]
[1,{"$f":"'m-E_R'!B83","v":"M12/04-Regel"},{"$f":"'m-E_R'!D83","v":0},{"$f":"'m-E_R'!P83","v":0},"Pkt."]
[1,{"$f":"'m-E_R'!B84","v":"M12/05-Regel"},{"$f":"'m-E_R'!D84","v":0},{"$f":"'m-E_R'!P84","v":0},"Pkt."]
[1,{"$f":"'m-E_R'!B85","v":"M12/06-Regel"},{"$f":"'m-E_R'!D85","v":0},{"$f":"'m-E_R'!P85","v":0},"Pkt."]
[1,{"$f":"'m-E_R'!B87","v":"M13/01-Regel"},{"$f":"'m-E_R'!D87","v":0},{"$f":"'m-E_R'!P87","v":0},"Pkt."]
[1,{"$f":"'m-E_R'!B88","v":"M13/02-Regel"},{"$f":"'m-E_R'!D88","v":0},{"$f":"'m-E_R'!P88","v":0},"Pkt."]
[1,{"$f":"'m-E_R'!B89","v":"M13/03-Regel"},{"$f":"'m-E_R'!D89","v":0},{"$f":"'m-E_R'!P89","v":0},"Pkt."]
[1,{"$f":"'m-E_R'!B90","v":"M13/04-Regel"},{"$f":"'m-E_R'!D90","v":0},{"$f":"'m-E_R'!P90","v":0},"Pkt."]
[1,{"$f":"'m-E_R'!B91","v":"M13/05-Regel"},{"$f":"'m-E_R'!D91","v":0},{"$f":"'m-E_R'!P91","v":0},"Pkt."]
[1,{"$f":"'m-E_R'!B92","v":"M13/06-Regel"},{"$f":"'m-E_R'!D92","v":0},{"$f":"'m-E_R'!P92","v":0},"Pkt."]
[1,{"$f":"'m-E_R'!B94","v":"M14/01-Regel"},{"$f":"'m-E_R'!D94","v":0},{"$f":"'m-E_R'!P94","v":0},"Pkt."]
[1,{"$f":"'m-E_R'!B95","v":"M14/02-Regel"},{"$f":"'m-E_R'!D95","v":0},{"$f":"'m-E_R'!P95","v":0},"Pkt."]
[1,{"$f":"'m-E_R'!B96","v":"M14/03-Regel"},{"$f":"'m-E_R'!D96","v":0},{"$f":"'m-E_R'!P96","v":0},"Pkt."]
[1,{"$f":"'m-E_R'!B97","v":"M14/04-Regel"},{"$f":"'m-E_R'!D97","v":0},{"$f":"'m-E_R'!P97","v":0},"Pkt."]
[1,{"$f":"'m-E_R'!B98","v":"M14/05-Regel"},{"$f":"'m-E_R'!D98","v":0},{"$f":"'m-E_R'!P98","v":0},"Pkt."]
[1,{"$f":"'m-E_R'!B99","v":"M14/06-Regel"},{"$f":"'m-E_R'!D99","v":0},{"$f":"'m-E_R'!P99","v":0},"Pkt."]
[1,{"$f":"'m-E_R'!B101","v":"M15/01-Regel"},{"$f":"'m-E_R'!D101","v":0},{"$f":"'m-E_R'!P101","v":0},"Pkt."]
[1,{"$f":"'m-E_R'!B102","v":"M15/02-Regel"},{"$f":"'m-E_R'!D102","v":0},{"$f":"'m-E_R'!P102","v":0},"Pkt."]
[1,{"$f":"'m-E_R'!B103","v":"M15/03-Regel"},{"$f":"'m-E_R'!D103","v":0},{"$f":"'m-E_R'!P103","v":0},"Pkt."]
[1,{"$f":"'m-E_R'!B104","v":"M15/04-Regel"},{"$f":"'m-E_R'!D104","v":0},{"$f":"'m-E_R'!P104","v":0},"Pkt."]
[1,{"$f":"'m-E_R'!B105","v":"M15/05-Regel"},{"$f":"'m-E_R'!D105","v":0},{"$f":"'m-E_R'!P105","v":0},"Pkt."]
[1,{"$f":"'m-E_R'!B106","v":"M15/06-Regel"},{"$f":"'m-E_R'!D106","v":0},{"$f":"'m-E_R'!P106","v":0},"Pkt."]
[1,{"$f":"'m-E_R'!B108","v":"M16/01-Regel"},{"$f":"'m-E_R'!D108","v":0},{"$f":"'m-E_R'!P108","v":0},"Pkt."]
[1,{"$f":"'m-E_R'!B109","v":"M16/02-Regel"},{"$f":"'m-E_R'!D109","v":0},{"$f":"'m-E_R'!P109","v":0},"Pkt."]
[1,{"$f":"'m-E_R'!B110","v":"M16/03-Regel"},{"$f":"'m-E_R'!D110","v":0},{"$f":"'m-E_R'!P110","v":0},"Pkt."]
[1,{"$f":"'m-E_R'!B111","v":"M16/04-Regel"},{"$f":"'m-E_R'!D111","v":0},{"$f":"'m-E_R'!P111","v":0},"Pkt."]
[1,{"$f":"'m-E_R'!B112","v":"M16/05-Regel"},{"$f":"'m-E_R'!D112","v":0},{"$f":"'m-E_R'!P112","v":0},"Pkt."]
[1,{"$f":"'m-E_R'!B113","v":"M16/06-Regel"},{"$f":"'m-E_R'!D113","v":0},{"$f":"'m-E_R'!P113","v":0},"Pkt."]
[{"$f":"RANK(D99,$D$3:$D$122,0)","v":1},{"$f":"'m-E_R'!B115","v":"M17/01-Regel"},{"$f":"'m-E_R'!D115","v":0},{"$f":"'m-E_R'!P115","v":0},"Pkt."]
[1,{"$f":"'m-E_R'!B116","v":"M17/02-Regel"},{"$f":"'m-E_R'!D116","v":0},{"$f":"'m-E_R'!P116","v":0},"Pkt."]
[1,{"$f":"'m-E_R'!B117","v":"M17/03-Regel"},{"$f":"'m-E_R'!D117","v":0},{"$f":"'m-E_R'!P117","v":0},"Pkt."]
[1,{"$f":"'m-E_R'!B118","v":"M17/04-Regel"},{"$f":"'m-E_R'!D118","v":0},{"$f":"'m-E_R'!P118","v":0},"Pkt."]
[1,{"$f":"'m-E_R'!B119","v":"M17/05-Regel"},{"$f":"'m-E_R'!D119","v":0},{"$f":"'m-E_R'!P119","v":0},"Pkt."]
[1,{"$f":"'m-E_R'!B120","v":"M17/06-Regel"},{"$f":"'m-E_R'!D120","v":0},{"$f":"'m-E_R'!P120","v":0},"Pkt."]
[1,{"$f":"'m-E_R'!B122","v":"M18/01-Regel"},{"$f":"'m-E_R'!D122","v":0},{"$f":"'m-E_R'!P122","v":0},"Pkt."]
[1,{"$f":"'m-E_R'!B123","v":"M18/02-Regel"},{"$f":"'m-E_R'!D123","v":0},{"$f":"'m-E_R'!P123","v":0},"Pkt."]
[1,{"$f":"'m-E_R'!B124","v":"M18/03-Regel"},{"$f":"'m-E_R'!D124","v":0},{"$f":"'m-E_R'!P124","v":0},"Pkt."]
[1,{"$f":"'m-E_R'!B125","v":"M18/04-Regel"},{"$f":"'m-E_R'!D125","v":0},{"$f":"'m-E_R'!P125","v":0},"Pkt."]
[1,{"$f":"'m-E_R'!B126","v":"M18/05-Regel"},{"$f":"'m-E_R'!D126","v":0},{"$f":"'m-E_R'!P126","v":0},"Pkt."]
[1,{"$f":"'m-E_R'!B127","v":"M18/06-Regel"},{"$f":"'m-E_R'!D127","v":0},{"$f":"'m-E_R'!P127","v":0},"Pkt."]
[1,{"$f":"'m-E_R'!B129","v":"M19/01-Regel"},{"$f":"'m-E_R'!D129","v":0},{"$f":"'m-E_R'!P129","v":0},"Pkt."]
[1,{"$f":"'m-E_R'!B130","v":"M19/02-Regel"},{"$f":"'m-E_R'!D130","v":0},{"$f":"'m-E_R'!P130","v":0},"Pkt."]
[1,{"$f":"'m-E_R'!B131","v":"M19/03-Regel"},{"$f":"'m-E_R'!D131","v":0},{"$f":"'m-E_R'!P131","v":0},"Pkt."]
[1,{"$f":"'m-E_R'!B132","v":"M19/04-Regel"},{"$f":"'m-E_R'!D132","v":0},{"$f":"'m-E_R'!P132","v":0},"Pkt."]
[1,{"$f":"'m-E_R'!B133","v":"M19/05-Regel"},{"$f":"'m-E_R'!D133","v":0},{"$f":"'m-E_R'!P133","v":0},"Pkt."]
[1,{"$f":"'m-E_R'!B134","v":"M19/06-Regel"},{"$f":"'m-E_R'!D134","v":0},{"$f":"'m-E_R'!P134","v":0},"Pkt."]
[1,{"$f":"'m-E_R'!B136","v":"M20/01-Regel"},{"$f":"'m-E_R'!D136","v":0},{"$f":"'m-E_R'!P136","v":0},"Pkt."]
[1,{"$f":"'m-E_R'!B137","v":"M20/02-Regel"},{"$f":"'m-E_R'!D137","v":0},{"$f":"'m-E_R'!P137","v":0},"Pkt."]
[1,{"$f":"'m-E_R'!B138","v":"M20/03-Regel"},{"$f":"'m-E_R'!D138","v":0},{"$f":"'m-E_R'!P138","v":0},"Pkt."]
[1,{"$f":"'m-E_R'!B139","v":"M20/04-Regel"},{"$f":"'m-E_R'!D139","v":0},{"$f":"'m-E_R'!P139","v":0},"Pkt."]
[1,{"$f":"'m-E_R'!B140","v":"M20/05-Regel"},{"$f":"'m-E_R'!D140","v":0},{"$f":"'m-E_R'!P140","v":0},"Pkt."]
[1,{"$f":"'m-E_R'!B141","v":"M20/06-Regel"},{"$f":"'m-E_R'!D141","v":0},{"$f":"'m-E_R'!P141","v":0},"Pkt."]

{"sheet":"Ez-m_Sp","index":13,"n_rows":122,"n_cols":5,"rows_kept":122,"cut":false,"hidden":false,"merged":[[0,0,0,1],[0,3,0,4]]}
[{"$f":"'m-E_Sp'!A1","v":"Wettkampfdaten-Art"},null,{"$f":"'m-E_Sp'!C1","v":"D-C/Sport-Schwerpunkt"},{"$f":"'m-E_Sp'!E1","v":"Ortsangabe,Datum"}]
["Rang","SCHÜLER","Schule:","Punkte"]
[{"$f":"RANK(D3,$D$3:$D$122,0)","v":1},{"$f":"'m-E_Sp'!B3","v":"M1/01-Sport"},{"$f":"'m-E_Sp'!D3","v":0},{"$f":"'m-E_Sp'!P3","v":0},"Pkt."]
[1,{"$f":"'m-E_Sp'!B4","v":"M1/02-Sport"},{"$f":"'m-E_Sp'!D4","v":0},{"$f":"'m-E_Sp'!P4","v":0},"Pkt."]
[1,{"$f":"'m-E_Sp'!B5","v":"M1/03-Sport"},{"$f":"'m-E_Sp'!D5","v":0},{"$f":"'m-E_Sp'!P5","v":0},"Pkt."]
[1,{"$f":"'m-E_Sp'!B6","v":"M1/04-Sport"},{"$f":"'m-E_Sp'!D6","v":0},{"$f":"'m-E_Sp'!P6","v":0},"Pkt."]
[1,{"$f":"'m-E_Sp'!B7","v":"M1/05-Sport"},{"$f":"'m-E_Sp'!D7","v":0},{"$f":"'m-E_Sp'!P7","v":0},"Pkt."]
[1,{"$f":"'m-E_Sp'!B8","v":"M1/06-Sport"},{"$f":"'m-E_Sp'!D8","v":0},{"$f":"'m-E_Sp'!P8","v":0},"Pkt."]
[1,{"$f":"'m-E_Sp'!B10","v":"M2/01-Sport"},{"$f":"'m-E_Sp'!D10","v":0},{"$f":"'m-E_Sp'!P10","v":0},"Pkt."]
[1,{"$f":"'m-E_Sp'!B11","v":"M2/02-Sport"},{"$f":"'m-E_Sp'!D11","v":0},{"$f":"'m-E_Sp'!P11","v":0},"Pkt."]
[1,{"$f":"'m-E_Sp'!B12","v":"M2/03-Sport"},{"$f":"'m-E_Sp'!D12","v":0},{"$f":"'m-E_Sp'!P12","v":0},"Pkt."]
[1,{"$f":"'m-E_Sp'!B13","v":"M2/04-Sport"},{"$f":"'m-E_Sp'!D13","v":0},{"$f":"'m-E_Sp'!P13","v":0},"Pkt."]
[1,{"$f":"'m-E_Sp'!B14","v":"M2/05-Sport"},{"$f":"'m-E_Sp'!D14","v":0},{"$f":"'m-E_Sp'!P14","v":0},"Pkt."]
[1,{"$f":"'m-E_Sp'!B15","v":"M2/06-Sport"},{"$f":"'m-E_Sp'!D15","v":0},{"$f":"'m-E_Sp'!P15","v":0},"Pkt."]
[1,{"$f":"'m-E_Sp'!B17","v":"M3/01-Sport"},{"$f":"'m-E_Sp'!D17","v":0},{"$f":"'m-E_Sp'!P17","v":0},"Pkt."]
[1,{"$f":"'m-E_Sp'!B18","v":"M3/02-Sport"},{"$f":"'m-E_Sp'!D18","v":0},{"$f":"'m-E_Sp'!P18","v":0},"Pkt."]
[1,{"$f":"'m-E_Sp'!B19","v":"M3/03-Sport"},{"$f":"'m-E_Sp'!D19","v":0},{"$f":"'m-E_Sp'!P19","v":0},"Pkt."]
[1,{"$f":"'m-E_Sp'!B20","v":"M3/04-Sport"},{"$f":"'m-E_Sp'!D20","v":0},{"$f":"'m-E_Sp'!P20","v":0},"Pkt."]
[1,{"$f":"'m-E_Sp'!B21","v":"M3/05-Sport"},{"$f":"'m-E_Sp'!D21","v":0},{"$f":"'m-E_Sp'!P21","v":0},"Pkt."]
[1,{"$f":"'m-E_Sp'!B22","v":"M3/06-Sport"},{"$f":"'m-E_Sp'!D22","v":0},{"$f":"'m-E_Sp'!P22","v":0},"Pkt."]
[1,{"$f":"'m-E_Sp'!B24","v":"M4/01-Sport"},{"$f":"'m-E_Sp'!D24","v":0},{"$f":"'m-E_Sp'!P24","v":0},"Pkt."]
[1,{"$f":"'m-E_Sp'!B25","v":"M4/02-Sport"},{"$f":"'m-E_Sp'!D25","v":0},{"$f":"'m-E_Sp'!P25","v":0},"Pkt."]
[1,{"$f":"'m-E_Sp'!B26","v":"M4/03-Sport"},{"$f":"'m-E_Sp'!D26","v":0},{"$f":"'m-E_Sp'!P26","v":0},"Pkt."]
[1,{"$f":"'m-E_Sp'!B27","v":"M4/04-Sport"},{"$f":"'m-E_Sp'!D27","v":0},{"$f":"'m-E_Sp'!P27","v":0},"Pkt."]
[1,{"$f":"'m-E_Sp'!B28","v":"M4/05-Sport"},{"$f":"'m-E_Sp'!D28","v":0},{"$f":"'m-E_Sp'!P28","v":0},"Pkt."]
[1,{"$f":"'m-E_Sp'!B29","v":"M4/06-Sport"},{"$f":"'m-E_Sp'!D29","v":0},{"$f":"'m-E_Sp'!P29","v":0},"Pkt."]
[1,{"$f":"'m-E_Sp'!B31","v":"M5/01-Sport"},{"$f":"'m-E_Sp'!D31","v":0},{"$f":"'m-E_Sp'!P31","v":0},"Pkt."]
[1,{"$f":"'m-E_Sp'!B32","v":"M5/02-Sport"},{"$f":"'m-E_Sp'!D32","v":0},{"$f":"'m-E_Sp'!P32","v":0},"Pkt."]
[1,{"$f":"'m-E_Sp'!B33","v":"M5/03-Sport"},{"$f":"'m-E_Sp'!D33","v":0},{"$f":"'m-E_Sp'!P33","v":0},"Pkt."]
[1,{"$f":"'m-E_Sp'!B34","v":"M5/04-Sport"},{"$f":"'m-E_Sp'!D34","v":0},{"$f":"'m-E_Sp'!P34","v":0},"Pkt."]
[1,{"$f":"'m-E_Sp'!B35","v":"M5/05-Sport"},{"$f":"'m-E_Sp'!D35","v":0},{"$f":"'m-E_Sp'!P35","v":0},"Pkt."]
[1,{"$f":"'m-E_Sp'!B36","v":"M5/06-Sport"},{"$f":"'m-E_Sp'!D36","v":0},{"$f":"'m-E_Sp'!P36","v":0},"Pkt."]
[1,{"$f":"'m-E_Sp'!B38","v":"M6/01-Sport"},{"$f":"'m-E_Sp'!D38","v":0},{"$f":"'m-E_Sp'!P38","v":0},"Pkt."]
[1,{"$f":"'m-E_Sp'!B39","v":"M6/02-Sport"},{"$f":"'m-E_Sp'!D39","v":0},{"$f":"'m-E_Sp'!P39","v":0},"Pkt."]
[{"$f":"RANK(D35,$D$3:$D$122,0)","v":1},{"$f":"'m-E_Sp'!B40","v":"M6/03-Sport"},{"$f":"'m-E_Sp'!D40","v":0},{"$f":"'m-E_Sp'!P40","v":0},"Pkt."]
[1,{"$f":"'m-E_Sp'!B41","v":"M6/04-Sport"},{"$f":"'m-E_Sp'!D41","v":0},{"$f":"'m-E_Sp'!P41","v":0},"Pkt."]
[1,{"$f":"'m-E_Sp'!B42","v":"M6/05-Sport"},{"$f":"'m-E_Sp'!D42","v":0},{"$f":"'m-E_Sp'!P42","v":0},"Pkt."]
[1,{"$f":"'m-E_Sp'!B43","v":"M6/06-Sport"},{"$f":"'m-E_Sp'!D43","v":0},{"$f":"'m-E_Sp'!P43","v":0},"Pkt."]
[1,{"$f":"'m-E_Sp'!B45","v":"M7/01-Sport"},{"$f":"'m-E_Sp'!D45","v":0},{"$f":"'m-E_Sp'!P45","v":0},"Pkt."]
[1,{"$f":"'m-E_Sp'!B46","v":"M7/02-Sport"},{"$f":"'m-E_Sp'!D46","v":0},{"$f":"'m-E_Sp'!P46","v":0},"Pkt."]
[1,{"$f":"'m-E_Sp'!B47","v":"M7/03-Sport"},{"$f":"'m-E_Sp'!D47","v":0},{"$f":"'m-E_Sp'!P47","v":0},"Pkt."]
[1,{"$f":"'m-E_Sp'!B48","v":"M7/04-Sport"},{"$f":"'m-E_Sp'!D48","v":0},{"$f":"'m-E_Sp'!P48","v":0},"Pkt."]
[1,{"$f":"'m-E_Sp'!B49","v":"M7/05-Sport"},{"$f":"'m-E_Sp'!D49","v":0},{"$f":"'m-E_Sp'!P49","v":0},"Pkt."]
[1,{"$f":"'m-E_Sp'!B50","v":"M7/06-Sport"},{"$f":"'m-E_Sp'!D50","v":0},{"$f":"'m-E_Sp'!P50","v":0},"Pkt."]
[1,{"$f":"'m-E_Sp'!B52","v":"M8/01-Sport"},{"$f":"'m-E_Sp'!D52","v":0},{"$f":"'m-E_Sp'!P52","v":0},"Pkt."]
[1,{"$f":"'m-E_Sp'!B53","v":"M8/02-Sport"},{"$f":"'m-E_Sp'!D53","v":0},{"$f":"'m-E_Sp'!P53","v":0},"Pkt."]
[1,{"$f":"'m-E_Sp'!B54","v":"M8/03-Sport"},{"$f":"'m-E_Sp'!D54","v":0},{"$f":"'m-E_Sp'!P54","v":0},"Pkt."]
[1,{"$f":"'m-E_Sp'!B55","v":"M8/04-Sport"},{"$f":"'m-E_Sp'!D55","v":0},{"$f":"'m-E_Sp'!P55","v":0},"Pkt."]
[1,{"$f":"'m-E_Sp'!B56","v":"M8/05-Sport"},{"$f":"'m-E_Sp'!D56","v":0},{"$f":"'m-E_Sp'!P56","v":0},"Pkt."]
[1,{"$f":"'m-E_Sp'!B57","v":"M8/06-Sport"},{"$f":"'m-E_Sp'!D57","v":0},{"$f":"'m-E_Sp'!P57","v":0},"Pkt."]
[1,{"$f":"'m-E_Sp'!B59","v":"M9/01-Sport"},{"$f":"'m-E_Sp'!D59","v":0},{"$f":"'m-E_Sp'!P59","v":0},"Pkt."]
[1,{"$f":"'m-E_Sp'!B60","v":"M9/02-Sport"},{"$f":"'m-E_Sp'!D60","v":0},{"$f":"'m-E_Sp'!P60","v":0},"Pkt."]
[1,{"$f":"'m-E_Sp'!B61","v":"M9/03-Sport"},{"$f":"'m-E_Sp'!D61","v":0},{"$f":"'m-E_Sp'!P61","v":0},"Pkt."]
[1,{"$f":"'m-E_Sp'!B62","v":"M9/04-Sport"},{"$f":"'m-E_Sp'!D62","v":0},{"$f":"'m-E_Sp'!P62","v":0},"Pkt."]
[1,{"$f":"'m-E_Sp'!B63","v":"M9/05-Sport"},{"$f":"'m-E_Sp'!D63","v":0},{"$f":"'m-E_Sp'!P63","v":0},"Pkt."]
[1,{"$f":"'m-E_Sp'!B64","v":"M9/06-Sport"},{"$f":"'m-E_Sp'!D64","v":0},{"$f":"'m-E_Sp'!P64","v":0},"Pkt."]
[1,{"$f":"'m-E_Sp'!B66","v":"M10/01-Sport"},{"$f":"'m-E_Sp'!D66","v":0},{"$f":"'m-E_Sp'!P66","v":0},"Pkt."]
[1,{"$f":"'m-E_Sp'!B67","v":"M10/02-Sport"},{"$f":"'m-E_Sp'!D67","v":0},{"$f":"'m-E_Sp'!P67","v":0},"Pkt."]
[1,{"$f":"'m-E_Sp'!B68","v":"M10/03-Sport"},{"$f":"'m-E_Sp'!D68","v":0},{"$f":"'m-E_Sp'!P68","v":0},"Pkt."]
[1,{"$f":"'m-E_Sp'!B69","v":"M10/04-Sport"},{"$f":"'m-E_Sp'!D69","v":0},{"$f":"'m-E_Sp'!P69","v":0},"Pkt."]
[1,{"$f":"'m-E_Sp'!B70","v":"M10/05-Sport"},{"$f":"'m-E_Sp'!D70","v":0},{"$f":"'m-E_Sp'!P70","v":0},"Pkt."]
[1,{"$f":"'m-E_Sp'!B71","v":"M10/06-Sport"},{"$f":"'m-E_Sp'!D71","v":0},{"$f":"'m-E_Sp'!P71","v":0},"Pkt."]
[1,{"$f":"'m-E_Sp'!B73","v":"M11/01-Sport"},{"$f":"'m-E_Sp'!D73","v":0},{"$f":"'m-E_Sp'!P73","v":0},"Pkt."]
[1,{"$f":"'m-E_Sp'!B74","v":"M11/02-Sport"},{"$f":"'m-E_Sp'!D74","v":0},{"$f":"'m-E_Sp'!P74","v":0},"Pkt."]
[1,{"$f":"'m-E_Sp'!B75","v":"M11/03-Sport"},{"$f":"'m-E_Sp'!D75","v":0},{"$f":"'m-E_Sp'!P75","v":0},"Pkt."]
[1,{"$f":"'m-E_Sp'!B76","v":"M11/04-Sport"},{"$f":"'m-E_Sp'!D76","v":0},{"$f":"'m-E_Sp'!P76","v":0},"Pkt."]
[{"$f":"RANK(D67,$D$3:$D$122,0)","v":1},{"$f":"'m-E_Sp'!B77","v":"M11/05-Sport"},{"$f":"'m-E_Sp'!D77","v":0},{"$f":"'m-E_Sp'!P77","v":0},"Pkt."]
[1,{"$f":"'m-E_Sp'!B78","v":"M11/06-Sport"},{"$f":"'m-E_Sp'!D78","v":0},{"$f":"'m-E_Sp'!P78","v":0},"Pkt."]
[1,{"$f":"'m-E_Sp'!B80","v":"M12/01-Sport"},{"$f":"'m-E_Sp'!D80","v":0},{"$f":"'m-E_Sp'!P80","v":0},"Pkt."]
[1,{"$f":"'m-E_Sp'!B81","v":"M12/02-Sport"},{"$f":"'m-E_Sp'!D81","v":0},{"$f":"'m-E_Sp'!P81","v":0},"Pkt."]
[1,{"$f":"'m-E_Sp'!B82","v":"M12/03-Sport"},{"$f":"'m-E_Sp'!D82","v":0},{"$f":"'m-E_Sp'!P82","v":0},"Pkt."]
[1,{"$f":"'m-E_Sp'!B83","v":"M12/04-Sport"},{"$f":"'m-E_Sp'!D83","v":0},{"$f":"'m-E_Sp'!P83","v":0},"Pkt."]
[1,{"$f":"'m-E_Sp'!B84","v":"M12/05-Sport"},{"$f":"'m-E_Sp'!D84","v":0},{"$f":"'m-E_Sp'!P84","v":0},"Pkt."]
[1,{"$f":"'m-E_Sp'!B85","v":"M12/06-Sport"},{"$f":"'m-E_Sp'!D85","v":0},{"$f":"'m-E_Sp'!P85","v":0},"Pkt."]
[1,{"$f":"'m-E_Sp'!B87","v":"M13/01-Sport"},{"$f":"'m-E_Sp'!D87","v":0},{"$f":"'m-E_Sp'!P87","v":0},"Pkt."]
[1,{"$f":"'m-E_Sp'!B88","v":"M13/02-Sport"},{"$f":"'m-E_Sp'!D88","v":0},{"$f":"'m-E_Sp'!P88","v":0},"Pkt."]
[1,{"$f":"'m-E_Sp'!B89","v":"M13/03-Sport"},{"$f":"'m-E_Sp'!D89","v":0},{"$f":"'m-E_Sp'!P89","v":0},"Pkt."]
[1,{"$f":"'m-E_Sp'!B90","v":"M13/04-Sport"},{"$f":"'m-E_Sp'!D90","v":0},{"$f":"'m-E_Sp'!P90","v":0},"Pkt."]
[1,{"$f":"'m-E_Sp'!B91","v":"M13/05-Sport"},{"$f":"'m-E_Sp'!D91","v":0},{"$f":"'m-E_Sp'!P91","v":0},"Pkt."]
[1,{"$f":"'m-E_Sp'!B92","v":"M13/06-Sport"},{"$f":"'m-E_Sp'!D92","v":0},{"$f":"'m-E_Sp'!P92","v":0},"Pkt."]
[1,{"$f":"'m-E_Sp'!B94","v":"M14/01-Sport"},{"$f":"'m-E_Sp'!D94","v":0},{"$f":"'m-E_Sp'!P94","v":0},"Pkt."]
[1,{"$f":"'m-E_Sp'!B95","v":"M14/02-Sport"},{"$f":"'m-E_Sp'!D95","v":0},{"$f":"'m-E_Sp'!P95","v":0},"Pkt."]
[1,{"$f":"'m-E_Sp'!B96","v":"M14/03-Sport"},{"$f":"'m-E_Sp'!D96","v":0},{"$f":"'m-E_Sp'!P96","v":0},"Pkt."]
[1,{"$f":"'m-E_Sp'!B97","v":"M14/04-Sport"},{"$f":"'m-E_Sp'!D97","v":0},{"$f":"'m-E_Sp'!P97","v":0},"Pkt."]
[1,{"$f":"'m-E_Sp'!B98","v":"M14/05-Sport"},{"$f":"'m-E_Sp'!D98","v":0},{"$f":"'m-E_Sp'!P98","v":0},"Pkt."]
[1,{"$f":"'m-E_Sp'!B99","v":"M14/06-Sport"},{"$f":"'m-E_Sp'!D99","v":0},{"$f":"'m-E_Sp'!P99","v":0},"Pkt."]
[1,{"$f":"'m-E_Sp'!B101","v":"M15/01-Sport"},{"$f":"'m-E_Sp'!D101","v":0},{"$f":"'m-E_Sp'!P101","v":0},"Pkt."]
[1,{"$f":"'m-E_Sp'!B102","v":"M15/02-Sport"},{"$f":"'m-E_Sp'!D102","v":0},{"$f":"'m-E_Sp'!P102","v":0},"Pkt."]
[1,{"$f":"'m-E_Sp'!B103","v":"M15/03-Sport"},{"$f":"'m-E_Sp'!D103","v":0},{"$f":"'m-E_Sp'!P103","v":0},"Pkt."]
[1,{"$f":"'m-E_Sp'!B104","v":"M15/04-Sport"},{"$f":"'m-E_Sp'!D104","v":0},{"$f":"'m-E_Sp'!P104","v":0},"Pkt."]
[1,{"$f":"'m-E_Sp'!B105","v":"M15/05-Sport"},{"$f":"'m-E_Sp'!D105","v":0},{"$f":"'m-E_Sp'!P105","v":0},"Pkt."]
[1,{"$f":"'m-E_Sp'!B106","v":"M15/06-Sport"},{"$f":"'m-E_Sp'!D106","v":0},{"$f":"'m-E_Sp'!P106","v":0},"Pkt."]
[1,{"$f":"'m-E_Sp'!B108","v":"M16/01-Sport"},{"$f":"'m-E_Sp'!D108","v":0},{"$f":"'m-E_Sp'!P108","v":0},"Pkt."]
[1,{"$f":"'m-E_Sp'!B109","v":"M16/02-Sport"},{"$f":"'m-E_Sp'!D109","v":0},{"$f":"'m-E_Sp'!P109","v":0},"Pkt."]
[1,{"$f":"'m-E_Sp'!B110","v":"M16/03-Sport"},{"$f":"'m-E_Sp'!D110","v":0},{"$f":"'m-E_Sp'!P110","v":0},"Pkt."]
[1,{"$f":"'m-E_Sp'!B111","v":"M16/04-Sport"},{"$f":"'m-E_Sp'!D111","v":0},{"$f":"'m-E_Sp'!P111","v":0},"Pkt."]
[1,{"$f":"'m-E_Sp'!B112","v":"M16/05-Sport"},{"$f":"'m-E_Sp'!D112","v":0},{"$f":"'m-E_Sp'!P112","v":0},"Pkt."]
[1,{"$f":"'m-E_Sp'!B113","v":"M16/06-Sport"},{"$f":"'m-E_Sp'!D113","v":0},{"$f":"'m-E_Sp'!P113","v":0},"Pkt."]
[{"$f":"RANK(D99,$D$3:$D$122,0)","v":1},{"$f":"'m-E_Sp'!B115","v":"M17/01-Sport"},{"$f":"'m-E_Sp'!D115","v":0},{"$f":"'m-E_Sp'!P115","v":0},"Pkt."]
[1,{"$f":"'m-E_Sp'!B116","v":"M17/02-Sport"},{"$f":"'m-E_Sp'!D116","v":0},{"$f":"'m-E_Sp'!P116","v":0},"Pkt."]
[1,{"$f":"'m-E_Sp'!B117","v":"M17/03-Sport"},{"$f":"'m-E_Sp'!D117","v":0},{"$f":"'m-E_Sp'!P117","v":0},"Pkt."]
[1,{"$f":"'m-E_Sp'!B118","v":"M17/04-Sport"},{"$f":"'m-E_Sp'!D118","v":0},{"$f":"'m-E_Sp'!P118","v":0},"Pkt."]
[1,{"$f":"'m-E_Sp'!B119","v":"M17/05-Sport"},{"$f":"'m-E_Sp'!D119","v":0},{"$f":"'m-E_Sp'!P119","v":0},"Pkt."]
[1,{"$f":"'m-E_Sp'!B120","v":"M17/06-Sport"},{"$f":"'m-E_Sp'!D120","v":0},{"$f":"'m-E_Sp'!P120","v":0},"Pkt."]
[1,{"$f":"'m-E_Sp'!B122","v":"M18/01-Sport"},{"$f":"'m-E_Sp'!D122","v":0},{"$f":"'m-E_Sp'!P122","v":0},"Pkt."]
[1,{"$f":"'m-E_Sp'!B123","v":"M18/02-Sport"},{"$f":"'m-E_Sp'!D123","v":0},{"$f":"'m-E_Sp'!P123","v":0},"Pkt."]
[1,{"$f":"'m-E_Sp'!B124","v":"M18/03-Sport"},{"$f":"'m-E_Sp'!D124","v":0},{"$f":"'m-E_Sp'!P124","v":0},"Pkt."]
[1,{"$f":"'m-E_Sp'!B125","v":"M18/04-Sport"},{"$f":"'m-E_Sp'!D125","v":0},{"$f":"'m-E_Sp'!P125","v":0},"Pkt."]
[1,{"$f":"'m-E_Sp'!B126","v":"M18/05-Sport"},{"$f":"'m-E_Sp'!D126","v":0},{"$f":"'m-E_Sp'!P126","v":0},"Pkt."]
[1,{"$f":"'m-E_Sp'!B127","v":"M18/06-Sport"},{"$f":"'m-E_Sp'!D127","v":0},{"$f":"'m-E_Sp'!P127","v":0},"Pkt."]
[1,{"$f":"'m-E_Sp'!B129","v":"M19/01-Sport"},{"$f":"'m-E_Sp'!D129","v":0},{"$f":"'m-E_Sp'!P129","v":0},"Pkt."]
[1,{"$f":"'m-E_Sp'!B130","v":"M19/02-Sport"},{"$f":"'m-E_Sp'!D130","v":0},{"$f":"'m-E_Sp'!P130","v":0},"Pkt."]
[1,{"$f":"'m-E_Sp'!B131","v":"M19/03-Sport"},{"$f":"'m-E_Sp'!D131","v":0},{"$f":"'m-E_Sp'!P131","v":0},"Pkt."]
[1,{"$f":"'m-E_Sp'!B132","v":"M19/04-Sport"},{"$f":"'m-E_Sp'!D132","v":0},{"$f":"'m-E_Sp'!P132","v":0},"Pkt."]
[1,{"$f":"'m-E_Sp'!B133","v":"M19/05-Sport"},{"$f":"'m-E_Sp'!D133","v":0},{"$f":"'m-E_Sp'!P133","v":0},"Pkt."]
[1,{"$f":"'m-E_Sp'!B134","v":"M19/06-Sport"},{"$f":"'m-E_Sp'!D134","v":0},{"$f":"'m-E_Sp'!P134","v":0},"Pkt."]
[1,{"$f":"'m-E_Sp'!B136","v":"M20/01-Sport"},{"$f":"'m-E_Sp'!D136","v":0},{"$f":"'m-E_Sp'!P136","v":0},"Pkt."]
[1,{"$f":"'m-E_Sp'!B137","v":"M20/02-Sport"},{"$f":"'m-E_Sp'!D137","v":0},{"$f":"'m-E_Sp'!P137","v":0},"Pkt."]
[1,{"$f":"'m-E_Sp'!B138","v":"M20/03-Sport"},{"$f":"'m-E_Sp'!D138","v":0},{"$f":"'m-E_Sp'!P138","v":0},"Pkt."]
[1,{"$f":"'m-E_Sp'!B139","v":"M20/04-Sport"},{"$f":"'m-E_Sp'!D139","v":0},{"$f":"'m-E_Sp'!P139","v":0},"Pkt."]
[1,{"$f":"'m-E_Sp'!B140","v":"M20/05-Sport"},{"$f":"'m-E_Sp'!D140","v":0},{"$f":"'m-E_Sp'!P140","v":0},"Pkt."]
[1,{"$f":"'m-E_Sp'!B141","v":"M20/06-Sport"},{"$f":"'m-E_Sp'!D141","v":0},{"$f":"'m-E_Sp'!P141","v":0},"Pkt."]

{"sheet":"P-60 m","index":14,"n_rows":147,"n_cols":6,"rows_kept":147,"cut":false,"hidden":false,"merged":[]}
["K-ziff","Lauf ","Startnr.:","Familienname Vorname","Schule-60m-weiblich_C / D - Regel","Zeit"]
[null,"Bahn 1",{"$f":"IF(A2=\"\",\"\",VLOOKUP(A2,'Dat-Bl'!$B$4:$F$123,2))","v":""},{"$f":"IF(A2=\"\",\"\",VLOOKUP(A2,'Dat-Bl'!$B$4:$F$123,3))","v":""},{"$f":"IF(A2=\"\",\"\",VLOOKUP(A2,'Dat-Bl'!$B$4:$F$123,5))","v":""}]
[null,"Bahn 2",{"$f":"IF(A3=\"\",\"\",VLOOKUP(A3,'Dat-Bl'!$B$4:$F$123,2))","v":""},{"$f":"IF(A3=\"\",\"\",VLOOKUP(A3,'Dat-Bl'!$B$4:$F$123,3))","v":""},{"$f":"IF(A3=\"\",\"\",VLOOKUP(A3,'Dat-Bl'!$B$4:$F$123,5))","v":""}]
[null,"Bahn 3",{"$f":"IF(A4=\"\",\"\",VLOOKUP(A4,'Dat-Bl'!$B$4:$F$123,2))","v":""},{"$f":"IF(A4=\"\",\"\",VLOOKUP(A4,'Dat-Bl'!$B$4:$F$123,3))","v":""},{"$f":"IF(A4=\"\",\"\",VLOOKUP(A4,'Dat-Bl'!$B$4:$F$123,5))","v":""}]
[null,"Bahn 4",{"$f":"IF(A5=\"\",\"\",VLOOKUP(A5,'Dat-Bl'!$B$4:$F$123,2))","v":""},{"$f":"IF(A5=\"\",\"\",VLOOKUP(A5,'Dat-Bl'!$B$4:$F$123,3))","v":""},{"$f":"IF(A5=\"\",\"\",VLOOKUP(A5,'Dat-Bl'!$B$4:$F$123,5))","v":""}]
[null,"Bahn 5",{"$f":"IF(A6=\"\",\"\",VLOOKUP(A6,'Dat-Bl'!$B$4:$F$123,2))","v":""},{"$f":"IF(A6=\"\",\"\",VLOOKUP(A6,'Dat-Bl'!$B$4:$F$123,3))","v":""},{"$f":"IF(A6=\"\",\"\",VLOOKUP(A6,'Dat-Bl'!$B$4:$F$123,5))","v":""}]
[null,"Bahn 6",{"$f":"IF(A7=\"\",\"\",VLOOKUP(A7,'Dat-Bl'!$B$4:$F$123,2))","v":""},{"$f":"IF(A7=\"\",\"\",VLOOKUP(A7,'Dat-Bl'!$B$4:$F$123,3))","v":""},{"$f":"IF(A7=\"\",\"\",VLOOKUP(A7,'Dat-Bl'!$B$4:$F$123,5))","v":""}]
[null,"Bahn 7",{"$f":"IF(A8=\"\",\"\",VLOOKUP(A8,'Dat-Bl'!$B$4:$F$123,2))","v":""},{"$f":"IF(A8=\"\",\"\",VLOOKUP(A8,'Dat-Bl'!$B$4:$F$123,3))","v":""},{"$f":"IF(A8=\"\",\"\",VLOOKUP(A8,'Dat-Bl'!$B$4:$F$123,5))","v":""}]
[null,"Bahn 8",{"$f":"IF(A9=\"\",\"\",VLOOKUP(A9,'Dat-Bl'!$B$4:$F$123,2))","v":""},{"$f":"IF(A9=\"\",\"\",VLOOKUP(A9,'Dat-Bl'!$B$4:$F$123,3))","v":""},{"$f":"IF(A9=\"\",\"\",VLOOKUP(A9,'Dat-Bl'!$B$4:$F$123,5))","v":""}]
["K-ziff","Lauf ","Startnr.:","Familienname Vorname",{"$f":"E1","v":"Schule-60m-weiblich_C / D - Regel"},"Zeit"]
[null,"Bahn 1",{"$f":"IF(A11=\"\",\"\",VLOOKUP(A11,'Dat-Bl'!$B$4:$F$123,2))","v":""},{"$f":"IF(A11=\"\",\"\",VLOOKUP(A11,'Dat-Bl'!$B$4:$F$123,3))","v":""},{"$f":"IF(A11=\"\",\"\",VLOOKUP(A11,'Dat-Bl'!$B$4:$F$123,5))","v":""}]
[null,"Bahn 2",{"$f":"IF(A12=\"\",\"\",VLOOKUP(A12,'Dat-Bl'!$B$4:$F$123,2))","v":""},{"$f":"IF(A12=\"\",\"\",VLOOKUP(A12,'Dat-Bl'!$B$4:$F$123,3))","v":""},{"$f":"IF(A12=\"\",\"\",VLOOKUP(A12,'Dat-Bl'!$B$4:$F$123,5))","v":""}]
[null,"Bahn 3",{"$f":"IF(A13=\"\",\"\",VLOOKUP(A13,'Dat-Bl'!$B$4:$F$123,2))","v":""},{"$f":"IF(A13=\"\",\"\",VLOOKUP(A13,'Dat-Bl'!$B$4:$F$123,3))","v":""},{"$f":"IF(A13=\"\",\"\",VLOOKUP(A13,'Dat-Bl'!$B$4:$F$123,5))","v":""}]
[null,"Bahn 4",{"$f":"IF(A14=\"\",\"\",VLOOKUP(A14,'Dat-Bl'!$B$4:$F$123,2))","v":""},{"$f":"IF(A14=\"\",\"\",VLOOKUP(A14,'Dat-Bl'!$B$4:$F$123,3))","v":""},{"$f":"IF(A14=\"\",\"\",VLOOKUP(A14,'Dat-Bl'!$B$4:$F$123,5))","v":""}]
[null,"Bahn 5",{"$f":"IF(A15=\"\",\"\",VLOOKUP(A15,'Dat-Bl'!$B$4:$F$123,2))","v":""},{"$f":"IF(A15=\"\",\"\",VLOOKUP(A15,'Dat-Bl'!$B$4:$F$123,3))","v":""},{"$f":"IF(A15=\"\",\"\",VLOOKUP(A15,'Dat-Bl'!$B$4:$F$123,5))","v":""}]
[null,"Bahn 6",{"$f":"IF(A16=\"\",\"\",VLOOKUP(A16,'Dat-Bl'!$B$4:$F$123,2))","v":""},{"$f":"IF(A16=\"\",\"\",VLOOKUP(A16,'Dat-Bl'!$B$4:$F$123,3))","v":""},{"$f":"IF(A16=\"\",\"\",VLOOKUP(A16,'Dat-Bl'!$B$4:$F$123,5))","v":""}]
[null,"Bahn 7",{"$f":"IF(A17=\"\",\"\",VLOOKUP(A17,'Dat-Bl'!$B$4:$F$123,2))","v":""},{"$f":"IF(A17=\"\",\"\",VLOOKUP(A17,'Dat-Bl'!$B$4:$F$123,3))","v":""},{"$f":"IF(A17=\"\",\"\",VLOOKUP(A17,'Dat-Bl'!$B$4:$F$123,5))","v":""}]
[null,"Bahn 8",{"$f":"IF(A18=\"\",\"\",VLOOKUP(A18,'Dat-Bl'!$B$4:$F$123,2))","v":""},{"$f":"IF(A18=\"\",\"\",VLOOKUP(A18,'Dat-Bl'!$B$4:$F$123,3))","v":""},{"$f":"IF(A18=\"\",\"\",VLOOKUP(A18,'Dat-Bl'!$B$4:$F$123,5))","v":""}]
["K-ziff","Lauf ","Startnr.:","Familienname Vorname",{"$f":"E1","v":"Schule-60m-weiblich_C / D - Regel"},"Zeit"]
[null,"Bahn 1",{"$f":"IF(A20=\"\",\"\",VLOOKUP(A20,'Dat-Bl'!$B$4:$F$123,2))","v":""},{"$f":"IF(A20=\"\",\"\",VLOOKUP(A20,'Dat-Bl'!$B$4:$F$123,3))","v":""},{"$f":"IF(A20=\"\",\"\",VLOOKUP(A20,'Dat-Bl'!$B$4:$F$123,5))","v":""}]
[null,"Bahn 2",{"$f":"IF(A21=\"\",\"\",VLOOKUP(A21,'Dat-Bl'!$B$4:$F$123,2))","v":""},{"$f":"IF(A21=\"\",\"\",VLOOKUP(A21,'Dat-Bl'!$B$4:$F$123,3))","v":""},{"$f":"IF(A21=\"\",\"\",VLOOKUP(A21,'Dat-Bl'!$B$4:$F$123,5))","v":""}]
[null,"Bahn 3",{"$f":"IF(A22=\"\",\"\",VLOOKUP(A22,'Dat-Bl'!$B$4:$F$123,2))","v":""},{"$f":"IF(A22=\"\",\"\",VLOOKUP(A22,'Dat-Bl'!$B$4:$F$123,3))","v":""},{"$f":"IF(A22=\"\",\"\",VLOOKUP(A22,'Dat-Bl'!$B$4:$F$123,5))","v":""}]
[null,"Bahn 4",{"$f":"IF(A23=\"\",\"\",VLOOKUP(A23,'Dat-Bl'!$B$4:$F$123,2))","v":""},{"$f":"IF(A23=\"\",\"\",VLOOKUP(A23,'Dat-Bl'!$B$4:$F$123,3))","v":""},{"$f":"IF(A23=\"\",\"\",VLOOKUP(A23,'Dat-Bl'!$B$4:$F$123,5))","v":""}]
[null,"Bahn 5",{"$f":"IF(A24=\"\",\"\",VLOOKUP(A24,'Dat-Bl'!$B$4:$F$123,2))","v":""},{"$f":"IF(A24=\"\",\"\",VLOOKUP(A24,'Dat-Bl'!$B$4:$F$123,3))","v":""},{"$f":"IF(A24=\"\",\"\",VLOOKUP(A24,'Dat-Bl'!$B$4:$F$123,5))","v":""}]
[null,"Bahn 6",{"$f":"IF(A25=\"\",\"\",VLOOKUP(A25,'Dat-Bl'!$B$4:$F$123,2))","v":""},{"$f":"IF(A25=\"\",\"\",VLOOKUP(A25,'Dat-Bl'!$B$4:$F$123,3))","v":""},{"$f":"IF(A25=\"\",\"\",VLOOKUP(A25,'Dat-Bl'!$B$4:$F$123,5))","v":""}]
[null,"Bahn 7",{"$f":"IF(A26=\"\",\"\",VLOOKUP(A26,'Dat-Bl'!$B$4:$F$123,2))","v":""},{"$f":"IF(A26=\"\",\"\",VLOOKUP(A26,'Dat-Bl'!$B$4:$F$123,3))","v":""},{"$f":"IF(A26=\"\",\"\",VLOOKUP(A26,'Dat-Bl'!$B$4:$F$123,5))","v":""}]
[null,"Bahn 8",{"$f":"IF(A27=\"\",\"\",VLOOKUP(A27,'Dat-Bl'!$B$4:$F$123,2))","v":""},{"$f":"IF(A27=\"\",\"\",VLOOKUP(A27,'Dat-Bl'!$B$4:$F$123,3))","v":""},{"$f":"IF(A27=\"\",\"\",VLOOKUP(A27,'Dat-Bl'!$B$4:$F$123,5))","v":""}]
["K-ziff","Lauf ","Startnr.:","Familienname Vorname",{"$f":"E1","v":"Schule-60m-weiblich_C / D - Regel"},"Zeit"]
[null,"Bahn 1",{"$f":"IF(A29=\"\",\"\",VLOOKUP(A29,'Dat-Bl'!$B$4:$F$123,2))","v":""},{"$f":"IF(A29=\"\",\"\",VLOOKUP(A29,'Dat-Bl'!$B$4:$F$123,3))","v":""},{"$f":"IF(A29=\"\",\"\",VLOOKUP(A29,'Dat-Bl'!$B$4:$F$123,5))","v":""}]
[null,"Bahn 2",{"$f":"IF(A30=\"\",\"\",VLOOKUP(A30,'Dat-Bl'!$B$4:$F$123,2))","v":""},{"$f":"IF(A30=\"\",\"\",VLOOKUP(A30,'Dat-Bl'!$B$4:$F$123,3))","v":""},{"$f":"IF(A30=\"\",\"\",VLOOKUP(A30,'Dat-Bl'!$B$4:$F$123,5))","v":""}]
[null,"Bahn 3",{"$f":"IF(A31=\"\",\"\",VLOOKUP(A31,'Dat-Bl'!$B$4:$F$123,2))","v":""},{"$f":"IF(A31=\"\",\"\",VLOOKUP(A31,'Dat-Bl'!$B$4:$F$123,3))","v":""},{"$f":"IF(A31=\"\",\"\",VLOOKUP(A31,'Dat-Bl'!$B$4:$F$123,5))","v":""}]
[null,"Bahn 4",{"$f":"IF(A32=\"\",\"\",VLOOKUP(A32,'Dat-Bl'!$B$4:$F$123,2))","v":""},{"$f":"IF(A32=\"\",\"\",VLOOKUP(A32,'Dat-Bl'!$B$4:$F$123,3))","v":""},{"$f":"IF(A32=\"\",\"\",VLOOKUP(A32,'Dat-Bl'!$B$4:$F$123,5))","v":""}]
[null,"Bahn 5",{"$f":"IF(A33=\"\",\"\",VLOOKUP(A33,'Dat-Bl'!$B$4:$F$123,2))","v":""},{"$f":"IF(A33=\"\",\"\",VLOOKUP(A33,'Dat-Bl'!$B$4:$F$123,3))","v":""},{"$f":"IF(A33=\"\",\"\",VLOOKUP(A33,'Dat-Bl'!$B$4:$F$123,5))","v":""}]
[null,"Bahn 6",{"$f":"IF(A34=\"\",\"\",VLOOKUP(A34,'Dat-Bl'!$B$4:$F$123,2))","v":""},{"$f":"IF(A34=\"\",\"\",VLOOKUP(A34,'Dat-Bl'!$B$4:$F$123,3))","v":""},{"$f":"IF(A34=\"\",\"\",VLOOKUP(A34,'Dat-Bl'!$B$4:$F$123,5))","v":""}]
[null,"Bahn 7",{"$f":"IF(A35=\"\",\"\",VLOOKUP(A35,'Dat-Bl'!$B$4:$F$123,2))","v":""},{"$f":"IF(A35=\"\",\"\",VLOOKUP(A35,'Dat-Bl'!$B$4:$F$123,3))","v":""},{"$f":"IF(A35=\"\",\"\",VLOOKUP(A35,'Dat-Bl'!$B$4:$F$123,5))","v":""}]
[null,"Bahn 8",{"$f":"IF(A36=\"\",\"\",VLOOKUP(A36,'Dat-Bl'!$B$4:$F$123,2))","v":""},{"$f":"IF(A36=\"\",\"\",VLOOKUP(A36,'Dat-Bl'!$B$4:$F$123,3))","v":""},{"$f":"IF(A36=\"\",\"\",VLOOKUP(A36,'Dat-Bl'!$B$4:$F$123,5))","v":""}]
[]
["K-ziff","Lauf ","Startnr.:","Familienname Vorname","Schule-60m-weiblich_C /D - Sport","Zeit"]
[null,"Bahn 1",{"$f":"IF(A39=\"\",\"\",VLOOKUP(A39,'Dat-Bl'!$B$127:$F$246,2))","v":""},{"$f":"IF(A39=\"\",\"\",VLOOKUP(A39,'Dat-Bl'!$B$127:$F$246,3))","v":""},{"$f":"IF(A39=\"\",\"\",VLOOKUP(A39,'Dat-Bl'!$B$127:$F$246,5))","v":""}]
[null,"Bahn 2",{"$f":"IF(A40=\"\",\"\",VLOOKUP(A40,'Dat-Bl'!$B$127:$F$246,2))","v":""},{"$f":"IF(A40=\"\",\"\",VLOOKUP(A40,'Dat-Bl'!$B$127:$F$246,3))","v":""},{"$f":"IF(A40=\"\",\"\",VLOOKUP(A40,'Dat-Bl'!$B$127:$F$246,5))","v":""}]
[null,"Bahn 3",{"$f":"IF(A41=\"\",\"\",VLOOKUP(A41,'Dat-Bl'!$B$127:$F$246,2))","v":""},{"$f":"IF(A41=\"\",\"\",VLOOKUP(A41,'Dat-Bl'!$B$127:$F$246,3))","v":""},{"$f":"IF(A41=\"\",\"\",VLOOKUP(A41,'Dat-Bl'!$B$127:$F$246,5))","v":""}]
[null,"Bahn 4",{"$f":"IF(A42=\"\",\"\",VLOOKUP(A42,'Dat-Bl'!$B$127:$F$246,2))","v":""},{"$f":"IF(A42=\"\",\"\",VLOOKUP(A42,'Dat-Bl'!$B$127:$F$246,3))","v":""},{"$f":"IF(A42=\"\",\"\",VLOOKUP(A42,'Dat-Bl'!$B$127:$F$246,5))","v":""}]
[null,"Bahn 5",{"$f":"IF(A43=\"\",\"\",VLOOKUP(A43,'Dat-Bl'!$B$127:$F$246,2))","v":""},{"$f":"IF(A43=\"\",\"\",VLOOKUP(A43,'Dat-Bl'!$B$127:$F$246,3))","v":""},{"$f":"IF(A43=\"\",\"\",VLOOKUP(A43,'Dat-Bl'!$B$127:$F$246,5))","v":""}]
[null,"Bahn 6",{"$f":"IF(A44=\"\",\"\",VLOOKUP(A44,'Dat-Bl'!$B$127:$F$246,2))","v":""},{"$f":"IF(A44=\"\",\"\",VLOOKUP(A44,'Dat-Bl'!$B$127:$F$246,3))","v":""},{"$f":"IF(A44=\"\",\"\",VLOOKUP(A44,'Dat-Bl'!$B$127:$F$246,5))","v":""}]
[null,"Bahn 7",{"$f":"IF(A45=\"\",\"\",VLOOKUP(A45,'Dat-Bl'!$B$127:$F$246,2))","v":""},{"$f":"IF(A45=\"\",\"\",VLOOKUP(A45,'Dat-Bl'!$B$127:$F$246,3))","v":""},{"$f":"IF(A45=\"\",\"\",VLOOKUP(A45,'Dat-Bl'!$B$127:$F$246,5))","v":""}]
[null,"Bahn 8",{"$f":"IF(A46=\"\",\"\",VLOOKUP(A46,'Dat-Bl'!$B$127:$F$246,2))","v":""},{"$f":"IF(A46=\"\",\"\",VLOOKUP(A46,'Dat-Bl'!$B$127:$F$246,3))","v":""},{"$f":"IF(A46=\"\",\"\",VLOOKUP(A46,'Dat-Bl'!$B$127:$F$246,5))","v":""}]
["K-ziff","Lauf ","Startnr.:","Familienname Vorname",{"$f":"E38","v":"Schule-60m-weiblich_C /D - Sport"},"Zeit"]
[null,"Bahn 1",{"$f":"IF(A48=\"\",\"\",VLOOKUP(A48,'Dat-Bl'!$B$127:$F$246,2))","v":""},{"$f":"IF(A48=\"\",\"\",VLOOKUP(A48,'Dat-Bl'!$B$127:$F$246,3))","v":""},{"$f":"IF(A48=\"\",\"\",VLOOKUP(A48,'Dat-Bl'!$B$127:$F$246,5))","v":""}]
[null,"Bahn 2",{"$f":"IF(A49=\"\",\"\",VLOOKUP(A49,'Dat-Bl'!$B$127:$F$246,2))","v":""},{"$f":"IF(A49=\"\",\"\",VLOOKUP(A49,'Dat-Bl'!$B$127:$F$246,3))","v":""},{"$f":"IF(A49=\"\",\"\",VLOOKUP(A49,'Dat-Bl'!$B$127:$F$246,5))","v":""}]
[null,"Bahn 3",{"$f":"IF(A50=\"\",\"\",VLOOKUP(A50,'Dat-Bl'!$B$127:$F$246,2))","v":""},{"$f":"IF(A50=\"\",\"\",VLOOKUP(A50,'Dat-Bl'!$B$127:$F$246,3))","v":""},{"$f":"IF(A50=\"\",\"\",VLOOKUP(A50,'Dat-Bl'!$B$127:$F$246,5))","v":""}]
[null,"Bahn 4",{"$f":"IF(A51=\"\",\"\",VLOOKUP(A51,'Dat-Bl'!$B$127:$F$246,2))","v":""},{"$f":"IF(A51=\"\",\"\",VLOOKUP(A51,'Dat-Bl'!$B$127:$F$246,3))","v":""},{"$f":"IF(A51=\"\",\"\",VLOOKUP(A51,'Dat-Bl'!$B$127:$F$246,5))","v":""}]
[null,"Bahn 5",{"$f":"IF(A52=\"\",\"\",VLOOKUP(A52,'Dat-Bl'!$B$127:$F$246,2))","v":""},{"$f":"IF(A52=\"\",\"\",VLOOKUP(A52,'Dat-Bl'!$B$127:$F$246,3))","v":""},{"$f":"IF(A52=\"\",\"\",VLOOKUP(A52,'Dat-Bl'!$B$127:$F$246,5))","v":""}]
[null,"Bahn 6",{"$f":"IF(A53=\"\",\"\",VLOOKUP(A53,'Dat-Bl'!$B$127:$F$246,2))","v":""},{"$f":"IF(A53=\"\",\"\",VLOOKUP(A53,'Dat-Bl'!$B$127:$F$246,3))","v":""},{"$f":"IF(A53=\"\",\"\",VLOOKUP(A53,'Dat-Bl'!$B$127:$F$246,5))","v":""}]
[null,"Bahn 7",{"$f":"IF(A54=\"\",\"\",VLOOKUP(A54,'Dat-Bl'!$B$127:$F$246,2))","v":""},{"$f":"IF(A54=\"\",\"\",VLOOKUP(A54,'Dat-Bl'!$B$127:$F$246,3))","v":""},{"$f":"IF(A54=\"\",\"\",VLOOKUP(A54,'Dat-Bl'!$B$127:$F$246,5))","v":""}]
[null,"Bahn 8",{"$f":"IF(A55=\"\",\"\",VLOOKUP(A55,'Dat-Bl'!$B$127:$F$246,2))","v":""},{"$f":"IF(A55=\"\",\"\",VLOOKUP(A55,'Dat-Bl'!$B$127:$F$246,3))","v":""},{"$f":"IF(A55=\"\",\"\",VLOOKUP(A55,'Dat-Bl'!$B$127:$F$246,5))","v":""}]
["K-ziff","Lauf ","Startnr.:","Familienname Vorname",{"$f":"E38","v":"Schule-60m-weiblich_C /D - Sport"},"Zeit"]
[null,"Bahn 1",{"$f":"IF(A57=\"\",\"\",VLOOKUP(A57,'Dat-Bl'!$B$127:$F$246,2))","v":""},{"$f":"IF(A57=\"\",\"\",VLOOKUP(A57,'Dat-Bl'!$B$127:$F$246,3))","v":""},{"$f":"IF(A57=\"\",\"\",VLOOKUP(A57,'Dat-Bl'!$B$127:$F$246,5))","v":""}]
[null,"Bahn 2",{"$f":"IF(A58=\"\",\"\",VLOOKUP(A58,'Dat-Bl'!$B$127:$F$246,2))","v":""},{"$f":"IF(A58=\"\",\"\",VLOOKUP(A58,'Dat-Bl'!$B$127:$F$246,3))","v":""},{"$f":"IF(A58=\"\",\"\",VLOOKUP(A58,'Dat-Bl'!$B$127:$F$246,5))","v":""}]
[null,"Bahn 3",{"$f":"IF(A59=\"\",\"\",VLOOKUP(A59,'Dat-Bl'!$B$127:$F$246,2))","v":""},{"$f":"IF(A59=\"\",\"\",VLOOKUP(A59,'Dat-Bl'!$B$127:$F$246,3))","v":""},{"$f":"IF(A59=\"\",\"\",VLOOKUP(A59,'Dat-Bl'!$B$127:$F$246,5))","v":""}]
[null,"Bahn 4",{"$f":"IF(A60=\"\",\"\",VLOOKUP(A60,'Dat-Bl'!$B$127:$F$246,2))","v":""},{"$f":"IF(A60=\"\",\"\",VLOOKUP(A60,'Dat-Bl'!$B$127:$F$246,3))","v":""},{"$f":"IF(A60=\"\",\"\",VLOOKUP(A60,'Dat-Bl'!$B$127:$F$246,5))","v":""}]
[null,"Bahn 5",{"$f":"IF(A61=\"\",\"\",VLOOKUP(A61,'Dat-Bl'!$B$127:$F$246,2))","v":""},{"$f":"IF(A61=\"\",\"\",VLOOKUP(A61,'Dat-Bl'!$B$127:$F$246,3))","v":""},{"$f":"IF(A61=\"\",\"\",VLOOKUP(A61,'Dat-Bl'!$B$127:$F$246,5))","v":""}]
[null,"Bahn 6",{"$f":"IF(A62=\"\",\"\",VLOOKUP(A62,'Dat-Bl'!$B$127:$F$246,2))","v":""},{"$f":"IF(A62=\"\",\"\",VLOOKUP(A62,'Dat-Bl'!$B$127:$F$246,3))","v":""},{"$f":"IF(A62=\"\",\"\",VLOOKUP(A62,'Dat-Bl'!$B$127:$F$246,5))","v":""}]
[null,"Bahn 7",{"$f":"IF(A63=\"\",\"\",VLOOKUP(A63,'Dat-Bl'!$B$127:$F$246,2))","v":""},{"$f":"IF(A63=\"\",\"\",VLOOKUP(A63,'Dat-Bl'!$B$127:$F$246,3))","v":""},{"$f":"IF(A63=\"\",\"\",VLOOKUP(A63,'Dat-Bl'!$B$127:$F$246,5))","v":""}]
[null,"Bahn 8",{"$f":"IF(A64=\"\",\"\",VLOOKUP(A64,'Dat-Bl'!$B$127:$F$246,2))","v":""},{"$f":"IF(A64=\"\",\"\",VLOOKUP(A64,'Dat-Bl'!$B$127:$F$246,3))","v":""},{"$f":"IF(A64=\"\",\"\",VLOOKUP(A64,'Dat-Bl'!$B$127:$F$246,5))","v":""}]
["K-ziff","Lauf ","Startnr.:","Familienname Vorname",{"$f":"E38","v":"Schule-60m-weiblich_C /D - Sport"},"Zeit"]
[null,"Bahn 1",{"$f":"IF(A66=\"\",\"\",VLOOKUP(A66,'Dat-Bl'!$B$127:$F$246,2))","v":""},{"$f":"IF(A66=\"\",\"\",VLOOKUP(A66,'Dat-Bl'!$B$127:$F$246,3))","v":""},{"$f":"IF(A66=\"\",\"\",VLOOKUP(A66,'Dat-Bl'!$B$127:$F$246,5))","v":""}]
[null,"Bahn 2",{"$f":"IF(A67=\"\",\"\",VLOOKUP(A67,'Dat-Bl'!$B$127:$F$246,2))","v":""},{"$f":"IF(A67=\"\",\"\",VLOOKUP(A67,'Dat-Bl'!$B$127:$F$246,3))","v":""},{"$f":"IF(A67=\"\",\"\",VLOOKUP(A67,'Dat-Bl'!$B$127:$F$246,5))","v":""}]
[null,"Bahn 3",{"$f":"IF(A68=\"\",\"\",VLOOKUP(A68,'Dat-Bl'!$B$127:$F$246,2))","v":""},{"$f":"IF(A68=\"\",\"\",VLOOKUP(A68,'Dat-Bl'!$B$127:$F$246,3))","v":""},{"$f":"IF(A68=\"\",\"\",VLOOKUP(A68,'Dat-Bl'!$B$127:$F$246,5))","v":""}]
[null,"Bahn 4",{"$f":"IF(A69=\"\",\"\",VLOOKUP(A69,'Dat-Bl'!$B$127:$F$246,2))","v":""},{"$f":"IF(A69=\"\",\"\",VLOOKUP(A69,'Dat-Bl'!$B$127:$F$246,3))","v":""},{"$f":"IF(A69=\"\",\"\",VLOOKUP(A69,'Dat-Bl'!$B$127:$F$246,5))","v":""}]
[null,"Bahn 5",{"$f":"IF(A70=\"\",\"\",VLOOKUP(A70,'Dat-Bl'!$B$127:$F$246,2))","v":""},{"$f":"IF(A70=\"\",\"\",VLOOKUP(A70,'Dat-Bl'!$B$127:$F$246,3))","v":""},{"$f":"IF(A70=\"\",\"\",VLOOKUP(A70,'Dat-Bl'!$B$127:$F$246,5))","v":""}]
[null,"Bahn 6",{"$f":"IF(A71=\"\",\"\",VLOOKUP(A71,'Dat-Bl'!$B$127:$F$246,2))","v":""},{"$f":"IF(A71=\"\",\"\",VLOOKUP(A71,'Dat-Bl'!$B$127:$F$246,3))","v":""},{"$f":"IF(A71=\"\",\"\",VLOOKUP(A71,'Dat-Bl'!$B$127:$F$246,5))","v":""}]
[null,"Bahn 7",{"$f":"IF(A72=\"\",\"\",VLOOKUP(A72,'Dat-Bl'!$B$127:$F$246,2))","v":""},{"$f":"IF(A72=\"\",\"\",VLOOKUP(A72,'Dat-Bl'!$B$127:$F$246,3))","v":""},{"$f":"IF(A72=\"\",\"\",VLOOKUP(A72,'Dat-Bl'!$B$127:$F$246,5))","v":""}]
[null,"Bahn 8",{"$f":"IF(A73=\"\",\"\",VLOOKUP(A73,'Dat-Bl'!$B$127:$F$246,2))","v":""},{"$f":"IF(A73=\"\",\"\",VLOOKUP(A73,'Dat-Bl'!$B$127:$F$246,3))","v":""},{"$f":"IF(A73=\"\",\"\",VLOOKUP(A73,'Dat-Bl'!$B$127:$F$246,5))","v":""}]
[]
["K-ziff","Lauf ","Startnr.:","Familienname Vorname","Schule-60m-männlich_C / D - Regel","Zeit"]
[null,"Bahn 1",{"$f":"IF(A76=\"\",\"\",VLOOKUP(A76,'Dat-Bl'!$J$4:$N$123,2))","v":""},{"$f":"IF(A76=\"\",\"\",VLOOKUP(A76,'Dat-Bl'!$J$4:$N$123,3))","v":""},{"$f":"IF(A76=\"\",\"\",VLOOKUP(A76,'Dat-Bl'!$J$4:$N$123,5))","v":""}]
[null,"Bahn 2",{"$f":"IF(A77=\"\",\"\",VLOOKUP(A77,'Dat-Bl'!$J$4:$N$123,2))","v":""},{"$f":"IF(A77=\"\",\"\",VLOOKUP(A77,'Dat-Bl'!$J$4:$N$123,3))","v":""},{"$f":"IF(A77=\"\",\"\",VLOOKUP(A77,'Dat-Bl'!$J$4:$N$123,5))","v":""}]
[null,"Bahn 3",{"$f":"IF(A78=\"\",\"\",VLOOKUP(A78,'Dat-Bl'!$J$4:$N$123,2))","v":""},{"$f":"IF(A78=\"\",\"\",VLOOKUP(A78,'Dat-Bl'!$J$4:$N$123,3))","v":""},{"$f":"IF(A78=\"\",\"\",VLOOKUP(A78,'Dat-Bl'!$J$4:$N$123,5))","v":""}]
[null,"Bahn 4",{"$f":"IF(A79=\"\",\"\",VLOOKUP(A79,'Dat-Bl'!$J$4:$N$123,2))","v":""},{"$f":"IF(A79=\"\",\"\",VLOOKUP(A79,'Dat-Bl'!$J$4:$N$123,3))","v":""},{"$f":"IF(A79=\"\",\"\",VLOOKUP(A79,'Dat-Bl'!$J$4:$N$123,5))","v":""}]
[null,"Bahn 5",{"$f":"IF(A80=\"\",\"\",VLOOKUP(A80,'Dat-Bl'!$J$4:$N$123,2))","v":""},{"$f":"IF(A80=\"\",\"\",VLOOKUP(A80,'Dat-Bl'!$J$4:$N$123,3))","v":""},{"$f":"IF(A80=\"\",\"\",VLOOKUP(A80,'Dat-Bl'!$J$4:$N$123,5))","v":""}]
[null,"Bahn 6",{"$f":"IF(A81=\"\",\"\",VLOOKUP(A81,'Dat-Bl'!$J$4:$N$123,2))","v":""},{"$f":"IF(A81=\"\",\"\",VLOOKUP(A81,'Dat-Bl'!$J$4:$N$123,3))","v":""},{"$f":"IF(A81=\"\",\"\",VLOOKUP(A81,'Dat-Bl'!$J$4:$N$123,5))","v":""}]
[null,"Bahn 7",{"$f":"IF(A82=\"\",\"\",VLOOKUP(A82,'Dat-Bl'!$J$4:$N$123,2))","v":""},{"$f":"IF(A82=\"\",\"\",VLOOKUP(A82,'Dat-Bl'!$J$4:$N$123,3))","v":""},{"$f":"IF(A82=\"\",\"\",VLOOKUP(A82,'Dat-Bl'!$J$4:$N$123,5))","v":""}]
[null,"Bahn 8",{"$f":"IF(A83=\"\",\"\",VLOOKUP(A83,'Dat-Bl'!$J$4:$N$123,2))","v":""},{"$f":"IF(A83=\"\",\"\",VLOOKUP(A83,'Dat-Bl'!$J$4:$N$123,3))","v":""},{"$f":"IF(A83=\"\",\"\",VLOOKUP(A83,'Dat-Bl'!$J$4:$N$123,5))","v":""}]
["K-ziff","Lauf ","Startnr.:","Familienname Vorname",{"$f":"E75","v":"Schule-60m-männlich_C / D - Regel"},"Zeit"]
[null,"Bahn 1",{"$f":"IF(A85=\"\",\"\",VLOOKUP(A85,'Dat-Bl'!$J$4:$N$123,2))","v":""},{"$f":"IF(A85=\"\",\"\",VLOOKUP(A85,'Dat-Bl'!$J$4:$N$123,3))","v":""},{"$f":"IF(A85=\"\",\"\",VLOOKUP(A85,'Dat-Bl'!$J$4:$N$123,5))","v":""}]
[null,"Bahn 2",{"$f":"IF(A86=\"\",\"\",VLOOKUP(A86,'Dat-Bl'!$J$4:$N$123,2))","v":""},{"$f":"IF(A86=\"\",\"\",VLOOKUP(A86,'Dat-Bl'!$J$4:$N$123,3))","v":""},{"$f":"IF(A86=\"\",\"\",VLOOKUP(A86,'Dat-Bl'!$J$4:$N$123,5))","v":""}]
[null,"Bahn 3",{"$f":"IF(A87=\"\",\"\",VLOOKUP(A87,'Dat-Bl'!$J$4:$N$123,2))","v":""},{"$f":"IF(A87=\"\",\"\",VLOOKUP(A87,'Dat-Bl'!$J$4:$N$123,3))","v":""},{"$f":"IF(A87=\"\",\"\",VLOOKUP(A87,'Dat-Bl'!$J$4:$N$123,5))","v":""}]
[null,"Bahn 4",{"$f":"IF(A88=\"\",\"\",VLOOKUP(A88,'Dat-Bl'!$J$4:$N$123,2))","v":""},{"$f":"IF(A88=\"\",\"\",VLOOKUP(A88,'Dat-Bl'!$J$4:$N$123,3))","v":""},{"$f":"IF(A88=\"\",\"\",VLOOKUP(A88,'Dat-Bl'!$J$4:$N$123,5))","v":""}]
[null,"Bahn 5",{"$f":"IF(A89=\"\",\"\",VLOOKUP(A89,'Dat-Bl'!$J$4:$N$123,2))","v":""},{"$f":"IF(A89=\"\",\"\",VLOOKUP(A89,'Dat-Bl'!$J$4:$N$123,3))","v":""},{"$f":"IF(A89=\"\",\"\",VLOOKUP(A89,'Dat-Bl'!$J$4:$N$123,5))","v":""}]
[null,"Bahn 6",{"$f":"IF(A90=\"\",\"\",VLOOKUP(A90,'Dat-Bl'!$J$4:$N$123,2))","v":""},{"$f":"IF(A90=\"\",\"\",VLOOKUP(A90,'Dat-Bl'!$J$4:$N$123,3))","v":""},{"$f":"IF(A90=\"\",\"\",VLOOKUP(A90,'Dat-Bl'!$J$4:$N$123,5))","v":""}]
[null,"Bahn 7",{"$f":"IF(A91=\"\",\"\",VLOOKUP(A91,'Dat-Bl'!$J$4:$N$123,2))","v":""},{"$f":"IF(A91=\"\",\"\",VLOOKUP(A91,'Dat-Bl'!$J$4:$N$123,3))","v":""},{"$f":"IF(A91=\"\",\"\",VLOOKUP(A91,'Dat-Bl'!$J$4:$N$123,5))","v":""}]
[null,"Bahn 8",{"$f":"IF(A92=\"\",\"\",VLOOKUP(A92,'Dat-Bl'!$J$4:$N$123,2))","v":""},{"$f":"IF(A92=\"\",\"\",VLOOKUP(A92,'Dat-Bl'!$J$4:$N$123,3))","v":""},{"$f":"IF(A92=\"\",\"\",VLOOKUP(A92,'Dat-Bl'!$J$4:$N$123,5))","v":""}]
["K-ziff","Lauf ","Startnr.:","Familienname Vorname",{"$f":"E75","v":"Schule-60m-männlich_C / D - Regel"},"Zeit"]
[null,"Bahn 1",{"$f":"IF(A94=\"\",\"\",VLOOKUP(A94,'Dat-Bl'!$J$4:$N$123,2))","v":""},{"$f":"IF(A94=\"\",\"\",VLOOKUP(A94,'Dat-Bl'!$J$4:$N$123,3))","v":""},{"$f":"IF(A94=\"\",\"\",VLOOKUP(A94,'Dat-Bl'!$J$4:$N$123,5))","v":""}]
[null,"Bahn 2",{"$f":"IF(A95=\"\",\"\",VLOOKUP(A95,'Dat-Bl'!$J$4:$N$123,2))","v":""},{"$f":"IF(A95=\"\",\"\",VLOOKUP(A95,'Dat-Bl'!$J$4:$N$123,3))","v":""},{"$f":"IF(A95=\"\",\"\",VLOOKUP(A95,'Dat-Bl'!$J$4:$N$123,5))","v":""}]
[null,"Bahn 3",{"$f":"IF(A96=\"\",\"\",VLOOKUP(A96,'Dat-Bl'!$J$4:$N$123,2))","v":""},{"$f":"IF(A96=\"\",\"\",VLOOKUP(A96,'Dat-Bl'!$J$4:$N$123,3))","v":""},{"$f":"IF(A96=\"\",\"\",VLOOKUP(A96,'Dat-Bl'!$J$4:$N$123,5))","v":""}]
[null,"Bahn 4",{"$f":"IF(A97=\"\",\"\",VLOOKUP(A97,'Dat-Bl'!$J$4:$N$123,2))","v":""},{"$f":"IF(A97=\"\",\"\",VLOOKUP(A97,'Dat-Bl'!$J$4:$N$123,3))","v":""},{"$f":"IF(A97=\"\",\"\",VLOOKUP(A97,'Dat-Bl'!$J$4:$N$123,5))","v":""}]
[null,"Bahn 5",{"$f":"IF(A98=\"\",\"\",VLOOKUP(A98,'Dat-Bl'!$J$4:$N$123,2))","v":""},{"$f":"IF(A98=\"\",\"\",VLOOKUP(A98,'Dat-Bl'!$J$4:$N$123,3))","v":""},{"$f":"IF(A98=\"\",\"\",VLOOKUP(A98,'Dat-Bl'!$J$4:$N$123,5))","v":""}]
[null,"Bahn 6",{"$f":"IF(A99=\"\",\"\",VLOOKUP(A99,'Dat-Bl'!$J$4:$N$123,2))","v":""},{"$f":"IF(A99=\"\",\"\",VLOOKUP(A99,'Dat-Bl'!$J$4:$N$123,3))","v":""},{"$f":"IF(A99=\"\",\"\",VLOOKUP(A99,'Dat-Bl'!$J$4:$N$123,5))","v":""}]
[null,"Bahn 7",{"$f":"IF(A100=\"\",\"\",VLOOKUP(A100,'Dat-Bl'!$J$4:$N$123,2))","v":""},{"$f":"IF(A100=\"\",\"\",VLOOKUP(A100,'Dat-Bl'!$J$4:$N$123,3))","v":""},{"$f":"IF(A100=\"\",\"\",VLOOKUP(A100,'Dat-Bl'!$J$4:$N$123,5))","v":""}]
[null,"Bahn 8",{"$f":"IF(A101=\"\",\"\",VLOOKUP(A101,'Dat-Bl'!$J$4:$N$123,2))","v":""},{"$f":"IF(A101=\"\",\"\",VLOOKUP(A101,'Dat-Bl'!$J$4:$N$123,3))","v":""},{"$f":"IF(A101=\"\",\"\",VLOOKUP(A101,'Dat-Bl'!$J$4:$N$123,5))","v":""}]
["K-ziff","Lauf ","Startnr.:","Familienname Vorname",{"$f":"E75","v":"Schule-60m-männlich_C / D - Regel"},"Zeit"]
[null,"Bahn 1",{"$f":"IF(A103=\"\",\"\",VLOOKUP(A103,'Dat-Bl'!$J$4:$N$123,2))","v":""},{"$f":"IF(A103=\"\",\"\",VLOOKUP(A103,'Dat-Bl'!$J$4:$N$123,3))","v":""},{"$f":"IF(A103=\"\",\"\",VLOOKUP(A103,'Dat-Bl'!$J$4:$N$123,5))","v":""}]
[null,"Bahn 2",{"$f":"IF(A104=\"\",\"\",VLOOKUP(A104,'Dat-Bl'!$J$4:$N$123,2))","v":""},{"$f":"IF(A104=\"\",\"\",VLOOKUP(A104,'Dat-Bl'!$J$4:$N$123,3))","v":""},{"$f":"IF(A104=\"\",\"\",VLOOKUP(A104,'Dat-Bl'!$J$4:$N$123,5))","v":""}]
[null,"Bahn 3",{"$f":"IF(A105=\"\",\"\",VLOOKUP(A105,'Dat-Bl'!$J$4:$N$123,2))","v":""},{"$f":"IF(A105=\"\",\"\",VLOOKUP(A105,'Dat-Bl'!$J$4:$N$123,3))","v":""},{"$f":"IF(A105=\"\",\"\",VLOOKUP(A105,'Dat-Bl'!$J$4:$N$123,5))","v":""}]
[null,"Bahn 4",{"$f":"IF(A106=\"\",\"\",VLOOKUP(A106,'Dat-Bl'!$J$4:$N$123,2))","v":""},{"$f":"IF(A106=\"\",\"\",VLOOKUP(A106,'Dat-Bl'!$J$4:$N$123,3))","v":""},{"$f":"IF(A106=\"\",\"\",VLOOKUP(A106,'Dat-Bl'!$J$4:$N$123,5))","v":""}]
[null,"Bahn 5",{"$f":"IF(A107=\"\",\"\",VLOOKUP(A107,'Dat-Bl'!$J$4:$N$123,2))","v":""},{"$f":"IF(A107=\"\",\"\",VLOOKUP(A107,'Dat-Bl'!$J$4:$N$123,3))","v":""},{"$f":"IF(A107=\"\",\"\",VLOOKUP(A107,'Dat-Bl'!$J$4:$N$123,5))","v":""}]
[null,"Bahn 6",{"$f":"IF(A108=\"\",\"\",VLOOKUP(A108,'Dat-Bl'!$J$4:$N$123,2))","v":""},{"$f":"IF(A108=\"\",\"\",VLOOKUP(A108,'Dat-Bl'!$J$4:$N$123,3))","v":""},{"$f":"IF(A108=\"\",\"\",VLOOKUP(A108,'Dat-Bl'!$J$4:$N$123,5))","v":""}]
[null,"Bahn 7",{"$f":"IF(A109=\"\",\"\",VLOOKUP(A109,'Dat-Bl'!$J$4:$N$123,2))","v":""},{"$f":"IF(A109=\"\",\"\",VLOOKUP(A109,'Dat-Bl'!$J$4:$N$123,3))","v":""},{"$f":"IF(A109=\"\",\"\",VLOOKUP(A109,'Dat-Bl'!$J$4:$N$123,5))","v":""}]
[null,"Bahn 8",{"$f":"IF(A110=\"\",\"\",VLOOKUP(A110,'Dat-Bl'!$J$4:$N$123,2))","v":""},{"$f":"IF(A110=\"\",\"\",VLOOKUP(A110,'Dat-Bl'!$J$4:$N$123,3))","v":""},{"$f":"IF(A110=\"\",\"\",VLOOKUP(A110,'Dat-Bl'!$J$4:$N$123,5))","v":""}]
[]
["K-ziff","Lauf ","Startnr.:","Familienname Vorname","Schule-60m-männlich_C /D - Sport","Zeit"]
[null,"Bahn 1",{"$f":"IF(A113=\"\",\"\",VLOOKUP(A113,'Dat-Bl'!$J$127:$N$246,2))","v":""},{"$f":"IF(A113=\"\",\"\",VLOOKUP(A113,'Dat-Bl'!$J$127:$N$246,3))","v":""},{"$f":"IF(A113=\"\",\"\",VLOOKUP(A113,'Dat-Bl'!$J$127:$N$246,5))","v":""}]
[null,"Bahn 2",{"$f":"IF(A114=\"\",\"\",VLOOKUP(A114,'Dat-Bl'!$J$127:$N$246,2))","v":""},{"$f":"IF(A114=\"\",\"\",VLOOKUP(A114,'Dat-Bl'!$J$127:$N$246,3))","v":""},{"$f":"IF(A114=\"\",\"\",VLOOKUP(A114,'Dat-Bl'!$J$127:$N$246,5))","v":""}]
[null,"Bahn 3",{"$f":"IF(A115=\"\",\"\",VLOOKUP(A115,'Dat-Bl'!$J$127:$N$246,2))","v":""},{"$f":"IF(A115=\"\",\"\",VLOOKUP(A115,'Dat-Bl'!$J$127:$N$246,3))","v":""},{"$f":"IF(A115=\"\",\"\",VLOOKUP(A115,'Dat-Bl'!$J$127:$N$246,5))","v":""}]
[null,"Bahn 4",{"$f":"IF(A116=\"\",\"\",VLOOKUP(A116,'Dat-Bl'!$J$127:$N$246,2))","v":""},{"$f":"IF(A116=\"\",\"\",VLOOKUP(A116,'Dat-Bl'!$J$127:$N$246,3))","v":""},{"$f":"IF(A116=\"\",\"\",VLOOKUP(A116,'Dat-Bl'!$J$127:$N$246,5))","v":""}]
[null,"Bahn 5",{"$f":"IF(A117=\"\",\"\",VLOOKUP(A117,'Dat-Bl'!$J$127:$N$246,2))","v":""},{"$f":"IF(A117=\"\",\"\",VLOOKUP(A117,'Dat-Bl'!$J$127:$N$246,3))","v":""},{"$f":"IF(A117=\"\",\"\",VLOOKUP(A117,'Dat-Bl'!$J$127:$N$246,5))","v":""}]
[null,"Bahn 6",{"$f":"IF(A118=\"\",\"\",VLOOKUP(A118,'Dat-Bl'!$J$127:$N$246,2))","v":""},{"$f":"IF(A118=\"\",\"\",VLOOKUP(A118,'Dat-Bl'!$J$127:$N$246,3))","v":""},{"$f":"IF(A118=\"\",\"\",VLOOKUP(A118,'Dat-Bl'!$J$127:$N$246,5))","v":""}]
[null,"Bahn 7",{"$f":"IF(A119=\"\",\"\",VLOOKUP(A119,'Dat-Bl'!$J$127:$N$246,2))","v":""},{"$f":"IF(A119=\"\",\"\",VLOOKUP(A119,'Dat-Bl'!$J$127:$N$246,3))","v":""},{"$f":"IF(A119=\"\",\"\",VLOOKUP(A119,'Dat-Bl'!$J$127:$N$246,5))","v":""}]
[null,"Bahn 8",{"$f":"IF(A120=\"\",\"\",VLOOKUP(A120,'Dat-Bl'!$J$127:$N$246,2))","v":""},{"$f":"IF(A120=\"\",\"\",VLOOKUP(A120,'Dat-Bl'!$J$127:$N$246,3))","v":""},{"$f":"IF(A120=\"\",\"\",VLOOKUP(A120,'Dat-Bl'!$J$127:$N$246,5))","v":""}]
["K-ziff","Lauf ","Startnr.:","Familienname Vorname",{"$f":"E112","v":"Schule-60m-männlich_C /D - Sport"},"Zeit"]
[null,"Bahn 1",{"$f":"IF(A122=\"\",\"\",VLOOKUP(A122,'Dat-Bl'!$J$127:$N$246,2))","v":""},{"$f":"IF(A122=\"\",\"\",VLOOKUP(A122,'Dat-Bl'!$J$127:$N$246,3))","v":""},{"$f":"IF(A122=\"\",\"\",VLOOKUP(A122,'Dat-Bl'!$J$127:$N$246,5))","v":""}]
[null,"Bahn 2",{"$f":"IF(A123=\"\",\"\",VLOOKUP(A123,'Dat-Bl'!$J$127:$N$246,2))","v":""},{"$f":"IF(A123=\"\",\"\",VLOOKUP(A123,'Dat-Bl'!$J$127:$N$246,3))","v":""},{"$f":"IF(A123=\"\",\"\",VLOOKUP(A123,'Dat-Bl'!$J$127:$N$246,5))","v":""}]
[null,"Bahn 3",{"$f":"IF(A124=\"\",\"\",VLOOKUP(A124,'Dat-Bl'!$J$127:$N$246,2))","v":""},{"$f":"IF(A124=\"\",\"\",VLOOKUP(A124,'Dat-Bl'!$J$127:$N$246,3))","v":""},{"$f":"IF(A124=\"\",\"\",VLOOKUP(A124,'Dat-Bl'!$J$127:$N$246,5))","v":""}]
[null,"Bahn 4",{"$f":"IF(A125=\"\",\"\",VLOOKUP(A125,'Dat-Bl'!$J$127:$N$246,2))","v":""},{"$f":"IF(A125=\"\",\"\",VLOOKUP(A125,'Dat-Bl'!$J$127:$N$246,3))","v":""},{"$f":"IF(A125=\"\",\"\",VLOOKUP(A125,'Dat-Bl'!$J$127:$N$246,5))","v":""}]
[null,"Bahn 5",{"$f":"IF(A126=\"\",\"\",VLOOKUP(A126,'Dat-Bl'!$J$127:$N$246,2))","v":""},{"$f":"IF(A126=\"\",\"\",VLOOKUP(A126,'Dat-Bl'!$J$127:$N$246,3))","v":""},{"$f":"IF(A126=\"\",\"\",VLOOKUP(A126,'Dat-Bl'!$J$127:$N$246,5))","v":""}]
[null,"Bahn 6",{"$f":"IF(A127=\"\",\"\",VLOOKUP(A127,'Dat-Bl'!$J$127:$N$246,2))","v":""},{"$f":"IF(A127=\"\",\"\",VLOOKUP(A127,'Dat-Bl'!$J$127:$N$246,3))","v":""},{"$f":"IF(A127=\"\",\"\",VLOOKUP(A127,'Dat-Bl'!$J$127:$N$246,5))","v":""}]
[null,"Bahn 7",{"$f":"IF(A128=\"\",\"\",VLOOKUP(A128,'Dat-Bl'!$J$127:$N$246,2))","v":""},{"$f":"IF(A128=\"\",\"\",VLOOKUP(A128,'Dat-Bl'!$J$127:$N$246,3))","v":""},{"$f":"IF(A128=\"\",\"\",VLOOKUP(A128,'Dat-Bl'!$J$127:$N$246,5))","v":""}]
[null,"Bahn 8",{"$f":"IF(A129=\"\",\"\",VLOOKUP(A129,'Dat-Bl'!$J$127:$N$246,2))","v":""},{"$f":"IF(A129=\"\",\"\",VLOOKUP(A129,'Dat-Bl'!$J$127:$N$246,3))","v":""},{"$f":"IF(A129=\"\",\"\",VLOOKUP(A129,'Dat-Bl'!$J$127:$N$246,5))","v":""}]
["K-ziff","Lauf ","Startnr.:","Familienname Vorname",{"$f":"E112","v":"Schule-60m-männlich_C /D - Sport"},"Zeit"]
[null,"Bahn 1",{"$f":"IF(A131=\"\",\"\",VLOOKUP(A131,'Dat-Bl'!$J$127:$N$246,2))","v":""},{"$f":"IF(A131=\"\",\"\",VLOOKUP(A131,'Dat-Bl'!$J$127:$N$246,3))","v":""},{"$f":"IF(A131=\"\",\"\",VLOOKUP(A131,'Dat-Bl'!$J$127:$N$246,5))","v":""}]
[null,"Bahn 2",{"$f":"IF(A132=\"\",\"\",VLOOKUP(A132,'Dat-Bl'!$J$127:$N$246,2))","v":""},{"$f":"IF(A132=\"\",\"\",VLOOKUP(A132,'Dat-Bl'!$J$127:$N$246,3))","v":""},{"$f":"IF(A132=\"\",\"\",VLOOKUP(A132,'Dat-Bl'!$J$127:$N$246,5))","v":""}]
[null,"Bahn 3",{"$f":"IF(A133=\"\",\"\",VLOOKUP(A133,'Dat-Bl'!$J$127:$N$246,2))","v":""},{"$f":"IF(A133=\"\",\"\",VLOOKUP(A133,'Dat-Bl'!$J$127:$N$246,3))","v":""},{"$f":"IF(A133=\"\",\"\",VLOOKUP(A133,'Dat-Bl'!$J$127:$N$246,5))","v":""}]
[null,"Bahn 4",{"$f":"IF(A134=\"\",\"\",VLOOKUP(A134,'Dat-Bl'!$J$127:$N$246,2))","v":""},{"$f":"IF(A134=\"\",\"\",VLOOKUP(A134,'Dat-Bl'!$J$127:$N$246,3))","v":""},{"$f":"IF(A134=\"\",\"\",VLOOKUP(A134,'Dat-Bl'!$J$127:$N$246,5))","v":""}]
[null,"Bahn 5",{"$f":"IF(A135=\"\",\"\",VLOOKUP(A135,'Dat-Bl'!$J$127:$N$246,2))","v":""},{"$f":"IF(A135=\"\",\"\",VLOOKUP(A135,'Dat-Bl'!$J$127:$N$246,3))","v":""},{"$f":"IF(A135=\"\",\"\",VLOOKUP(A135,'Dat-Bl'!$J$127:$N$246,5))","v":""}]
[null,"Bahn 6",{"$f":"IF(A136=\"\",\"\",VLOOKUP(A136,'Dat-Bl'!$J$127:$N$246,2))","v":""},{"$f":"IF(A136=\"\",\"\",VLOOKUP(A136,'Dat-Bl'!$J$127:$N$246,3))","v":""},{"$f":"IF(A136=\"\",\"\",VLOOKUP(A136,'Dat-Bl'!$J$127:$N$246,5))","v":""}]
[null,"Bahn 7",{"$f":"IF(A137=\"\",\"\",VLOOKUP(A137,'Dat-Bl'!$J$127:$N$246,2))","v":""},{"$f":"IF(A137=\"\",\"\",VLOOKUP(A137,'Dat-Bl'!$J$127:$N$246,3))","v":""},{"$f":"IF(A137=\"\",\"\",VLOOKUP(A137,'Dat-Bl'!$J$127:$N$246,5))","v":""}]
[null,"Bahn 8",{"$f":"IF(A138=\"\",\"\",VLOOKUP(A138,'Dat-Bl'!$J$127:$N$246,2))","v":""},{"$f":"IF(A138=\"\",\"\",VLOOKUP(A138,'Dat-Bl'!$J$127:$N$246,3))","v":""},{"$f":"IF(A138=\"\",\"\",VLOOKUP(A138,'Dat-Bl'!$J$127:$N$246,5))","v":""}]
["K-ziff","Lauf ","Startnr.:","Familienname Vorname",{"$f":"E112","v":"Schule-60m-männlich_C /D - Sport"},"Zeit"]
[null,"Bahn 1",{"$f":"IF(A140=\"\",\"\",VLOOKUP(A140,'Dat-Bl'!$J$127:$N$246,2))","v":""},{"$f":"IF(A140=\"\",\"\",VLOOKUP(A140,'Dat-Bl'!$J$127:$N$246,3))","v":""},{"$f":"IF(A140=\"\",\"\",VLOOKUP(A140,'Dat-Bl'!$J$127:$N$246,5))","v":""}]
[null,"Bahn 2",{"$f":"IF(A141=\"\",\"\",VLOOKUP(A141,'Dat-Bl'!$J$127:$N$246,2))","v":""},{"$f":"IF(A141=\"\",\"\",VLOOKUP(A141,'Dat-Bl'!$J$127:$N$246,3))","v":""},{"$f":"IF(A141=\"\",\"\",VLOOKUP(A141,'Dat-Bl'!$J$127:$N$246,5))","v":""}]
[null,"Bahn 3",{"$f":"IF(A142=\"\",\"\",VLOOKUP(A142,'Dat-Bl'!$J$127:$N$246,2))","v":""},{"$f":"IF(A142=\"\",\"\",VLOOKUP(A142,'Dat-Bl'!$J$127:$N$246,3))","v":""},{"$f":"IF(A142=\"\",\"\",VLOOKUP(A142,'Dat-Bl'!$J$127:$N$246,5))","v":""}]
[null,"Bahn 4",{"$f":"IF(A143=\"\",\"\",VLOOKUP(A143,'Dat-Bl'!$J$127:$N$246,2))","v":""},{"$f":"IF(A143=\"\",\"\",VLOOKUP(A143,'Dat-Bl'!$J$127:$N$246,3))","v":""},{"$f":"IF(A143=\"\",\"\",VLOOKUP(A143,'Dat-Bl'!$J$127:$N$246,5))","v":""}]
[null,"Bahn 5",{"$f":"IF(A144=\"\",\"\",VLOOKUP(A144,'Dat-Bl'!$J$127:$N$246,2))","v":""},{"$f":"IF(A144=\"\",\"\",VLOOKUP(A144,'Dat-Bl'!$J$127:$N$246,3))","v":""},{"$f":"IF(A144=\"\",\"\",VLOOKUP(A144,'Dat-Bl'!$J$127:$N$246,5))","v":""}]
[null,"Bahn 6",{"$f":"IF(A145=\"\",\"\",VLOOKUP(A145,'Dat-Bl'!$J$127:$N$246,2))","v":""},{"$f":"IF(A145=\"\",\"\",VLOOKUP(A145,'Dat-Bl'!$J$127:$N$246,3))","v":""},{"$f":"IF(A145=\"\",\"\",VLOOKUP(A145,'Dat-Bl'!$J$127:$N$246,5))","v":""}]
[null,"Bahn 7",{"$f":"IF(A146=\"\",\"\",VLOOKUP(A146,'Dat-Bl'!$J$127:$N$246,2))","v":""},{"$f":"IF(A146=\"\",\"\",VLOOKUP(A146,'Dat-Bl'!$J$127:$N$246,3))","v":""},{"$f":"IF(A146=\"\",\"\",VLOOKUP(A146,'Dat-Bl'!$J$127:$N$246,5))","v":""}]
[null,"Bahn 8",{"$f":"IF(A147=\"\",\"\",VLOOKUP(A147,'Dat-Bl'!$J$127:$N$246,2))","v":""},{"$f":"IF(A147=\"\",\"\",VLOOKUP(A147,'Dat-Bl'!$J$127:$N$246,3))","v":""},{"$f":"IF(A147=\"\",\"\",VLOOKUP(A147,'Dat-Bl'!$J$127:$N$246,5))","v":""}]

{"sheet":"P-Wurf","index":15,"n_rows":131,"n_cols":8,"rows_kept":131,"cut":false,"hidden":false,"merged":[[33,3,33,4],[66,3,66,4],[99,3,99,4],[0,3,0,4]]}
[null,null,"Schlagball/Kugel","Weiblich_D,C / Regel",null,"Anlage ",null,"Uhr:"]
["K-ziff","Startnr.:","Name","Schule","1. Versuch","2. Versuch","3. Versuch","Bester V."]
[null,{"$f":"IF(A3=\"\",\"\",VLOOKUP(A3,'Dat-Bl'!$B$4:$F$123,2))","v":""},{"$f":"IF(A3=\"\",\"\",VLOOKUP(A3,'Dat-Bl'!$B$4:$F$123,3))","v":""},{"$f":"IF(A3=\"\",\"\",VLOOKUP(A3,'Dat-Bl'!$B$4:$F$123,5))","v":""}]
[null,{"$f":"IF(A4=\"\",\"\",VLOOKUP(A4,'Dat-Bl'!$B$4:$F$123,2))","v":""},{"$f":"IF(A4=\"\",\"\",VLOOKUP(A4,'Dat-Bl'!$B$4:$F$123,3))","v":""},{"$f":"IF(A4=\"\",\"\",VLOOKUP(A4,'Dat-Bl'!$B$4:$F$123,5))","v":""}]
[null,{"$f":"IF(A5=\"\",\"\",VLOOKUP(A5,'Dat-Bl'!$B$4:$F$123,2))","v":""},{"$f":"IF(A5=\"\",\"\",VLOOKUP(A5,'Dat-Bl'!$B$4:$F$123,3))","v":""},{"$f":"IF(A5=\"\",\"\",VLOOKUP(A5,'Dat-Bl'!$B$4:$F$123,5))","v":""}]
[null,{"$f":"IF(A6=\"\",\"\",VLOOKUP(A6,'Dat-Bl'!$B$4:$F$123,2))","v":""},{"$f":"IF(A6=\"\",\"\",VLOOKUP(A6,'Dat-Bl'!$B$4:$F$123,3))","v":""},{"$f":"IF(A6=\"\",\"\",VLOOKUP(A6,'Dat-Bl'!$B$4:$F$123,5))","v":""}]
[null,{"$f":"IF(A7=\"\",\"\",VLOOKUP(A7,'Dat-Bl'!$B$4:$F$123,2))","v":""},{"$f":"IF(A7=\"\",\"\",VLOOKUP(A7,'Dat-Bl'!$B$4:$F$123,3))","v":""},{"$f":"IF(A7=\"\",\"\",VLOOKUP(A7,'Dat-Bl'!$B$4:$F$123,5))","v":""}]
[null,{"$f":"IF(A8=\"\",\"\",VLOOKUP(A8,'Dat-Bl'!$B$4:$F$123,2))","v":""},{"$f":"IF(A8=\"\",\"\",VLOOKUP(A8,'Dat-Bl'!$B$4:$F$123,3))","v":""},{"$f":"IF(A8=\"\",\"\",VLOOKUP(A8,'Dat-Bl'!$B$4:$F$123,5))","v":""}]
[null,{"$f":"IF(A9=\"\",\"\",VLOOKUP(A9,'Dat-Bl'!$B$4:$F$123,2))","v":""},{"$f":"IF(A9=\"\",\"\",VLOOKUP(A9,'Dat-Bl'!$B$4:$F$123,3))","v":""},{"$f":"IF(A9=\"\",\"\",VLOOKUP(A9,'Dat-Bl'!$B$4:$F$123,5))","v":""}]
[null,{"$f":"IF(A10=\"\",\"\",VLOOKUP(A10,'Dat-Bl'!$B$4:$F$123,2))","v":""},{"$f":"IF(A10=\"\",\"\",VLOOKUP(A10,'Dat-Bl'!$B$4:$F$123,3))","v":""},{"$f":"IF(A10=\"\",\"\",VLOOKUP(A10,'Dat-Bl'!$B$4:$F$123,5))","v":""}]
[null,{"$f":"IF(A11=\"\",\"\",VLOOKUP(A11,'Dat-Bl'!$B$4:$F$123,2))","v":""},{"$f":"IF(A11=\"\",\"\",VLOOKUP(A11,'Dat-Bl'!$B$4:$F$123,3))","v":""},{"$f":"IF(A11=\"\",\"\",VLOOKUP(A11,'Dat-Bl'!$B$4:$F$123,5))","v":""}]
[null,{"$f":"IF(A12=\"\",\"\",VLOOKUP(A12,'Dat-Bl'!$B$4:$F$123,2))","v":""},{"$f":"IF(A12=\"\",\"\",VLOOKUP(A12,'Dat-Bl'!$B$4:$F$123,3))","v":""},{"$f":"IF(A12=\"\",\"\",VLOOKUP(A12,'Dat-Bl'!$B$4:$F$123,5))","v":""}]
[null,{"$f":"IF(A13=\"\",\"\",VLOOKUP(A13,'Dat-Bl'!$B$4:$F$123,2))","v":""},{"$f":"IF(A13=\"\",\"\",VLOOKUP(A13,'Dat-Bl'!$B$4:$F$123,3))","v":""},{"$f":"IF(A13=\"\",\"\",VLOOKUP(A13,'Dat-Bl'!$B$4:$F$123,5))","v":""}]
[null,{"$f":"IF(A14=\"\",\"\",VLOOKUP(A14,'Dat-Bl'!$B$4:$F$123,2))","v":""},{"$f":"IF(A14=\"\",\"\",VLOOKUP(A14,'Dat-Bl'!$B$4:$F$123,3))","v":""},{"$f":"IF(A14=\"\",\"\",VLOOKUP(A14,'Dat-Bl'!$B$4:$F$123,5))","v":""}]
[null,{"$f":"IF(A15=\"\",\"\",VLOOKUP(A15,'Dat-Bl'!$B$4:$F$123,2))","v":""},{"$f":"IF(A15=\"\",\"\",VLOOKUP(A15,'Dat-Bl'!$B$4:$F$123,3))","v":""},{"$f":"IF(A15=\"\",\"\",VLOOKUP(A15,'Dat-Bl'!$B$4:$F$123,5))","v":""}]
[null,{"$f":"IF(A16=\"\",\"\",VLOOKUP(A16,'Dat-Bl'!$B$4:$F$123,2))","v":""},{"$f":"IF(A16=\"\",\"\",VLOOKUP(A16,'Dat-Bl'!$B$4:$F$123,3))","v":""},{"$f":"IF(A16=\"\",\"\",VLOOKUP(A16,'Dat-Bl'!$B$4:$F$123,5))","v":""}]
[null,{"$f":"IF(A17=\"\",\"\",VLOOKUP(A17,'Dat-Bl'!$B$4:$F$123,2))","v":""},{"$f":"IF(A17=\"\",\"\",VLOOKUP(A17,'Dat-Bl'!$B$4:$F$123,3))","v":""},{"$f":"IF(A17=\"\",\"\",VLOOKUP(A17,'Dat-Bl'!$B$4:$F$123,5))","v":""}]
[null,{"$f":"IF(A18=\"\",\"\",VLOOKUP(A18,'Dat-Bl'!$B$4:$F$123,2))","v":""},{"$f":"IF(A18=\"\",\"\",VLOOKUP(A18,'Dat-Bl'!$B$4:$F$123,3))","v":""},{"$f":"IF(A18=\"\",\"\",VLOOKUP(A18,'Dat-Bl'!$B$4:$F$123,5))","v":""}]
[null,{"$f":"IF(A19=\"\",\"\",VLOOKUP(A19,'Dat-Bl'!$B$4:$F$123,2))","v":""},{"$f":"IF(A19=\"\",\"\",VLOOKUP(A19,'Dat-Bl'!$B$4:$F$123,3))","v":""},{"$f":"IF(A19=\"\",\"\",VLOOKUP(A19,'Dat-Bl'!$B$4:$F$123,5))","v":""}]
[null,{"$f":"IF(A20=\"\",\"\",VLOOKUP(A20,'Dat-Bl'!$B$4:$F$123,2))","v":""},{"$f":"IF(A20=\"\",\"\",VLOOKUP(A20,'Dat-Bl'!$B$4:$F$123,3))","v":""},{"$f":"IF(A20=\"\",\"\",VLOOKUP(A20,'Dat-Bl'!$B$4:$F$123,5))","v":""}]
[null,{"$f":"IF(A21=\"\",\"\",VLOOKUP(A21,'Dat-Bl'!$B$4:$F$123,2))","v":""},{"$f":"IF(A21=\"\",\"\",VLOOKUP(A21,'Dat-Bl'!$B$4:$F$123,3))","v":""},{"$f":"IF(A21=\"\",\"\",VLOOKUP(A21,'Dat-Bl'!$B$4:$F$123,5))","v":""}]
[null,{"$f":"IF(A22=\"\",\"\",VLOOKUP(A22,'Dat-Bl'!$B$4:$F$123,2))","v":""},{"$f":"IF(A22=\"\",\"\",VLOOKUP(A22,'Dat-Bl'!$B$4:$F$123,3))","v":""},{"$f":"IF(A22=\"\",\"\",VLOOKUP(A22,'Dat-Bl'!$B$4:$F$123,5))","v":""}]
[null,{"$f":"IF(A23=\"\",\"\",VLOOKUP(A23,'Dat-Bl'!$B$4:$F$123,2))","v":""},{"$f":"IF(A23=\"\",\"\",VLOOKUP(A23,'Dat-Bl'!$B$4:$F$123,3))","v":""},{"$f":"IF(A23=\"\",\"\",VLOOKUP(A23,'Dat-Bl'!$B$4:$F$123,5))","v":""}]
[null,{"$f":"IF(A24=\"\",\"\",VLOOKUP(A24,'Dat-Bl'!$B$4:$F$123,2))","v":""},{"$f":"IF(A24=\"\",\"\",VLOOKUP(A24,'Dat-Bl'!$B$4:$F$123,3))","v":""},{"$f":"IF(A24=\"\",\"\",VLOOKUP(A24,'Dat-Bl'!$B$4:$F$123,5))","v":""}]
[null,{"$f":"IF(A25=\"\",\"\",VLOOKUP(A25,'Dat-Bl'!$B$4:$F$123,2))","v":""},{"$f":"IF(A25=\"\",\"\",VLOOKUP(A25,'Dat-Bl'!$B$4:$F$123,3))","v":""},{"$f":"IF(A25=\"\",\"\",VLOOKUP(A25,'Dat-Bl'!$B$4:$F$123,5))","v":""}]
[null,{"$f":"IF(A26=\"\",\"\",VLOOKUP(A26,'Dat-Bl'!$B$4:$F$123,2))","v":""},{"$f":"IF(A26=\"\",\"\",VLOOKUP(A26,'Dat-Bl'!$B$4:$F$123,3))","v":""},{"$f":"IF(A26=\"\",\"\",VLOOKUP(A26,'Dat-Bl'!$B$4:$F$123,5))","v":""}]
[null,{"$f":"IF(A27=\"\",\"\",VLOOKUP(A27,'Dat-Bl'!$B$4:$F$123,2))","v":""},{"$f":"IF(A27=\"\",\"\",VLOOKUP(A27,'Dat-Bl'!$B$4:$F$123,3))","v":""},{"$f":"IF(A27=\"\",\"\",VLOOKUP(A27,'Dat-Bl'!$B$4:$F$123,5))","v":""}]
[null,{"$f":"IF(A28=\"\",\"\",VLOOKUP(A28,'Dat-Bl'!$B$4:$F$123,2))","v":""},{"$f":"IF(A28=\"\",\"\",VLOOKUP(A28,'Dat-Bl'!$B$4:$F$123,3))","v":""},{"$f":"IF(A28=\"\",\"\",VLOOKUP(A28,'Dat-Bl'!$B$4:$F$123,5))","v":""}]
[null,{"$f":"IF(A29=\"\",\"\",VLOOKUP(A29,'Dat-Bl'!$B$4:$F$123,2))","v":""},{"$f":"IF(A29=\"\",\"\",VLOOKUP(A29,'Dat-Bl'!$B$4:$F$123,3))","v":""},{"$f":"IF(A29=\"\",\"\",VLOOKUP(A29,'Dat-Bl'!$B$4:$F$123,5))","v":""}]
[null,{"$f":"IF(A30=\"\",\"\",VLOOKUP(A30,'Dat-Bl'!$B$4:$F$123,2))","v":""},{"$f":"IF(A30=\"\",\"\",VLOOKUP(A30,'Dat-Bl'!$B$4:$F$123,3))","v":""},{"$f":"IF(A30=\"\",\"\",VLOOKUP(A30,'Dat-Bl'!$B$4:$F$123,5))","v":""}]
[null,{"$f":"IF(A31=\"\",\"\",VLOOKUP(A31,'Dat-Bl'!$B$4:$F$123,2))","v":""},{"$f":"IF(A31=\"\",\"\",VLOOKUP(A31,'Dat-Bl'!$B$4:$F$123,3))","v":""},{"$f":"IF(A31=\"\",\"\",VLOOKUP(A31,'Dat-Bl'!$B$4:$F$123,5))","v":""}]
[null,{"$f":"IF(A32=\"\",\"\",VLOOKUP(A32,'Dat-Bl'!$B$4:$F$123,2))","v":""},{"$f":"IF(A32=\"\",\"\",VLOOKUP(A32,'Dat-Bl'!$B$4:$F$123,3))","v":""},{"$f":"IF(A32=\"\",\"\",VLOOKUP(A32,'Dat-Bl'!$B$4:$F$123,5))","v":""}]
[]
[null,null,"Schlagball/Kugel","Weiblich_D,C / Sport",null,"Anlage ",null,"Uhr"]
["K-ziff","Startnr.:","Name","Schule","1. Versuch","2. Versuch","3. Versuch","Bester V."]
[null,{"$f":"IF(A36=\"\",\"\",VLOOKUP(A36,'Dat-Bl'!$B$127:$F$246,2))","v":""},{"$f":"IF(A36=\"\",\"\",VLOOKUP(A36,'Dat-Bl'!$B$127:$F$246,3))","v":""},{"$f":"IF(A36=\"\",\"\",VLOOKUP(A36,'Dat-Bl'!$B$127:$F$246,5))","v":""}]
[null,{"$f":"IF(A37=\"\",\"\",VLOOKUP(A37,'Dat-Bl'!$B$127:$F$246,2))","v":""},{"$f":"IF(A37=\"\",\"\",VLOOKUP(A37,'Dat-Bl'!$B$127:$F$246,3))","v":""},{"$f":"IF(A37=\"\",\"\",VLOOKUP(A37,'Dat-Bl'!$B$127:$F$246,5))","v":""}]
[null,{"$f":"IF(A38=\"\",\"\",VLOOKUP(A38,'Dat-Bl'!$B$127:$F$246,2))","v":""},{"$f":"IF(A38=\"\",\"\",VLOOKUP(A38,'Dat-Bl'!$B$127:$F$246,3))","v":""},{"$f":"IF(A38=\"\",\"\",VLOOKUP(A38,'Dat-Bl'!$B$127:$F$246,5))","v":""}]
[null,{"$f":"IF(A39=\"\",\"\",VLOOKUP(A39,'Dat-Bl'!$B$127:$F$246,2))","v":""},{"$f":"IF(A39=\"\",\"\",VLOOKUP(A39,'Dat-Bl'!$B$127:$F$246,3))","v":""},{"$f":"IF(A39=\"\",\"\",VLOOKUP(A39,'Dat-Bl'!$B$127:$F$246,5))","v":""}]
[null,{"$f":"IF(A40=\"\",\"\",VLOOKUP(A40,'Dat-Bl'!$B$127:$F$246,2))","v":""},{"$f":"IF(A40=\"\",\"\",VLOOKUP(A40,'Dat-Bl'!$B$127:$F$246,3))","v":""},{"$f":"IF(A40=\"\",\"\",VLOOKUP(A40,'Dat-Bl'!$B$127:$F$246,5))","v":""}]
[null,{"$f":"IF(A41=\"\",\"\",VLOOKUP(A41,'Dat-Bl'!$B$127:$F$246,2))","v":""},{"$f":"IF(A41=\"\",\"\",VLOOKUP(A41,'Dat-Bl'!$B$127:$F$246,3))","v":""},{"$f":"IF(A41=\"\",\"\",VLOOKUP(A41,'Dat-Bl'!$B$127:$F$246,5))","v":""}]
[null,{"$f":"IF(A42=\"\",\"\",VLOOKUP(A42,'Dat-Bl'!$B$127:$F$246,2))","v":""},{"$f":"IF(A42=\"\",\"\",VLOOKUP(A42,'Dat-Bl'!$B$127:$F$246,3))","v":""},{"$f":"IF(A42=\"\",\"\",VLOOKUP(A42,'Dat-Bl'!$B$127:$F$246,5))","v":""}]
[null,{"$f":"IF(A43=\"\",\"\",VLOOKUP(A43,'Dat-Bl'!$B$127:$F$246,2))","v":""},{"$f":"IF(A43=\"\",\"\",VLOOKUP(A43,'Dat-Bl'!$B$127:$F$246,3))","v":""},{"$f":"IF(A43=\"\",\"\",VLOOKUP(A43,'Dat-Bl'!$B$127:$F$246,5))","v":""}]
[null,{"$f":"IF(A44=\"\",\"\",VLOOKUP(A44,'Dat-Bl'!$B$127:$F$246,2))","v":""},{"$f":"IF(A44=\"\",\"\",VLOOKUP(A44,'Dat-Bl'!$B$127:$F$246,3))","v":""},{"$f":"IF(A44=\"\",\"\",VLOOKUP(A44,'Dat-Bl'!$B$127:$F$246,5))","v":""}]
[null,{"$f":"IF(A45=\"\",\"\",VLOOKUP(A45,'Dat-Bl'!$B$127:$F$246,2))","v":""},{"$f":"IF(A45=\"\",\"\",VLOOKUP(A45,'Dat-Bl'!$B$127:$F$246,3))","v":""},{"$f":"IF(A45=\"\",\"\",VLOOKUP(A45,'Dat-Bl'!$B$127:$F$246,5))","v":""}]
[null,{"$f":"IF(A46=\"\",\"\",VLOOKUP(A46,'Dat-Bl'!$B$127:$F$246,2))","v":""},{"$f":"IF(A46=\"\",\"\",VLOOKUP(A46,'Dat-Bl'!$B$127:$F$246,3))","v":""},{"$f":"IF(A46=\"\",\"\",VLOOKUP(A46,'Dat-Bl'!$B$127:$F$246,5))","v":""}]
[null,{"$f":"IF(A47=\"\",\"\",VLOOKUP(A47,'Dat-Bl'!$B$127:$F$246,2))","v":""},{"$f":"IF(A47=\"\",\"\",VLOOKUP(A47,'Dat-Bl'!$B$127:$F$246,3))","v":""},{"$f":"IF(A47=\"\",\"\",VLOOKUP(A47,'Dat-Bl'!$B$127:$F$246,5))","v":""}]
[null,{"$f":"IF(A48=\"\",\"\",VLOOKUP(A48,'Dat-Bl'!$B$127:$F$246,2))","v":""},{"$f":"IF(A48=\"\",\"\",VLOOKUP(A48,'Dat-Bl'!$B$127:$F$246,3))","v":""},{"$f":"IF(A48=\"\",\"\",VLOOKUP(A48,'Dat-Bl'!$B$127:$F$246,5))","v":""}]
[null,{"$f":"IF(A49=\"\",\"\",VLOOKUP(A49,'Dat-Bl'!$B$127:$F$246,2))","v":""},{"$f":"IF(A49=\"\",\"\",VLOOKUP(A49,'Dat-Bl'!$B$127:$F$246,3))","v":""},{"$f":"IF(A49=\"\",\"\",VLOOKUP(A49,'Dat-Bl'!$B$127:$F$246,5))","v":""}]
[null,{"$f":"IF(A50=\"\",\"\",VLOOKUP(A50,'Dat-Bl'!$B$127:$F$246,2))","v":""},{"$f":"IF(A50=\"\",\"\",VLOOKUP(A50,'Dat-Bl'!$B$127:$F$246,3))","v":""},{"$f":"IF(A50=\"\",\"\",VLOOKUP(A50,'Dat-Bl'!$B$127:$F$246,5))","v":""}]
[null,{"$f":"IF(A51=\"\",\"\",VLOOKUP(A51,'Dat-Bl'!$B$127:$F$246,2))","v":""},{"$f":"IF(A51=\"\",\"\",VLOOKUP(A51,'Dat-Bl'!$B$127:$F$246,3))","v":""},{"$f":"IF(A51=\"\",\"\",VLOOKUP(A51,'Dat-Bl'!$B$127:$F$246,5))","v":""}]
[null,{"$f":"IF(A52=\"\",\"\",VLOOKUP(A52,'Dat-Bl'!$B$127:$F$246,2))","v":""},{"$f":"IF(A52=\"\",\"\",VLOOKUP(A52,'Dat-Bl'!$B$127:$F$246,3))","v":""},{"$f":"IF(A52=\"\",\"\",VLOOKUP(A52,'Dat-Bl'!$B$127:$F$246,5))","v":""}]
[null,{"$f":"IF(A53=\"\",\"\",VLOOKUP(A53,'Dat-Bl'!$B$127:$F$246,2))","v":""},{"$f":"IF(A53=\"\",\"\",VLOOKUP(A53,'Dat-Bl'!$B$127:$F$246,3))","v":""},{"$f":"IF(A53=\"\",\"\",VLOOKUP(A53,'Dat-Bl'!$B$127:$F$246,5))","v":""}]
[null,{"$f":"IF(A54=\"\",\"\",VLOOKUP(A54,'Dat-Bl'!$B$127:$F$246,2))","v":""},{"$f":"IF(A54=\"\",\"\",VLOOKUP(A54,'Dat-Bl'!$B$127:$F$246,3))","v":""},{"$f":"IF(A54=\"\",\"\",VLOOKUP(A54,'Dat-Bl'!$B$127:$F$246,5))","v":""}]
[null,{"$f":"IF(A55=\"\",\"\",VLOOKUP(A55,'Dat-Bl'!$B$127:$F$246,2))","v":""},{"$f":"IF(A55=\"\",\"\",VLOOKUP(A55,'Dat-Bl'!$B$127:$F$246,3))","v":""},{"$f":"IF(A55=\"\",\"\",VLOOKUP(A55,'Dat-Bl'!$B$127:$F$246,5))","v":""}]
[null,{"$f":"IF(A56=\"\",\"\",VLOOKUP(A56,'Dat-Bl'!$B$127:$F$246,2))","v":""},{"$f":"IF(A56=\"\",\"\",VLOOKUP(A56,'Dat-Bl'!$B$127:$F$246,3))","v":""},{"$f":"IF(A56=\"\",\"\",VLOOKUP(A56,'Dat-Bl'!$B$127:$F$246,5))","v":""}]
[null,{"$f":"IF(A57=\"\",\"\",VLOOKUP(A57,'Dat-Bl'!$B$127:$F$246,2))","v":""},{"$f":"IF(A57=\"\",\"\",VLOOKUP(A57,'Dat-Bl'!$B$127:$F$246,3))","v":""},{"$f":"IF(A57=\"\",\"\",VLOOKUP(A57,'Dat-Bl'!$B$127:$F$246,5))","v":""}]
[null,{"$f":"IF(A58=\"\",\"\",VLOOKUP(A58,'Dat-Bl'!$B$127:$F$246,2))","v":""},{"$f":"IF(A58=\"\",\"\",VLOOKUP(A58,'Dat-Bl'!$B$127:$F$246,3))","v":""},{"$f":"IF(A58=\"\",\"\",VLOOKUP(A58,'Dat-Bl'!$B$127:$F$246,5))","v":""}]
[null,{"$f":"IF(A59=\"\",\"\",VLOOKUP(A59,'Dat-Bl'!$B$127:$F$246,2))","v":""},{"$f":"IF(A59=\"\",\"\",VLOOKUP(A59,'Dat-Bl'!$B$127:$F$246,3))","v":""},{"$f":"IF(A59=\"\",\"\",VLOOKUP(A59,'Dat-Bl'!$B$127:$F$246,5))","v":""}]
[null,{"$f":"IF(A60=\"\",\"\",VLOOKUP(A60,'Dat-Bl'!$B$127:$F$246,2))","v":""},{"$f":"IF(A60=\"\",\"\",VLOOKUP(A60,'Dat-Bl'!$B$127:$F$246,3))","v":""},{"$f":"IF(A60=\"\",\"\",VLOOKUP(A60,'Dat-Bl'!$B$127:$F$246,5))","v":""}]
[null,{"$f":"IF(A61=\"\",\"\",VLOOKUP(A61,'Dat-Bl'!$B$127:$F$246,2))","v":""},{"$f":"IF(A61=\"\",\"\",VLOOKUP(A61,'Dat-Bl'!$B$127:$F$246,3))","v":""},{"$f":"IF(A61=\"\",\"\",VLOOKUP(A61,'Dat-Bl'!$B$127:$F$246,5))","v":""}]
[null,{"$f":"IF(A62=\"\",\"\",VLOOKUP(A62,'Dat-Bl'!$B$127:$F$246,2))","v":""},{"$f":"IF(A62=\"\",\"\",VLOOKUP(A62,'Dat-Bl'!$B$127:$F$246,3))","v":""},{"$f":"IF(A62=\"\",\"\",VLOOKUP(A62,'Dat-Bl'!$B$127:$F$246,5))","v":""}]
[null,{"$f":"IF(A63=\"\",\"\",VLOOKUP(A63,'Dat-Bl'!$B$127:$F$246,2))","v":""},{"$f":"IF(A63=\"\",\"\",VLOOKUP(A63,'Dat-Bl'!$B$127:$F$246,3))","v":""},{"$f":"IF(A63=\"\",\"\",VLOOKUP(A63,'Dat-Bl'!$B$127:$F$246,5))","v":""}]
[null,{"$f":"IF(A64=\"\",\"\",VLOOKUP(A64,'Dat-Bl'!$B$127:$F$246,2))","v":""},{"$f":"IF(A64=\"\",\"\",VLOOKUP(A64,'Dat-Bl'!$B$127:$F$246,3))","v":""},{"$f":"IF(A64=\"\",\"\",VLOOKUP(A64,'Dat-Bl'!$B$127:$F$246,5))","v":""}]
[null,{"$f":"IF(A65=\"\",\"\",VLOOKUP(A65,'Dat-Bl'!$B$127:$F$246,2))","v":""},{"$f":"IF(A65=\"\",\"\",VLOOKUP(A65,'Dat-Bl'!$B$127:$F$246,3))","v":""},{"$f":"IF(A65=\"\",\"\",VLOOKUP(A65,'Dat-Bl'!$B$127:$F$246,5))","v":""}]
[]
[null,null,"Schlagball/Kugel","Männlich_D,C / Regel",null,"Anlage ",null,"Uhr"]
["K-ziff","Startnr.:","Name","Schule","1. Versuch","2. Versuch","3. Versuch","Bester V."]
[null,{"$f":"IF(A69=\"\",\"\",VLOOKUP(A69,'Dat-Bl'!$J$4:$N$123,2))","v":""},{"$f":"IF(A69=\"\",\"\",VLOOKUP(A69,'Dat-Bl'!$J$4:$N$123,3))","v":""},{"$f":"IF(A69=\"\",\"\",VLOOKUP(A69,'Dat-Bl'!$J$4:$N$123,5))","v":""}]
[null,{"$f":"IF(A70=\"\",\"\",VLOOKUP(A70,'Dat-Bl'!$J$4:$N$123,2))","v":""},{"$f":"IF(A70=\"\",\"\",VLOOKUP(A70,'Dat-Bl'!$J$4:$N$123,3))","v":""},{"$f":"IF(A70=\"\",\"\",VLOOKUP(A70,'Dat-Bl'!$J$4:$N$123,5))","v":""}]
[null,{"$f":"IF(A71=\"\",\"\",VLOOKUP(A71,'Dat-Bl'!$J$4:$N$123,2))","v":""},{"$f":"IF(A71=\"\",\"\",VLOOKUP(A71,'Dat-Bl'!$J$4:$N$123,3))","v":""},{"$f":"IF(A71=\"\",\"\",VLOOKUP(A71,'Dat-Bl'!$J$4:$N$123,5))","v":""}]
[null,{"$f":"IF(A72=\"\",\"\",VLOOKUP(A72,'Dat-Bl'!$J$4:$N$123,2))","v":""},{"$f":"IF(A72=\"\",\"\",VLOOKUP(A72,'Dat-Bl'!$J$4:$N$123,3))","v":""},{"$f":"IF(A72=\"\",\"\",VLOOKUP(A72,'Dat-Bl'!$J$4:$N$123,5))","v":""}]
[null,{"$f":"IF(A73=\"\",\"\",VLOOKUP(A73,'Dat-Bl'!$J$4:$N$123,2))","v":""},{"$f":"IF(A73=\"\",\"\",VLOOKUP(A73,'Dat-Bl'!$J$4:$N$123,3))","v":""},{"$f":"IF(A73=\"\",\"\",VLOOKUP(A73,'Dat-Bl'!$J$4:$N$123,5))","v":""}]
[null,{"$f":"IF(A74=\"\",\"\",VLOOKUP(A74,'Dat-Bl'!$J$4:$N$123,2))","v":""},{"$f":"IF(A74=\"\",\"\",VLOOKUP(A74,'Dat-Bl'!$J$4:$N$123,3))","v":""},{"$f":"IF(A74=\"\",\"\",VLOOKUP(A74,'Dat-Bl'!$J$4:$N$123,5))","v":""}]
[null,{"$f":"IF(A75=\"\",\"\",VLOOKUP(A75,'Dat-Bl'!$J$4:$N$123,2))","v":""},{"$f":"IF(A75=\"\",\"\",VLOOKUP(A75,'Dat-Bl'!$J$4:$N$123,3))","v":""},{"$f":"IF(A75=\"\",\"\",VLOOKUP(A75,'Dat-Bl'!$J$4:$N$123,5))","v":""}]
[null,{"$f":"IF(A76=\"\",\"\",VLOOKUP(A76,'Dat-Bl'!$J$4:$N$123,2))","v":""},{"$f":"IF(A76=\"\",\"\",VLOOKUP(A76,'Dat-Bl'!$J$4:$N$123,3))","v":""},{"$f":"IF(A76=\"\",\"\",VLOOKUP(A76,'Dat-Bl'!$J$4:$N$123,5))","v":""}]
[null,{"$f":"IF(A77=\"\",\"\",VLOOKUP(A77,'Dat-Bl'!$J$4:$N$123,2))","v":""},{"$f":"IF(A77=\"\",\"\",VLOOKUP(A77,'Dat-Bl'!$J$4:$N$123,3))","v":""},{"$f":"IF(A77=\"\",\"\",VLOOKUP(A77,'Dat-Bl'!$J$4:$N$123,5))","v":""}]
[null,{"$f":"IF(A78=\"\",\"\",VLOOKUP(A78,'Dat-Bl'!$J$4:$N$123,2))","v":""},{"$f":"IF(A78=\"\",\"\",VLOOKUP(A78,'Dat-Bl'!$J$4:$N$123,3))","v":""},{"$f":"IF(A78=\"\",\"\",VLOOKUP(A78,'Dat-Bl'!$J$4:$N$123,5))","v":""}]
[null,{"$f":"IF(A79=\"\",\"\",VLOOKUP(A79,'Dat-Bl'!$J$4:$N$123,2))","v":""},{"$f":"IF(A79=\"\",\"\",VLOOKUP(A79,'Dat-Bl'!$J$4:$N$123,3))","v":""},{"$f":"IF(A79=\"\",\"\",VLOOKUP(A79,'Dat-Bl'!$J$4:$N$123,5))","v":""}]
[null,{"$f":"IF(A80=\"\",\"\",VLOOKUP(A80,'Dat-Bl'!$J$4:$N$123,2))","v":""},{"$f":"IF(A80=\"\",\"\",VLOOKUP(A80,'Dat-Bl'!$J$4:$N$123,3))","v":""},{"$f":"IF(A80=\"\",\"\",VLOOKUP(A80,'Dat-Bl'!$J$4:$N$123,5))","v":""}]
[null,{"$f":"IF(A81=\"\",\"\",VLOOKUP(A81,'Dat-Bl'!$J$4:$N$123,2))","v":""},{"$f":"IF(A81=\"\",\"\",VLOOKUP(A81,'Dat-Bl'!$J$4:$N$123,3))","v":""},{"$f":"IF(A81=\"\",\"\",VLOOKUP(A81,'Dat-Bl'!$J$4:$N$123,5))","v":""}]
[null,{"$f":"IF(A82=\"\",\"\",VLOOKUP(A82,'Dat-Bl'!$J$4:$N$123,2))","v":""},{"$f":"IF(A82=\"\",\"\",VLOOKUP(A82,'Dat-Bl'!$J$4:$N$123,3))","v":""},{"$f":"IF(A82=\"\",\"\",VLOOKUP(A82,'Dat-Bl'!$J$4:$N$123,5))","v":""}]
[null,{"$f":"IF(A83=\"\",\"\",VLOOKUP(A83,'Dat-Bl'!$J$4:$N$123,2))","v":""},{"$f":"IF(A83=\"\",\"\",VLOOKUP(A83,'Dat-Bl'!$J$4:$N$123,3))","v":""},{"$f":"IF(A83=\"\",\"\",VLOOKUP(A83,'Dat-Bl'!$J$4:$N$123,5))","v":""}]
[null,{"$f":"IF(A84=\"\",\"\",VLOOKUP(A84,'Dat-Bl'!$J$4:$N$123,2))","v":""},{"$f":"IF(A84=\"\",\"\",VLOOKUP(A84,'Dat-Bl'!$J$4:$N$123,3))","v":""},{"$f":"IF(A84=\"\",\"\",VLOOKUP(A84,'Dat-Bl'!$J$4:$N$123,5))","v":""}]
[null,{"$f":"IF(A85=\"\",\"\",VLOOKUP(A85,'Dat-Bl'!$J$4:$N$123,2))","v":""},{"$f":"IF(A85=\"\",\"\",VLOOKUP(A85,'Dat-Bl'!$J$4:$N$123,3))","v":""},{"$f":"IF(A85=\"\",\"\",VLOOKUP(A85,'Dat-Bl'!$J$4:$N$123,5))","v":""}]
[null,{"$f":"IF(A86=\"\",\"\",VLOOKUP(A86,'Dat-Bl'!$J$4:$N$123,2))","v":""},{"$f":"IF(A86=\"\",\"\",VLOOKUP(A86,'Dat-Bl'!$J$4:$N$123,3))","v":""},{"$f":"IF(A86=\"\",\"\",VLOOKUP(A86,'Dat-Bl'!$J$4:$N$123,5))","v":""}]
[null,{"$f":"IF(A87=\"\",\"\",VLOOKUP(A87,'Dat-Bl'!$J$4:$N$123,2))","v":""},{"$f":"IF(A87=\"\",\"\",VLOOKUP(A87,'Dat-Bl'!$J$4:$N$123,3))","v":""},{"$f":"IF(A87=\"\",\"\",VLOOKUP(A87,'Dat-Bl'!$J$4:$N$123,5))","v":""}]
[null,{"$f":"IF(A88=\"\",\"\",VLOOKUP(A88,'Dat-Bl'!$J$4:$N$123,2))","v":""},{"$f":"IF(A88=\"\",\"\",VLOOKUP(A88,'Dat-Bl'!$J$4:$N$123,3))","v":""},{"$f":"IF(A88=\"\",\"\",VLOOKUP(A88,'Dat-Bl'!$J$4:$N$123,5))","v":""}]
[null,{"$f":"IF(A89=\"\",\"\",VLOOKUP(A89,'Dat-Bl'!$J$4:$N$123,2))","v":""},{"$f":"IF(A89=\"\",\"\",VLOOKUP(A89,'Dat-Bl'!$J$4:$N$123,3))","v":""},{"$f":"IF(A89=\"\",\"\",VLOOKUP(A89,'Dat-Bl'!$J$4:$N$123,5))","v":""}]
[null,{"$f":"IF(A90=\"\",\"\",VLOOKUP(A90,'Dat-Bl'!$J$4:$N$123,2))","v":""},{"$f":"IF(A90=\"\",\"\",VLOOKUP(A90,'Dat-Bl'!$J$4:$N$123,3))","v":""},{"$f":"IF(A90=\"\",\"\",VLOOKUP(A90,'Dat-Bl'!$J$4:$N$123,5))","v":""}]
[null,{"$f":"IF(A91=\"\",\"\",VLOOKUP(A91,'Dat-Bl'!$J$4:$N$123,2))","v":""},{"$f":"IF(A91=\"\",\"\",VLOOKUP(A91,'Dat-Bl'!$J$4:$N$123,3))","v":""},{"$f":"IF(A91=\"\",\"\",VLOOKUP(A91,'Dat-Bl'!$J$4:$N$123,5))","v":""}]
[null,{"$f":"IF(A92=\"\",\"\",VLOOKUP(A92,'Dat-Bl'!$J$4:$N$123,2))","v":""},{"$f":"IF(A92=\"\",\"\",VLOOKUP(A92,'Dat-Bl'!$J$4:$N$123,3))","v":""},{"$f":"IF(A92=\"\",\"\",VLOOKUP(A92,'Dat-Bl'!$J$4:$N$123,5))","v":""}]
[null,{"$f":"IF(A93=\"\",\"\",VLOOKUP(A93,'Dat-Bl'!$J$4:$N$123,2))","v":""},{"$f":"IF(A93=\"\",\"\",VLOOKUP(A93,'Dat-Bl'!$J$4:$N$123,3))","v":""},{"$f":"IF(A93=\"\",\"\",VLOOKUP(A93,'Dat-Bl'!$J$4:$N$123,5))","v":""}]
[null,{"$f":"IF(A94=\"\",\"\",VLOOKUP(A94,'Dat-Bl'!$J$4:$N$123,2))","v":""},{"$f":"IF(A94=\"\",\"\",VLOOKUP(A94,'Dat-Bl'!$J$4:$N$123,3))","v":""},{"$f":"IF(A94=\"\",\"\",VLOOKUP(A94,'Dat-Bl'!$J$4:$N$123,5))","v":""}]
[null,{"$f":"IF(A95=\"\",\"\",VLOOKUP(A95,'Dat-Bl'!$J$4:$N$123,2))","v":""},{"$f":"IF(A95=\"\",\"\",VLOOKUP(A95,'Dat-Bl'!$J$4:$N$123,3))","v":""},{"$f":"IF(A95=\"\",\"\",VLOOKUP(A95,'Dat-Bl'!$J$4:$N$123,5))","v":""}]
[null,{"$f":"IF(A96=\"\",\"\",VLOOKUP(A96,'Dat-Bl'!$J$4:$N$123,2))","v":""},{"$f":"IF(A96=\"\",\"\",VLOOKUP(A96,'Dat-Bl'!$J$4:$N$123,3))","v":""},{"$f":"IF(A96=\"\",\"\",VLOOKUP(A96,'Dat-Bl'!$J$4:$N$123,5))","v":""}]
[null,{"$f":"IF(A97=\"\",\"\",VLOOKUP(A97,'Dat-Bl'!$J$4:$N$123,2))","v":""},{"$f":"IF(A97=\"\",\"\",VLOOKUP(A97,'Dat-Bl'!$J$4:$N$123,3))","v":""},{"$f":"IF(A97=\"\",\"\",VLOOKUP(A97,'Dat-Bl'!$J$4:$N$123,5))","v":""}]
[null,{"$f":"IF(A98=\"\",\"\",VLOOKUP(A98,'Dat-Bl'!$J$4:$N$123,2))","v":""},{"$f":"IF(A98=\"\",\"\",VLOOKUP(A98,'Dat-Bl'!$J$4:$N$123,3))","v":""},{"$f":"IF(A98=\"\",\"\",VLOOKUP(A98,'Dat-Bl'!$J$4:$N$123,5))","v":""}]
[]
[null,null,"Schlagball/Kugel","Männlich_D,C / Sport",null,"Anlage ",null,"Uhr"]
["K-ziff","Startnr.:","Name","Schule","1. Versuch","2. Versuch","3. Versuch","Bester V."]
[null,{"$f":"IF(A102=\"\",\"\",VLOOKUP(A102,'Dat-Bl'!$J$127:$N$246,2))","v":""},{"$f":"IF(A102=\"\",\"\",VLOOKUP(A102,'Dat-Bl'!$J$127:$N$246,3))","v":""},{"$f":"IF(A102=\"\",\"\",VLOOKUP(A102,'Dat-Bl'!$J$127:$N$246,5))","v":""}]
[null,{"$f":"IF(A103=\"\",\"\",VLOOKUP(A103,'Dat-Bl'!$J$127:$N$246,2))","v":""},{"$f":"IF(A103=\"\",\"\",VLOOKUP(A103,'Dat-Bl'!$J$127:$N$246,3))","v":""},{"$f":"IF(A103=\"\",\"\",VLOOKUP(A103,'Dat-Bl'!$J$127:$N$246,5))","v":""}]
[null,{"$f":"IF(A104=\"\",\"\",VLOOKUP(A104,'Dat-Bl'!$J$127:$N$246,2))","v":""},{"$f":"IF(A104=\"\",\"\",VLOOKUP(A104,'Dat-Bl'!$J$127:$N$246,3))","v":""},{"$f":"IF(A104=\"\",\"\",VLOOKUP(A104,'Dat-Bl'!$J$127:$N$246,5))","v":""}]
[null,{"$f":"IF(A105=\"\",\"\",VLOOKUP(A105,'Dat-Bl'!$J$127:$N$246,2))","v":""},{"$f":"IF(A105=\"\",\"\",VLOOKUP(A105,'Dat-Bl'!$J$127:$N$246,3))","v":""},{"$f":"IF(A105=\"\",\"\",VLOOKUP(A105,'Dat-Bl'!$J$127:$N$246,5))","v":""}]
[null,{"$f":"IF(A106=\"\",\"\",VLOOKUP(A106,'Dat-Bl'!$J$127:$N$246,2))","v":""},{"$f":"IF(A106=\"\",\"\",VLOOKUP(A106,'Dat-Bl'!$J$127:$N$246,3))","v":""},{"$f":"IF(A106=\"\",\"\",VLOOKUP(A106,'Dat-Bl'!$J$127:$N$246,5))","v":""}]
[null,{"$f":"IF(A107=\"\",\"\",VLOOKUP(A107,'Dat-Bl'!$J$127:$N$246,2))","v":""},{"$f":"IF(A107=\"\",\"\",VLOOKUP(A107,'Dat-Bl'!$J$127:$N$246,3))","v":""},{"$f":"IF(A107=\"\",\"\",VLOOKUP(A107,'Dat-Bl'!$J$127:$N$246,5))","v":""}]
[null,{"$f":"IF(A108=\"\",\"\",VLOOKUP(A108,'Dat-Bl'!$J$127:$N$246,2))","v":""},{"$f":"IF(A108=\"\",\"\",VLOOKUP(A108,'Dat-Bl'!$J$127:$N$246,3))","v":""},{"$f":"IF(A108=\"\",\"\",VLOOKUP(A108,'Dat-Bl'!$J$127:$N$246,5))","v":""}]
[null,{"$f":"IF(A109=\"\",\"\",VLOOKUP(A109,'Dat-Bl'!$J$127:$N$246,2))","v":""},{"$f":"IF(A109=\"\",\"\",VLOOKUP(A109,'Dat-Bl'!$J$127:$N$246,3))","v":""},{"$f":"IF(A109=\"\",\"\",VLOOKUP(A109,'Dat-Bl'!$J$127:$N$246,5))","v":""}]
[null,{"$f":"IF(A110=\"\",\"\",VLOOKUP(A110,'Dat-Bl'!$J$127:$N$246,2))","v":""},{"$f":"IF(A110=\"\",\"\",VLOOKUP(A110,'Dat-Bl'!$J$127:$N$246,3))","v":""},{"$f":"IF(A110=\"\",\"\",VLOOKUP(A110,'Dat-Bl'!$J$127:$N$246,5))","v":""}]
[null,{"$f":"IF(A111=\"\",\"\",VLOOKUP(A111,'Dat-Bl'!$J$127:$N$246,2))","v":""},{"$f":"IF(A111=\"\",\"\",VLOOKUP(A111,'Dat-Bl'!$J$127:$N$246,3))","v":""},{"$f":"IF(A111=\"\",\"\",VLOOKUP(A111,'Dat-Bl'!$J$127:$N$246,5))","v":""}]
[null,{"$f":"IF(A112=\"\",\"\",VLOOKUP(A112,'Dat-Bl'!$J$127:$N$246,2))","v":""},{"$f":"IF(A112=\"\",\"\",VLOOKUP(A112,'Dat-Bl'!$J$127:$N$246,3))","v":""},{"$f":"IF(A112=\"\",\"\",VLOOKUP(A112,'Dat-Bl'!$J$127:$N$246,5))","v":""}]
[null,{"$f":"IF(A113=\"\",\"\",VLOOKUP(A113,'Dat-Bl'!$J$127:$N$246,2))","v":""},{"$f":"IF(A113=\"\",\"\",VLOOKUP(A113,'Dat-Bl'!$J$127:$N$246,3))","v":""},{"$f":"IF(A113=\"\",\"\",VLOOKUP(A113,'Dat-Bl'!$J$127:$N$246,5))","v":""}]
[null,{"$f":"IF(A114=\"\",\"\",VLOOKUP(A114,'Dat-Bl'!$J$127:$N$246,2))","v":""},{"$f":"IF(A114=\"\",\"\",VLOOKUP(A114,'Dat-Bl'!$J$127:$N$246,3))","v":""},{"$f":"IF(A114=\"\",\"\",VLOOKUP(A114,'Dat-Bl'!$J$127:$N$246,5))","v":""}]
[null,{"$f":"IF(A115=\"\",\"\",VLOOKUP(A115,'Dat-Bl'!$J$127:$N$246,2))","v":""},{"$f":"IF(A115=\"\",\"\",VLOOKUP(A115,'Dat-Bl'!$J$127:$N$246,3))","v":""},{"$f":"IF(A115=\"\",\"\",VLOOKUP(A115,'Dat-Bl'!$J$127:$N$246,5))","v":""}]
[null,{"$f":"IF(A116=\"\",\"\",VLOOKUP(A116,'Dat-Bl'!$J$127:$N$246,2))","v":""},{"$f":"IF(A116=\"\",\"\",VLOOKUP(A116,'Dat-Bl'!$J$127:$N$246,3))","v":""},{"$f":"IF(A116=\"\",\"\",VLOOKUP(A116,'Dat-Bl'!$J$127:$N$246,5))","v":""}]
[null,{"$f":"IF(A117=\"\",\"\",VLOOKUP(A117,'Dat-Bl'!$J$127:$N$246,2))","v":""},{"$f":"IF(A117=\"\",\"\",VLOOKUP(A117,'Dat-Bl'!$J$127:$N$246,3))","v":""},{"$f":"IF(A117=\"\",\"\",VLOOKUP(A117,'Dat-Bl'!$J$127:$N$246,5))","v":""}]
[null,{"$f":"IF(A118=\"\",\"\",VLOOKUP(A118,'Dat-Bl'!$J$127:$N$246,2))","v":""},{"$f":"IF(A118=\"\",\"\",VLOOKUP(A118,'Dat-Bl'!$J$127:$N$246,3))","v":""},{"$f":"IF(A118=\"\",\"\",VLOOKUP(A118,'Dat-Bl'!$J$127:$N$246,5))","v":""}]
[null,{"$f":"IF(A119=\"\",\"\",VLOOKUP(A119,'Dat-Bl'!$J$127:$N$246,2))","v":""},{"$f":"IF(A119=\"\",\"\",VLOOKUP(A119,'Dat-Bl'!$J$127:$N$246,3))","v":""},{"$f":"IF(A119=\"\",\"\",VLOOKUP(A119,'Dat-Bl'!$J$127:$N$246,5))","v":""}]
[null,{"$f":"IF(A120=\"\",\"\",VLOOKUP(A120,'Dat-Bl'!$J$127:$N$246,2))","v":""},{"$f":"IF(A120=\"\",\"\",VLOOKUP(A120,'Dat-Bl'!$J$127:$N$246,3))","v":""},{"$f":"IF(A120=\"\",\"\",VLOOKUP(A120,'Dat-Bl'!$J$127:$N$246,5))","v":""}]
[null,{"$f":"IF(A121=\"\",\"\",VLOOKUP(A121,'Dat-Bl'!$J$127:$N$246,2))","v":""},{"$f":"IF(A121=\"\",\"\",VLOOKUP(A121,'Dat-Bl'!$J$127:$N$246,3))","v":""},{"$f":"IF(A121=\"\",\"\",VLOOKUP(A121,'Dat-Bl'!$J$127:$N$246,5))","v":""}]
[null,{"$f":"IF(A122=\"\",\"\",VLOOKUP(A122,'Dat-Bl'!$J$127:$N$246,2))","v":""},{"$f":"IF(A122=\"\",\"\",VLOOKUP(A122,'Dat-Bl'!$J$127:$N$246,3))","v":""},{"$f":"IF(A122=\"\",\"\",VLOOKUP(A122,'Dat-Bl'!$J$127:$N$246,5))","v":""}]
[null,{"$f":"IF(A123=\"\",\"\",VLOOKUP(A123,'Dat-Bl'!$J$127:$N$246,2))","v":""},{"$f":"IF(A123=\"\",\"\",VLOOKUP(A123,'Dat-Bl'!$J$127:$N$246,3))","v":""},{"$f":"IF(A123=\"\",\"\",VLOOKUP(A123,'Dat-Bl'!$J$127:$N$246,5))","v":""}]
[null,{"$f":"IF(A124=\"\",\"\",VLOOKUP(A124,'Dat-Bl'!$J$127:$N$246,2))","v":""},{"$f":"IF(A124=\"\",\"\",VLOOKUP(A124,'Dat-Bl'!$J$127:$N$246,3))","v":""},{"$f":"IF(A124=\"\",\"\",VLOOKUP(A124,'Dat-Bl'!$J$127:$N$246,5))","v":""}]
[null,{"$f":"IF(A125=\"\",\"\",VLOOKUP(A125,'Dat-Bl'!$J$127:$N$246,2))","v":""},{"$f":"IF(A125=\"\",\"\",VLOOKUP(A125,'Dat-Bl'!$J$127:$N$246,3))","v":""},{"$f":"IF(A125=\"\",\"\",VLOOKUP(A125,'Dat-Bl'!$J$127:$N$246,5))","v":""}]
[null,{"$f":"IF(A126=\"\",\"\",VLOOKUP(A126,'Dat-Bl'!$J$127:$N$246,2))","v":""},{"$f":"IF(A126=\"\",\"\",VLOOKUP(A126,'Dat-Bl'!$J$127:$N$246,3))","v":""},{"$f":"IF(A126=\"\",\"\",VLOOKUP(A126,'Dat-Bl'!$J$127:$N$246,5))","v":""}]
[null,{"$f":"IF(A127=\"\",\"\",VLOOKUP(A127,'Dat-Bl'!$J$127:$N$246,2))","v":""},{"$f":"IF(A127=\"\",\"\",VLOOKUP(A127,'Dat-Bl'!$J$127:$N$246,3))","v":""},{"$f":"IF(A127=\"\",\"\",VLOOKUP(A127,'Dat-Bl'!$J$127:$N$246,5))","v":""}]
[null,{"$f":"IF(A128=\"\",\"\",VLOOKUP(A128,'Dat-Bl'!$J$127:$N$246,2))","v":""},{"$f":"IF(A128=\"\",\"\",VLOOKUP(A128,'Dat-Bl'!$J$127:$N$246,3))","v":""},{"$f":"IF(A128=\"\",\"\",VLOOKUP(A128,'Dat-Bl'!$J$127:$N$246,5))","v":""}]
[null,{"$f":"IF(A129=\"\",\"\",VLOOKUP(A129,'Dat-Bl'!$J$127:$N$246,2))","v":""},{"$f":"IF(A129=\"\",\"\",VLOOKUP(A129,'Dat-Bl'!$J$127:$N$246,3))","v":""},{"$f":"IF(A129=\"\",\"\",VLOOKUP(A129,'Dat-Bl'!$J$127:$N$246,5))","v":""}]
[null,{"$f":"IF(A130=\"\",\"\",VLOOKUP(A130,'Dat-Bl'!$J$127:$N$246,2))","v":""},{"$f":"IF(A130=\"\",\"\",VLOOKUP(A130,'Dat-Bl'!$J$127:$N$246,3))","v":""},{"$f":"IF(A130=\"\",\"\",VLOOKUP(A130,'Dat-Bl'!$J$127:$N$246,5))","v":""}]
[null,{"$f":"IF(A131=\"\",\"\",VLOOKUP(A131,'Dat-Bl'!$J$127:$N$246,2))","v":""},{"$f":"IF(A131=\"\",\"\",VLOOKUP(A131,'Dat-Bl'!$J$127:$N$246,3))","v":""},{"$f":"IF(A131=\"\",\"\",VLOOKUP(A131,'Dat-Bl'!$J$127:$N$246,5))","v":""}]

{"sheet":"P-Weit","index":16,"n_rows":131,"n_cols":8,"rows_kept":131,"cut":false,"hidden":false,"merged":[[99,3,99,4],[0,3,0,4],[33,3,33,4],[66,3,66,4]]}
[null,null,"Weitsprung","Weiblich_D,C / Regel",null,"Anlage ",null,"Uhr"]
["K-ziff","Startnr.:","Name","Schule","1. Versuch","2. Versuch","3. Versuch","Bester V."]
[null,{"$f":"IF(A3=\"\",\"\",VLOOKUP(A3,'Dat-Bl'!$B$4:$F$123,2))","v":""},{"$f":"IF(A3=\"\",\"\",VLOOKUP(A3,'Dat-Bl'!$B$4:$F$123,3))","v":""},{"$f":"IF(A3=\"\",\"\",VLOOKUP(A3,'Dat-Bl'!$B$4:$F$123,5))","v":""}]
[null,{"$f":"IF(A4=\"\",\"\",VLOOKUP(A4,'Dat-Bl'!$B$4:$F$123,2))","v":""},{"$f":"IF(A4=\"\",\"\",VLOOKUP(A4,'Dat-Bl'!$B$4:$F$123,3))","v":""},{"$f":"IF(A4=\"\",\"\",VLOOKUP(A4,'Dat-Bl'!$B$4:$F$123,5))","v":""}]
[null,{"$f":"IF(A5=\"\",\"\",VLOOKUP(A5,'Dat-Bl'!$B$4:$F$123,2))","v":""},{"$f":"IF(A5=\"\",\"\",VLOOKUP(A5,'Dat-Bl'!$B$4:$F$123,3))","v":""},{"$f":"IF(A5=\"\",\"\",VLOOKUP(A5,'Dat-Bl'!$B$4:$F$123,5))","v":""}]
[null,{"$f":"IF(A6=\"\",\"\",VLOOKUP(A6,'Dat-Bl'!$B$4:$F$123,2))","v":""},{"$f":"IF(A6=\"\",\"\",VLOOKUP(A6,'Dat-Bl'!$B$4:$F$123,3))","v":""},{"$f":"IF(A6=\"\",\"\",VLOOKUP(A6,'Dat-Bl'!$B$4:$F$123,5))","v":""}]
[null,{"$f":"IF(A7=\"\",\"\",VLOOKUP(A7,'Dat-Bl'!$B$4:$F$123,2))","v":""},{"$f":"IF(A7=\"\",\"\",VLOOKUP(A7,'Dat-Bl'!$B$4:$F$123,3))","v":""},{"$f":"IF(A7=\"\",\"\",VLOOKUP(A7,'Dat-Bl'!$B$4:$F$123,5))","v":""}]
[null,{"$f":"IF(A8=\"\",\"\",VLOOKUP(A8,'Dat-Bl'!$B$4:$F$123,2))","v":""},{"$f":"IF(A8=\"\",\"\",VLOOKUP(A8,'Dat-Bl'!$B$4:$F$123,3))","v":""},{"$f":"IF(A8=\"\",\"\",VLOOKUP(A8,'Dat-Bl'!$B$4:$F$123,5))","v":""}]
[null,{"$f":"IF(A9=\"\",\"\",VLOOKUP(A9,'Dat-Bl'!$B$4:$F$123,2))","v":""},{"$f":"IF(A9=\"\",\"\",VLOOKUP(A9,'Dat-Bl'!$B$4:$F$123,3))","v":""},{"$f":"IF(A9=\"\",\"\",VLOOKUP(A9,'Dat-Bl'!$B$4:$F$123,5))","v":""}]
[null,{"$f":"IF(A10=\"\",\"\",VLOOKUP(A10,'Dat-Bl'!$B$4:$F$123,2))","v":""},{"$f":"IF(A10=\"\",\"\",VLOOKUP(A10,'Dat-Bl'!$B$4:$F$123,3))","v":""},{"$f":"IF(A10=\"\",\"\",VLOOKUP(A10,'Dat-Bl'!$B$4:$F$123,5))","v":""}]
[null,{"$f":"IF(A11=\"\",\"\",VLOOKUP(A11,'Dat-Bl'!$B$4:$F$123,2))","v":""},{"$f":"IF(A11=\"\",\"\",VLOOKUP(A11,'Dat-Bl'!$B$4:$F$123,3))","v":""},{"$f":"IF(A11=\"\",\"\",VLOOKUP(A11,'Dat-Bl'!$B$4:$F$123,5))","v":""}]
[null,{"$f":"IF(A12=\"\",\"\",VLOOKUP(A12,'Dat-Bl'!$B$4:$F$123,2))","v":""},{"$f":"IF(A12=\"\",\"\",VLOOKUP(A12,'Dat-Bl'!$B$4:$F$123,3))","v":""},{"$f":"IF(A12=\"\",\"\",VLOOKUP(A12,'Dat-Bl'!$B$4:$F$123,5))","v":""}]
[null,{"$f":"IF(A13=\"\",\"\",VLOOKUP(A13,'Dat-Bl'!$B$4:$F$123,2))","v":""},{"$f":"IF(A13=\"\",\"\",VLOOKUP(A13,'Dat-Bl'!$B$4:$F$123,3))","v":""},{"$f":"IF(A13=\"\",\"\",VLOOKUP(A13,'Dat-Bl'!$B$4:$F$123,5))","v":""}]
[null,{"$f":"IF(A14=\"\",\"\",VLOOKUP(A14,'Dat-Bl'!$B$4:$F$123,2))","v":""},{"$f":"IF(A14=\"\",\"\",VLOOKUP(A14,'Dat-Bl'!$B$4:$F$123,3))","v":""},{"$f":"IF(A14=\"\",\"\",VLOOKUP(A14,'Dat-Bl'!$B$4:$F$123,5))","v":""}]
[null,{"$f":"IF(A15=\"\",\"\",VLOOKUP(A15,'Dat-Bl'!$B$4:$F$123,2))","v":""},{"$f":"IF(A15=\"\",\"\",VLOOKUP(A15,'Dat-Bl'!$B$4:$F$123,3))","v":""},{"$f":"IF(A15=\"\",\"\",VLOOKUP(A15,'Dat-Bl'!$B$4:$F$123,5))","v":""}]
[null,{"$f":"IF(A16=\"\",\"\",VLOOKUP(A16,'Dat-Bl'!$B$4:$F$123,2))","v":""},{"$f":"IF(A16=\"\",\"\",VLOOKUP(A16,'Dat-Bl'!$B$4:$F$123,3))","v":""},{"$f":"IF(A16=\"\",\"\",VLOOKUP(A16,'Dat-Bl'!$B$4:$F$123,5))","v":""}]
[null,{"$f":"IF(A17=\"\",\"\",VLOOKUP(A17,'Dat-Bl'!$B$4:$F$123,2))","v":""},{"$f":"IF(A17=\"\",\"\",VLOOKUP(A17,'Dat-Bl'!$B$4:$F$123,3))","v":""},{"$f":"IF(A17=\"\",\"\",VLOOKUP(A17,'Dat-Bl'!$B$4:$F$123,5))","v":""}]
[null,{"$f":"IF(A18=\"\",\"\",VLOOKUP(A18,'Dat-Bl'!$B$4:$F$123,2))","v":""},{"$f":"IF(A18=\"\",\"\",VLOOKUP(A18,'Dat-Bl'!$B$4:$F$123,3))","v":""},{"$f":"IF(A18=\"\",\"\",VLOOKUP(A18,'Dat-Bl'!$B$4:$F$123,5))","v":""}]
[null,{"$f":"IF(A19=\"\",\"\",VLOOKUP(A19,'Dat-Bl'!$B$4:$F$123,2))","v":""},{"$f":"IF(A19=\"\",\"\",VLOOKUP(A19,'Dat-Bl'!$B$4:$F$123,3))","v":""},{"$f":"IF(A19=\"\",\"\",VLOOKUP(A19,'Dat-Bl'!$B$4:$F$123,5))","v":""}]
[null,{"$f":"IF(A20=\"\",\"\",VLOOKUP(A20,'Dat-Bl'!$B$4:$F$123,2))","v":""},{"$f":"IF(A20=\"\",\"\",VLOOKUP(A20,'Dat-Bl'!$B$4:$F$123,3))","v":""},{"$f":"IF(A20=\"\",\"\",VLOOKUP(A20,'Dat-Bl'!$B$4:$F$123,5))","v":""}]
[null,{"$f":"IF(A21=\"\",\"\",VLOOKUP(A21,'Dat-Bl'!$B$4:$F$123,2))","v":""},{"$f":"IF(A21=\"\",\"\",VLOOKUP(A21,'Dat-Bl'!$B$4:$F$123,3))","v":""},{"$f":"IF(A21=\"\",\"\",VLOOKUP(A21,'Dat-Bl'!$B$4:$F$123,5))","v":""}]
[null,{"$f":"IF(A22=\"\",\"\",VLOOKUP(A22,'Dat-Bl'!$B$4:$F$123,2))","v":""},{"$f":"IF(A22=\"\",\"\",VLOOKUP(A22,'Dat-Bl'!$B$4:$F$123,3))","v":""},{"$f":"IF(A22=\"\",\"\",VLOOKUP(A22,'Dat-Bl'!$B$4:$F$123,5))","v":""}]
[null,{"$f":"IF(A23=\"\",\"\",VLOOKUP(A23,'Dat-Bl'!$B$4:$F$123,2))","v":""},{"$f":"IF(A23=\"\",\"\",VLOOKUP(A23,'Dat-Bl'!$B$4:$F$123,3))","v":""},{"$f":"IF(A23=\"\",\"\",VLOOKUP(A23,'Dat-Bl'!$B$4:$F$123,5))","v":""}]
[null,{"$f":"IF(A24=\"\",\"\",VLOOKUP(A24,'Dat-Bl'!$B$4:$F$123,2))","v":""},{"$f":"IF(A24=\"\",\"\",VLOOKUP(A24,'Dat-Bl'!$B$4:$F$123,3))","v":""},{"$f":"IF(A24=\"\",\"\",VLOOKUP(A24,'Dat-Bl'!$B$4:$F$123,5))","v":""}]
[null,{"$f":"IF(A25=\"\",\"\",VLOOKUP(A25,'Dat-Bl'!$B$4:$F$123,2))","v":""},{"$f":"IF(A25=\"\",\"\",VLOOKUP(A25,'Dat-Bl'!$B$4:$F$123,3))","v":""},{"$f":"IF(A25=\"\",\"\",VLOOKUP(A25,'Dat-Bl'!$B$4:$F$123,5))","v":""}]
[null,{"$f":"IF(A26=\"\",\"\",VLOOKUP(A26,'Dat-Bl'!$B$4:$F$123,2))","v":""},{"$f":"IF(A26=\"\",\"\",VLOOKUP(A26,'Dat-Bl'!$B$4:$F$123,3))","v":""},{"$f":"IF(A26=\"\",\"\",VLOOKUP(A26,'Dat-Bl'!$B$4:$F$123,5))","v":""}]
[null,{"$f":"IF(A27=\"\",\"\",VLOOKUP(A27,'Dat-Bl'!$B$4:$F$123,2))","v":""},{"$f":"IF(A27=\"\",\"\",VLOOKUP(A27,'Dat-Bl'!$B$4:$F$123,3))","v":""},{"$f":"IF(A27=\"\",\"\",VLOOKUP(A27,'Dat-Bl'!$B$4:$F$123,5))","v":""}]
[null,{"$f":"IF(A28=\"\",\"\",VLOOKUP(A28,'Dat-Bl'!$B$4:$F$123,2))","v":""},{"$f":"IF(A28=\"\",\"\",VLOOKUP(A28,'Dat-Bl'!$B$4:$F$123,3))","v":""},{"$f":"IF(A28=\"\",\"\",VLOOKUP(A28,'Dat-Bl'!$B$4:$F$123,5))","v":""}]
[null,{"$f":"IF(A29=\"\",\"\",VLOOKUP(A29,'Dat-Bl'!$B$4:$F$123,2))","v":""},{"$f":"IF(A29=\"\",\"\",VLOOKUP(A29,'Dat-Bl'!$B$4:$F$123,3))","v":""},{"$f":"IF(A29=\"\",\"\",VLOOKUP(A29,'Dat-Bl'!$B$4:$F$123,5))","v":""}]
[null,{"$f":"IF(A30=\"\",\"\",VLOOKUP(A30,'Dat-Bl'!$B$4:$F$123,2))","v":""},{"$f":"IF(A30=\"\",\"\",VLOOKUP(A30,'Dat-Bl'!$B$4:$F$123,3))","v":""},{"$f":"IF(A30=\"\",\"\",VLOOKUP(A30,'Dat-Bl'!$B$4:$F$123,5))","v":""}]
[null,{"$f":"IF(A31=\"\",\"\",VLOOKUP(A31,'Dat-Bl'!$B$4:$F$123,2))","v":""},{"$f":"IF(A31=\"\",\"\",VLOOKUP(A31,'Dat-Bl'!$B$4:$F$123,3))","v":""},{"$f":"IF(A31=\"\",\"\",VLOOKUP(A31,'Dat-Bl'!$B$4:$F$123,5))","v":""}]
[null,{"$f":"IF(A32=\"\",\"\",VLOOKUP(A32,'Dat-Bl'!$B$4:$F$123,2))","v":""},{"$f":"IF(A32=\"\",\"\",VLOOKUP(A32,'Dat-Bl'!$B$4:$F$123,3))","v":""},{"$f":"IF(A32=\"\",\"\",VLOOKUP(A32,'Dat-Bl'!$B$4:$F$123,5))","v":""}]
[]
[null,null,"Weitsprung","Weiblich_D,C / Sport",null,"Anlage ",null,"Uhr"]
["K-ziff","Startnr.:","Name","Schule","1. Versuch","2. Versuch","3. Versuch","Bester V."]
[null,{"$f":"IF(A36=\"\",\"\",VLOOKUP(A36,'Dat-Bl'!$B$127:$F$246,2))","v":""},{"$f":"IF(A36=\"\",\"\",VLOOKUP(A36,'Dat-Bl'!$B$127:$F$246,3))","v":""},{"$f":"IF(A36=\"\",\"\",VLOOKUP(A36,'Dat-Bl'!$B$127:$F$246,5))","v":""}]
[null,{"$f":"IF(A37=\"\",\"\",VLOOKUP(A37,'Dat-Bl'!$B$127:$F$246,2))","v":""},{"$f":"IF(A37=\"\",\"\",VLOOKUP(A37,'Dat-Bl'!$B$127:$F$246,3))","v":""},{"$f":"IF(A37=\"\",\"\",VLOOKUP(A37,'Dat-Bl'!$B$127:$F$246,5))","v":""}]
[null,{"$f":"IF(A38=\"\",\"\",VLOOKUP(A38,'Dat-Bl'!$B$127:$F$246,2))","v":""},{"$f":"IF(A38=\"\",\"\",VLOOKUP(A38,'Dat-Bl'!$B$127:$F$246,3))","v":""},{"$f":"IF(A38=\"\",\"\",VLOOKUP(A38,'Dat-Bl'!$B$127:$F$246,5))","v":""}]
[null,{"$f":"IF(A39=\"\",\"\",VLOOKUP(A39,'Dat-Bl'!$B$127:$F$246,2))","v":""},{"$f":"IF(A39=\"\",\"\",VLOOKUP(A39,'Dat-Bl'!$B$127:$F$246,3))","v":""},{"$f":"IF(A39=\"\",\"\",VLOOKUP(A39,'Dat-Bl'!$B$127:$F$246,5))","v":""}]
[null,{"$f":"IF(A40=\"\",\"\",VLOOKUP(A40,'Dat-Bl'!$B$127:$F$246,2))","v":""},{"$f":"IF(A40=\"\",\"\",VLOOKUP(A40,'Dat-Bl'!$B$127:$F$246,3))","v":""},{"$f":"IF(A40=\"\",\"\",VLOOKUP(A40,'Dat-Bl'!$B$127:$F$246,5))","v":""}]
[null,{"$f":"IF(A41=\"\",\"\",VLOOKUP(A41,'Dat-Bl'!$B$127:$F$246,2))","v":""},{"$f":"IF(A41=\"\",\"\",VLOOKUP(A41,'Dat-Bl'!$B$127:$F$246,3))","v":""},{"$f":"IF(A41=\"\",\"\",VLOOKUP(A41,'Dat-Bl'!$B$127:$F$246,5))","v":""}]
[null,{"$f":"IF(A42=\"\",\"\",VLOOKUP(A42,'Dat-Bl'!$B$127:$F$246,2))","v":""},{"$f":"IF(A42=\"\",\"\",VLOOKUP(A42,'Dat-Bl'!$B$127:$F$246,3))","v":""},{"$f":"IF(A42=\"\",\"\",VLOOKUP(A42,'Dat-Bl'!$B$127:$F$246,5))","v":""}]
[null,{"$f":"IF(A43=\"\",\"\",VLOOKUP(A43,'Dat-Bl'!$B$127:$F$246,2))","v":""},{"$f":"IF(A43=\"\",\"\",VLOOKUP(A43,'Dat-Bl'!$B$127:$F$246,3))","v":""},{"$f":"IF(A43=\"\",\"\",VLOOKUP(A43,'Dat-Bl'!$B$127:$F$246,5))","v":""}]
[null,{"$f":"IF(A44=\"\",\"\",VLOOKUP(A44,'Dat-Bl'!$B$127:$F$246,2))","v":""},{"$f":"IF(A44=\"\",\"\",VLOOKUP(A44,'Dat-Bl'!$B$127:$F$246,3))","v":""},{"$f":"IF(A44=\"\",\"\",VLOOKUP(A44,'Dat-Bl'!$B$127:$F$246,5))","v":""}]
[null,{"$f":"IF(A45=\"\",\"\",VLOOKUP(A45,'Dat-Bl'!$B$127:$F$246,2))","v":""},{"$f":"IF(A45=\"\",\"\",VLOOKUP(A45,'Dat-Bl'!$B$127:$F$246,3))","v":""},{"$f":"IF(A45=\"\",\"\",VLOOKUP(A45,'Dat-Bl'!$B$127:$F$246,5))","v":""}]
[null,{"$f":"IF(A46=\"\",\"\",VLOOKUP(A46,'Dat-Bl'!$B$127:$F$246,2))","v":""},{"$f":"IF(A46=\"\",\"\",VLOOKUP(A46,'Dat-Bl'!$B$127:$F$246,3))","v":""},{"$f":"IF(A46=\"\",\"\",VLOOKUP(A46,'Dat-Bl'!$B$127:$F$246,5))","v":""}]
[null,{"$f":"IF(A47=\"\",\"\",VLOOKUP(A47,'Dat-Bl'!$B$127:$F$246,2))","v":""},{"$f":"IF(A47=\"\",\"\",VLOOKUP(A47,'Dat-Bl'!$B$127:$F$246,3))","v":""},{"$f":"IF(A47=\"\",\"\",VLOOKUP(A47,'Dat-Bl'!$B$127:$F$246,5))","v":""}]
[null,{"$f":"IF(A48=\"\",\"\",VLOOKUP(A48,'Dat-Bl'!$B$127:$F$246,2))","v":""},{"$f":"IF(A48=\"\",\"\",VLOOKUP(A48,'Dat-Bl'!$B$127:$F$246,3))","v":""},{"$f":"IF(A48=\"\",\"\",VLOOKUP(A48,'Dat-Bl'!$B$127:$F$246,5))","v":""}]
[null,{"$f":"IF(A49=\"\",\"\",VLOOKUP(A49,'Dat-Bl'!$B$127:$F$246,2))","v":""},{"$f":"IF(A49=\"\",\"\",VLOOKUP(A49,'Dat-Bl'!$B$127:$F$246,3))","v":""},{"$f":"IF(A49=\"\",\"\",VLOOKUP(A49,'Dat-Bl'!$B$127:$F$246,5))","v":""}]
[null,{"$f":"IF(A50=\"\",\"\",VLOOKUP(A50,'Dat-Bl'!$B$127:$F$246,2))","v":""},{"$f":"IF(A50=\"\",\"\",VLOOKUP(A50,'Dat-Bl'!$B$127:$F$246,3))","v":""},{"$f":"IF(A50=\"\",\"\",VLOOKUP(A50,'Dat-Bl'!$B$127:$F$246,5))","v":""}]
[null,{"$f":"IF(A51=\"\",\"\",VLOOKUP(A51,'Dat-Bl'!$B$127:$F$246,2))","v":""},{"$f":"IF(A51=\"\",\"\",VLOOKUP(A51,'Dat-Bl'!$B$127:$F$246,3))","v":""},{"$f":"IF(A51=\"\",\"\",VLOOKUP(A51,'Dat-Bl'!$B$127:$F$246,5))","v":""}]
[null,{"$f":"IF(A52=\"\",\"\",VLOOKUP(A52,'Dat-Bl'!$B$127:$F$246,2))","v":""},{"$f":"IF(A52=\"\",\"\",VLOOKUP(A52,'Dat-Bl'!$B$127:$F$246,3))","v":""},{"$f":"IF(A52=\"\",\"\",VLOOKUP(A52,'Dat-Bl'!$B$127:$F$246,5))","v":""}]
[null,{"$f":"IF(A53=\"\",\"\",VLOOKUP(A53,'Dat-Bl'!$B$127:$F$246,2))","v":""},{"$f":"IF(A53=\"\",\"\",VLOOKUP(A53,'Dat-Bl'!$B$127:$F$246,3))","v":""},{"$f":"IF(A53=\"\",\"\",VLOOKUP(A53,'Dat-Bl'!$B$127:$F$246,5))","v":""}]
[null,{"$f":"IF(A54=\"\",\"\",VLOOKUP(A54,'Dat-Bl'!$B$127:$F$246,2))","v":""},{"$f":"IF(A54=\"\",\"\",VLOOKUP(A54,'Dat-Bl'!$B$127:$F$246,3))","v":""},{"$f":"IF(A54=\"\",\"\",VLOOKUP(A54,'Dat-Bl'!$B$127:$F$246,5))","v":""}]
[null,{"$f":"IF(A55=\"\",\"\",VLOOKUP(A55,'Dat-Bl'!$B$127:$F$246,2))","v":""},{"$f":"IF(A55=\"\",\"\",VLOOKUP(A55,'Dat-Bl'!$B$127:$F$246,3))","v":""},{"$f":"IF(A55=\"\",\"\",VLOOKUP(A55,'Dat-Bl'!$B$127:$F$246,5))","v":""}]
[null,{"$f":"IF(A56=\"\",\"\",VLOOKUP(A56,'Dat-Bl'!$B$127:$F$246,2))","v":""},{"$f":"IF(A56=\"\",\"\",VLOOKUP(A56,'Dat-Bl'!$B$127:$F$246,3))","v":""},{"$f":"IF(A56=\"\",\"\",VLOOKUP(A56,'Dat-Bl'!$B$127:$F$246,5))","v":""}]
[null,{"$f":"IF(A57=\"\",\"\",VLOOKUP(A57,'Dat-Bl'!$B$127:$F$246,2))","v":""},{"$f":"IF(A57=\"\",\"\",VLOOKUP(A57,'Dat-Bl'!$B$127:$F$246,3))","v":""},{"$f":"IF(A57=\"\",\"\",VLOOKUP(A57,'Dat-Bl'!$B$127:$F$246,5))","v":""}]
[null,{"$f":"IF(A58=\"\",\"\",VLOOKUP(A58,'Dat-Bl'!$B$127:$F$246,2))","v":""},{"$f":"IF(A58=\"\",\"\",VLOOKUP(A58,'Dat-Bl'!$B$127:$F$246,3))","v":""},{"$f":"IF(A58=\"\",\"\",VLOOKUP(A58,'Dat-Bl'!$B$127:$F$246,5))","v":""}]
[null,{"$f":"IF(A59=\"\",\"\",VLOOKUP(A59,'Dat-Bl'!$B$127:$F$246,2))","v":""},{"$f":"IF(A59=\"\",\"\",VLOOKUP(A59,'Dat-Bl'!$B$127:$F$246,3))","v":""},{"$f":"IF(A59=\"\",\"\",VLOOKUP(A59,'Dat-Bl'!$B$127:$F$246,5))","v":""}]
[null,{"$f":"IF(A60=\"\",\"\",VLOOKUP(A60,'Dat-Bl'!$B$127:$F$246,2))","v":""},{"$f":"IF(A60=\"\",\"\",VLOOKUP(A60,'Dat-Bl'!$B$127:$F$246,3))","v":""},{"$f":"IF(A60=\"\",\"\",VLOOKUP(A60,'Dat-Bl'!$B$127:$F$246,5))","v":""}]
[null,{"$f":"IF(A61=\"\",\"\",VLOOKUP(A61,'Dat-Bl'!$B$127:$F$246,2))","v":""},{"$f":"IF(A61=\"\",\"\",VLOOKUP(A61,'Dat-Bl'!$B$127:$F$246,3))","v":""},{"$f":"IF(A61=\"\",\"\",VLOOKUP(A61,'Dat-Bl'!$B$127:$F$246,5))","v":""}]
[null,{"$f":"IF(A62=\"\",\"\",VLOOKUP(A62,'Dat-Bl'!$B$127:$F$246,2))","v":""},{"$f":"IF(A62=\"\",\"\",VLOOKUP(A62,'Dat-Bl'!$B$127:$F$246,3))","v":""},{"$f":"IF(A62=\"\",\"\",VLOOKUP(A62,'Dat-Bl'!$B$127:$F$246,5))","v":""}]
[null,{"$f":"IF(A63=\"\",\"\",VLOOKUP(A63,'Dat-Bl'!$B$127:$F$246,2))","v":""},{"$f":"IF(A63=\"\",\"\",VLOOKUP(A63,'Dat-Bl'!$B$127:$F$246,3))","v":""},{"$f":"IF(A63=\"\",\"\",VLOOKUP(A63,'Dat-Bl'!$B$127:$F$246,5))","v":""}]
[null,{"$f":"IF(A64=\"\",\"\",VLOOKUP(A64,'Dat-Bl'!$B$127:$F$246,2))","v":""},{"$f":"IF(A64=\"\",\"\",VLOOKUP(A64,'Dat-Bl'!$B$127:$F$246,3))","v":""},{"$f":"IF(A64=\"\",\"\",VLOOKUP(A64,'Dat-Bl'!$B$127:$F$246,5))","v":""}]
[null,{"$f":"IF(A65=\"\",\"\",VLOOKUP(A65,'Dat-Bl'!$B$127:$F$246,2))","v":""},{"$f":"IF(A65=\"\",\"\",VLOOKUP(A65,'Dat-Bl'!$B$127:$F$246,3))","v":""},{"$f":"IF(A65=\"\",\"\",VLOOKUP(A65,'Dat-Bl'!$B$127:$F$246,5))","v":""}]
[]
[null,null,"Weitsprung","Männlich_D,C / Regel",null,"Anlage ",null,"Uhr"]
["K-ziff","Startnr.:","Name","Schule","1. Versuch","2. Versuch","3. Versuch","Bester V."]
[null,{"$f":"IF(A69=\"\",\"\",VLOOKUP(A69,'Dat-Bl'!$J$4:$N$123,2))","v":""},{"$f":"IF(A69=\"\",\"\",VLOOKUP(A69,'Dat-Bl'!$J$4:$N$123,3))","v":""},{"$f":"IF(A69=\"\",\"\",VLOOKUP(A69,'Dat-Bl'!$J$4:$N$123,5))","v":""}]
[null,{"$f":"IF(A70=\"\",\"\",VLOOKUP(A70,'Dat-Bl'!$J$4:$N$123,2))","v":""},{"$f":"IF(A70=\"\",\"\",VLOOKUP(A70,'Dat-Bl'!$J$4:$N$123,3))","v":""},{"$f":"IF(A70=\"\",\"\",VLOOKUP(A70,'Dat-Bl'!$J$4:$N$123,5))","v":""}]
[null,{"$f":"IF(A71=\"\",\"\",VLOOKUP(A71,'Dat-Bl'!$J$4:$N$123,2))","v":""},{"$f":"IF(A71=\"\",\"\",VLOOKUP(A71,'Dat-Bl'!$J$4:$N$123,3))","v":""},{"$f":"IF(A71=\"\",\"\",VLOOKUP(A71,'Dat-Bl'!$J$4:$N$123,5))","v":""}]
[null,{"$f":"IF(A72=\"\",\"\",VLOOKUP(A72,'Dat-Bl'!$J$4:$N$123,2))","v":""},{"$f":"IF(A72=\"\",\"\",VLOOKUP(A72,'Dat-Bl'!$J$4:$N$123,3))","v":""},{"$f":"IF(A72=\"\",\"\",VLOOKUP(A72,'Dat-Bl'!$J$4:$N$123,5))","v":""}]
[null,{"$f":"IF(A73=\"\",\"\",VLOOKUP(A73,'Dat-Bl'!$J$4:$N$123,2))","v":""},{"$f":"IF(A73=\"\",\"\",VLOOKUP(A73,'Dat-Bl'!$J$4:$N$123,3))","v":""},{"$f":"IF(A73=\"\",\"\",VLOOKUP(A73,'Dat-Bl'!$J$4:$N$123,5))","v":""}]
[null,{"$f":"IF(A74=\"\",\"\",VLOOKUP(A74,'Dat-Bl'!$J$4:$N$123,2))","v":""},{"$f":"IF(A74=\"\",\"\",VLOOKUP(A74,'Dat-Bl'!$J$4:$N$123,3))","v":""},{"$f":"IF(A74=\"\",\"\",VLOOKUP(A74,'Dat-Bl'!$J$4:$N$123,5))","v":""}]
[null,{"$f":"IF(A75=\"\",\"\",VLOOKUP(A75,'Dat-Bl'!$J$4:$N$123,2))","v":""},{"$f":"IF(A75=\"\",\"\",VLOOKUP(A75,'Dat-Bl'!$J$4:$N$123,3))","v":""},{"$f":"IF(A75=\"\",\"\",VLOOKUP(A75,'Dat-Bl'!$J$4:$N$123,5))","v":""}]
[null,{"$f":"IF(A76=\"\",\"\",VLOOKUP(A76,'Dat-Bl'!$J$4:$N$123,2))","v":""},{"$f":"IF(A76=\"\",\"\",VLOOKUP(A76,'Dat-Bl'!$J$4:$N$123,3))","v":""},{"$f":"IF(A76=\"\",\"\",VLOOKUP(A76,'Dat-Bl'!$J$4:$N$123,5))","v":""}]
[null,{"$f":"IF(A77=\"\",\"\",VLOOKUP(A77,'Dat-Bl'!$J$4:$N$123,2))","v":""},{"$f":"IF(A77=\"\",\"\",VLOOKUP(A77,'Dat-Bl'!$J$4:$N$123,3))","v":""},{"$f":"IF(A77=\"\",\"\",VLOOKUP(A77,'Dat-Bl'!$J$4:$N$123,5))","v":""}]
[null,{"$f":"IF(A78=\"\",\"\",VLOOKUP(A78,'Dat-Bl'!$J$4:$N$123,2))","v":""},{"$f":"IF(A78=\"\",\"\",VLOOKUP(A78,'Dat-Bl'!$J$4:$N$123,3))","v":""},{"$f":"IF(A78=\"\",\"\",VLOOKUP(A78,'Dat-Bl'!$J$4:$N$123,5))","v":""}]
[null,{"$f":"IF(A79=\"\",\"\",VLOOKUP(A79,'Dat-Bl'!$J$4:$N$123,2))","v":""},{"$f":"IF(A79=\"\",\"\",VLOOKUP(A79,'Dat-Bl'!$J$4:$N$123,3))","v":""},{"$f":"IF(A79=\"\",\"\",VLOOKUP(A79,'Dat-Bl'!$J$4:$N$123,5))","v":""}]
[null,{"$f":"IF(A80=\"\",\"\",VLOOKUP(A80,'Dat-Bl'!$J$4:$N$123,2))","v":""},{"$f":"IF(A80=\"\",\"\",VLOOKUP(A80,'Dat-Bl'!$J$4:$N$123,3))","v":""},{"$f":"IF(A80=\"\",\"\",VLOOKUP(A80,'Dat-Bl'!$J$4:$N$123,5))","v":""}]
[null,{"$f":"IF(A81=\"\",\"\",VLOOKUP(A81,'Dat-Bl'!$J$4:$N$123,2))","v":""},{"$f":"IF(A81=\"\",\"\",VLOOKUP(A81,'Dat-Bl'!$J$4:$N$123,3))","v":""},{"$f":"IF(A81=\"\",\"\",VLOOKUP(A81,'Dat-Bl'!$J$4:$N$123,5))","v":""}]
[null,{"$f":"IF(A82=\"\",\"\",VLOOKUP(A82,'Dat-Bl'!$J$4:$N$123,2))","v":""},{"$f":"IF(A82=\"\",\"\",VLOOKUP(A82,'Dat-Bl'!$J$4:$N$123,3))","v":""},{"$f":"IF(A82=\"\",\"\",VLOOKUP(A82,'Dat-Bl'!$J$4:$N$123,5))","v":""}]
[null,{"$f":"IF(A83=\"\",\"\",VLOOKUP(A83,'Dat-Bl'!$J$4:$N$123,2))","v":""},{"$f":"IF(A83=\"\",\"\",VLOOKUP(A83,'Dat-Bl'!$J$4:$N$123,3))","v":""},{"$f":"IF(A83=\"\",\"\",VLOOKUP(A83,'Dat-Bl'!$J$4:$N$123,5))","v":""}]
[null,{"$f":"IF(A84=\"\",\"\",VLOOKUP(A84,'Dat-Bl'!$J$4:$N$123,2))","v":""},{"$f":"IF(A84=\"\",\"\",VLOOKUP(A84,'Dat-Bl'!$J$4:$N$123,3))","v":""},{"$f":"IF(A84=\"\",\"\",VLOOKUP(A84,'Dat-Bl'!$J$4:$N$123,5))","v":""}]
[null,{"$f":"IF(A85=\"\",\"\",VLOOKUP(A85,'Dat-Bl'!$J$4:$N$123,2))","v":""},{"$f":"IF(A85=\"\",\"\",VLOOKUP(A85,'Dat-Bl'!$J$4:$N$123,3))","v":""},{"$f":"IF(A85=\"\",\"\",VLOOKUP(A85,'Dat-Bl'!$J$4:$N$123,5))","v":""}]
[null,{"$f":"IF(A86=\"\",\"\",VLOOKUP(A86,'Dat-Bl'!$J$4:$N$123,2))","v":""},{"$f":"IF(A86=\"\",\"\",VLOOKUP(A86,'Dat-Bl'!$J$4:$N$123,3))","v":""},{"$f":"IF(A86=\"\",\"\",VLOOKUP(A86,'Dat-Bl'!$J$4:$N$123,5))","v":""}]
[null,{"$f":"IF(A87=\"\",\"\",VLOOKUP(A87,'Dat-Bl'!$J$4:$N$123,2))","v":""},{"$f":"IF(A87=\"\",\"\",VLOOKUP(A87,'Dat-Bl'!$J$4:$N$123,3))","v":""},{"$f":"IF(A87=\"\",\"\",VLOOKUP(A87,'Dat-Bl'!$J$4:$N$123,5))","v":""}]
[null,{"$f":"IF(A88=\"\",\"\",VLOOKUP(A88,'Dat-Bl'!$J$4:$N$123,2))","v":""},{"$f":"IF(A88=\"\",\"\",VLOOKUP(A88,'Dat-Bl'!$J$4:$N$123,3))","v":""},{"$f":"IF(A88=\"\",\"\",VLOOKUP(A88,'Dat-Bl'!$J$4:$N$123,5))","v":""}]
[null,{"$f":"IF(A89=\"\",\"\",VLOOKUP(A89,'Dat-Bl'!$J$4:$N$123,2))","v":""},{"$f":"IF(A89=\"\",\"\",VLOOKUP(A89,'Dat-Bl'!$J$4:$N$123,3))","v":""},{"$f":"IF(A89=\"\",\"\",VLOOKUP(A89,'Dat-Bl'!$J$4:$N$123,5))","v":""}]
[null,{"$f":"IF(A90=\"\",\"\",VLOOKUP(A90,'Dat-Bl'!$J$4:$N$123,2))","v":""},{"$f":"IF(A90=\"\",\"\",VLOOKUP(A90,'Dat-Bl'!$J$4:$N$123,3))","v":""},{"$f":"IF(A90=\"\",\"\",VLOOKUP(A90,'Dat-Bl'!$J$4:$N$123,5))","v":""}]
[null,{"$f":"IF(A91=\"\",\"\",VLOOKUP(A91,'Dat-Bl'!$J$4:$N$123,2))","v":""},{"$f":"IF(A91=\"\",\"\",VLOOKUP(A91,'Dat-Bl'!$J$4:$N$123,3))","v":""},{"$f":"IF(A91=\"\",\"\",VLOOKUP(A91,'Dat-Bl'!$J$4:$N$123,5))","v":""}]
[null,{"$f":"IF(A92=\"\",\"\",VLOOKUP(A92,'Dat-Bl'!$J$4:$N$123,2))","v":""},{"$f":"IF(A92=\"\",\"\",VLOOKUP(A92,'Dat-Bl'!$J$4:$N$123,3))","v":""},{"$f":"IF(A92=\"\",\"\",VLOOKUP(A92,'Dat-Bl'!$J$4:$N$123,5))","v":""}]
[null,{"$f":"IF(A93=\"\",\"\",VLOOKUP(A93,'Dat-Bl'!$J$4:$N$123,2))","v":""},{"$f":"IF(A93=\"\",\"\",VLOOKUP(A93,'Dat-Bl'!$J$4:$N$123,3))","v":""},{"$f":"IF(A93=\"\",\"\",VLOOKUP(A93,'Dat-Bl'!$J$4:$N$123,5))","v":""}]
[null,{"$f":"IF(A94=\"\",\"\",VLOOKUP(A94,'Dat-Bl'!$J$4:$N$123,2))","v":""},{"$f":"IF(A94=\"\",\"\",VLOOKUP(A94,'Dat-Bl'!$J$4:$N$123,3))","v":""},{"$f":"IF(A94=\"\",\"\",VLOOKUP(A94,'Dat-Bl'!$J$4:$N$123,5))","v":""}]
[null,{"$f":"IF(A95=\"\",\"\",VLOOKUP(A95,'Dat-Bl'!$J$4:$N$123,2))","v":""},{"$f":"IF(A95=\"\",\"\",VLOOKUP(A95,'Dat-Bl'!$J$4:$N$123,3))","v":""},{"$f":"IF(A95=\"\",\"\",VLOOKUP(A95,'Dat-Bl'!$J$4:$N$123,5))","v":""}]
[null,{"$f":"IF(A96=\"\",\"\",VLOOKUP(A96,'Dat-Bl'!$J$4:$N$123,2))","v":""},{"$f":"IF(A96=\"\",\"\",VLOOKUP(A96,'Dat-Bl'!$J$4:$N$123,3))","v":""},{"$f":"IF(A96=\"\",\"\",VLOOKUP(A96,'Dat-Bl'!$J$4:$N$123,5))","v":""}]
[null,{"$f":"IF(A97=\"\",\"\",VLOOKUP(A97,'Dat-Bl'!$J$4:$N$123,2))","v":""},{"$f":"IF(A97=\"\",\"\",VLOOKUP(A97,'Dat-Bl'!$J$4:$N$123,3))","v":""},{"$f":"IF(A97=\"\",\"\",VLOOKUP(A97,'Dat-Bl'!$J$4:$N$123,5))","v":""}]
[null,{"$f":"IF(A98=\"\",\"\",VLOOKUP(A98,'Dat-Bl'!$J$4:$N$123,2))","v":""},{"$f":"IF(A98=\"\",\"\",VLOOKUP(A98,'Dat-Bl'!$J$4:$N$123,3))","v":""},{"$f":"IF(A98=\"\",\"\",VLOOKUP(A98,'Dat-Bl'!$J$4:$N$123,5))","v":""}]
[]
[null,null,"Weitsprung","Männlich_D,C / Sport",null,"Anlage ",null,"Uhr"]
["K-ziff","Startnr.:","Name","Schule","1. Versuch","2. Versuch","3. Versuch","Bester V."]
[null,{"$f":"IF(A102=\"\",\"\",VLOOKUP(A102,'Dat-Bl'!$J$127:$N$246,2))","v":""},{"$f":"IF(A102=\"\",\"\",VLOOKUP(A102,'Dat-Bl'!$J$127:$N$246,3))","v":""},{"$f":"IF(A102=\"\",\"\",VLOOKUP(A102,'Dat-Bl'!$J$127:$N$246,5))","v":""}]
[null,{"$f":"IF(A103=\"\",\"\",VLOOKUP(A103,'Dat-Bl'!$J$127:$N$246,2))","v":""},{"$f":"IF(A103=\"\",\"\",VLOOKUP(A103,'Dat-Bl'!$J$127:$N$246,3))","v":""},{"$f":"IF(A103=\"\",\"\",VLOOKUP(A103,'Dat-Bl'!$J$127:$N$246,5))","v":""}]
[null,{"$f":"IF(A104=\"\",\"\",VLOOKUP(A104,'Dat-Bl'!$J$127:$N$246,2))","v":""},{"$f":"IF(A104=\"\",\"\",VLOOKUP(A104,'Dat-Bl'!$J$127:$N$246,3))","v":""},{"$f":"IF(A104=\"\",\"\",VLOOKUP(A104,'Dat-Bl'!$J$127:$N$246,5))","v":""}]
[null,{"$f":"IF(A105=\"\",\"\",VLOOKUP(A105,'Dat-Bl'!$J$127:$N$246,2))","v":""},{"$f":"IF(A105=\"\",\"\",VLOOKUP(A105,'Dat-Bl'!$J$127:$N$246,3))","v":""},{"$f":"IF(A105=\"\",\"\",VLOOKUP(A105,'Dat-Bl'!$J$127:$N$246,5))","v":""}]
[null,{"$f":"IF(A106=\"\",\"\",VLOOKUP(A106,'Dat-Bl'!$J$127:$N$246,2))","v":""},{"$f":"IF(A106=\"\",\"\",VLOOKUP(A106,'Dat-Bl'!$J$127:$N$246,3))","v":""},{"$f":"IF(A106=\"\",\"\",VLOOKUP(A106,'Dat-Bl'!$J$127:$N$246,5))","v":""}]
[null,{"$f":"IF(A107=\"\",\"\",VLOOKUP(A107,'Dat-Bl'!$J$127:$N$246,2))","v":""},{"$f":"IF(A107=\"\",\"\",VLOOKUP(A107,'Dat-Bl'!$J$127:$N$246,3))","v":""},{"$f":"IF(A107=\"\",\"\",VLOOKUP(A107,'Dat-Bl'!$J$127:$N$246,5))","v":""}]
[null,{"$f":"IF(A108=\"\",\"\",VLOOKUP(A108,'Dat-Bl'!$J$127:$N$246,2))","v":""},{"$f":"IF(A108=\"\",\"\",VLOOKUP(A108,'Dat-Bl'!$J$127:$N$246,3))","v":""},{"$f":"IF(A108=\"\",\"\",VLOOKUP(A108,'Dat-Bl'!$J$127:$N$246,5))","v":""}]
[null,{"$f":"IF(A109=\"\",\"\",VLOOKUP(A109,'Dat-Bl'!$J$127:$N$246,2))","v":""},{"$f":"IF(A109=\"\",\"\",VLOOKUP(A109,'Dat-Bl'!$J$127:$N$246,3))","v":""},{"$f":"IF(A109=\"\",\"\",VLOOKUP(A109,'Dat-Bl'!$J$127:$N$246,5))","v":""}]
[null,{"$f":"IF(A110=\"\",\"\",VLOOKUP(A110,'Dat-Bl'!$J$127:$N$246,2))","v":""},{"$f":"IF(A110=\"\",\"\",VLOOKUP(A110,'Dat-Bl'!$J$127:$N$246,3))","v":""},{"$f":"IF(A110=\"\",\"\",VLOOKUP(A110,'Dat-Bl'!$J$127:$N$246,5))","v":""}]
[null,{"$f":"IF(A111=\"\",\"\",VLOOKUP(A111,'Dat-Bl'!$J$127:$N$246,2))","v":""},{"$f":"IF(A111=\"\",\"\",VLOOKUP(A111,'Dat-Bl'!$J$127:$N$246,3))","v":""},{"$f":"IF(A111=\"\",\"\",VLOOKUP(A111,'Dat-Bl'!$J$127:$N$246,5))","v":""}]
[null,{"$f":"IF(A112=\"\",\"\",VLOOKUP(A112,'Dat-Bl'!$J$127:$N$246,2))","v":""},{"$f":"IF(A112=\"\",\"\",VLOOKUP(A112,'Dat-Bl'!$J$127:$N$246,3))","v":""},{"$f":"IF(A112=\"\",\"\",VLOOKUP(A112,'Dat-Bl'!$J$127:$N$246,5))","v":""}]
[null,{"$f":"IF(A113=\"\",\"\",VLOOKUP(A113,'Dat-Bl'!$J$127:$N$246,2))","v":""},{"$f":"IF(A113=\"\",\"\",VLOOKUP(A113,'Dat-Bl'!$J$127:$N$246,3))","v":""},{"$f":"IF(A113=\"\",\"\",VLOOKUP(A113,'Dat-Bl'!$J$127:$N$246,5))","v":""}]
[null,{"$f":"IF(A114=\"\",\"\",VLOOKUP(A114,'Dat-Bl'!$J$127:$N$246,2))","v":""},{"$f":"IF(A114=\"\",\"\",VLOOKUP(A114,'Dat-Bl'!$J$127:$N$246,3))","v":""},{"$f":"IF(A114=\"\",\"\",VLOOKUP(A114,'Dat-Bl'!$J$127:$N$246,5))","v":""}]
[null,{"$f":"IF(A115=\"\",\"\",VLOOKUP(A115,'Dat-Bl'!$J$127:$N$246,2))","v":""},{"$f":"IF(A115=\"\",\"\",VLOOKUP(A115,'Dat-Bl'!$J$127:$N$246,3))","v":""},{"$f":"IF(A115=\"\",\"\",VLOOKUP(A115,'Dat-Bl'!$J$127:$N$246,5))","v":""}]
[null,{"$f":"IF(A116=\"\",\"\",VLOOKUP(A116,'Dat-Bl'!$J$127:$N$246,2))","v":""},{"$f":"IF(A116=\"\",\"\",VLOOKUP(A116,'Dat-Bl'!$J$127:$N$246,3))","v":""},{"$f":"IF(A116=\"\",\"\",VLOOKUP(A116,'Dat-Bl'!$J$127:$N$246,5))","v":""}]
[null,{"$f":"IF(A117=\"\",\"\",VLOOKUP(A117,'Dat-Bl'!$J$127:$N$246,2))","v":""},{"$f":"IF(A117=\"\",\"\",VLOOKUP(A117,'Dat-Bl'!$J$127:$N$246,3))","v":""},{"$f":"IF(A117=\"\",\"\",VLOOKUP(A117,'Dat-Bl'!$J$127:$N$246,5))","v":""}]
[null,{"$f":"IF(A118=\"\",\"\",VLOOKUP(A118,'Dat-Bl'!$J$127:$N$246,2))","v":""},{"$f":"IF(A118=\"\",\"\",VLOOKUP(A118,'Dat-Bl'!$J$127:$N$246,3))","v":""},{"$f":"IF(A118=\"\",\"\",VLOOKUP(A118,'Dat-Bl'!$J$127:$N$246,5))","v":""}]
[null,{"$f":"IF(A119=\"\",\"\",VLOOKUP(A119,'Dat-Bl'!$J$127:$N$246,2))","v":""},{"$f":"IF(A119=\"\",\"\",VLOOKUP(A119,'Dat-Bl'!$J$127:$N$246,3))","v":""},{"$f":"IF(A119=\"\",\"\",VLOOKUP(A119,'Dat-Bl'!$J$127:$N$246,5))","v":""}]
[null,{"$f":"IF(A120=\"\",\"\",VLOOKUP(A120,'Dat-Bl'!$J$127:$N$246,2))","v":""},{"$f":"IF(A120=\"\",\"\",VLOOKUP(A120,'Dat-Bl'!$J$127:$N$246,3))","v":""},{"$f":"IF(A120=\"\",\"\",VLOOKUP(A120,'Dat-Bl'!$J$127:$N$246,5))","v":""}]
[null,{"$f":"IF(A121=\"\",\"\",VLOOKUP(A121,'Dat-Bl'!$J$127:$N$246,2))","v":""},{"$f":"IF(A121=\"\",\"\",VLOOKUP(A121,'Dat-Bl'!$J$127:$N$246,3))","v":""},{"$f":"IF(A121=\"\",\"\",VLOOKUP(A121,'Dat-Bl'!$J$127:$N$246,5))","v":""}]
[null,{"$f":"IF(A122=\"\",\"\",VLOOKUP(A122,'Dat-Bl'!$J$127:$N$246,2))","v":""},{"$f":"IF(A122=\"\",\"\",VLOOKUP(A122,'Dat-Bl'!$J$127:$N$246,3))","v":""},{"$f":"IF(A122=\"\",\"\",VLOOKUP(A122,'Dat-Bl'!$J$127:$N$246,5))","v":""}]
[null,{"$f":"IF(A123=\"\",\"\",VLOOKUP(A123,'Dat-Bl'!$J$127:$N$246,2))","v":""},{"$f":"IF(A123=\"\",\"\",VLOOKUP(A123,'Dat-Bl'!$J$127:$N$246,3))","v":""},{"$f":"IF(A123=\"\",\"\",VLOOKUP(A123,'Dat-Bl'!$J$127:$N$246,5))","v":""}]
[null,{"$f":"IF(A124=\"\",\"\",VLOOKUP(A124,'Dat-Bl'!$J$127:$N$246,2))","v":""},{"$f":"IF(A124=\"\",\"\",VLOOKUP(A124,'Dat-Bl'!$J$127:$N$246,3))","v":""},{"$f":"IF(A124=\"\",\"\",VLOOKUP(A124,'Dat-Bl'!$J$127:$N$246,5))","v":""}]
[null,{"$f":"IF(A125=\"\",\"\",VLOOKUP(A125,'Dat-Bl'!$J$127:$N$246,2))","v":""},{"$f":"IF(A125=\"\",\"\",VLOOKUP(A125,'Dat-Bl'!$J$127:$N$246,3))","v":""},{"$f":"IF(A125=\"\",\"\",VLOOKUP(A125,'Dat-Bl'!$J$127:$N$246,5))","v":""}]
[null,{"$f":"IF(A126=\"\",\"\",VLOOKUP(A126,'Dat-Bl'!$J$127:$N$246,2))","v":""},{"$f":"IF(A126=\"\",\"\",VLOOKUP(A126,'Dat-Bl'!$J$127:$N$246,3))","v":""},{"$f":"IF(A126=\"\",\"\",VLOOKUP(A126,'Dat-Bl'!$J$127:$N$246,5))","v":""}]
[null,{"$f":"IF(A127=\"\",\"\",VLOOKUP(A127,'Dat-Bl'!$J$127:$N$246,2))","v":""},{"$f":"IF(A127=\"\",\"\",VLOOKUP(A127,'Dat-Bl'!$J$127:$N$246,3))","v":""},{"$f":"IF(A127=\"\",\"\",VLOOKUP(A127,'Dat-Bl'!$J$127:$N$246,5))","v":""}]
[null,{"$f":"IF(A128=\"\",\"\",VLOOKUP(A128,'Dat-Bl'!$J$127:$N$246,2))","v":""},{"$f":"IF(A128=\"\",\"\",VLOOKUP(A128,'Dat-Bl'!$J$127:$N$246,3))","v":""},{"$f":"IF(A128=\"\",\"\",VLOOKUP(A128,'Dat-Bl'!$J$127:$N$246,5))","v":""}]
[null,{"$f":"IF(A129=\"\",\"\",VLOOKUP(A129,'Dat-Bl'!$J$127:$N$246,2))","v":""},{"$f":"IF(A129=\"\",\"\",VLOOKUP(A129,'Dat-Bl'!$J$127:$N$246,3))","v":""},{"$f":"IF(A129=\"\",\"\",VLOOKUP(A129,'Dat-Bl'!$J$127:$N$246,5))","v":""}]
[null,{"$f":"IF(A130=\"\",\"\",VLOOKUP(A130,'Dat-Bl'!$J$127:$N$246,2))","v":""},{"$f":"IF(A130=\"\",\"\",VLOOKUP(A130,'Dat-Bl'!$J$127:$N$246,3))","v":""},{"$f":"IF(A130=\"\",\"\",VLOOKUP(A130,'Dat-Bl'!$J$127:$N$246,5))","v":""}]
[null,{"$f":"IF(A131=\"\",\"\",VLOOKUP(A131,'Dat-Bl'!$J$127:$N$246,2))","v":""},{"$f":"IF(A131=\"\",\"\",VLOOKUP(A131,'Dat-Bl'!$J$127:$N$246,3))","v":""},{"$f":"IF(A131=\"\",\"\",VLOOKUP(A131,'Dat-Bl'!$J$127:$N$246,5))","v":""}]

{"sheet":"P-Staffel","index":17,"n_rows":143,"n_cols":4,"rows_kept":143,"cut":false,"hidden":false,"merged":[]}
[null,"Lauf ","Weiblich_D,C / Regel","5x80m"]
[]
["K-ziff","Bahn","Schule","Zeit"]
[null,1,{"$f":"IF(A4=\"\",\"\",VLOOKUP(A4,'Dat-Bl'!$B$4:$F$123,5))","v":""}]
[null,2,{"$f":"IF(A5=\"\",\"\",VLOOKUP(A5,'Dat-Bl'!$B$4:$F$123,5))","v":""}]
[null,3,{"$f":"IF(A6=\"\",\"\",VLOOKUP(A6,'Dat-Bl'!$B$4:$F$123,5))","v":""}]
[null,4,{"$f":"IF(A7=\"\",\"\",VLOOKUP(A7,'Dat-Bl'!$B$4:$F$123,5))","v":""}]
[null,5,{"$f":"IF(A8=\"\",\"\",VLOOKUP(A8,'Dat-Bl'!$B$4:$F$123,5))","v":""}]
[null,6,{"$f":"IF(A9=\"\",\"\",VLOOKUP(A9,'Dat-Bl'!$B$4:$F$123,5))","v":""}]
[null,7,{"$f":"IF(A10=\"\",\"\",VLOOKUP(A10,'Dat-Bl'!$B$4:$F$123,5))","v":""}]
[null,8,{"$f":"IF(A11=\"\",\"\",VLOOKUP(A11,'Dat-Bl'!$B$4:$F$123,5))","v":""}]
[]
[null,"Lauf ",{"$f":"C1","v":"Weiblich_D,C / Regel"},"5x80m"]
[]
["K-ziff","Bahn","Schule","Zeit"]
[null,1,{"$f":"IF(A16=\"\",\"\",VLOOKUP(A16,'Dat-Bl'!$B$4:$F$123,5))","v":""}]
[null,2,{"$f":"IF(A17=\"\",\"\",VLOOKUP(A17,'Dat-Bl'!$B$4:$F$123,5))","v":""}]
[null,3,{"$f":"IF(A18=\"\",\"\",VLOOKUP(A18,'Dat-Bl'!$B$4:$F$123,5))","v":""}]
[null,4,{"$f":"IF(A19=\"\",\"\",VLOOKUP(A19,'Dat-Bl'!$B$4:$F$123,5))","v":""}]
[null,5,{"$f":"IF(A20=\"\",\"\",VLOOKUP(A20,'Dat-Bl'!$B$4:$F$123,5))","v":""}]
[null,6,{"$f":"IF(A21=\"\",\"\",VLOOKUP(A21,'Dat-Bl'!$B$4:$F$123,5))","v":""}]
[null,7,{"$f":"IF(A22=\"\",\"\",VLOOKUP(A22,'Dat-Bl'!$B$4:$F$123,5))","v":""}]
[null,8,{"$f":"IF(A23=\"\",\"\",VLOOKUP(A23,'Dat-Bl'!$B$4:$F$123,5))","v":""}]
[]
[null,"Lauf ",{"$f":"C1","v":"Weiblich_D,C / Regel"},"5x80m"]
[]
["K-ziff","Bahn","Schule","Zeit"]
[null,1,{"$f":"IF(A28=\"\",\"\",VLOOKUP(A28,'Dat-Bl'!$B$4:$F$123,5))","v":""}]
[null,2,{"$f":"IF(A29=\"\",\"\",VLOOKUP(A29,'Dat-Bl'!$B$4:$F$123,5))","v":""}]
[null,3,{"$f":"IF(A30=\"\",\"\",VLOOKUP(A30,'Dat-Bl'!$B$4:$F$123,5))","v":""}]
[null,4,{"$f":"IF(A31=\"\",\"\",VLOOKUP(A31,'Dat-Bl'!$B$4:$F$123,5))","v":""}]
[null,5,{"$f":"IF(A32=\"\",\"\",VLOOKUP(A32,'Dat-Bl'!$B$4:$F$123,5))","v":""}]
[null,6,{"$f":"IF(A33=\"\",\"\",VLOOKUP(A33,'Dat-Bl'!$B$4:$F$123,5))","v":""}]
[null,7,{"$f":"IF(A34=\"\",\"\",VLOOKUP(A34,'Dat-Bl'!$B$4:$F$123,5))","v":""}]
[null,8,{"$f":"IF(A35=\"\",\"\",VLOOKUP(A35,'Dat-Bl'!$B$4:$F$123,5))","v":""}]
[]
[null,"Lauf ","Weiblich_D,C / Sport","5x80m"]
[]
["K-ziff","Bahn","Schule","Zeit"]
[null,1,{"$f":"IF(A40=\"\",\"\",VLOOKUP(A40,'Dat-Bl'!$B$127:$F$246,5))","v":""}]
[null,2,{"$f":"IF(A41=\"\",\"\",VLOOKUP(A41,'Dat-Bl'!$B$127:$F$246,5))","v":""}]
[null,3,{"$f":"IF(A42=\"\",\"\",VLOOKUP(A42,'Dat-Bl'!$B$127:$F$246,5))","v":""}]
[null,4,{"$f":"IF(A43=\"\",\"\",VLOOKUP(A43,'Dat-Bl'!$B$127:$F$246,5))","v":""}]
[null,5,{"$f":"IF(A44=\"\",\"\",VLOOKUP(A44,'Dat-Bl'!$B$127:$F$246,5))","v":""}]
[null,6,{"$f":"IF(A45=\"\",\"\",VLOOKUP(A45,'Dat-Bl'!$B$127:$F$246,5))","v":""}]
[null,7,{"$f":"IF(A46=\"\",\"\",VLOOKUP(A46,'Dat-Bl'!$B$127:$F$246,5))","v":""}]
[null,8,{"$f":"IF(A47=\"\",\"\",VLOOKUP(A47,'Dat-Bl'!$B$127:$F$246,5))","v":""}]
[]
[null,"Lauf ",{"$f":"C37","v":"Weiblich_D,C / Sport"},"5x80m"]
[]
["K-ziff","Bahn","Schule","Zeit"]
[null,1,{"$f":"IF(A52=\"\",\"\",VLOOKUP(A52,'Dat-Bl'!$B$127:$F$246,5))","v":""}]
[null,2,{"$f":"IF(A53=\"\",\"\",VLOOKUP(A53,'Dat-Bl'!$B$127:$F$246,5))","v":""}]
[null,3,{"$f":"IF(A54=\"\",\"\",VLOOKUP(A54,'Dat-Bl'!$B$127:$F$246,5))","v":""}]
[null,4,{"$f":"IF(A55=\"\",\"\",VLOOKUP(A55,'Dat-Bl'!$B$127:$F$246,5))","v":""}]
[null,5,{"$f":"IF(A56=\"\",\"\",VLOOKUP(A56,'Dat-Bl'!$B$127:$F$246,5))","v":""}]
[null,6,{"$f":"IF(A57=\"\",\"\",VLOOKUP(A57,'Dat-Bl'!$B$127:$F$246,5))","v":""}]
[null,7,{"$f":"IF(A58=\"\",\"\",VLOOKUP(A58,'Dat-Bl'!$B$127:$F$246,5))","v":""}]
[null,8,{"$f":"IF(A59=\"\",\"\",VLOOKUP(A59,'Dat-Bl'!$B$127:$F$246,5))","v":""}]
[]
[null,"Lauf ",{"$f":"C37","v":"Weiblich_D,C / Sport"},"5x80m"]
[]
["K-ziff","Bahn","Schule","Zeit"]
[null,1,{"$f":"IF(A64=\"\",\"\",VLOOKUP(A64,'Dat-Bl'!$B$127:$F$246,5))","v":""}]
[null,2,{"$f":"IF(A65=\"\",\"\",VLOOKUP(A65,'Dat-Bl'!$B$127:$F$246,5))","v":""}]
[null,3,{"$f":"IF(A66=\"\",\"\",VLOOKUP(A66,'Dat-Bl'!$B$127:$F$246,5))","v":""}]
[null,4,{"$f":"IF(A67=\"\",\"\",VLOOKUP(A67,'Dat-Bl'!$B$127:$F$246,5))","v":""}]
[null,5,{"$f":"IF(A68=\"\",\"\",VLOOKUP(A68,'Dat-Bl'!$B$127:$F$246,5))","v":""}]
[null,6,{"$f":"IF(A69=\"\",\"\",VLOOKUP(A69,'Dat-Bl'!$B$127:$F$246,5))","v":""}]
[null,7,{"$f":"IF(A70=\"\",\"\",VLOOKUP(A70,'Dat-Bl'!$B$127:$F$246,5))","v":""}]
[null,8,{"$f":"IF(A71=\"\",\"\",VLOOKUP(A71,'Dat-Bl'!$B$127:$F$246,5))","v":""}]
[]
[null,"Lauf ","Männlich_D,C / Regel","5x80m"]
[]
["K-ziff","Bahn","Schule","Zeit"]
[null,1,{"$f":"IF(A76=\"\",\"\",VLOOKUP(A76,'Dat-Bl'!$J$4:$N$123,5))","v":""}]
[null,2,{"$f":"IF(A77=\"\",\"\",VLOOKUP(A77,'Dat-Bl'!$J$4:$N$123,5))","v":""}]
[null,3,{"$f":"IF(A78=\"\",\"\",VLOOKUP(A78,'Dat-Bl'!$J$4:$N$123,5))","v":""}]
[null,4,{"$f":"IF(A79=\"\",\"\",VLOOKUP(A79,'Dat-Bl'!$J$4:$N$123,5))","v":""}]
[null,5,{"$f":"IF(A80=\"\",\"\",VLOOKUP(A80,'Dat-Bl'!$J$4:$N$123,5))","v":""}]
[null,6,{"$f":"IF(A81=\"\",\"\",VLOOKUP(A81,'Dat-Bl'!$J$4:$N$123,5))","v":""}]
[null,7,{"$f":"IF(A82=\"\",\"\",VLOOKUP(A82,'Dat-Bl'!$J$4:$N$123,5))","v":""}]
[null,8,{"$f":"IF(A83=\"\",\"\",VLOOKUP(A83,'Dat-Bl'!$J$4:$N$123,5))","v":""}]
[]
[null,"Lauf ",{"$f":"C73","v":"Männlich_D,C / Regel"},"5x80m"]
[]
["K-ziff","Bahn","Schule","Zeit"]
[null,1,{"$f":"IF(A88=\"\",\"\",VLOOKUP(A88,'Dat-Bl'!$J$4:$N$123,5))","v":""}]
[null,2,{"$f":"IF(A89=\"\",\"\",VLOOKUP(A89,'Dat-Bl'!$J$4:$N$123,5))","v":""}]
[null,3,{"$f":"IF(A90=\"\",\"\",VLOOKUP(A90,'Dat-Bl'!$J$4:$N$123,5))","v":""}]
[null,4,{"$f":"IF(A91=\"\",\"\",VLOOKUP(A91,'Dat-Bl'!$J$4:$N$123,5))","v":""}]
[null,5,{"$f":"IF(A92=\"\",\"\",VLOOKUP(A92,'Dat-Bl'!$J$4:$N$123,5))","v":""}]
[null,6,{"$f":"IF(A93=\"\",\"\",VLOOKUP(A93,'Dat-Bl'!$J$4:$N$123,5))","v":""}]
[null,7,{"$f":"IF(A94=\"\",\"\",VLOOKUP(A94,'Dat-Bl'!$J$4:$N$123,5))","v":""}]
[null,8,{"$f":"IF(A95=\"\",\"\",VLOOKUP(A95,'Dat-Bl'!$J$4:$N$123,5))","v":""}]
[]
[null,"Lauf ",{"$f":"C73","v":"Männlich_D,C / Regel"},"5x80m"]
[]
["K-ziff","Bahn","Schule","Zeit"]
[null,1,{"$f":"IF(A100=\"\",\"\",VLOOKUP(A100,'Dat-Bl'!$J$4:$N$123,5))","v":""}]
[null,2,{"$f":"IF(A101=\"\",\"\",VLOOKUP(A101,'Dat-Bl'!$J$4:$N$123,5))","v":""}]
[null,3,{"$f":"IF(A102=\"\",\"\",VLOOKUP(A102,'Dat-Bl'!$J$4:$N$123,5))","v":""}]
[null,4,{"$f":"IF(A103=\"\",\"\",VLOOKUP(A103,'Dat-Bl'!$J$4:$N$123,5))","v":""}]
[null,5,{"$f":"IF(A104=\"\",\"\",VLOOKUP(A104,'Dat-Bl'!$J$4:$N$123,5))","v":""}]
[null,6,{"$f":"IF(A105=\"\",\"\",VLOOKUP(A105,'Dat-Bl'!$J$4:$N$123,5))","v":""}]
[null,7,{"$f":"IF(A106=\"\",\"\",VLOOKUP(A106,'Dat-Bl'!$J$4:$N$123,5))","v":""}]
[null,8,{"$f":"IF(A107=\"\",\"\",VLOOKUP(A107,'Dat-Bl'!$J$4:$N$123,5))","v":""}]
[]
[null,"Lauf ","Männlich_D,C / Sport","5x80m"]
[]
["K-ziff","Bahn","Schule","Zeit"]
[null,1,{"$f":"IF(A112=\"\",\"\",VLOOKUP(A112,'Dat-Bl'!$J$127:$N$246,5))","v":""}]
[null,2,{"$f":"IF(A113=\"\",\"\",VLOOKUP(A113,'Dat-Bl'!$J$127:$N$246,5))","v":""}]
[null,3,{"$f":"IF(A114=\"\",\"\",VLOOKUP(A114,'Dat-Bl'!$J$127:$N$246,5))","v":""}]
[null,4,{"$f":"IF(A115=\"\",\"\",VLOOKUP(A115,'Dat-Bl'!$J$127:$N$246,5))","v":""}]
[null,5,{"$f":"IF(A116=\"\",\"\",VLOOKUP(A116,'Dat-Bl'!$J$127:$N$246,5))","v":""}]
[null,6,{"$f":"IF(A117=\"\",\"\",VLOOKUP(A117,'Dat-Bl'!$J$127:$N$246,5))","v":""}]
[null,7,{"$f":"IF(A118=\"\",\"\",VLOOKUP(A118,'Dat-Bl'!$J$127:$N$246,5))","v":""}]
[null,8,{"$f":"IF(A119=\"\",\"\",VLOOKUP(A119,'Dat-Bl'!$J$127:$N$246,5))","v":""}]
[]
[null,"Lauf ",{"$f":"C109","v":"Männlich_D,C / Sport"},"5x80m"]
[]
["K-ziff","Bahn","Schule","Zeit"]
[null,1,{"$f":"IF(A124=\"\",\"\",VLOOKUP(A124,'Dat-Bl'!$J$127:$N$246,5))","v":""}]
[null,2,{"$f":"IF(A125=\"\",\"\",VLOOKUP(A125,'Dat-Bl'!$J$127:$N$246,5))","v":""}]
[null,3,{"$f":"IF(A126=\"\",\"\",VLOOKUP(A126,'Dat-Bl'!$J$127:$N$246,5))","v":""}]
[null,4,{"$f":"IF(A127=\"\",\"\",VLOOKUP(A127,'Dat-Bl'!$J$127:$N$246,5))","v":""}]
[null,5,{"$f":"IF(A128=\"\",\"\",VLOOKUP(A128,'Dat-Bl'!$J$127:$N$246,5))","v":""}]
[null,6,{"$f":"IF(A129=\"\",\"\",VLOOKUP(A129,'Dat-Bl'!$J$127:$N$246,5))","v":""}]
[null,7,{"$f":"IF(A130=\"\",\"\",VLOOKUP(A130,'Dat-Bl'!$J$127:$N$246,5))","v":""}]
[null,8,{"$f":"IF(A131=\"\",\"\",VLOOKUP(A131,'Dat-Bl'!$J$127:$N$246,5))","v":""}]
[]
[null,"Lauf ",{"$f":"C109","v":"Männlich_D,C / Sport"},"5x80m"]
[]
["K-ziff","Bahn","Schule","Zeit"]
[null,1,{"$f":"IF(A136=\"\",\"\",VLOOKUP(A136,'Dat-Bl'!$J$127:$N$246,5))","v":""}]
[null,2,{"$f":"IF(A137=\"\",\"\",VLOOKUP(A137,'Dat-Bl'!$J$127:$N$246,5))","v":""}]
[null,3,{"$f":"IF(A138=\"\",\"\",VLOOKUP(A138,'Dat-Bl'!$J$127:$N$246,5))","v":""}]
[null,4,{"$f":"IF(A139=\"\",\"\",VLOOKUP(A139,'Dat-Bl'!$J$127:$N$246,5))","v":""}]
[null,5,{"$f":"IF(A140=\"\",\"\",VLOOKUP(A140,'Dat-Bl'!$J$127:$N$246,5))","v":""}]
[null,6,{"$f":"IF(A141=\"\",\"\",VLOOKUP(A141,'Dat-Bl'!$J$127:$N$246,5))","v":""}]
[null,7,{"$f":"IF(A142=\"\",\"\",VLOOKUP(A142,'Dat-Bl'!$J$127:$N$246,5))","v":""}]
[null,8,{"$f":"IF(A143=\"\",\"\",VLOOKUP(A143,'Dat-Bl'!$J$127:$N$246,5))","v":""}]

{"sheet":"P_Schulen_w","index":18,"n_rows":599,"n_cols":9,"rows_kept":599,"cut":false,"hidden":false,"merged":[[594,0,596,0],[594,1,596,1],[594,2,596,2],[594,3,596,3],[594,5,594,7],[598,4,598,7],[588,0,590,0],[588,1,590,1],[588,2,590,2],[588,3,590,3],[588,5,588,7],[591,0,593,0],[591,1,593,1],[591,2,593,2],[591,3,593,3],[591,5,591,7],[582,0,584,0],[582,1,584,1],[582,2,584,2],[582,3,584,3],[582,5,582,7],[585,0,587,0],[585,1,587,1],[585,2,587,2],[585,3,587,3],[585,5,585,7],[577,5,577,7],[577,8,578,8],[579,0,581,0],[579,1,581,1],[579,2,581,2],[579,3,581,3],[579,5,579,7],[570,1,570,7],[572,2,572,3],[572,5,572,7],[574,5,574,6],[575,4,576,4],[576,0,576,1],[564,0,566,0],[564,1,566,1],[564,2,566,2],[564,3,566,3],[564,5,564,7],[568,4,568,7],[558,0,560,0],[558,1,560,1],[558,2,560,2],[558,3,560,3],[558,5,558,7],[561,0,563,0],[561,1,563,1],[561,2,563,2],[561,3,563,3],[561,5,561,7],[552,0,554,0],[552,1,554,1],[552,2,554,2],[552,3,554,3],[552,5,552,7],[555,0,557,0],[555,1,557,1],[555,2,557,2],[555,3,557,3],[555,5,555,7],[547,5,547,7],[547,8,548,8],[549,0,551,0],[549,1,551,1],[549,2,551,2],[549,3,551,3],[549,5,549,7],[540,1,540,7],[542,2,542,3],[542,5,542,7],[544,5,544,6],[545,4,546,4],[546,0,546,1],[534,0,536,0],[534,1,536,1],[534,2,536,2],[534,3,536,3],[534,5,534,7],[538,4,538,7],[528,0,530,0],[528,1,530,1],[528,2,530,2],[528,3,530,3],[528,5,528,7],[531,0,533,0],[531,1,533,1],[531,2,533,2],[531,3,533,3],[531,5,531,7],[522,0,524,0],[522,1,524,1],[522,2,524,2],[522,3,524,3],[522,5,522,7],[525,0,527,0],[525,1,527,1],[525,2,527,2],[525,3,527,3],[525,5,525,7],[517,5,517,7],[517,8,518,8],[519,0,521,0],[519,1,521,1],[519,2,521,2],[519,3,521,3],[519,5,519,7],[510,1,510,7],[512,2,512,3],[512,5,512,7],[514,5,514,6],[515,4,516,4],[516,0,516,1],[504,0,506,0],[504,1,506,1],[504,2,506,2],[504,3,506,3],[504,5,504,7],[508,4,508,7],[498,0,500,0],[498,1,500,1],[498,2,500,2],[498,3,500,3],[498,5,498,7],[501,0,503,0],[501,1,503,1],[501,2,503,2],[501,3,503,3],[501,5,501,7],[492,0,494,0],[492,1,494,1],[492,2,494,2],[492,3,494,3],[492,5,492,7],[495,0,497,0],[495,1,497,1],[495,2,497,2],[495,3,497,3],[495,5,495,7],[487,5,487,7],[487,8,488,8],[489,0,491,0],[489,1,491,1],[489,2,491,2],[489,3,491,3],[489,5,489,7],[480,1,480,7],[482,2,482,3],[482,5,482,7],[484,5,484,6],[485,4,486,4],[486,0,486,1],[474,0,476,0],[474,1,476,1],[474,2,476,2],[474,3,476,3],[474,5,474,7],[478,4,478,7],[468,0,470,0],[468,1,470,1],[468,2,470,2],[468,3,470,3],[468,5,468,7],[471,0,473,0],[471,1,473,1],[471,2,473,2],[471,3,473,3],[471,5,471,7],[462,0,464,0],[462,1,464,1],[462,2,464,2],[462,3,464,3],[462,5,462,7],[465,0,467,0],[465,1,467,1],[465,2,467,2],[465,3,467,3],[465,5,465,7],[457,5,457,7],[457,8,458,8],[459,0,461,0],[459,1,461,1],[459,2,461,2],[459,3,461,3],[459,5,459,7],[450,1,450,7],[452,2,452,3],[452,5,452,7],[454,5,454,6],[455,4,456,4],[456,0,456,1],[444,0,446,0],[444,1,446,1],[444,2,446,2],[444,3,446,3],[444,5,444,7],[448,4,448,7],[438,0,440,0],[438,1,440,1],[438,2,440,2],[438,3,440,3],[438,5,438,7],[441,0,443,0],[441,1,443,1],[441,2,443,2],[441,3,443,3],[441,5,441,7],[432,0,434,0],[432,1,434,1],[432,2,434,2],[432,3,434,3],[432,5,432,7],[435,0,437,0],[435,1,437,1],[435,2,437,2],[435,3,437,3],[435,5,435,7],[427,5,427,7],[427,8,428,8],[429,0,431,0],[429,1,431,1],[429,2,431,2],[429,3,431,3],[429,5,429,7],[420,1,420,7],[422,2,422,3],[422,5,422,7],[424,5,424,6],[425,4,426,4],[426,0,426,1],[414,0,416,0],[414,1,416,1],[414,2,416,2],[414,3,416,3],[414,5,414,7],[418,4,418,7],[408,0,410,0],[408,1,410,1],[408,2,410,2],[408,3,410,3],[408,5,408,7],[411,0,413,0],[411,1,413,1],[411,2,413,2],[411,3,413,3],[411,5,411,7],[402,0,404,0],[402,1,404,1],[402,2,404,2],[402,3,404,3],[402,5,402,7],[405,0,407,0],[405,1,407,1],[405,2,407,2],[405,3,407,3],[405,5,405,7],[397,5,397,7],[397,8,398,8],[399,0,401,0],[399,1,401,1],[399,2,401,2],[399,3,401,3],[399,5,399,7],[390,1,390,7],[392,2,392,3],[392,5,392,7],[394,5,394,6],[395,4,396,4],[396,0,396,1],[384,0,386,0],[384,1,386,1],[384,2,386,2],[384,3,386,3],[384,5,384,7],[388,4,388,7],[378,0,380,0],[378,1,380,1],[378,2,380,2],[378,3,380,3],[378,5,378,7],[381,0,383,0],[381,1,383,1],[381,2,383,2],[381,3,383,3],[381,5,381,7],[372,0,374,0],[372,1,374,1],[372,2,374,2],[372,3,374,3],[372,5,372,7],[375,0,377,0],[375,1,377,1],[375,2,377,2],[375,3,377,3],[375,5,375,7],[367,5,367,7],[367,8,368,8],[369,0,371,0],[369,1,371,1],[369,2,371,2],[369,3,371,3],[369,5,369,7],[360,1,360,7],[362,2,362,3],[362,5,362,7],[364,5,364,6],[365,4,366,4],[366,0,366,1],[354,0,356,0],[354,1,356,1],[354,2,356,2],[354,3,356,3],[354,5,354,7],[358,4,358,7],[348,0,350,0],[348,1,350,1],[348,2,350,2],[348,3,350,3],[348,5,348,7],[351,0,353,0],[351,1,353,1],[351,2,353,2],[351,3,353,3],[351,5,351,7],[342,0,344,0],[342,1,344,1],[342,2,344,2],[342,3,344,3],[342,5,342,7],[345,0,347,0],[345,1,347,1],[345,2,347,2],[345,3,347,3],[345,5,345,7],[337,5,337,7],[337,8,338,8],[339,0,341,0],[339,1,341,1],[339,2,341,2],[339,3,341,3],[339,5,339,7],[330,1,330,7],[332,2,332,3],[332,5,332,7],[334,5,334,6],[335,4,336,4],[336,0,336,1],[324,0,326,0],[324,1,326,1],[324,2,326,2],[324,3,326,3],[324,5,324,7],[328,4,328,7],[318,0,320,0],[318,1,320,1],[318,2,320,2],[318,3,320,3],[318,5,318,7],[321,0,323,0],[321,1,323,1],[321,2,323,2],[321,3,323,3],[321,5,321,7],[312,0,314,0],[312,1,314,1],[312,2,314,2],[312,3,314,3],[312,5,312,7],[315,0,317,0],[315,1,317,1],[315,2,317,2],[315,3,317,3],[315,5,315,7],[307,5,307,7],[307,8,308,8],[309,0,311,0],[309,1,311,1],[309,2,311,2],[309,3,311,3],[309,5,309,7],[300,1,300,7],[302,2,302,3],[302,5,302,7],[304,5,304,6],[305,4,306,4],[306,0,306,1],[294,0,296,0],[294,1,296,1],[294,2,296,2],[294,3,296,3],[294,5,294,7],[298,4,298,7],[288,0,290,0],[288,1,290,1],[288,2,290,2],[288,3,290,3],[288,5,288,7],[291,0,293,0],[291,1,293,1],[291,2,293,2],[291,3,293,3],[291,5,291,7],[282,0,284,0],[282,1,284,1],[282,2,284,2],[282,3,284,3],[282,5,282,7],[285,0,287,0],[285,1,287,1],[285,2,287,2],[285,3,287,3],[285,5,285,7],[277,5,277,7],[277,8,278,8],[279,0,281,0],[279,1,281,1],[279,2,281,2],[279,3,281,3],[279,5,279,7],[270,1,270,7],[272,2,272,3],[272,5,272,7],[274,5,274,6],[275,4,276,4],[276,0,276,1],[264,0,266,0],[264,1,266,1],[264,2,266,2],[264,3,266,3],[264,5,264,7],[268,4,268,7],[258,0,260,0],[258,1,260,1],[258,2,260,2],[258,3,260,3],[258,5,258,7],[261,0,263,0],[261,1,263,1],[261,2,263,2],[261,3,263,3],[261,5,261,7],[252,0,254,0],[252,1,254,1],[252,2,254,2],[252,3,254,3],[252,5,252,7],[255,0,257,0],[255,1,257,1],[255,2,257,2],[255,3,257,3],[255,5,255,7],[247,5,247,7],[247,8,248,8],[249,0,251,0],[249,1,251,1],[249,2,251,2],[249,3,251,3],[249,5,249,7],[240,1,240,7],[242,2,242,3],[242,5,242,7],[244,5,244,6],[245,4,246,4],[246,0,246,1],[234,0,236,0],[234,1,236,1],[234,2,236,2],[234,3,236,3],[234,5,234,7],[238,4,238,7],[228,0,230,0],[228,1,230,1],[228,2,230,2],[228,3,230,3],[228,5,228,7],[231,0,233,0],[231,1,233,1],[231,2,233,2],[231,3,233,3],[231,5,231,7],[222,0,224,0],[222,1,224,1],[222,2,224,2],[222,3,224,3],[222,5,222,7],[225,0,227,0],[225,1,227,1],[225,2,227,2],[225,3,227,3],[225,5,225,7],[217,5,217,7],[217,8,218,8],[219,0,221,0],[219,1,221,1],[219,2,221,2],[219,3,221,3],[219,5,219,7],[210,1,210,7],[212,2,212,3],[212,5,212,7],[214,5,214,6],[215,4,216,4],[216,0,216,1],[204,0,206,0],[204,1,206,1],[204,2,206,2],[204,3,206,3],[204,5,204,7],[208,4,208,7],[198,0,200,0],[198,1,200,1],[198,2,200,2],[198,3,200,3],[198,5,198,7],[201,0,203,0],[201,1,203,1],[201,2,203,2],[201,3,203,3],[201,5,201,7],[192,0,194,0],[192,1,194,1],[192,2,194,2],[192,3,194,3],[192,5,192,7],[195,0,197,0],[195,1,197,1],[195,2,197,2],[195,3,197,3],[195,5,195,7],[187,5,187,7],[187,8,188,8],[189,0,191,0],[189,1,191,1],[189,2,191,2],[189,3,191,3],[189,5,189,7],[180,1,180,7],[182,2,182,3],[182,5,182,7],[184,5,184,6],[185,4,186,4],[186,0,186,1],[174,0,176,0],[174,1,176,1],[174,2,176,2],[174,3,176,3],[174,5,174,7],[178,4,178,7],[168,0,170,0],[168,1,170,1],[168,2,170,2],[168,3,170,3],[168,5,168,7],[171,0,173,0],[171,1,173,1],[171,2,173,2],[171,3,173,3],[171,5,171,7],[162,0,164,0],[162,1,164,1],[162,2,164,2],[162,3,164,3],[162,5,162,7],[165,0,167,0],[165,1,167,1],[165,2,167,2],[165,3,167,3],[165,5,165,7],[157,5,157,7],[157,8,158,8],[159,0,161,0],[159,1,161,1],[159,2,161,2],[159,3,161,3],[159,5,159,7],[150,1,150,7],[152,2,152,3],[152,5,152,7],[154,5,154,6],[155,4,156,4],[156,0,156,1],[144,0,146,0],[144,1,146,1],[144,2,146,2],[144,3,146,3],[144,5,144,7],[148,4,148,7],[138,0,140,0],[138,1,140,1],[138,2,140,2],[138,3,140,3],[138,5,138,7],[141,0,143,0],[141,1,143,1],[141,2,143,2],[141,3,143,3],[141,5,141,7],[132,0,134,0],[132,1,134,1],[132,2,134,2],[132,3,134,3],[132,5,132,7],[135,0,137,0],[135,1,137,1],[135,2,137,2],[135,3,137,3],[135,5,135,7],[127,5,127,7],[127,8,128,8],[129,0,131,0],[129,1,131,1],[129,2,131,2],[129,3,131,3],[129,5,129,7],[120,1,120,7],[122,2,122,3],[122,5,122,7],[124,5,124,6],[125,4,126,4],[126,0,126,1],[114,0,116,0],[114,1,116,1],[114,2,116,2],[114,3,116,3],[114,5,114,7],[118,4,118,7],[108,0,110,0],[108,1,110,1],[108,2,110,2],[108,3,110,3],[108,5,108,7],[111,0,113,0],[111,1,113,1],[111,2,113,2],[111,3,113,3],[111,5,111,7],[102,0,104,0],[102,1,104,1],[102,2,104,2],[102,3,104,3],[102,5,102,7],[105,0,107,0],[105,1,107,1],[105,2,107,2],[105,3,107,3],[105,5,105,7],[97,5,97,7],[97,8,98,8],[99,0,101,0],[99,1,101,1],[99,2,101,2],[99,3,101,3],[99,5,99,7],[90,1,90,7],[92,2,92,3],[92,5,92,7],[94,5,94,6],[95,4,96,4],[96,0,96,1],[84,0,86,0],[84,1,86,1],[84,2,86,2],[84,3,86,3],[84,5,84,7],[88,4,88,7],[78,0,80,0],[78,1,80,1],[78,2,80,2],[78,3,80,3],[78,5,78,7],[81,0,83,0],[81,1,83,1],[81,2,83,2],[81,3,83,3],[81,5,81,7],[72,0,74,0],[72,1,74,1],[72,2,74,2],[72,3,74,3],[72,5,72,7],[75,0,77,0],[75,1,77,1],[75,2,77,2],[75,3,77,3],[75,5,75,7],[67,5,67,7],[67,8,68,8],[69,0,71,0],[69,1,71,1],[69,2,71,2],[69,3,71,3],[69,5,69,7],[60,1,60,7],[62,2,62,3],[62,5,62,7],[64,5,64,6],[65,4,66,4],[66,0,66,1],[54,0,56,0],[54,1,56,1],[54,2,56,2],[54,3,56,3],[54,5,54,7],[58,4,58,7],[48,0,50,0],[48,1,50,1],[48,2,50,2],[48,3,50,3],[48,5,48,7],[51,0,53,0],[51,1,53,1],[51,2,53,2],[51,3,53,3],[51,5,51,7],[42,0,44,0],[42,1,44,1],[42,2,44,2],[42,3,44,3],[42,5,42,7],[45,0,47,0],[45,1,47,1],[45,2,47,2],[45,3,47,3],[45,5,45,7],[37,5,37,7],[37,8,38,8],[39,0,41,0],[39,1,41,1],[39,2,41,2],[39,3,41,3],[39,5,39,7],[30,1,30,7],[32,2,32,3],[32,5,32,7],[34,5,34,6],[35,4,36,4],[36,0,36,1],[24,0,26,0],[24,1,26,1],[24,2,26,2],[24,3,26,3],[24,5,24,7],[28,4,28,7],[18,0,20,0],[18,1,20,1],[18,2,20,2],[18,3,20,3],[18,5,18,7],[21,0,23,0],[21,1,23,1],[21,2,23,2],[21,3,23,3],[21,5,21,7],[12,0,14,0],[12,1,14,1],[12,2,14,2],[12,3,14,3],[12,5,12,7],[15,0,17,0],[15,1,17,1],[15,2,17,2],[15,3,17,3],[15,5,15,7],[7,5,7,7],[7,8,8,8],[9,0,11,0],[9,1,11,1],[9,2,11,2],[9,3,11,3],[9,5,9,7],[0,1,0,7],[2,2,2,3],[2,5,2,7],[4,5,4,6],[5,4,6,4],[6,0,6,1]]}
[null,"Leichtathletik Mannschaftsdreikampf der Schulen"]
[]
[null,null,"Bezirksmeisterschaft",null,2014,"St. Pölten"]
[]
[null,null,"Auswahl Geschlecht:","weiblich_R",null,"Mannschaft:",null,1]
[null,null,null,null,"C"]
["Schule:",null,{"$f":"IF($D$5=\"\",\"\",IF($D$5=\"weiblich_R\",VLOOKUP((($H5-1)*6+1),'Dat-Bl'!$B$4:$F$123,5),VLOOKUP((($H5-1)*6+1),'Dat-Bl'!$B$127:$F$246,5)))","v":0}]
[null,null,null,null,null,"Versuch",null,null,"gewertete\n Leistung\n"]
[null,"Start Nr.","Name","Geb. Jahr","Bewerb","1.","2.","3."]
[1,{"$f":"IF($D$5=\"\",\"\",IF($D$5=\"weiblich_R\",VLOOKUP((($H5-1)*6+1),'Dat-Bl'!$B$4:$D$123,2),VLOOKUP((($H5-1)*6+1),'Dat-Bl'!$B$127:$D$246,2)))","v":0},{"$f":"IF($D$5=\"\",\"\",IF($D$5=\"weiblich_R\",VLOOKUP((($H5-1)*6+1),'Dat-Bl'!$B$4:$D$123,3),VLOOKUP((($H5-1)*6+1),'Dat-Bl'!$B$127:$D$246,3)))","v":"W1/01-Regel"},{"$f":"IF($D$5=\"\",\"\",IF($D$5=\"weiblich_R\",VLOOKUP((($H5-1)*6+1),'Dat-Bl'!$B$4:$E$123,4),VLOOKUP((($H5-1)*6+1),'Dat-Bl'!$B$127:$E$246,4)))","v":"00:00:00"},"Sprint"]
[null,null,null,null,"Sprung"]
[null,null,null,null,"Wurf"]
[2,{"$f":"IF($D$5=\"\",\"\",IF($D$5=\"weiblich_R\",VLOOKUP((($H5-1)*6+2),'Dat-Bl'!$B$4:$D$123,2),VLOOKUP((($H5-1)*6+2),'Dat-Bl'!$B$127:$D$246,2)))","v":0},{"$f":"IF($D$5=\"\",\"\",IF($D$5=\"weiblich_R\",VLOOKUP((($H5-1)*6+2),'Dat-Bl'!$B$4:$D$123,3),VLOOKUP((($H5-1)*6+2),'Dat-Bl'!$B$127:$D$246,3)))","v":"W1/02-Regel"},{"$f":"IF($D$5=\"\",\"\",IF($D$5=\"weiblich_R\",VLOOKUP((($H5-1)*6+2),'Dat-Bl'!$B$4:$E$123,4),VLOOKUP((($H5-1)*6+2),'Dat-Bl'!$B$127:$E$246,4)))","v":"00:00:00"},"Sprint"]
[null,null,null,null,"Sprung"]
[null,null,null,null,"Wurf"]
[3,{"$f":"IF($D$5=\"\",\"\",IF($D$5=\"weiblich_R\",VLOOKUP((($H5-1)*6+3),'Dat-Bl'!$B$4:$D$123,2),VLOOKUP((($H5-1)*6+3),'Dat-Bl'!$B$127:$D$246,2)))","v":0},{"$f":"IF($D$5=\"\",\"\",IF($D$5=\"weiblich_R\",VLOOKUP((($H5-1)*6+3),'Dat-Bl'!$B$4:$D$123,3),VLOOKUP((($H5-1)*6+3),'Dat-Bl'!$B$127:$D$246,3)))","v":"W1/03-Regel"},{"$f":"IF($D$5=\"\",\"\",IF($D$5=\"weiblich_R\",VLOOKUP((($H5-1)*6+3),'Dat-Bl'!$B$4:$E$123,4),VLOOKUP((($H5-1)*6+3),'Dat-Bl'!$B$127:$E$246,4)))","v":"00:00:00"},"Sprint"]
[null,null,null,null,"Sprung"]
[null,null,null,null,"Wurf"]
[4,{"$f":"IF($D$5=\"\",\"\",IF($D$5=\"weiblich_R\",VLOOKUP((($H5-1)*6+4),'Dat-Bl'!$B$4:$D$123,2),VLOOKUP((($H5-1)*6+4),'Dat-Bl'!$B$127:$D$246,2)))","v":0},{"$f":"IF($D$5=\"\",\"\",IF($D$5=\"weiblich_R\",VLOOKUP((($H5-1)*6+4),'Dat-Bl'!$B$4:$D$123,3),VLOOKUP((($H5-1)*6+4),'Dat-Bl'!$B$127:$D$246,3)))","v":"W1/04-Regel"},{"$f":"IF($D$5=\"\",\"\",IF($D$5=\"weiblich_R\",VLOOKUP((($H5-1)*6+4),'Dat-Bl'!$B$4:$E$123,4),VLOOKUP((($H5-1)*6+4),'Dat-Bl'!$B$127:$E$246,4)))","v":"00:00:00"},"Sprint"]
[null,null,null,null,"Sprung"]
[null,null,null,null,"Wurf"]
[5,{"$f":"IF($D$5=\"\",\"\",IF($D$5=\"weiblich_R\",VLOOKUP((($H5-1)*6+5),'Dat-Bl'!$B$4:$D$123,2),VLOOKUP((($H5-1)*6+5),'Dat-Bl'!$B$127:$D$246,2)))","v":0},{"$f":"IF($D$5=\"\",\"\",IF($D$5=\"weiblich_R\",VLOOKUP((($H5-1)*6+5),'Dat-Bl'!$B$4:$D$123,3),VLOOKUP((($H5-1)*6+5),'Dat-Bl'!$B$127:$D$246,3)))","v":"W1/05-Regel"},{"$f":"IF($D$5=\"\",\"\",IF($D$5=\"weiblich_R\",VLOOKUP((($H5-1)*6+5),'Dat-Bl'!$B$4:$E$123,4),VLOOKUP((($H5-1)*6+5),'Dat-Bl'!$B$127:$E$246,4)))","v":"00:00:00"},"Sprint"]
[null,null,null,null,"Sprung"]
[null,null,null,null,"Wurf"]
[6,{"$f":"IF($D$5=\"\",\"\",IF($D$5=\"weiblich_R\",VLOOKUP((($H5-1)*6+6),'Dat-Bl'!$B$4:$D$123,2),VLOOKUP((($H5-1)*6+6),'Dat-Bl'!$B$127:$D$246,2)))","v":0},{"$f":"IF($D$5=\"\",\"\",IF($D$5=\"weiblich_R\",VLOOKUP((($H5-1)*6+6),'Dat-Bl'!$B$4:$D$123,3),VLOOKUP((($H5-1)*6+6),'Dat-Bl'!$B$127:$D$246,3)))","v":"W1/06-Regel"},{"$f":"IF($D$5=\"\",\"\",IF($D$5=\"weiblich_R\",VLOOKUP((($H5-1)*6+6),'Dat-Bl'!$B$4:$E$123,4),VLOOKUP((($H5-1)*6+6),'Dat-Bl'!$B$127:$E$246,4)))","v":"00:00:00"},"Sprint"]
[null,null,null,null,"Sprung"]
[null,null,null,null,"Wurf"]
[]
[null,null,null,null,"Staffelwertung (5 X 80m)"]
[]
[null,"Leichtathletik Mannschaftsdreikampf der Schulen"]
[]
[null,null,{"$f":"$C$3","v":"Bezirksmeisterschaft"},null,{"$f":"$E$3","v":2014},{"$f":"$F$3","v":"St. Pölten"}]
[]
[null,null,"Auswahl Geschlecht:",{"$f":"$D$5","v":"weiblich_R"},null,"Mannschaft:",null,2]
[null,null,null,null,{"$f":"$E$6","v":"C"}]
["Schule:",null,{"$f":"IF($D$5=\"\",\"\",IF($D$5=\"weiblich_R\",VLOOKUP((($H35-1)*6+1),'Dat-Bl'!$B$4:$F$123,5),VLOOKUP((($H35-1)*6+1),'Dat-Bl'!$B$127:$F$246,5)))","v":0}]
[null,null,null,null,null,"Versuch",null,null,"gewertete\n Leistung\n"]
[null,"Start Nr.","Name","Geb. Jahr","Bewerb","1.","2.","3."]
[1,{"$f":"IF($D$5=\"\",\"\",IF($D$5=\"weiblich_R\",VLOOKUP((($H35-1)*6+1),'Dat-Bl'!$B$4:$D$123,2),VLOOKUP((($H35-1)*6+1),'Dat-Bl'!$B$127:$D$246,2)))","v":0},{"$f":"IF($D$5=\"\",\"\",IF($D$5=\"weiblich_R\",VLOOKUP((($H35-1)*6+1),'Dat-Bl'!$B$4:$D$123,3),VLOOKUP((($H35-1)*6+1),'Dat-Bl'!$B$127:$D$246,3)))","v":"W2/01-Regel"},{"$f":"IF($D$5=\"\",\"\",IF($D$5=\"weiblich_R\",VLOOKUP((($H35-1)*6+1),'Dat-Bl'!$B$4:$E$123,4),VLOOKUP((($H35-1)*6+1),'Dat-Bl'!$B$127:$E$246,4)))","v":"00:00:00"},"Sprint"]
[null,null,null,null,"Sprung"]
[null,null,null,null,"Wurf"]
[2,{"$f":"IF($D$5=\"\",\"\",IF($D$5=\"weiblich_R\",VLOOKUP((($H35-1)*6+2),'Dat-Bl'!$B$4:$D$123,2),VLOOKUP((($H35-1)*6+2),'Dat-Bl'!$B$127:$D$246,2)))","v":0},{"$f":"IF($D$5=\"\",\"\",IF($D$5=\"weiblich_R\",VLOOKUP((($H35-1)*6+2),'Dat-Bl'!$B$4:$D$123,3),VLOOKUP((($H35-1)*6+2),'Dat-Bl'!$B$127:$D$246,3)))","v":"W2/02-Regel"},{"$f":"IF($D$5=\"\",\"\",IF($D$5=\"weiblich_R\",VLOOKUP((($H35-1)*6+2),'Dat-Bl'!$B$4:$E$123,4),VLOOKUP((($H35-1)*6+2),'Dat-Bl'!$B$127:$E$246,4)))","v":"00:00:00"},"Sprint"]
[null,null,null,null,"Sprung"]
[null,null,null,null,"Wurf"]
[3,{"$f":"IF($D$5=\"\",\"\",IF($D$5=\"weiblich_R\",VLOOKUP((($H35-1)*6+3),'Dat-Bl'!$B$4:$D$123,2),VLOOKUP((($H35-1)*6+3),'Dat-Bl'!$B$127:$D$246,2)))","v":0},{"$f":"IF($D$5=\"\",\"\",IF($D$5=\"weiblich_R\",VLOOKUP((($H35-1)*6+3),'Dat-Bl'!$B$4:$D$123,3),VLOOKUP((($H35-1)*6+3),'Dat-Bl'!$B$127:$D$246,3)))","v":"W2/03-Regel"},{"$f":"IF($D$5=\"\",\"\",IF($D$5=\"weiblich_R\",VLOOKUP((($H35-1)*6+3),'Dat-Bl'!$B$4:$E$123,4),VLOOKUP((($H35-1)*6+3),'Dat-Bl'!$B$127:$E$246,4)))","v":"00:00:00"},"Sprint"]
[null,null,null,null,"Sprung"]
[null,null,null,null,"Wurf"]
[4,{"$f":"IF($D$5=\"\",\"\",IF($D$5=\"weiblich_R\",VLOOKUP((($H35-1)*6+4),'Dat-Bl'!$B$4:$D$123,2),VLOOKUP((($H35-1)*6+4),'Dat-Bl'!$B$127:$D$246,2)))","v":0},{"$f":"IF($D$5=\"\",\"\",IF($D$5=\"weiblich_R\",VLOOKUP((($H35-1)*6+4),'Dat-Bl'!$B$4:$D$123,3),VLOOKUP((($H35-1)*6+4),'Dat-Bl'!$B$127:$D$246,3)))","v":"W2/04-Regel"},{"$f":"IF($D$5=\"\",\"\",IF($D$5=\"weiblich_R\",VLOOKUP((($H35-1)*6+4),'Dat-Bl'!$B$4:$E$123,4),VLOOKUP((($H35-1)*6+4),'Dat-Bl'!$B$127:$E$246,4)))","v":"00:00:00"},"Sprint"]
[null,null,null,null,"Sprung"]
[null,null,null,null,"Wurf"]
[5,{"$f":"IF($D$5=\"\",\"\",IF($D$5=\"weiblich_R\",VLOOKUP((($H35-1)*6+5),'Dat-Bl'!$B$4:$D$123,2),VLOOKUP((($H35-1)*6+5),'Dat-Bl'!$B$127:$D$246,2)))","v":0},{"$f":"IF($D$5=\"\",\"\",IF($D$5=\"weiblich_R\",VLOOKUP((($H35-1)*6+5),'Dat-Bl'!$B$4:$D$123,3),VLOOKUP((($H35-1)*6+5),'Dat-Bl'!$B$127:$D$246,3)))","v":"W2/05-Regel"},{"$f":"IF($D$5=\"\",\"\",IF($D$5=\"weiblich_R\",VLOOKUP((($H35-1)*6+5),'Dat-Bl'!$B$4:$E$123,4),VLOOKUP((($H35-1)*6+5),'Dat-Bl'!$B$127:$E$246,4)))","v":"00:00:00"},"Sprint"]
[null,null,null,null,"Sprung"]
[null,null,null,null,"Wurf"]
[6,{"$f":"IF($D$5=\"\",\"\",IF($D$5=\"weiblich_R\",VLOOKUP((($H35-1)*6+6),'Dat-Bl'!$B$4:$D$123,2),VLOOKUP((($H35-1)*6+6),'Dat-Bl'!$B$127:$D$246,2)))","v":0},{"$f":"IF($D$5=\"\",\"\",IF($D$5=\"weiblich_R\",VLOOKUP((($H35-1)*6+6),'Dat-Bl'!$B$4:$D$123,3),VLOOKUP((($H35-1)*6+6),'Dat-Bl'!$B$127:$D$246,3)))","v":"W2/06-Regel"},{"$f":"IF($D$5=\"\",\"\",IF($D$5=\"weiblich_R\",VLOOKUP((($H35-1)*6+6),'Dat-Bl'!$B$4:$E$123,4),VLOOKUP((($H35-1)*6+6),'Dat-Bl'!$B$127:$E$246,4)))","v":"00:00:00"},"Sprint"]
[null,null,null,null,"Sprung"]
[null,null,null,null,"Wurf"]
[]
[null,null,null,null,"Staffelwertung (5 X 80m)"]
[]
[null,"Leichtathletik Mannschaftsdreikampf der Schulen"]
[]
[null,null,{"$f":"$C$3","v":"Bezirksmeisterschaft"},null,{"$f":"$E$3","v":2014},{"$f":"$F$3","v":"St. Pölten"}]
[]
[null,null,"Auswahl Geschlecht:",{"$f":"$D$5","v":"weiblich_R"},null,"Mannschaft:",null,3]
[null,null,null,null,{"$f":"$E$6","v":"C"}]
["Schule:",null,{"$f":"IF($D$5=\"\",\"\",IF($D$5=\"weiblich_R\",VLOOKUP((($H65-1)*6+1),'Dat-Bl'!$B$4:$F$123,5),VLOOKUP((($H65-1)*6+1),'Dat-Bl'!$B$127:$F$246,5)))","v":0}]
[null,null,null,null,null,"Versuch",null,null,"gewertete\n Leistung\n"]
[null,"Start Nr.","Name","Geb. Jahr","Bewerb","1.","2.","3."]
[1,{"$f":"IF($D$5=\"\",\"\",IF($D$5=\"weiblich_R\",VLOOKUP((($H65-1)*6+1),'Dat-Bl'!$B$4:$D$123,2),VLOOKUP((($H65-1)*6+1),'Dat-Bl'!$B$127:$D$246,2)))","v":0},{"$f":"IF($D$5=\"\",\"\",IF($D$5=\"weiblich_R\",VLOOKUP((($H65-1)*6+1),'Dat-Bl'!$B$4:$D$123,3),VLOOKUP((($H65-1)*6+1),'Dat-Bl'!$B$127:$D$246,3)))","v":"W3/01-Regel"},{"$f":"IF($D$5=\"\",\"\",IF($D$5=\"weiblich_R\",VLOOKUP((($H65-1)*6+1),'Dat-Bl'!$B$4:$E$123,4),VLOOKUP((($H65-1)*6+1),'Dat-Bl'!$B$127:$E$246,4)))","v":"00:00:00"},"Sprint"]
[null,null,null,null,"Sprung"]
[null,null,null,null,"Wurf"]
[2,{"$f":"IF($D$5=\"\",\"\",IF($D$5=\"weiblich_R\",VLOOKUP((($H65-1)*6+2),'Dat-Bl'!$B$4:$D$123,2),VLOOKUP((($H65-1)*6+2),'Dat-Bl'!$B$127:$D$246,2)))","v":0},{"$f":"IF($D$5=\"\",\"\",IF($D$5=\"weiblich_R\",VLOOKUP((($H65-1)*6+2),'Dat-Bl'!$B$4:$D$123,3),VLOOKUP((($H65-1)*6+2),'Dat-Bl'!$B$127:$D$246,3)))","v":"W3/02-Regel"},{"$f":"IF($D$5=\"\",\"\",IF($D$5=\"weiblich_R\",VLOOKUP((($H65-1)*6+2),'Dat-Bl'!$B$4:$E$123,4),VLOOKUP((($H65-1)*6+2),'Dat-Bl'!$B$127:$E$246,4)))","v":"00:00:00"},"Sprint"]
[null,null,null,null,"Sprung"]
[null,null,null,null,"Wurf"]
[3,{"$f":"IF($D$5=\"\",\"\",IF($D$5=\"weiblich_R\",VLOOKUP((($H65-1)*6+3),'Dat-Bl'!$B$4:$D$123,2),VLOOKUP((($H65-1)*6+3),'Dat-Bl'!$B$127:$D$246,2)))","v":0},{"$f":"IF($D$5=\"\",\"\",IF($D$5=\"weiblich_R\",VLOOKUP((($H65-1)*6+3),'Dat-Bl'!$B$4:$D$123,3),VLOOKUP((($H65-1)*6+3),'Dat-Bl'!$B$127:$D$246,3)))","v":"W3/03-Regel"},{"$f":"IF($D$5=\"\",\"\",IF($D$5=\"weiblich_R\",VLOOKUP((($H65-1)*6+3),'Dat-Bl'!$B$4:$E$123,4),VLOOKUP((($H65-1)*6+3),'Dat-Bl'!$B$127:$E$246,4)))","v":"00:00:00"},"Sprint"]
[null,null,null,null,"Sprung"]
[null,null,null,null,"Wurf"]
[4,{"$f":"IF($D$5=\"\",\"\",IF($D$5=\"weiblich_R\",VLOOKUP((($H65-1)*6+4),'Dat-Bl'!$B$4:$D$123,2),VLOOKUP((($H65-1)*6+4),'Dat-Bl'!$B$127:$D$246,2)))","v":0},{"$f":"IF($D$5=\"\",\"\",IF($D$5=\"weiblich_R\",VLOOKUP((($H65-1)*6+4),'Dat-Bl'!$B$4:$D$123,3),VLOOKUP((($H65-1)*6+4),'Dat-Bl'!$B$127:$D$246,3)))","v":"W3/04-Regel"},{"$f":"IF($D$5=\"\",\"\",IF($D$5=\"weiblich_R\",VLOOKUP((($H65-1)*6+4),'Dat-Bl'!$B$4:$E$123,4),VLOOKUP((($H65-1)*6+4),'Dat-Bl'!$B$127:$E$246,4)))","v":"00:00:00"},"Sprint"]
[null,null,null,null,"Sprung"]
[null,null,null,null,"Wurf"]
[5,{"$f":"IF($D$5=\"\",\"\",IF($D$5=\"weiblich_R\",VLOOKUP((($H65-1)*6+5),'Dat-Bl'!$B$4:$D$123,2),VLOOKUP((($H65-1)*6+5),'Dat-Bl'!$B$127:$D$246,2)))","v":0},{"$f":"IF($D$5=\"\",\"\",IF($D$5=\"weiblich_R\",VLOOKUP((($H65-1)*6+5),'Dat-Bl'!$B$4:$D$123,3),VLOOKUP((($H65-1)*6+5),'Dat-Bl'!$B$127:$D$246,3)))","v":"W3/05-Regel"},{"$f":"IF($D$5=\"\",\"\",IF($D$5=\"weiblich_R\",VLOOKUP((($H65-1)*6+5),'Dat-Bl'!$B$4:$E$123,4),VLOOKUP((($H65-1)*6+5),'Dat-Bl'!$B$127:$E$246,4)))","v":"00:00:00"},"Sprint"]
[null,null,null,null,"Sprung"]
[null,null,null,null,"Wurf"]
[6,{"$f":"IF($D$5=\"\",\"\",IF($D$5=\"weiblich_R\",VLOOKUP((($H65-1)*6+6),'Dat-Bl'!$B$4:$D$123,2),VLOOKUP((($H65-1)*6+6),'Dat-Bl'!$B$127:$D$246,2)))","v":0},{"$f":"IF($D$5=\"\",\"\",IF($D$5=\"weiblich_R\",VLOOKUP((($H65-1)*6+6),'Dat-Bl'!$B$4:$D$123,3),VLOOKUP((($H65-1)*6+6),'Dat-Bl'!$B$127:$D$246,3)))","v":"W3/06-Regel"},{"$f":"IF($D$5=\"\",\"\",IF($D$5=\"weiblich_R\",VLOOKUP((($H65-1)*6+6),'Dat-Bl'!$B$4:$E$123,4),VLOOKUP((($H65-1)*6+6),'Dat-Bl'!$B$127:$E$246,4)))","v":"00:00:00"},"Sprint"]
[null,null,null,null,"Sprung"]
[null,null,null,null,"Wurf"]
[]
[null,null,null,null,"Staffelwertung (5 X 80m)"]
[]
[null,"Leichtathletik Mannschaftsdreikampf der Schulen"]
[]
[null,null,{"$f":"$C$3","v":"Bezirksmeisterschaft"},null,{"$f":"$E$3","v":2014},{"$f":"$F$3","v":"St. Pölten"}]
[]
[null,null,"Auswahl Geschlecht:",{"$f":"$D$5","v":"weiblich_R"},null,"Mannschaft:",null,4]
[null,null,null,null,{"$f":"$E$6","v":"C"}]
["Schule:",null,{"$f":"IF($D$5=\"\",\"\",IF($D$5=\"weiblich_R\",VLOOKUP((($H95-1)*6+1),'Dat-Bl'!$B$4:$F$123,5),VLOOKUP((($H95-1)*6+1),'Dat-Bl'!$B$127:$F$246,5)))","v":0}]
[null,null,null,null,null,"Versuch",null,null,"gewertete\n Leistung\n"]
[null,"Start Nr.","Name","Geb. Jahr","Bewerb","1.","2.","3."]
[1,{"$f":"IF($D$5=\"\",\"\",IF($D$5=\"weiblich_R\",VLOOKUP((($H95-1)*6+1),'Dat-Bl'!$B$4:$D$123,2),VLOOKUP((($H95-1)*6+1),'Dat-Bl'!$B$127:$D$246,2)))","v":0},{"$f":"IF($D$5=\"\",\"\",IF($D$5=\"weiblich_R\",VLOOKUP((($H95-1)*6+1),'Dat-Bl'!$B$4:$D$123,3),VLOOKUP((($H95-1)*6+1),'Dat-Bl'!$B$127:$D$246,3)))","v":"W4/01-Regel"},{"$f":"IF($D$5=\"\",\"\",IF($D$5=\"weiblich_R\",VLOOKUP((($H95-1)*6+1),'Dat-Bl'!$B$4:$E$123,4),VLOOKUP((($H95-1)*6+1),'Dat-Bl'!$B$127:$E$246,4)))","v":"00:00:00"},"Sprint"]
[null,null,null,null,"Sprung"]
[null,null,null,null,"Wurf"]
[2,{"$f":"IF($D$5=\"\",\"\",IF($D$5=\"weiblich_R\",VLOOKUP((($H95-1)*6+2),'Dat-Bl'!$B$4:$D$123,2),VLOOKUP((($H95-1)*6+2),'Dat-Bl'!$B$127:$D$246,2)))","v":0},{"$f":"IF($D$5=\"\",\"\",IF($D$5=\"weiblich_R\",VLOOKUP((($H95-1)*6+2),'Dat-Bl'!$B$4:$D$123,3),VLOOKUP((($H95-1)*6+2),'Dat-Bl'!$B$127:$D$246,3)))","v":"W4/02-Regel"},{"$f":"IF($D$5=\"\",\"\",IF($D$5=\"weiblich_R\",VLOOKUP((($H95-1)*6+2),'Dat-Bl'!$B$4:$E$123,4),VLOOKUP((($H95-1)*6+2),'Dat-Bl'!$B$127:$E$246,4)))","v":"00:00:00"},"Sprint"]
[null,null,null,null,"Sprung"]
[null,null,null,null,"Wurf"]
[3,{"$f":"IF($D$5=\"\",\"\",IF($D$5=\"weiblich_R\",VLOOKUP((($H95-1)*6+3),'Dat-Bl'!$B$4:$D$123,2),VLOOKUP((($H95-1)*6+3),'Dat-Bl'!$B$127:$D$246,2)))","v":0},{"$f":"IF($D$5=\"\",\"\",IF($D$5=\"weiblich_R\",VLOOKUP((($H95-1)*6+3),'Dat-Bl'!$B$4:$D$123,3),VLOOKUP((($H95-1)*6+3),'Dat-Bl'!$B$127:$D$246,3)))","v":"W4/03-Regel"},{"$f":"IF($D$5=\"\",\"\",IF($D$5=\"weiblich_R\",VLOOKUP((($H95-1)*6+3),'Dat-Bl'!$B$4:$E$123,4),VLOOKUP((($H95-1)*6+3),'Dat-Bl'!$B$127:$E$246,4)))","v":"00:00:00"},"Sprint"]
[null,null,null,null,"Sprung"]
[null,null,null,null,"Wurf"]
[4,{"$f":"IF($D$5=\"\",\"\",IF($D$5=\"weiblich_R\",VLOOKUP((($H95-1)*6+4),'Dat-Bl'!$B$4:$D$123,2),VLOOKUP((($H95-1)*6+4),'Dat-Bl'!$B$127:$D$246,2)))","v":0},{"$f":"IF($D$5=\"\",\"\",IF($D$5=\"weiblich_R\",VLOOKUP((($H95-1)*6+4),'Dat-Bl'!$B$4:$D$123,3),VLOOKUP((($H95-1)*6+4),'Dat-Bl'!$B$127:$D$246,3)))","v":"W4/04-Regel"},{"$f":"IF($D$5=\"\",\"\",IF($D$5=\"weiblich_R\",VLOOKUP((($H95-1)*6+4),'Dat-Bl'!$B$4:$E$123,4),VLOOKUP((($H95-1)*6+4),'Dat-Bl'!$B$127:$E$246,4)))","v":"00:00:00"},"Sprint"]
[null,null,null,null,"Sprung"]
[null,null,null,null,"Wurf"]
[5,{"$f":"IF($D$5=\"\",\"\",IF($D$5=\"weiblich_R\",VLOOKUP((($H95-1)*6+5),'Dat-Bl'!$B$4:$D$123,2),VLOOKUP((($H95-1)*6+5),'Dat-Bl'!$B$127:$D$246,2)))","v":0},{"$f":"IF($D$5=\"\",\"\",IF($D$5=\"weiblich_R\",VLOOKUP((($H95-1)*6+5),'Dat-Bl'!$B$4:$D$123,3),VLOOKUP((($H95-1)*6+5),'Dat-Bl'!$B$127:$D$246,3)))","v":"W4/05-Regel"},{"$f":"IF($D$5=\"\",\"\",IF($D$5=\"weiblich_R\",VLOOKUP((($H95-1)*6+5),'Dat-Bl'!$B$4:$E$123,4),VLOOKUP((($H95-1)*6+5),'Dat-Bl'!$B$127:$E$246,4)))","v":"00:00:00"},"Sprint"]
[null,null,null,null,"Sprung"]
[null,null,null,null,"Wurf"]
[6,{"$f":"IF($D$5=\"\",\"\",IF($D$5=\"weiblich_R\",VLOOKUP((($H95-1)*6+6),'Dat-Bl'!$B$4:$D$123,2),VLOOKUP((($H95-1)*6+6),'Dat-Bl'!$B$127:$D$246,2)))","v":0},{"$f":"IF($D$5=\"\",\"\",IF($D$5=\"weiblich_R\",VLOOKUP((($H95-1)*6+6),'Dat-Bl'!$B$4:$D$123,3),VLOOKUP((($H95-1)*6+6),'Dat-Bl'!$B$127:$D$246,3)))","v":"W4/06-Regel"},{"$f":"IF($D$5=\"\",\"\",IF($D$5=\"weiblich_R\",VLOOKUP((($H95-1)*6+6),'Dat-Bl'!$B$4:$E$123,4),VLOOKUP((($H95-1)*6+6),'Dat-Bl'!$B$127:$E$246,4)))","v":"00:00:00"},"Sprint"]
[null,null,null,null,"Sprung"]
[null,null,null,null,"Wurf"]
[]
[null,null,null,null,"Staffelwertung (5 X 80m)"]
[]
[null,"Leichtathletik Mannschaftsdreikampf der Schulen"]
[]
[null,null,{"$f":"$C$3","v":"Bezirksmeisterschaft"},null,{"$f":"$E$3","v":2014},{"$f":"$F$3","v":"St. Pölten"}]
[]
[null,null,"Auswahl Geschlecht:",{"$f":"$D$5","v":"weiblich_R"},null,"Mannschaft:",null,5]
[null,null,null,null,{"$f":"$E$6","v":"C"}]
["Schule:",null,{"$f":"IF($D$5=\"\",\"\",IF($D$5=\"weiblich_R\",VLOOKUP((($H125-1)*6+1),'Dat-Bl'!$B$4:$F$123,5),VLOOKUP((($H125-1)*6+1),'Dat-Bl'!$B$127:$F$246,5)))","v":0}]
[null,null,null,null,null,"Versuch",null,null,"gewertete\n Leistung\n"]
[null,"Start Nr.","Name","Geb. Jahr","Bewerb","1.","2.","3."]
[1,{"$f":"IF($D$5=\"\",\"\",IF($D$5=\"weiblich_R\",VLOOKUP((($H125-1)*6+1),'Dat-Bl'!$B$4:$D$123,2),VLOOKUP((($H125-1)*6+1),'Dat-Bl'!$B$127:$D$246,2)))","v":0},{"$f":"IF($D$5=\"\",\"\",IF($D$5=\"weiblich_R\",VLOOKUP((($H125-1)*6+1),'Dat-Bl'!$B$4:$D$123,3),VLOOKUP((($H125-1)*6+1),'Dat-Bl'!$B$127:$D$246,3)))","v":"W5/01-Regel"},{"$f":"IF($D$5=\"\",\"\",IF($D$5=\"weiblich_R\",VLOOKUP((($H125-1)*6+1),'Dat-Bl'!$B$4:$E$123,4),VLOOKUP((($H125-1)*6+1),'Dat-Bl'!$B$127:$E$246,4)))","v":"00:00:00"},"Sprint"]
[null,null,null,null,"Sprung"]
[null,null,null,null,"Wurf"]
[2,{"$f":"IF($D$5=\"\",\"\",IF($D$5=\"weiblich_R\",VLOOKUP((($H125-1)*6+2),'Dat-Bl'!$B$4:$D$123,2),VLOOKUP((($H125-1)*6+2),'Dat-Bl'!$B$127:$D$246,2)))","v":0},{"$f":"IF($D$5=\"\",\"\",IF($D$5=\"weiblich_R\",VLOOKUP((($H125-1)*6+2),'Dat-Bl'!$B$4:$D$123,3),VLOOKUP((($H125-1)*6+2),'Dat-Bl'!$B$127:$D$246,3)))","v":"W5/02-Regel"},{"$f":"IF($D$5=\"\",\"\",IF($D$5=\"weiblich_R\",VLOOKUP((($H125-1)*6+2),'Dat-Bl'!$B$4:$E$123,4),VLOOKUP((($H125-1)*6+2),'Dat-Bl'!$B$127:$E$246,4)))","v":"00:00:00"},"Sprint"]
[null,null,null,null,"Sprung"]
[null,null,null,null,"Wurf"]
[3,{"$f":"IF($D$5=\"\",\"\",IF($D$5=\"weiblich_R\",VLOOKUP((($H125-1)*6+3),'Dat-Bl'!$B$4:$D$123,2),VLOOKUP((($H125-1)*6+3),'Dat-Bl'!$B$127:$D$246,2)))","v":0},{"$f":"IF($D$5=\"\",\"\",IF($D$5=\"weiblich_R\",VLOOKUP((($H125-1)*6+3),'Dat-Bl'!$B$4:$D$123,3),VLOOKUP((($H125-1)*6+3),'Dat-Bl'!$B$127:$D$246,3)))","v":"W5/03-Regel"},{"$f":"IF($D$5=\"\",\"\",IF($D$5=\"weiblich_R\",VLOOKUP((($H125-1)*6+3),'Dat-Bl'!$B$4:$E$123,4),VLOOKUP((($H125-1)*6+3),'Dat-Bl'!$B$127:$E$246,4)))","v":"00:00:00"},"Sprint"]
[null,null,null,null,"Sprung"]
[null,null,null,null,"Wurf"]
[4,{"$f":"IF($D$5=\"\",\"\",IF($D$5=\"weiblich_R\",VLOOKUP((($H125-1)*6+4),'Dat-Bl'!$B$4:$D$123,2),VLOOKUP((($H125-1)*6+4),'Dat-Bl'!$B$127:$D$246,2)))","v":0},{"$f":"IF($D$5=\"\",\"\",IF($D$5=\"weiblich_R\",VLOOKUP((($H125-1)*6+4),'Dat-Bl'!$B$4:$D$123,3),VLOOKUP((($H125-1)*6+4),'Dat-Bl'!$B$127:$D$246,3)))","v":"W5/04-Regel"},{"$f":"IF($D$5=\"\",\"\",IF($D$5=\"weiblich_R\",VLOOKUP((($H125-1)*6+4),'Dat-Bl'!$B$4:$E$123,4),VLOOKUP((($H125-1)*6+4),'Dat-Bl'!$B$127:$E$246,4)))","v":"00:00:00"},"Sprint"]
[null,null,null,null,"Sprung"]
[null,null,null,null,"Wurf"]
[5,{"$f":"IF($D$5=\"\",\"\",IF($D$5=\"weiblich_R\",VLOOKUP((($H125-1)*6+5),'Dat-Bl'!$B$4:$D$123,2),VLOOKUP((($H125-1)*6+5),'Dat-Bl'!$B$127:$D$246,2)))","v":0},{"$f":"IF($D$5=\"\",\"\",IF($D$5=\"weiblich_R\",VLOOKUP((($H125-1)*6+5),'Dat-Bl'!$B$4:$D$123,3),VLOOKUP((($H125-1)*6+5),'Dat-Bl'!$B$127:$D$246,3)))","v":"W5/05-Regel"},{"$f":"IF($D$5=\"\",\"\",IF($D$5=\"weiblich_R\",VLOOKUP((($H125-1)*6+5),'Dat-Bl'!$B$4:$E$123,4),VLOOKUP((($H125-1)*6+5),'Dat-Bl'!$B$127:$E$246,4)))","v":"00:00:00"},"Sprint"]
[null,null,null,null,"Sprung"]
[null,null,null,null,"Wurf"]
[6,{"$f":"IF($D$5=\"\",\"\",IF($D$5=\"weiblich_R\",VLOOKUP((($H125-1)*6+6),'Dat-Bl'!$B$4:$D$123,2),VLOOKUP((($H125-1)*6+6),'Dat-Bl'!$B$127:$D$246,2)))","v":0},{"$f":"IF($D$5=\"\",\"\",IF($D$5=\"weiblich_R\",VLOOKUP((($H125-1)*6+6),'Dat-Bl'!$B$4:$D$123,3),VLOOKUP((($H125-1)*6+6),'Dat-Bl'!$B$127:$D$246,3)))","v":"W5/06-Regel"},{"$f":"IF($D$5=\"\",\"\",IF($D$5=\"weiblich_R\",VLOOKUP((($H125-1)*6+6),'Dat-Bl'!$B$4:$E$123,4),VLOOKUP((($H125-1)*6+6),'Dat-Bl'!$B$127:$E$246,4)))","v":"00:00:00"},"Sprint"]
[null,null,null,null,"Sprung"]
[null,null,null,null,"Wurf"]
[]
[null,null,null,null,"Staffelwertung (5 X 80m)"]
[]
[null,"Leichtathletik Mannschaftsdreikampf der Schulen"]
[]
[null,null,{"$f":"$C$3","v":"Bezirksmeisterschaft"},null,{"$f":"$E$3","v":2014},{"$f":"$F$3","v":"St. Pölten"}]
[]
[null,null,"Auswahl Geschlecht:",{"$f":"$D$5","v":"weiblich_R"},null,"Mannschaft:",null,6]
[null,null,null,null,{"$f":"$E$6","v":"C"}]
["Schule:",null,{"$f":"IF($D$5=\"\",\"\",IF($D$5=\"weiblich_R\",VLOOKUP((($H155-1)*6+1),'Dat-Bl'!$B$4:$F$123,5),VLOOKUP((($H155-1)*6+1),'Dat-Bl'!$B$127:$F$246,5)))","v":0}]
[null,null,null,null,null,"Versuch",null,null,"gewertete\n Leistung\n"]
[null,"Start Nr.","Name","Geb. Jahr","Bewerb","1.","2.","3."]
[1,{"$f":"IF($D$5=\"\",\"\",IF($D$5=\"weiblich_R\",VLOOKUP((($H155-1)*6+1),'Dat-Bl'!$B$4:$D$123,2),VLOOKUP((($H155-1)*6+1),'Dat-Bl'!$B$127:$D$246,2)))","v":0},{"$f":"IF($D$5=\"\",\"\",IF($D$5=\"weiblich_R\",VLOOKUP((($H155-1)*6+1),'Dat-Bl'!$B$4:$D$123,3),VLOOKUP((($H155-1)*6+1),'Dat-Bl'!$B$127:$D$246,3)))","v":"W6/01-Regel"},{"$f":"IF($D$5=\"\",\"\",IF($D$5=\"weiblich_R\",VLOOKUP((($H155-1)*6+1),'Dat-Bl'!$B$4:$E$123,4),VLOOKUP((($H155-1)*6+1),'Dat-Bl'!$B$127:$E$246,4)))","v":"00:00:00"},"Sprint"]
[null,null,null,null,"Sprung"]
[null,null,null,null,"Wurf"]
[2,{"$f":"IF($D$5=\"\",\"\",IF($D$5=\"weiblich_R\",VLOOKUP((($H155-1)*6+2),'Dat-Bl'!$B$4:$D$123,2),VLOOKUP((($H155-1)*6+2),'Dat-Bl'!$B$127:$D$246,2)))","v":0},{"$f":"IF($D$5=\"\",\"\",IF($D$5=\"weiblich_R\",VLOOKUP((($H155-1)*6+2),'Dat-Bl'!$B$4:$D$123,3),VLOOKUP((($H155-1)*6+2),'Dat-Bl'!$B$127:$D$246,3)))","v":"W6/02-Regel"},{"$f":"IF($D$5=\"\",\"\",IF($D$5=\"weiblich_R\",VLOOKUP((($H155-1)*6+2),'Dat-Bl'!$B$4:$E$123,4),VLOOKUP((($H155-1)*6+2),'Dat-Bl'!$B$127:$E$246,4)))","v":"00:00:00"},"Sprint"]
[null,null,null,null,"Sprung"]
[null,null,null,null,"Wurf"]
[3,{"$f":"IF($D$5=\"\",\"\",IF($D$5=\"weiblich_R\",VLOOKUP((($H155-1)*6+3),'Dat-Bl'!$B$4:$D$123,2),VLOOKUP((($H155-1)*6+3),'Dat-Bl'!$B$127:$D$246,2)))","v":0},{"$f":"IF($D$5=\"\",\"\",IF($D$5=\"weiblich_R\",VLOOKUP((($H155-1)*6+3),'Dat-Bl'!$B$4:$D$123,3),VLOOKUP((($H155-1)*6+3),'Dat-Bl'!$B$127:$D$246,3)))","v":"W6/03-Regel"},{"$f":"IF($D$5=\"\",\"\",IF($D$5=\"weiblich_R\",VLOOKUP((($H155-1)*6+3),'Dat-Bl'!$B$4:$E$123,4),VLOOKUP((($H155-1)*6+3),'Dat-Bl'!$B$127:$E$246,4)))","v":"00:00:00"},"Sprint"]
[null,null,null,null,"Sprung"]
[null,null,null,null,"Wurf"]
[4,{"$f":"IF($D$5=\"\",\"\",IF($D$5=\"weiblich_R\",VLOOKUP((($H155-1)*6+4),'Dat-Bl'!$B$4:$D$123,2),VLOOKUP((($H155-1)*6+4),'Dat-Bl'!$B$127:$D$246,2)))","v":0},{"$f":"IF($D$5=\"\",\"\",IF($D$5=\"weiblich_R\",VLOOKUP((($H155-1)*6+4),'Dat-Bl'!$B$4:$D$123,3),VLOOKUP((($H155-1)*6+4),'Dat-Bl'!$B$127:$D$246,3)))","v":"W6/04-Regel"},{"$f":"IF($D$5=\"\",\"\",IF($D$5=\"weiblich_R\",VLOOKUP((($H155-1)*6+4),'Dat-Bl'!$B$4:$E$123,4),VLOOKUP((($H155-1)*6+4),'Dat-Bl'!$B$127:$E$246,4)))","v":"00:00:00"},"Sprint"]
[null,null,null,null,"Sprung"]
[null,null,null,null,"Wurf"]
[5,{"$f":"IF($D$5=\"\",\"\",IF($D$5=\"weiblich_R\",VLOOKUP((($H155-1)*6+5),'Dat-Bl'!$B$4:$D$123,2),VLOOKUP((($H155-1)*6+5),'Dat-Bl'!$B$127:$D$246,2)))","v":0},{"$f":"IF($D$5=\"\",\"\",IF($D$5=\"weiblich_R\",VLOOKUP((($H155-1)*6+5),'Dat-Bl'!$B$4:$D$123,3),VLOOKUP((($H155-1)*6+5),'Dat-Bl'!$B$127:$D$246,3)))","v":"W6/05-Regel"},{"$f":"IF($D$5=\"\",\"\",IF($D$5=\"weiblich_R\",VLOOKUP((($H155-1)*6+5),'Dat-Bl'!$B$4:$E$123,4),VLOOKUP((($H155-1)*6+5),'Dat-Bl'!$B$127:$E$246,4)))","v":"00:00:00"},"Sprint"]
[null,null,null,null,"Sprung"]
[null,null,null,null,"Wurf"]
[6,{"$f":"IF($D$5=\"\",\"\",IF($D$5=\"weiblich_R\",VLOOKUP((($H155-1)*6+6),'Dat-Bl'!$B$4:$D$123,2),VLOOKUP((($H155-1)*6+6),'Dat-Bl'!$B$127:$D$246,2)))","v":0},{"$f":"IF($D$5=\"\",\"\",IF($D$5=\"weiblich_R\",VLOOKUP((($H155-1)*6+6),'Dat-Bl'!$B$4:$D$123,3),VLOOKUP((($H155-1)*6+6),'Dat-Bl'!$B$127:$D$246,3)))","v":"W6/06-Regel"},{"$f":"IF($D$5=\"\",\"\",IF($D$5=\"weiblich_R\",VLOOKUP((($H155-1)*6+6),'Dat-Bl'!$B$4:$E$123,4),VLOOKUP((($H155-1)*6+6),'Dat-Bl'!$B$127:$E$246,4)))","v":"00:00:00"},"Sprint"]
[null,null,null,null,"Sprung"]
[null,null,null,null,"Wurf"]
[]
[null,null,null,null,"Staffelwertung (5 X 80m)"]
[]
[null,"Leichtathletik Mannschaftsdreikampf der Schulen"]
[]
[null,null,{"$f":"$C$3","v":"Bezirksmeisterschaft"},null,{"$f":"$E$3","v":2014},{"$f":"$F$3","v":"St. Pölten"}]
[]
[null,null,"Auswahl Geschlecht:",{"$f":"$D$5","v":"weiblich_R"},null,"Mannschaft:",null,7]
[null,null,null,null,{"$f":"$E$6","v":"C"}]
["Schule:",null,{"$f":"IF($D$5=\"\",\"\",IF($D$5=\"weiblich_R\",VLOOKUP((($H185-1)*6+1),'Dat-Bl'!$B$4:$F$123,5),VLOOKUP((($H185-1)*6+1),'Dat-Bl'!$B$127:$F$246,5)))","v":0}]
[null,null,null,null,null,"Versuch",null,null,"gewertete\n Leistung\n"]
[null,"Start Nr.","Name","Geb. Jahr","Bewerb","1.","2.","3."]
[1,{"$f":"IF($D$5=\"\",\"\",IF($D$5=\"weiblich_R\",VLOOKUP((($H185-1)*6+1),'Dat-Bl'!$B$4:$D$123,2),VLOOKUP((($H185-1)*6+1),'Dat-Bl'!$B$127:$D$246,2)))","v":0},{"$f":"IF($D$5=\"\",\"\",IF($D$5=\"weiblich_R\",VLOOKUP((($H185-1)*6+1),'Dat-Bl'!$B$4:$D$123,3),VLOOKUP((($H185-1)*6+1),'Dat-Bl'!$B$127:$D$246,3)))","v":"W7/01-Regel"},{"$f":"IF($D$5=\"\",\"\",IF($D$5=\"weiblich_R\",VLOOKUP((($H185-1)*6+1),'Dat-Bl'!$B$4:$E$123,4),VLOOKUP((($H185-1)*6+1),'Dat-Bl'!$B$127:$E$246,4)))","v":"00:00:00"},"Sprint"]
[null,null,null,null,"Sprung"]
[null,null,null,null,"Wurf"]
[2,{"$f":"IF($D$5=\"\",\"\",IF($D$5=\"weiblich_R\",VLOOKUP((($H185-1)*6+2),'Dat-Bl'!$B$4:$D$123,2),VLOOKUP((($H185-1)*6+2),'Dat-Bl'!$B$127:$D$246,2)))","v":0},{"$f":"IF($D$5=\"\",\"\",IF($D$5=\"weiblich_R\",VLOOKUP((($H185-1)*6+2),'Dat-Bl'!$B$4:$D$123,3),VLOOKUP((($H185-1)*6+2),'Dat-Bl'!$B$127:$D$246,3)))","v":"W7/02-Regel"},{"$f":"IF($D$5=\"\",\"\",IF($D$5=\"weiblich_R\",VLOOKUP((($H185-1)*6+2),'Dat-Bl'!$B$4:$E$123,4),VLOOKUP((($H185-1)*6+2),'Dat-Bl'!$B$127:$E$246,4)))","v":"00:00:00"},"Sprint"]
[null,null,null,null,"Sprung"]
[null,null,null,null,"Wurf"]
[3,{"$f":"IF($D$5=\"\",\"\",IF($D$5=\"weiblich_R\",VLOOKUP((($H185-1)*6+3),'Dat-Bl'!$B$4:$D$123,2),VLOOKUP((($H185-1)*6+3),'Dat-Bl'!$B$127:$D$246,2)))","v":0},{"$f":"IF($D$5=\"\",\"\",IF($D$5=\"weiblich_R\",VLOOKUP((($H185-1)*6+3),'Dat-Bl'!$B$4:$D$123,3),VLOOKUP((($H185-1)*6+3),'Dat-Bl'!$B$127:$D$246,3)))","v":"W7/03-Regel"},{"$f":"IF($D$5=\"\",\"\",IF($D$5=\"weiblich_R\",VLOOKUP((($H185-1)*6+3),'Dat-Bl'!$B$4:$E$123,4),VLOOKUP((($H185-1)*6+3),'Dat-Bl'!$B$127:$E$246,4)))","v":"00:00:00"},"Sprint"]
[null,null,null,null,"Sprung"]
[null,null,null,null,"Wurf"]
[4,{"$f":"IF($D$5=\"\",\"\",IF($D$5=\"weiblich_R\",VLOOKUP((($H185-1)*6+4),'Dat-Bl'!$B$4:$D$123,2),VLOOKUP((($H185-1)*6+4),'Dat-Bl'!$B$127:$D$246,2)))","v":0},{"$f":"IF($D$5=\"\",\"\",IF($D$5=\"weiblich_R\",VLOOKUP((($H185-1)*6+4),'Dat-Bl'!$B$4:$D$123,3),VLOOKUP((($H185-1)*6+4),'Dat-Bl'!$B$127:$D$246,3)))","v":"W7/04-Regel"},{"$f":"IF($D$5=\"\",\"\",IF($D$5=\"weiblich_R\",VLOOKUP((($H185-1)*6+4),'Dat-Bl'!$B$4:$E$123,4),VLOOKUP((($H185-1)*6+4),'Dat-Bl'!$B$127:$E$246,4)))","v":"00:00:00"},"Sprint"]
[null,null,null,null,"Sprung"]
[null,null,null,null,"Wurf"]
[5,{"$f":"IF($D$5=\"\",\"\",IF($D$5=\"weiblich_R\",VLOOKUP((($H185-1)*6+5),'Dat-Bl'!$B$4:$D$123,2),VLOOKUP((($H185-1)*6+5),'Dat-Bl'!$B$127:$D$246,2)))","v":0},{"$f":"IF($D$5=\"\",\"\",IF($D$5=\"weiblich_R\",VLOOKUP((($H185-1)*6+5),'Dat-Bl'!$B$4:$D$123,3),VLOOKUP((($H185-1)*6+5),'Dat-Bl'!$B$127:$D$246,3)))","v":"W7/05-Regel"},{"$f":"IF($D$5=\"\",\"\",IF($D$5=\"weiblich_R\",VLOOKUP((($H185-1)*6+5),'Dat-Bl'!$B$4:$E$123,4),VLOOKUP((($H185-1)*6+5),'Dat-Bl'!$B$127:$E$246,4)))","v":"00:00:00"},"Sprint"]
[null,null,null,null,"Sprung"]
[null,null,null,null,"Wurf"]
[6,{"$f":"IF($D$5=\"\",\"\",IF($D$5=\"weiblich_R\",VLOOKUP((($H185-1)*6+6),'Dat-Bl'!$B$4:$D$123,2),VLOOKUP((($H185-1)*6+6),'Dat-Bl'!$B$127:$D$246,2)))","v":0},{"$f":"IF($D$5=\"\",\"\",IF($D$5=\"weiblich_R\",VLOOKUP((($H185-1)*6+6),'Dat-Bl'!$B$4:$D$123,3),VLOOKUP((($H185-1)*6+6),'Dat-Bl'!$B$127:$D$246,3)))","v":"W7/06-Regel"},{"$f":"IF($D$5=\"\",\"\",IF($D$5=\"weiblich_R\",VLOOKUP((($H185-1)*6+6),'Dat-Bl'!$B$4:$E$123,4),VLOOKUP((($H185-1)*6+6),'Dat-Bl'!$B$127:$E$246,4)))","v":"00:00:00"},"Sprint"]
[null,null,null,null,"Sprung"]
[null,null,null,null,"Wurf"]
[]
[null,null,null,null,"Staffelwertung (5 X 80m)"]
[]
[null,"Leichtathletik Mannschaftsdreikampf der Schulen"]
[]
[null,null,{"$f":"$C$3","v":"Bezirksmeisterschaft"},null,{"$f":"$E$3","v":2014},{"$f":"$F$3","v":"St. Pölten"}]
[]
[null,null,"Auswahl Geschlecht:",{"$f":"$D$5","v":"weiblich_R"},null,"Mannschaft:",null,8]
[null,null,null,null,{"$f":"$E$6","v":"C"}]
["Schule:",null,{"$f":"IF($D$5=\"\",\"\",IF($D$5=\"weiblich_R\",VLOOKUP((($H215-1)*6+1),'Dat-Bl'!$B$4:$F$123,5),VLOOKUP((($H215-1)*6+1),'Dat-Bl'!$B$127:$F$246,5)))","v":0}]
[null,null,null,null,null,"Versuch",null,null,"gewertete\n Leistung\n"]
[null,"Start Nr.","Name","Geb. Jahr","Bewerb","1.","2.","3."]
[1,{"$f":"IF($D$5=\"\",\"\",IF($D$5=\"weiblich_R\",VLOOKUP((($H215-1)*6+1),'Dat-Bl'!$B$4:$D$123,2),VLOOKUP((($H215-1)*6+1),'Dat-Bl'!$B$127:$D$246,2)))","v":0},{"$f":"IF($D$5=\"\",\"\",IF($D$5=\"weiblich_R\",VLOOKUP((($H215-1)*6+1),'Dat-Bl'!$B$4:$D$123,3),VLOOKUP((($H215-1)*6+1),'Dat-Bl'!$B$127:$D$246,3)))","v":"W8/01-Regel"},{"$f":"IF($D$5=\"\",\"\",IF($D$5=\"weiblich_R\",VLOOKUP((($H215-1)*6+1),'Dat-Bl'!$B$4:$E$123,4),VLOOKUP((($H215-1)*6+1),'Dat-Bl'!$B$127:$E$246,4)))","v":"00:00:00"},"Sprint"]
[null,null,null,null,"Sprung"]
[null,null,null,null,"Wurf"]
[2,{"$f":"IF($D$5=\"\",\"\",IF($D$5=\"weiblich_R\",VLOOKUP((($H215-1)*6+2),'Dat-Bl'!$B$4:$D$123,2),VLOOKUP((($H215-1)*6+2),'Dat-Bl'!$B$127:$D$246,2)))","v":0},{"$f":"IF($D$5=\"\",\"\",IF($D$5=\"weiblich_R\",VLOOKUP((($H215-1)*6+2),'Dat-Bl'!$B$4:$D$123,3),VLOOKUP((($H215-1)*6+2),'Dat-Bl'!$B$127:$D$246,3)))","v":"W8/02-Regel"},{"$f":"IF($D$5=\"\",\"\",IF($D$5=\"weiblich_R\",VLOOKUP((($H215-1)*6+2),'Dat-Bl'!$B$4:$E$123,4),VLOOKUP((($H215-1)*6+2),'Dat-Bl'!$B$127:$E$246,4)))","v":"00:00:00"},"Sprint"]
[null,null,null,null,"Sprung"]
[null,null,null,null,"Wurf"]
[3,{"$f":"IF($D$5=\"\",\"\",IF($D$5=\"weiblich_R\",VLOOKUP((($H215-1)*6+3),'Dat-Bl'!$B$4:$D$123,2),VLOOKUP((($H215-1)*6+3),'Dat-Bl'!$B$127:$D$246,2)))","v":0},{"$f":"IF($D$5=\"\",\"\",IF($D$5=\"weiblich_R\",VLOOKUP((($H215-1)*6+3),'Dat-Bl'!$B$4:$D$123,3),VLOOKUP((($H215-1)*6+3),'Dat-Bl'!$B$127:$D$246,3)))","v":"W8/03-Regel"},{"$f":"IF($D$5=\"\",\"\",IF($D$5=\"weiblich_R\",VLOOKUP((($H215-1)*6+3),'Dat-Bl'!$B$4:$E$123,4),VLOOKUP((($H215-1)*6+3),'Dat-Bl'!$B$127:$E$246,4)))","v":"00:00:00"},"Sprint"]
[null,null,null,null,"Sprung"]
[null,null,null,null,"Wurf"]
[4,{"$f":"IF($D$5=\"\",\"\",IF($D$5=\"weiblich_R\",VLOOKUP((($H215-1)*6+4),'Dat-Bl'!$B$4:$D$123,2),VLOOKUP((($H215-1)*6+4),'Dat-Bl'!$B$127:$D$246,2)))","v":0},{"$f":"IF($D$5=\"\",\"\",IF($D$5=\"weiblich_R\",VLOOKUP((($H215-1)*6+4),'Dat-Bl'!$B$4:$D$123,3),VLOOKUP((($H215-1)*6+4),'Dat-Bl'!$B$127:$D$246,3)))","v":"W8/04-Regel"},{"$f":"IF($D$5=\"\",\"\",IF($D$5=\"weiblich_R\",VLOOKUP((($H215-1)*6+4),'Dat-Bl'!$B$4:$E$123,4),VLOOKUP((($H215-1)*6+4),'Dat-Bl'!$B$127:$E$246,4)))","v":"00:00:00"},"Sprint"]
[null,null,null,null,"Sprung"]
[null,null,null,null,"Wurf"]
[5,{"$f":"IF($D$5=\"\",\"\",IF($D$5=\"weiblich_R\",VLOOKUP((($H215-1)*6+5),'Dat-Bl'!$B$4:$D$123,2),VLOOKUP((($H215-1)*6+5),'Dat-Bl'!$B$127:$D$246,2)))","v":0},{"$f":"IF($D$5=\"\",\"\",IF($D$5=\"weiblich_R\",VLOOKUP((($H215-1)*6+5),'Dat-Bl'!$B$4:$D$123,3),VLOOKUP((($H215-1)*6+5),'Dat-Bl'!$B$127:$D$246,3)))","v":"W8/05-Regel"},{"$f":"IF($D$5=\"\",\"\",IF($D$5=\"weiblich_R\",VLOOKUP((($H215-1)*6+5),'Dat-Bl'!$B$4:$E$123,4),VLOOKUP((($H215-1)*6+5),'Dat-Bl'!$B$127:$E$246,4)))","v":"00:00:00"},"Sprint"]
[null,null,null,null,"Sprung"]
[null,null,null,null,"Wurf"]
[6,{"$f":"IF($D$5=\"\",\"\",IF($D$5=\"weiblich_R\",VLOOKUP((($H215-1)*6+6),'Dat-Bl'!$B$4:$D$123,2),VLOOKUP((($H215-1)*6+6),'Dat-Bl'!$B$127:$D$246,2)))","v":0},{"$f":"IF($D$5=\"\",\"\",IF($D$5=\"weiblich_R\",VLOOKUP((($H215-1)*6+6),'Dat-Bl'!$B$4:$D$123,3),VLOOKUP((($H215-1)*6+6),'Dat-Bl'!$B$127:$D$246,3)))","v":"W8/06-Regel"},{"$f":"IF($D$5=\"\",\"\",IF($D$5=\"weiblich_R\",VLOOKUP((($H215-1)*6+6),'Dat-Bl'!$B$4:$E$123,4),VLOOKUP((($H215-1)*6+6),'Dat-Bl'!$B$127:$E$246,4)))","v":"00:00:00"},"Sprint"]
[null,null,null,null,"Sprung"]
[null,null,null,null,"Wurf"]
[]
[null,null,null,null,"Staffelwertung (5 X 80m)"]
[]
[null,"Leichtathletik Mannschaftsdreikampf der Schulen"]
[]
[null,null,{"$f":"$C$3","v":"Bezirksmeisterschaft"},null,{"$f":"$E$3","v":2014},{"$f":"$F$3","v":"St. Pölten"}]
[]
[null,null,"Auswahl Geschlecht:",{"$f":"$D$5","v":"weiblich_R"},null,"Mannschaft:",null,9]
[null,null,null,null,{"$f":"$E$6","v":"C"}]
["Schule:",null,{"$f":"IF($D$5=\"\",\"\",IF($D$5=\"weiblich_R\",VLOOKUP((($H245-1)*6+1),'Dat-Bl'!$B$4:$F$123,5),VLOOKUP((($H245-1)*6+1),'Dat-Bl'!$B$127:$F$246,5)))","v":0}]
[null,null,null,null,null,"Versuch",null,null,"gewertete\n Leistung\n"]
[null,"Start Nr.","Name","Geb. Jahr","Bewerb","1.","2.","3."]
[1,{"$f":"IF($D$5=\"\",\"\",IF($D$5=\"weiblich_R\",VLOOKUP((($H245-1)*6+1),'Dat-Bl'!$B$4:$D$123,2),VLOOKUP((($H245-1)*6+1),'Dat-Bl'!$B$127:$D$246,2)))","v":0},{"$f":"IF($D$5=\"\",\"\",IF($D$5=\"weiblich_R\",VLOOKUP((($H245-1)*6+1),'Dat-Bl'!$B$4:$D$123,3),VLOOKUP((($H245-1)*6+1),'Dat-Bl'!$B$127:$D$246,3)))","v":"W9/01-Regel"},{"$f":"IF($D$5=\"\",\"\",IF($D$5=\"weiblich_R\",VLOOKUP((($H245-1)*6+1),'Dat-Bl'!$B$4:$E$123,4),VLOOKUP((($H245-1)*6+1),'Dat-Bl'!$B$127:$E$246,4)))","v":"00:00:00"},"Sprint"]
[null,null,null,null,"Sprung"]
[null,null,null,null,"Wurf"]
[2,{"$f":"IF($D$5=\"\",\"\",IF($D$5=\"weiblich_R\",VLOOKUP((($H245-1)*6+2),'Dat-Bl'!$B$4:$D$123,2),VLOOKUP((($H245-1)*6+2),'Dat-Bl'!$B$127:$D$246,2)))","v":0},{"$f":"IF($D$5=\"\",\"\",IF($D$5=\"weiblich_R\",VLOOKUP((($H245-1)*6+2),'Dat-Bl'!$B$4:$D$123,3),VLOOKUP((($H245-1)*6+2),'Dat-Bl'!$B$127:$D$246,3)))","v":"W9/02-Regel"},{"$f":"IF($D$5=\"\",\"\",IF($D$5=\"weiblich_R\",VLOOKUP((($H245-1)*6+2),'Dat-Bl'!$B$4:$E$123,4),VLOOKUP((($H245-1)*6+2),'Dat-Bl'!$B$127:$E$246,4)))","v":"00:00:00"},"Sprint"]
[null,null,null,null,"Sprung"]
[null,null,null,null,"Wurf"]
[3,{"$f":"IF($D$5=\"\",\"\",IF($D$5=\"weiblich_R\",VLOOKUP((($H245-1)*6+3),'Dat-Bl'!$B$4:$D$123,2),VLOOKUP((($H245-1)*6+3),'Dat-Bl'!$B$127:$D$246,2)))","v":0},{"$f":"IF($D$5=\"\",\"\",IF($D$5=\"weiblich_R\",VLOOKUP((($H245-1)*6+3),'Dat-Bl'!$B$4:$D$123,3),VLOOKUP((($H245-1)*6+3),'Dat-Bl'!$B$127:$D$246,3)))","v":"W9/03-Regel"},{"$f":"IF($D$5=\"\",\"\",IF($D$5=\"weiblich_R\",VLOOKUP((($H245-1)*6+3),'Dat-Bl'!$B$4:$E$123,4),VLOOKUP((($H245-1)*6+3),'Dat-Bl'!$B$127:$E$246,4)))","v":"00:00:00"},"Sprint"]
[null,null,null,null,"Sprung"]
[null,null,null,null,"Wurf"]
[4,{"$f":"IF($D$5=\"\",\"\",IF($D$5=\"weiblich_R\",VLOOKUP((($H245-1)*6+4),'Dat-Bl'!$B$4:$D$123,2),VLOOKUP((($H245-1)*6+4),'Dat-Bl'!$B$127:$D$246,2)))","v":0},{"$f":"IF($D$5=\"\",\"\",IF($D$5=\"weiblich_R\",VLOOKUP((($H245-1)*6+4),'Dat-Bl'!$B$4:$D$123,3),VLOOKUP((($H245-1)*6+4),'Dat-Bl'!$B$127:$D$246,3)))","v":"W9/04-Regel"},{"$f":"IF($D$5=\"\",\"\",IF($D$5=\"weiblich_R\",VLOOKUP((($H245-1)*6+4),'Dat-Bl'!$B$4:$E$123,4),VLOOKUP((($H245-1)*6+4),'Dat-Bl'!$B$127:$E$246,4)))","v":"00:00:00"},"Sprint"]
[null,null,null,null,"Sprung"]
[null,null,null,null,"Wurf"]
[5,{"$f":"IF($D$5=\"\",\"\",IF($D$5=\"weiblich_R\",VLOOKUP((($H245-1)*6+5),'Dat-Bl'!$B$4:$D$123,2),VLOOKUP((($H245-1)*6+5),'Dat-Bl'!$B$127:$D$246,2)))","v":0},{"$f":"IF($D$5=\"\",\"\",IF($D$5=\"weiblich_R\",VLOOKUP((($H245-1)*6+5),'Dat-Bl'!$B$4:$D$123,3),VLOOKUP((($H245-1)*6+5),'Dat-Bl'!$B$127:$D$246,3)))","v":"W9/05-Regel"},{"$f":"IF($D$5=\"\",\"\",IF($D$5=\"weiblich_R\",VLOOKUP((($H245-1)*6+5),'Dat-Bl'!$B$4:$E$123,4),VLOOKUP((($H245-1)*6+5),'Dat-Bl'!$B$127:$E$246,4)))","v":"00:00:00"},"Sprint"]
[null,null,null,null,"Sprung"]
[null,null,null,null,"Wurf"]
[6,{"$f":"IF($D$5=\"\",\"\",IF($D$5=\"weiblich_R\",VLOOKUP((($H245-1)*6+6),'Dat-Bl'!$B$4:$D$123,2),VLOOKUP((($H245-1)*6+6),'Dat-Bl'!$B$127:$D$246,2)))","v":0},{"$f":"IF($D$5=\"\",\"\",IF($D$5=\"weiblich_R\",VLOOKUP((($H245-1)*6+6),'Dat-Bl'!$B$4:$D$123,3),VLOOKUP((($H245-1)*6+6),'Dat-Bl'!$B$127:$D$246,3)))","v":"W9/06-Regel"},{"$f":"IF($D$5=\"\",\"\",IF($D$5=\"weiblich_R\",VLOOKUP((($H245-1)*6+6),'Dat-Bl'!$B$4:$E$123,4),VLOOKUP((($H245-1)*6+6),'Dat-Bl'!$B$127:$E$246,4)))","v":"00:00:00"},"Sprint"]
[null,null,null,null,"Sprung"]
[null,null,null,null,"Wurf"]
[]
[null,null,null,null,"Staffelwertung (5 X 80m)"]
[]
[null,"Leichtathletik Mannschaftsdreikampf der Schulen"]
[]
[null,null,{"$f":"$C$3","v":"Bezirksmeisterschaft"},null,{"$f":"$E$3","v":2014},{"$f":"$F$3","v":"St. Pölten"}]
[]
[null,null,"Auswahl Geschlecht:",{"$f":"$D$5","v":"weiblich_R"},null,"Mannschaft:",null,10]
[null,null,null,null,{"$f":"$E$6","v":"C"}]
["Schule:",null,{"$f":"IF($D$5=\"\",\"\",IF($D$5=\"weiblich_R\",VLOOKUP((($H275-1)*6+1),'Dat-Bl'!$B$4:$F$123,5),VLOOKUP((($H275-1)*6+1),'Dat-Bl'!$B$127:$F$246,5)))","v":0}]
[null,null,null,null,null,"Versuch",null,null,"gewertete\n Leistung\n"]
[null,"Start Nr.","Name","Geb. Jahr","Bewerb","1.","2.","3."]
[1,{"$f":"IF($D$5=\"\",\"\",IF($D$5=\"weiblich_R\",VLOOKUP((($H275-1)*6+1),'Dat-Bl'!$B$4:$D$123,2),VLOOKUP((($H275-1)*6+1),'Dat-Bl'!$B$127:$D$246,2)))","v":0},{"$f":"IF($D$5=\"\",\"\",IF($D$5=\"weiblich_R\",VLOOKUP((($H275-1)*6+1),'Dat-Bl'!$B$4:$D$123,3),VLOOKUP((($H275-1)*6+1),'Dat-Bl'!$B$127:$D$246,3)))","v":"W10/01-Regel"},{"$f":"IF($D$5=\"\",\"\",IF($D$5=\"weiblich_R\",VLOOKUP((($H275-1)*6+1),'Dat-Bl'!$B$4:$E$123,4),VLOOKUP((($H275-1)*6+1),'Dat-Bl'!$B$127:$E$246,4)))","v":"00:00:00"},"Sprint"]
[null,null,null,null,"Sprung"]
[null,null,null,null,"Wurf"]
[2,{"$f":"IF($D$5=\"\",\"\",IF($D$5=\"weiblich_R\",VLOOKUP((($H275-1)*6+2),'Dat-Bl'!$B$4:$D$123,2),VLOOKUP((($H275-1)*6+2),'Dat-Bl'!$B$127:$D$246,2)))","v":0},{"$f":"IF($D$5=\"\",\"\",IF($D$5=\"weiblich_R\",VLOOKUP((($H275-1)*6+2),'Dat-Bl'!$B$4:$D$123,3),VLOOKUP((($H275-1)*6+2),'Dat-Bl'!$B$127:$D$246,3)))","v":"W10/02-Regel"},{"$f":"IF($D$5=\"\",\"\",IF($D$5=\"weiblich_R\",VLOOKUP((($H275-1)*6+2),'Dat-Bl'!$B$4:$E$123,4),VLOOKUP((($H275-1)*6+2),'Dat-Bl'!$B$127:$E$246,4)))","v":"00:00:00"},"Sprint"]
[null,null,null,null,"Sprung"]
[null,null,null,null,"Wurf"]
[3,{"$f":"IF($D$5=\"\",\"\",IF($D$5=\"weiblich_R\",VLOOKUP((($H275-1)*6+3),'Dat-Bl'!$B$4:$D$123,2),VLOOKUP((($H275-1)*6+3),'Dat-Bl'!$B$127:$D$246,2)))","v":0},{"$f":"IF($D$5=\"\",\"\",IF($D$5=\"weiblich_R\",VLOOKUP((($H275-1)*6+3),'Dat-Bl'!$B$4:$D$123,3),VLOOKUP((($H275-1)*6+3),'Dat-Bl'!$B$127:$D$246,3)))","v":"W10/03-Regel"},{"$f":"IF($D$5=\"\",\"\",IF($D$5=\"weiblich_R\",VLOOKUP((($H275-1)*6+3),'Dat-Bl'!$B$4:$E$123,4),VLOOKUP((($H275-1)*6+3),'Dat-Bl'!$B$127:$E$246,4)))","v":"00:00:00"},"Sprint"]
[null,null,null,null,"Sprung"]
[null,null,null,null,"Wurf"]
[4,{"$f":"IF($D$5=\"\",\"\",IF($D$5=\"weiblich_R\",VLOOKUP((($H275-1)*6+4),'Dat-Bl'!$B$4:$D$123,2),VLOOKUP((($H275-1)*6+4),'Dat-Bl'!$B$127:$D$246,2)))","v":0},{"$f":"IF($D$5=\"\",\"\",IF($D$5=\"weiblich_R\",VLOOKUP((($H275-1)*6+4),'Dat-Bl'!$B$4:$D$123,3),VLOOKUP((($H275-1)*6+4),'Dat-Bl'!$B$127:$D$246,3)))","v":"W10/04-Regel"},{"$f":"IF($D$5=\"\",\"\",IF($D$5=\"weiblich_R\",VLOOKUP((($H275-1)*6+4),'Dat-Bl'!$B$4:$E$123,4),VLOOKUP((($H275-1)*6+4),'Dat-Bl'!$B$127:$E$246,4)))","v":"00:00:00"},"Sprint"]
[null,null,null,null,"Sprung"]
[null,null,null,null,"Wurf"]
[5,{"$f":"IF($D$5=\"\",\"\",IF($D$5=\"weiblich_R\",VLOOKUP((($H275-1)*6+5),'Dat-Bl'!$B$4:$D$123,2),VLOOKUP((($H275-1)*6+5),'Dat-Bl'!$B$127:$D$246,2)))","v":0},{"$f":"IF($D$5=\"\",\"\",IF($D$5=\"weiblich_R\",VLOOKUP((($H275-1)*6+5),'Dat-Bl'!$B$4:$D$123,3),VLOOKUP((($H275-1)*6+5),'Dat-Bl'!$B$127:$D$246,3)))","v":"W10/05-Regel"},{"$f":"IF($D$5=\"\",\"\",IF($D$5=\"weiblich_R\",VLOOKUP((($H275-1)*6+5),'Dat-Bl'!$B$4:$E$123,4),VLOOKUP((($H275-1)*6+5),'Dat-Bl'!$B$127:$E$246,4)))","v":"00:00:00"},"Sprint"]
[null,null,null,null,"Sprung"]
[null,null,null,null,"Wurf"]
[6,{"$f":"IF($D$5=\"\",\"\",IF($D$5=\"weiblich_R\",VLOOKUP((($H275-1)*6+6),'Dat-Bl'!$B$4:$D$123,2),VLOOKUP((($H275-1)*6+6),'Dat-Bl'!$B$127:$D$246,2)))","v":0},{"$f":"IF($D$5=\"\",\"\",IF($D$5=\"weiblich_R\",VLOOKUP((($H275-1)*6+6),'Dat-Bl'!$B$4:$D$123,3),VLOOKUP((($H275-1)*6+6),'Dat-Bl'!$B$127:$D$246,3)))","v":"W10/06-Regel"},{"$f":"IF($D$5=\"\",\"\",IF($D$5=\"weiblich_R\",VLOOKUP((($H275-1)*6+6),'Dat-Bl'!$B$4:$E$123,4),VLOOKUP((($H275-1)*6+6),'Dat-Bl'!$B$127:$E$246,4)))","v":"00:00:00"},"Sprint"]
[null,null,null,null,"Sprung"]
[null,null,null,null,"Wurf"]
[]
[null,null,null,null,"Staffelwertung (5 X 80m)"]
[]
[null,"Leichtathletik Mannschaftsdreikampf der Schulen"]
[]
[null,null,{"$f":"$C$3","v":"Bezirksmeisterschaft"},null,{"$f":"$E$3","v":2014},{"$f":"$F$3","v":"St. Pölten"}]
[]
[null,null,"Auswahl Geschlecht:",{"$f":"$D$5","v":"weiblich_R"},null,"Mannschaft:",null,11]
[null,null,null,null,{"$f":"$E$6","v":"C"}]
["Schule:",null,{"$f":"IF($D$5=\"\",\"\",IF($D$5=\"weiblich_R\",VLOOKUP((($H305-1)*6+1),'Dat-Bl'!$B$4:$F$123,5),VLOOKUP((($H305-1)*6+1),'Dat-Bl'!$B$127:$F$246,5)))","v":0}]
[null,null,null,null,null,"Versuch",null,null,"gewertete\n Leistung\n"]
[null,"Start Nr.","Name","Geb. Jahr","Bewerb","1.","2.","3."]
[1,{"$f":"IF($D$5=\"\",\"\",IF($D$5=\"weiblich_R\",VLOOKUP((($H305-1)*6+1),'Dat-Bl'!$B$4:$D$123,2),VLOOKUP((($H305-1)*6+1),'Dat-Bl'!$B$127:$D$246,2)))","v":0},{"$f":"IF($D$5=\"\",\"\",IF($D$5=\"weiblich_R\",VLOOKUP((($H305-1)*6+1),'Dat-Bl'!$B$4:$D$123,3),VLOOKUP((($H305-1)*6+1),'Dat-Bl'!$B$127:$D$246,3)))","v":"W11/01-Regel"},{"$f":"IF($D$5=\"\",\"\",IF($D$5=\"weiblich_R\",VLOOKUP((($H305-1)*6+1),'Dat-Bl'!$B$4:$E$123,4),VLOOKUP((($H305-1)*6+1),'Dat-Bl'!$B$127:$E$246,4)))","v":"00:00:00"},"Sprint"]
[null,null,null,null,"Sprung"]
[null,null,null,null,"Wurf"]
[2,{"$f":"IF($D$5=\"\",\"\",IF($D$5=\"weiblich_R\",VLOOKUP((($H305-1)*6+2),'Dat-Bl'!$B$4:$D$123,2),VLOOKUP((($H305-1)*6+2),'Dat-Bl'!$B$127:$D$246,2)))","v":0},{"$f":"IF($D$5=\"\",\"\",IF($D$5=\"weiblich_R\",VLOOKUP((($H305-1)*6+2),'Dat-Bl'!$B$4:$D$123,3),VLOOKUP((($H305-1)*6+2),'Dat-Bl'!$B$127:$D$246,3)))","v":"W11/02-Regel"},{"$f":"IF($D$5=\"\",\"\",IF($D$5=\"weiblich_R\",VLOOKUP((($H305-1)*6+2),'Dat-Bl'!$B$4:$E$123,4),VLOOKUP((($H305-1)*6+2),'Dat-Bl'!$B$127:$E$246,4)))","v":"00:00:00"},"Sprint"]
[null,null,null,null,"Sprung"]
[null,null,null,null,"Wurf"]
[3,{"$f":"IF($D$5=\"\",\"\",IF($D$5=\"weiblich_R\",VLOOKUP((($H305-1)*6+3),'Dat-Bl'!$B$4:$D$123,2),VLOOKUP((($H305-1)*6+3),'Dat-Bl'!$B$127:$D$246,2)))","v":0},{"$f":"IF($D$5=\"\",\"\",IF($D$5=\"weiblich_R\",VLOOKUP((($H305-1)*6+3),'Dat-Bl'!$B$4:$D$123,3),VLOOKUP((($H305-1)*6+3),'Dat-Bl'!$B$127:$D$246,3)))","v":"W11/03-Regel"},{"$f":"IF($D$5=\"\",\"\",IF($D$5=\"weiblich_R\",VLOOKUP((($H305-1)*6+3),'Dat-Bl'!$B$4:$E$123,4),VLOOKUP((($H305-1)*6+3),'Dat-Bl'!$B$127:$E$246,4)))","v":"00:00:00"},"Sprint"]
[null,null,null,null,"Sprung"]
[null,null,null,null,"Wurf"]
[4,{"$f":"IF($D$5=\"\",\"\",IF($D$5=\"weiblich_R\",VLOOKUP((($H305-1)*6+4),'Dat-Bl'!$B$4:$D$123,2),VLOOKUP((($H305-1)*6+4),'Dat-Bl'!$B$127:$D$246,2)))","v":0},{"$f":"IF($D$5=\"\",\"\",IF($D$5=\"weiblich_R\",VLOOKUP((($H305-1)*6+4),'Dat-Bl'!$B$4:$D$123,3),VLOOKUP((($H305-1)*6+4),'Dat-Bl'!$B$127:$D$246,3)))","v":"W11/04-Regel"},{"$f":"IF($D$5=\"\",\"\",IF($D$5=\"weiblich_R\",VLOOKUP((($H305-1)*6+4),'Dat-Bl'!$B$4:$E$123,4),VLOOKUP((($H305-1)*6+4),'Dat-Bl'!$B$127:$E$246,4)))","v":"00:00:00"},"Sprint"]
[null,null,null,null,"Sprung"]
[null,null,null,null,"Wurf"]
[5,{"$f":"IF($D$5=\"\",\"\",IF($D$5=\"weiblich_R\",VLOOKUP((($H305-1)*6+5),'Dat-Bl'!$B$4:$D$123,2),VLOOKUP((($H305-1)*6+5),'Dat-Bl'!$B$127:$D$246,2)))","v":0},{"$f":"IF($D$5=\"\",\"\",IF($D$5=\"weiblich_R\",VLOOKUP((($H305-1)*6+5),'Dat-Bl'!$B$4:$D$123,3),VLOOKUP((($H305-1)*6+5),'Dat-Bl'!$B$127:$D$246,3)))","v":"W11/05-Regel"},{"$f":"IF($D$5=\"\",\"\",IF($D$5=\"weiblich_R\",VLOOKUP((($H305-1)*6+5),'Dat-Bl'!$B$4:$E$123,4),VLOOKUP((($H305-1)*6+5),'Dat-Bl'!$B$127:$E$246,4)))","v":"00:00:00"},"Sprint"]
[null,null,null,null,"Sprung"]
[null,null,null,null,"Wurf"]
[6,{"$f":"IF($D$5=\"\",\"\",IF($D$5=\"weiblich_R\",VLOOKUP((($H305-1)*6+6),'Dat-Bl'!$B$4:$D$123,2),VLOOKUP((($H305-1)*6+6),'Dat-Bl'!$B$127:$D$246,2)))","v":0},{"$f":"IF($D$5=\"\",\"\",IF($D$5=\"weiblich_R\",VLOOKUP((($H305-1)*6+6),'Dat-Bl'!$B$4:$D$123,3),VLOOKUP((($H305-1)*6+6),'Dat-Bl'!$B$127:$D$246,3)))","v":"W11/06-Regel"},{"$f":"IF($D$5=\"\",\"\",IF($D$5=\"weiblich_R\",VLOOKUP((($H305-1)*6+6),'Dat-Bl'!$B$4:$E$123,4),VLOOKUP((($H305-1)*6+6),'Dat-Bl'!$B$127:$E$246,4)))","v":"00:00:00"},"Sprint"]
[null,null,null,null,"Sprung"]
[null,null,null,null,"Wurf"]
[]
[null,null,null,null,"Staffelwertung (5 X 80m)"]
[]
[null,"Leichtathletik Mannschaftsdreikampf der Schulen"]
[]
[null,null,{"$f":"$C$3","v":"Bezirksmeisterschaft"},null,{"$f":"$E$3","v":2014},{"$f":"$F$3","v":"St. Pölten"}]
[]
[null,null,"Auswahl Geschlecht:",{"$f":"$D$5","v":"weiblich_R"},null,"Mannschaft:",null,12]
[null,null,null,null,{"$f":"$E$6","v":"C"}]
["Schule:",null,{"$f":"IF($D$5=\"\",\"\",IF($D$5=\"weiblich_R\",VLOOKUP((($H335-1)*6+1),'Dat-Bl'!$B$4:$F$123,5),VLOOKUP((($H335-1)*6+1),'Dat-Bl'!$B$127:$F$246,5)))","v":0}]
[null,null,null,null,null,"Versuch",null,null,"gewertete\n Leistung\n"]
[null,"Start Nr.","Name","Geb. Jahr","Bewerb","1.","2.","3."]
[1,{"$f":"IF($D$5=\"\",\"\",IF($D$5=\"weiblich_R\",VLOOKUP((($H335-1)*6+1),'Dat-Bl'!$B$4:$D$123,2),VLOOKUP((($H335-1)*6+1),'Dat-Bl'!$B$127:$D$246,2)))","v":0},{"$f":"IF($D$5=\"\",\"\",IF($D$5=\"weiblich_R\",VLOOKUP((($H335-1)*6+1),'Dat-Bl'!$B$4:$D$123,3),VLOOKUP((($H335-1)*6+1),'Dat-Bl'!$B$127:$D$246,3)))","v":"W12/01-Regel"},{"$f":"IF($D$5=\"\",\"\",IF($D$5=\"weiblich_R\",VLOOKUP((($H335-1)*6+1),'Dat-Bl'!$B$4:$E$123,4),VLOOKUP((($H335-1)*6+1),'Dat-Bl'!$B$127:$E$246,4)))","v":"00:00:00"},"Sprint"]
[null,null,null,null,"Sprung"]
[null,null,null,null,"Wurf"]
[2,{"$f":"IF($D$5=\"\",\"\",IF($D$5=\"weiblich_R\",VLOOKUP((($H335-1)*6+2),'Dat-Bl'!$B$4:$D$123,2),VLOOKUP((($H335-1)*6+2),'Dat-Bl'!$B$127:$D$246,2)))","v":0},{"$f":"IF($D$5=\"\",\"\",IF($D$5=\"weiblich_R\",VLOOKUP((($H335-1)*6+2),'Dat-Bl'!$B$4:$D$123,3),VLOOKUP((($H335-1)*6+2),'Dat-Bl'!$B$127:$D$246,3)))","v":"W12/02-Regel"},{"$f":"IF($D$5=\"\",\"\",IF($D$5=\"weiblich_R\",VLOOKUP((($H335-1)*6+2),'Dat-Bl'!$B$4:$E$123,4),VLOOKUP((($H335-1)*6+2),'Dat-Bl'!$B$127:$E$246,4)))","v":"00:00:00"},"Sprint"]
[null,null,null,null,"Sprung"]
[null,null,null,null,"Wurf"]
[3,{"$f":"IF($D$5=\"\",\"\",IF($D$5=\"weiblich_R\",VLOOKUP((($H335-1)*6+3),'Dat-Bl'!$B$4:$D$123,2),VLOOKUP((($H335-1)*6+3),'Dat-Bl'!$B$127:$D$246,2)))","v":0},{"$f":"IF($D$5=\"\",\"\",IF($D$5=\"weiblich_R\",VLOOKUP((($H335-1)*6+3),'Dat-Bl'!$B$4:$D$123,3),VLOOKUP((($H335-1)*6+3),'Dat-Bl'!$B$127:$D$246,3)))","v":"W12/03-Regel"},{"$f":"IF($D$5=\"\",\"\",IF($D$5=\"weiblich_R\",VLOOKUP((($H335-1)*6+3),'Dat-Bl'!$B$4:$E$123,4),VLOOKUP((($H335-1)*6+3),'Dat-Bl'!$B$127:$E$246,4)))","v":"00:00:00"},"Sprint"]
[null,null,null,null,"Sprung"]
[null,null,null,null,"Wurf"]
[4,{"$f":"IF($D$5=\"\",\"\",IF($D$5=\"weiblich_R\",VLOOKUP((($H335-1)*6+4),'Dat-Bl'!$B$4:$D$123,2),VLOOKUP((($H335-1)*6+4),'Dat-Bl'!$B$127:$D$246,2)))","v":0},{"$f":"IF($D$5=\"\",\"\",IF($D$5=\"weiblich_R\",VLOOKUP((($H335-1)*6+4),'Dat-Bl'!$B$4:$D$123,3),VLOOKUP((($H335-1)*6+4),'Dat-Bl'!$B$127:$D$246,3)))","v":"W12/04-Regel"},{"$f":"IF($D$5=\"\",\"\",IF($D$5=\"weiblich_R\",VLOOKUP((($H335-1)*6+4),'Dat-Bl'!$B$4:$E$123,4),VLOOKUP((($H335-1)*6+4),'Dat-Bl'!$B$127:$E$246,4)))","v":"00:00:00"},"Sprint"]
[null,null,null,null,"Sprung"]
[null,null,null,null,"Wurf"]
[5,{"$f":"IF($D$5=\"\",\"\",IF($D$5=\"weiblich_R\",VLOOKUP((($H335-1)*6+5),'Dat-Bl'!$B$4:$D$123,2),VLOOKUP((($H335-1)*6+5),'Dat-Bl'!$B$127:$D$246,2)))","v":0},{"$f":"IF($D$5=\"\",\"\",IF($D$5=\"weiblich_R\",VLOOKUP((($H335-1)*6+5),'Dat-Bl'!$B$4:$D$123,3),VLOOKUP((($H335-1)*6+5),'Dat-Bl'!$B$127:$D$246,3)))","v":"W12/05-Regel"},{"$f":"IF($D$5=\"\",\"\",IF($D$5=\"weiblich_R\",VLOOKUP((($H335-1)*6+5),'Dat-Bl'!$B$4:$E$123,4),VLOOKUP((($H335-1)*6+5),'Dat-Bl'!$B$127:$E$246,4)))","v":"00:00:00"},"Sprint"]
[null,null,null,null,"Sprung"]
[null,null,null,null,"Wurf"]
[6,{"$f":"IF($D$5=\"\",\"\",IF($D$5=\"weiblich_R\",VLOOKUP((($H335-1)*6+6),'Dat-Bl'!$B$4:$D$123,2),VLOOKUP((($H335-1)*6+6),'Dat-Bl'!$B$127:$D$246,2)))","v":0},{"$f":"IF($D$5=\"\",\"\",IF($D$5=\"weiblich_R\",VLOOKUP((($H335-1)*6+6),'Dat-Bl'!$B$4:$D$123,3),VLOOKUP((($H335-1)*6+6),'Dat-Bl'!$B$127:$D$246,3)))","v":"W12/06-Regel"},{"$f":"IF($D$5=\"\",\"\",IF($D$5=\"weiblich_R\",VLOOKUP((($H335-1)*6+6),'Dat-Bl'!$B$4:$E$123,4),VLOOKUP((($H335-1)*6+6),'Dat-Bl'!$B$127:$E$246,4)))","v":"00:00:00"},"Sprint"]
[null,null,null,null,"Sprung"]
[null,null,null,null,"Wurf"]
[]
[null,null,null,null,"Staffelwertung (5 X 80m)"]
[]
[null,"Leichtathletik Mannschaftsdreikampf der Schulen"]
[]
[null,null,{"$f":"$C$3","v":"Bezirksmeisterschaft"},null,{"$f":"$E$3","v":2014},{"$f":"$F$3","v":"St. Pölten"}]
[]
[null,null,"Auswahl Geschlecht:",{"$f":"$D$5","v":"weiblich_R"},null,"Mannschaft:",null,13]
[null,null,null,null,{"$f":"$E$6","v":"C"}]
["Schule:",null,{"$f":"IF($D$5=\"\",\"\",IF($D$5=\"weiblich_R\",VLOOKUP((($H365-1)*6+1),'Dat-Bl'!$B$4:$F$123,5),VLOOKUP((($H365-1)*6+1),'Dat-Bl'!$B$127:$F$246,5)))","v":0}]
[null,null,null,null,null,"Versuch",null,null,"gewertete\n Leistung\n"]
[null,"Start Nr.","Name","Geb. Jahr","Bewerb","1.","2.","3."]
[1,{"$f":"IF($D$5=\"\",\"\",IF($D$5=\"weiblich_R\",VLOOKUP((($H365-1)*6+1),'Dat-Bl'!$B$4:$D$123,2),VLOOKUP((($H365-1)*6+1),'Dat-Bl'!$B$127:$D$246,2)))","v":0},{"$f":"IF($D$5=\"\",\"\",IF($D$5=\"weiblich_R\",VLOOKUP((($H365-1)*6+1),'Dat-Bl'!$B$4:$D$123,3),VLOOKUP((($H365-1)*6+1),'Dat-Bl'!$B$127:$D$246,3)))","v":"W13/01-Regel"},{"$f":"IF($D$5=\"\",\"\",IF($D$5=\"weiblich_R\",VLOOKUP((($H365-1)*6+1),'Dat-Bl'!$B$4:$E$123,4),VLOOKUP((($H365-1)*6+1),'Dat-Bl'!$B$127:$E$246,4)))","v":"00:00:00"},"Sprint"]
[null,null,null,null,"Sprung"]
[null,null,null,null,"Wurf"]
[2,{"$f":"IF($D$5=\"\",\"\",IF($D$5=\"weiblich_R\",VLOOKUP((($H365-1)*6+2),'Dat-Bl'!$B$4:$D$123,2),VLOOKUP((($H365-1)*6+2),'Dat-Bl'!$B$127:$D$246,2)))","v":0},{"$f":"IF($D$5=\"\",\"\",IF($D$5=\"weiblich_R\",VLOOKUP((($H365-1)*6+2),'Dat-Bl'!$B$4:$D$123,3),VLOOKUP((($H365-1)*6+2),'Dat-Bl'!$B$127:$D$246,3)))","v":"W13/02-Regel"},{"$f":"IF($D$5=\"\",\"\",IF($D$5=\"weiblich_R\",VLOOKUP((($H365-1)*6+2),'Dat-Bl'!$B$4:$E$123,4),VLOOKUP((($H365-1)*6+2),'Dat-Bl'!$B$127:$E$246,4)))","v":"00:00:00"},"Sprint"]
[null,null,null,null,"Sprung"]
[null,null,null,null,"Wurf"]
[3,{"$f":"IF($D$5=\"\",\"\",IF($D$5=\"weiblich_R\",VLOOKUP((($H365-1)*6+3),'Dat-Bl'!$B$4:$D$123,2),VLOOKUP((($H365-1)*6+3),'Dat-Bl'!$B$127:$D$246,2)))","v":0},{"$f":"IF($D$5=\"\",\"\",IF($D$5=\"weiblich_R\",VLOOKUP((($H365-1)*6+3),'Dat-Bl'!$B$4:$D$123,3),VLOOKUP((($H365-1)*6+3),'Dat-Bl'!$B$127:$D$246,3)))","v":"W13/03-Regel"},{"$f":"IF($D$5=\"\",\"\",IF($D$5=\"weiblich_R\",VLOOKUP((($H365-1)*6+3),'Dat-Bl'!$B$4:$E$123,4),VLOOKUP((($H365-1)*6+3),'Dat-Bl'!$B$127:$E$246,4)))","v":"00:00:00"},"Sprint"]
[null,null,null,null,"Sprung"]
[null,null,null,null,"Wurf"]
[4,{"$f":"IF($D$5=\"\",\"\",IF($D$5=\"weiblich_R\",VLOOKUP((($H365-1)*6+4),'Dat-Bl'!$B$4:$D$123,2),VLOOKUP((($H365-1)*6+4),'Dat-Bl'!$B$127:$D$246,2)))","v":0},{"$f":"IF($D$5=\"\",\"\",IF($D$5=\"weiblich_R\",VLOOKUP((($H365-1)*6+4),'Dat-Bl'!$B$4:$D$123,3),VLOOKUP((($H365-1)*6+4),'Dat-Bl'!$B$127:$D$246,3)))","v":"W13/04-Regel"},{"$f":"IF($D$5=\"\",\"\",IF($D$5=\"weiblich_R\",VLOOKUP((($H365-1)*6+4),'Dat-Bl'!$B$4:$E$123,4),VLOOKUP((($H365-1)*6+4),'Dat-Bl'!$B$127:$E$246,4)))","v":"00:00:00"},"Sprint"]
[null,null,null,null,"Sprung"]
[null,null,null,null,"Wurf"]
[5,{"$f":"IF($D$5=\"\",\"\",IF($D$5=\"weiblich_R\",VLOOKUP((($H365-1)*6+5),'Dat-Bl'!$B$4:$D$123,2),VLOOKUP((($H365-1)*6+5),'Dat-Bl'!$B$127:$D$246,2)))","v":0},{"$f":"IF($D$5=\"\",\"\",IF($D$5=\"weiblich_R\",VLOOKUP((($H365-1)*6+5),'Dat-Bl'!$B$4:$D$123,3),VLOOKUP((($H365-1)*6+5),'Dat-Bl'!$B$127:$D$246,3)))","v":"W13/05-Regel"},{"$f":"IF($D$5=\"\",\"\",IF($D$5=\"weiblich_R\",VLOOKUP((($H365-1)*6+5),'Dat-Bl'!$B$4:$E$123,4),VLOOKUP((($H365-1)*6+5),'Dat-Bl'!$B$127:$E$246,4)))","v":"00:00:00"},"Sprint"]
[null,null,null,null,"Sprung"]
[null,null,null,null,"Wurf"]
[6,{"$f":"IF($D$5=\"\",\"\",IF($D$5=\"weiblich_R\",VLOOKUP((($H365-1)*6+6),'Dat-Bl'!$B$4:$D$123,2),VLOOKUP((($H365-1)*6+6),'Dat-Bl'!$B$127:$D$246,2)))","v":0},{"$f":"IF($D$5=\"\",\"\",IF($D$5=\"weiblich_R\",VLOOKUP((($H365-1)*6+6),'Dat-Bl'!$B$4:$D$123,3),VLOOKUP((($H365-1)*6+6),'Dat-Bl'!$B$127:$D$246,3)))","v":"W13/06-Regel"},{"$f":"IF($D$5=\"\",\"\",IF($D$5=\"weiblich_R\",VLOOKUP((($H365-1)*6+6),'Dat-Bl'!$B$4:$E$123,4),VLOOKUP((($H365-1)*6+6),'Dat-Bl'!$B$127:$E$246,4)))","v":"00:00:00"},"Sprint"]
[null,null,null,null,"Sprung"]
[null,null,null,null,"Wurf"]
[]
[null,null,null,null,"Staffelwertung (5 X 80m)"]
[]
[null,"Leichtathletik Mannschaftsdreikampf der Schulen"]
[]
[null,null,{"$f":"$C$3","v":"Bezirksmeisterschaft"},null,{"$f":"$E$3","v":2014},{"$f":"$F$3","v":"St. Pölten"}]
[]
[null,null,"Auswahl Geschlecht:",{"$f":"$D$5","v":"weiblich_R"},null,"Mannschaft:",null,14]
[null,null,null,null,{"$f":"$E$6","v":"C"}]
["Schule:",null,{"$f":"IF($D$5=\"\",\"\",IF($D$5=\"weiblich_R\",VLOOKUP((($H395-1)*6+1),'Dat-Bl'!$B$4:$F$123,5),VLOOKUP((($H395-1)*6+1),'Dat-Bl'!$B$127:$F$246,5)))","v":0}]
[null,null,null,null,null,"Versuch",null,null,"gewertete\n Leistung\n"]
[null,"Start Nr.","Name","Geb. Jahr","Bewerb","1.","2.","3."]
[1,{"$f":"IF($D$5=\"\",\"\",IF($D$5=\"weiblich_R\",VLOOKUP((($H395-1)*6+1),'Dat-Bl'!$B$4:$D$123,2),VLOOKUP((($H395-1)*6+1),'Dat-Bl'!$B$127:$D$246,2)))","v":0},{"$f":"IF($D$5=\"\",\"\",IF($D$5=\"weiblich_R\",VLOOKUP((($H395-1)*6+1),'Dat-Bl'!$B$4:$D$123,3),VLOOKUP((($H395-1)*6+1),'Dat-Bl'!$B$127:$D$246,3)))","v":"W14/01-Regel"},{"$f":"IF($D$5=\"\",\"\",IF($D$5=\"weiblich_R\",VLOOKUP((($H395-1)*6+1),'Dat-Bl'!$B$4:$E$123,4),VLOOKUP((($H395-1)*6+1),'Dat-Bl'!$B$127:$E$246,4)))","v":"00:00:00"},"Sprint"]
[null,null,null,null,"Sprung"]
[null,null,null,null,"Wurf"]
[2,{"$f":"IF($D$5=\"\",\"\",IF($D$5=\"weiblich_R\",VLOOKUP((($H395-1)*6+2),'Dat-Bl'!$B$4:$D$123,2),VLOOKUP((($H395-1)*6+2),'Dat-Bl'!$B$127:$D$246,2)))","v":0},{"$f":"IF($D$5=\"\",\"\",IF($D$5=\"weiblich_R\",VLOOKUP((($H395-1)*6+2),'Dat-Bl'!$B$4:$D$123,3),VLOOKUP((($H395-1)*6+2),'Dat-Bl'!$B$127:$D$246,3)))","v":"W14/02-Regel"},{"$f":"IF($D$5=\"\",\"\",IF($D$5=\"weiblich_R\",VLOOKUP((($H395-1)*6+2),'Dat-Bl'!$B$4:$E$123,4),VLOOKUP((($H395-1)*6+2),'Dat-Bl'!$B$127:$E$246,4)))","v":"00:00:00"},"Sprint"]
[null,null,null,null,"Sprung"]
[null,null,null,null,"Wurf"]
[3,{"$f":"IF($D$5=\"\",\"\",IF($D$5=\"weiblich_R\",VLOOKUP((($H395-1)*6+3),'Dat-Bl'!$B$4:$D$123,2),VLOOKUP((($H395-1)*6+3),'Dat-Bl'!$B$127:$D$246,2)))","v":0},{"$f":"IF($D$5=\"\",\"\",IF($D$5=\"weiblich_R\",VLOOKUP((($H395-1)*6+3),'Dat-Bl'!$B$4:$D$123,3),VLOOKUP((($H395-1)*6+3),'Dat-Bl'!$B$127:$D$246,3)))","v":"W14/03-Regel"},{"$f":"IF($D$5=\"\",\"\",IF($D$5=\"weiblich_R\",VLOOKUP((($H395-1)*6+3),'Dat-Bl'!$B$4:$E$123,4),VLOOKUP((($H395-1)*6+3),'Dat-Bl'!$B$127:$E$246,4)))","v":"00:00:00"},"Sprint"]
[null,null,null,null,"Sprung"]
[null,null,null,null,"Wurf"]
[4,{"$f":"IF($D$5=\"\",\"\",IF($D$5=\"weiblich_R\",VLOOKUP((($H395-1)*6+4),'Dat-Bl'!$B$4:$D$123,2),VLOOKUP((($H395-1)*6+4),'Dat-Bl'!$B$127:$D$246,2)))","v":0},{"$f":"IF($D$5=\"\",\"\",IF($D$5=\"weiblich_R\",VLOOKUP((($H395-1)*6+4),'Dat-Bl'!$B$4:$D$123,3),VLOOKUP((($H395-1)*6+4),'Dat-Bl'!$B$127:$D$246,3)))","v":"W14/04-Regel"},{"$f":"IF($D$5=\"\",\"\",IF($D$5=\"weiblich_R\",VLOOKUP((($H395-1)*6+4),'Dat-Bl'!$B$4:$E$123,4),VLOOKUP((($H395-1)*6+4),'Dat-Bl'!$B$127:$E$246,4)))","v":"00:00:00"},"Sprint"]
[null,null,null,null,"Sprung"]
[null,null,null,null,"Wurf"]
[5,{"$f":"IF($D$5=\"\",\"\",IF($D$5=\"weiblich_R\",VLOOKUP((($H395-1)*6+5),'Dat-Bl'!$B$4:$D$123,2),VLOOKUP((($H395-1)*6+5),'Dat-Bl'!$B$127:$D$246,2)))","v":0},{"$f":"IF($D$5=\"\",\"\",IF($D$5=\"weiblich_R\",VLOOKUP((($H395-1)*6+5),'Dat-Bl'!$B$4:$D$123,3),VLOOKUP((($H395-1)*6+5),'Dat-Bl'!$B$127:$D$246,3)))","v":"W14/05-Regel"},{"$f":"IF($D$5=\"\",\"\",IF($D$5=\"weiblich_R\",VLOOKUP((($H395-1)*6+5),'Dat-Bl'!$B$4:$E$123,4),VLOOKUP((($H395-1)*6+5),'Dat-Bl'!$B$127:$E$246,4)))","v":"00:00:00"},"Sprint"]
[null,null,null,null,"Sprung"]
[null,null,null,null,"Wurf"]
[6,{"$f":"IF($D$5=\"\",\"\",IF($D$5=\"weiblich_R\",VLOOKUP((($H395-1)*6+6),'Dat-Bl'!$B$4:$D$123,2),VLOOKUP((($H395-1)*6+6),'Dat-Bl'!$B$127:$D$246,2)))","v":0},{"$f":"IF($D$5=\"\",\"\",IF($D$5=\"weiblich_R\",VLOOKUP((($H395-1)*6+6),'Dat-Bl'!$B$4:$D$123,3),VLOOKUP((($H395-1)*6+6),'Dat-Bl'!$B$127:$D$246,3)))","v":"W14/06-Regel"},{"$f":"IF($D$5=\"\",\"\",IF($D$5=\"weiblich_R\",VLOOKUP((($H395-1)*6+6),'Dat-Bl'!$B$4:$E$123,4),VLOOKUP((($H395-1)*6+6),'Dat-Bl'!$B$127:$E$246,4)))","v":"00:00:00"},"Sprint"]
[null,null,null,null,"Sprung"]
[null,null,null,null,"Wurf"]
[]
[null,null,null,null,"Staffelwertung (5 X 80m)"]
[]
[null,"Leichtathletik Mannschaftsdreikampf der Schulen"]
[]
[null,null,{"$f":"$C$3","v":"Bezirksmeisterschaft"},null,{"$f":"$E$3","v":2014},{"$f":"$F$3","v":"St. Pölten"}]
[]
[null,null,"Auswahl Geschlecht:",{"$f":"$D$5","v":"weiblich_R"},null,"Mannschaft:",null,15]
[null,null,null,null,{"$f":"$E$6","v":"C"}]
["Schule:",null,{"$f":"IF($D$5=\"\",\"\",IF($D$5=\"weiblich_R\",VLOOKUP((($H425-1)*6+1),'Dat-Bl'!$B$4:$F$123,5),VLOOKUP((($H425-1)*6+1),'Dat-Bl'!$B$127:$F$246,5)))","v":0}]
[null,null,null,null,null,"Versuch",null,null,"gewertete\n Leistung\n"]
[null,"Start Nr.","Name","Geb. Jahr","Bewerb","1.","2.","3."]
[1,{"$f":"IF($D$5=\"\",\"\",IF($D$5=\"weiblich_R\",VLOOKUP((($H425-1)*6+1),'Dat-Bl'!$B$4:$D$123,2),VLOOKUP((($H425-1)*6+1),'Dat-Bl'!$B$127:$D$246,2)))","v":0},{"$f":"IF($D$5=\"\",\"\",IF($D$5=\"weiblich_R\",VLOOKUP((($H425-1)*6+1),'Dat-Bl'!$B$4:$D$123,3),VLOOKUP((($H425-1)*6+1),'Dat-Bl'!$B$127:$D$246,3)))","v":"W15/01-Regel"},{"$f":"IF($D$5=\"\",\"\",IF($D$5=\"weiblich_R\",VLOOKUP((($H425-1)*6+1),'Dat-Bl'!$B$4:$E$123,4),VLOOKUP((($H425-1)*6+1),'Dat-Bl'!$B$127:$E$246,4)))","v":"00:00:00"},"Sprint"]
[null,null,null,null,"Sprung"]
[null,null,null,null,"Wurf"]
[2,{"$f":"IF($D$5=\"\",\"\",IF($D$5=\"weiblich_R\",VLOOKUP((($H425-1)*6+2),'Dat-Bl'!$B$4:$D$123,2),VLOOKUP((($H425-1)*6+2),'Dat-Bl'!$B$127:$D$246,2)))","v":0},{"$f":"IF($D$5=\"\",\"\",IF($D$5=\"weiblich_R\",VLOOKUP((($H425-1)*6+2),'Dat-Bl'!$B$4:$D$123,3),VLOOKUP((($H425-1)*6+2),'Dat-Bl'!$B$127:$D$246,3)))","v":"W15/02-Regel"},{"$f":"IF($D$5=\"\",\"\",IF($D$5=\"weiblich_R\",VLOOKUP((($H425-1)*6+2),'Dat-Bl'!$B$4:$E$123,4),VLOOKUP((($H425-1)*6+2),'Dat-Bl'!$B$127:$E$246,4)))","v":"00:00:00"},"Sprint"]
[null,null,null,null,"Sprung"]
[null,null,null,null,"Wurf"]
[3,{"$f":"IF($D$5=\"\",\"\",IF($D$5=\"weiblich_R\",VLOOKUP((($H425-1)*6+3),'Dat-Bl'!$B$4:$D$123,2),VLOOKUP((($H425-1)*6+3),'Dat-Bl'!$B$127:$D$246,2)))","v":0},{"$f":"IF($D$5=\"\",\"\",IF($D$5=\"weiblich_R\",VLOOKUP((($H425-1)*6+3),'Dat-Bl'!$B$4:$D$123,3),VLOOKUP((($H425-1)*6+3),'Dat-Bl'!$B$127:$D$246,3)))","v":"W15/03-Regel"},{"$f":"IF($D$5=\"\",\"\",IF($D$5=\"weiblich_R\",VLOOKUP((($H425-1)*6+3),'Dat-Bl'!$B$4:$E$123,4),VLOOKUP((($H425-1)*6+3),'Dat-Bl'!$B$127:$E$246,4)))","v":"00:00:00"},"Sprint"]
[null,null,null,null,"Sprung"]
[null,null,null,null,"Wurf"]
[4,{"$f":"IF($D$5=\"\",\"\",IF($D$5=\"weiblich_R\",VLOOKUP((($H425-1)*6+4),'Dat-Bl'!$B$4:$D$123,2),VLOOKUP((($H425-1)*6+4),'Dat-Bl'!$B$127:$D$246,2)))","v":0},{"$f":"IF($D$5=\"\",\"\",IF($D$5=\"weiblich_R\",VLOOKUP((($H425-1)*6+4),'Dat-Bl'!$B$4:$D$123,3),VLOOKUP((($H425-1)*6+4),'Dat-Bl'!$B$127:$D$246,3)))","v":"W15/04-Regel"},{"$f":"IF($D$5=\"\",\"\",IF($D$5=\"weiblich_R\",VLOOKUP((($H425-1)*6+4),'Dat-Bl'!$B$4:$E$123,4),VLOOKUP((($H425-1)*6+4),'Dat-Bl'!$B$127:$E$246,4)))","v":"00:00:00"},"Sprint"]
[null,null,null,null,"Sprung"]
[null,null,null,null,"Wurf"]
[5,{"$f":"IF($D$5=\"\",\"\",IF($D$5=\"weiblich_R\",VLOOKUP((($H425-1)*6+5),'Dat-Bl'!$B$4:$D$123,2),VLOOKUP((($H425-1)*6+5),'Dat-Bl'!$B$127:$D$246,2)))","v":0},{"$f":"IF($D$5=\"\",\"\",IF($D$5=\"weiblich_R\",VLOOKUP((($H425-1)*6+5),'Dat-Bl'!$B$4:$D$123,3),VLOOKUP((($H425-1)*6+5),'Dat-Bl'!$B$127:$D$246,3)))","v":"W15/05-Regel"},{"$f":"IF($D$5=\"\",\"\",IF($D$5=\"weiblich_R\",VLOOKUP((($H425-1)*6+5),'Dat-Bl'!$B$4:$E$123,4),VLOOKUP((($H425-1)*6+5),'Dat-Bl'!$B$127:$E$246,4)))","v":"00:00:00"},"Sprint"]
[null,null,null,null,"Sprung"]
[null,null,null,null,"Wurf"]
[6,{"$f":"IF($D$5=\"\",\"\",IF($D$5=\"weiblich_R\",VLOOKUP((($H425-1)*6+6),'Dat-Bl'!$B$4:$D$123,2),VLOOKUP((($H425-1)*6+6),'Dat-Bl'!$B$127:$D$246,2)))","v":0},{"$f":"IF($D$5=\"\",\"\",IF($D$5=\"weiblich_R\",VLOOKUP((($H425-1)*6+6),'Dat-Bl'!$B$4:$D$123,3),VLOOKUP((($H425-1)*6+6),'Dat-Bl'!$B$127:$D$246,3)))","v":"W15/06-Regel"},{"$f":"IF($D$5=\"\",\"\",IF($D$5=\"weiblich_R\",VLOOKUP((($H425-1)*6+6),'Dat-Bl'!$B$4:$E$123,4),VLOOKUP((($H425-1)*6+6),'Dat-Bl'!$B$127:$E$246,4)))","v":"00:00:00"},"Sprint"]
[null,null,null,null,"Sprung"]
[null,null,null,null,"Wurf"]
[]
[null,null,null,null,"Staffelwertung (5 X 80m)"]
[]
[null,"Leichtathletik Mannschaftsdreikampf der Schulen"]
[]
[null,null,{"$f":"$C$3","v":"Bezirksmeisterschaft"},null,{"$f":"$E$3","v":2014},{"$f":"$F$3","v":"St. Pölten"}]
[]
[null,null,"Auswahl Geschlecht:",{"$f":"$D$5","v":"weiblich_R"},null,"Mannschaft:",null,16]
[null,null,null,null,{"$f":"$E$6","v":"C"}]
["Schule:",null,{"$f":"IF($D$5=\"\",\"\",IF($D$5=\"weiblich_R\",VLOOKUP((($H455-1)*6+1),'Dat-Bl'!$B$4:$F$123,5),VLOOKUP((($H455-1)*6+1),'Dat-Bl'!$B$127:$F$246,5)))","v":0}]
[null,null,null,null,null,"Versuch",null,null,"gewertete\n Leistung\n"]
[null,"Start Nr.","Name","Geb. Jahr","Bewerb","1.","2.","3."]
[1,{"$f":"IF($D$5=\"\",\"\",IF($D$5=\"weiblich_R\",VLOOKUP((($H455-1)*6+1),'Dat-Bl'!$B$4:$D$123,2),VLOOKUP((($H455-1)*6+1),'Dat-Bl'!$B$127:$D$246,2)))","v":0},{"$f":"IF($D$5=\"\",\"\",IF($D$5=\"weiblich_R\",VLOOKUP((($H455-1)*6+1),'Dat-Bl'!$B$4:$D$123,3),VLOOKUP((($H455-1)*6+1),'Dat-Bl'!$B$127:$D$246,3)))","v":"W16/01-Regel"},{"$f":"IF($D$5=\"\",\"\",IF($D$5=\"weiblich_R\",VLOOKUP((($H455-1)*6+1),'Dat-Bl'!$B$4:$E$123,4),VLOOKUP((($H455-1)*6+1),'Dat-Bl'!$B$127:$E$246,4)))","v":"00:00:00"},"Sprint"]
[null,null,null,null,"Sprung"]
[null,null,null,null,"Wurf"]
[2,{"$f":"IF($D$5=\"\",\"\",IF($D$5=\"weiblich_R\",VLOOKUP((($H455-1)*6+2),'Dat-Bl'!$B$4:$D$123,2),VLOOKUP((($H455-1)*6+2),'Dat-Bl'!$B$127:$D$246,2)))","v":0},{"$f":"IF($D$5=\"\",\"\",IF($D$5=\"weiblich_R\",VLOOKUP((($H455-1)*6+2),'Dat-Bl'!$B$4:$D$123,3),VLOOKUP((($H455-1)*6+2),'Dat-Bl'!$B$127:$D$246,3)))","v":"W16/02-Regel"},{"$f":"IF($D$5=\"\",\"\",IF($D$5=\"weiblich_R\",VLOOKUP((($H455-1)*6+2),'Dat-Bl'!$B$4:$E$123,4),VLOOKUP((($H455-1)*6+2),'Dat-Bl'!$B$127:$E$246,4)))","v":"00:00:00"},"Sprint"]
[null,null,null,null,"Sprung"]
[null,null,null,null,"Wurf"]
[3,{"$f":"IF($D$5=\"\",\"\",IF($D$5=\"weiblich_R\",VLOOKUP((($H455-1)*6+3),'Dat-Bl'!$B$4:$D$123,2),VLOOKUP((($H455-1)*6+3),'Dat-Bl'!$B$127:$D$246,2)))","v":0},{"$f":"IF($D$5=\"\",\"\",IF($D$5=\"weiblich_R\",VLOOKUP((($H455-1)*6+3),'Dat-Bl'!$B$4:$D$123,3),VLOOKUP((($H455-1)*6+3),'Dat-Bl'!$B$127:$D$246,3)))","v":"W16/03-Regel"},{"$f":"IF($D$5=\"\",\"\",IF($D$5=\"weiblich_R\",VLOOKUP((($H455-1)*6+3),'Dat-Bl'!$B$4:$E$123,4),VLOOKUP((($H455-1)*6+3),'Dat-Bl'!$B$127:$E$246,4)))","v":"00:00:00"},"Sprint"]
[null,null,null,null,"Sprung"]
[null,null,null,null,"Wurf"]
[4,{"$f":"IF($D$5=\"\",\"\",IF($D$5=\"weiblich_R\",VLOOKUP((($H455-1)*6+4),'Dat-Bl'!$B$4:$D$123,2),VLOOKUP((($H455-1)*6+4),'Dat-Bl'!$B$127:$D$246,2)))","v":0},{"$f":"IF($D$5=\"\",\"\",IF($D$5=\"weiblich_R\",VLOOKUP((($H455-1)*6+4),'Dat-Bl'!$B$4:$D$123,3),VLOOKUP((($H455-1)*6+4),'Dat-Bl'!$B$127:$D$246,3)))","v":"W16/04-Regel"},{"$f":"IF($D$5=\"\",\"\",IF($D$5=\"weiblich_R\",VLOOKUP((($H455-1)*6+4),'Dat-Bl'!$B$4:$E$123,4),VLOOKUP((($H455-1)*6+4),'Dat-Bl'!$B$127:$E$246,4)))","v":"00:00:00"},"Sprint"]
[null,null,null,null,"Sprung"]
[null,null,null,null,"Wurf"]
[5,{"$f":"IF($D$5=\"\",\"\",IF($D$5=\"weiblich_R\",VLOOKUP((($H455-1)*6+5),'Dat-Bl'!$B$4:$D$123,2),VLOOKUP((($H455-1)*6+5),'Dat-Bl'!$B$127:$D$246,2)))","v":0},{"$f":"IF($D$5=\"\",\"\",IF($D$5=\"weiblich_R\",VLOOKUP((($H455-1)*6+5),'Dat-Bl'!$B$4:$D$123,3),VLOOKUP((($H455-1)*6+5),'Dat-Bl'!$B$127:$D$246,3)))","v":"W16/05-Regel"},{"$f":"IF($D$5=\"\",\"\",IF($D$5=\"weiblich_R\",VLOOKUP((($H455-1)*6+5),'Dat-Bl'!$B$4:$E$123,4),VLOOKUP((($H455-1)*6+5),'Dat-Bl'!$B$127:$E$246,4)))","v":"00:00:00"},"Sprint"]
[null,null,null,null,"Sprung"]
[null,null,null,null,"Wurf"]
[6,{"$f":"IF($D$5=\"\",\"\",IF($D$5=\"weiblich_R\",VLOOKUP((($H455-1)*6+6),'Dat-Bl'!$B$4:$D$123,2),VLOOKUP((($H455-1)*6+6),'Dat-Bl'!$B$127:$D$246,2)))","v":0},{"$f":"IF($D$5=\"\",\"\",IF($D$5=\"weiblich_R\",VLOOKUP((($H455-1)*6+6),'Dat-Bl'!$B$4:$D$123,3),VLOOKUP((($H455-1)*6+6),'Dat-Bl'!$B$127:$D$246,3)))","v":"W16/06-Regel"},{"$f":"IF($D$5=\"\",\"\",IF($D$5=\"weiblich_R\",VLOOKUP((($H455-1)*6+6),'Dat-Bl'!$B$4:$E$123,4),VLOOKUP((($H455-1)*6+6),'Dat-Bl'!$B$127:$E$246,4)))","v":"00:00:00"},"Sprint"]
[null,null,null,null,"Sprung"]
[null,null,null,null,"Wurf"]
[]
[null,null,null,null,"Staffelwertung (5 X 80m)"]
[]
[null,"Leichtathletik Mannschaftsdreikampf der Schulen"]
[]
[null,null,{"$f":"$C$3","v":"Bezirksmeisterschaft"},null,{"$f":"$E$3","v":2014},{"$f":"$F$3","v":"St. Pölten"}]
[]
[null,null,"Auswahl Geschlecht:",{"$f":"$D$5","v":"weiblich_R"},null,"Mannschaft:",null,17]
[null,null,null,null,{"$f":"$E$6","v":"C"}]
["Schule:",null,{"$f":"IF($D$5=\"\",\"\",IF($D$5=\"weiblich_R\",VLOOKUP((($H485-1)*6+1),'Dat-Bl'!$B$4:$F$123,5),VLOOKUP((($H485-1)*6+1),'Dat-Bl'!$B$127:$F$246,5)))","v":0}]
[null,null,null,null,null,"Versuch",null,null,"gewertete\n Leistung\n"]
[null,"Start Nr.","Name","Geb. Jahr","Bewerb","1.","2.","3."]
[1,{"$f":"IF($D$5=\"\",\"\",IF($D$5=\"weiblich_R\",VLOOKUP((($H485-1)*6+1),'Dat-Bl'!$B$4:$D$123,2),VLOOKUP((($H485-1)*6+1),'Dat-Bl'!$B$127:$D$246,2)))","v":0},{"$f":"IF($D$5=\"\",\"\",IF($D$5=\"weiblich_R\",VLOOKUP((($H485-1)*6+1),'Dat-Bl'!$B$4:$D$123,3),VLOOKUP((($H485-1)*6+1),'Dat-Bl'!$B$127:$D$246,3)))","v":"W17/01-Regel"},{"$f":"IF($D$5=\"\",\"\",IF($D$5=\"weiblich_R\",VLOOKUP((($H485-1)*6+1),'Dat-Bl'!$B$4:$E$123,4),VLOOKUP((($H485-1)*6+1),'Dat-Bl'!$B$127:$E$246,4)))","v":"00:00:00"},"Sprint"]
[null,null,null,null,"Sprung"]
[null,null,null,null,"Wurf"]
[2,{"$f":"IF($D$5=\"\",\"\",IF($D$5=\"weiblich_R\",VLOOKUP((($H485-1)*6+2),'Dat-Bl'!$B$4:$D$123,2),VLOOKUP((($H485-1)*6+2),'Dat-Bl'!$B$127:$D$246,2)))","v":0},{"$f":"IF($D$5=\"\",\"\",IF($D$5=\"weiblich_R\",VLOOKUP((($H485-1)*6+2),'Dat-Bl'!$B$4:$D$123,3),VLOOKUP((($H485-1)*6+2),'Dat-Bl'!$B$127:$D$246,3)))","v":"W17/02-Regel"},{"$f":"IF($D$5=\"\",\"\",IF($D$5=\"weiblich_R\",VLOOKUP((($H485-1)*6+2),'Dat-Bl'!$B$4:$E$123,4),VLOOKUP((($H485-1)*6+2),'Dat-Bl'!$B$127:$E$246,4)))","v":"00:00:00"},"Sprint"]
[null,null,null,null,"Sprung"]
[null,null,null,null,"Wurf"]
[3,{"$f":"IF($D$5=\"\",\"\",IF($D$5=\"weiblich_R\",VLOOKUP((($H485-1)*6+3),'Dat-Bl'!$B$4:$D$123,2),VLOOKUP((($H485-1)*6+3),'Dat-Bl'!$B$127:$D$246,2)))","v":0},{"$f":"IF($D$5=\"\",\"\",IF($D$5=\"weiblich_R\",VLOOKUP((($H485-1)*6+3),'Dat-Bl'!$B$4:$D$123,3),VLOOKUP((($H485-1)*6+3),'Dat-Bl'!$B$127:$D$246,3)))","v":"W17/03-Regel"},{"$f":"IF($D$5=\"\",\"\",IF($D$5=\"weiblich_R\",VLOOKUP((($H485-1)*6+3),'Dat-Bl'!$B$4:$E$123,4),VLOOKUP((($H485-1)*6+3),'Dat-Bl'!$B$127:$E$246,4)))","v":"00:00:00"},"Sprint"]
[null,null,null,null,"Sprung"]
[null,null,null,null,"Wurf"]
[4,{"$f":"IF($D$5=\"\",\"\",IF($D$5=\"weiblich_R\",VLOOKUP((($H485-1)*6+4),'Dat-Bl'!$B$4:$D$123,2),VLOOKUP((($H485-1)*6+4),'Dat-Bl'!$B$127:$D$246,2)))","v":0},{"$f":"IF($D$5=\"\",\"\",IF($D$5=\"weiblich_R\",VLOOKUP((($H485-1)*6+4),'Dat-Bl'!$B$4:$D$123,3),VLOOKUP((($H485-1)*6+4),'Dat-Bl'!$B$127:$D$246,3)))","v":"W17/04-Regel"},{"$f":"IF($D$5=\"\",\"\",IF($D$5=\"weiblich_R\",VLOOKUP((($H485-1)*6+4),'Dat-Bl'!$B$4:$E$123,4),VLOOKUP((($H485-1)*6+4),'Dat-Bl'!$B$127:$E$246,4)))","v":"00:00:00"},"Sprint"]
[null,null,null,null,"Sprung"]
[null,null,null,null,"Wurf"]
[5,{"$f":"IF($D$5=\"\",\"\",IF($D$5=\"weiblich_R\",VLOOKUP((($H485-1)*6+5),'Dat-Bl'!$B$4:$D$123,2),VLOOKUP((($H485-1)*6+5),'Dat-Bl'!$B$127:$D$246,2)))","v":0},{"$f":"IF($D$5=\"\",\"\",IF($D$5=\"weiblich_R\",VLOOKUP((($H485-1)*6+5),'Dat-Bl'!$B$4:$D$123,3),VLOOKUP((($H485-1)*6+5),'Dat-Bl'!$B$127:$D$246,3)))","v":"W17/05-Regel"},{"$f":"IF($D$5=\"\",\"\",IF($D$5=\"weiblich_R\",VLOOKUP((($H485-1)*6+5),'Dat-Bl'!$B$4:$E$123,4),VLOOKUP((($H485-1)*6+5),'Dat-Bl'!$B$127:$E$246,4)))","v":"00:00:00"},"Sprint"]
[null,null,null,null,"Sprung"]
[null,null,null,null,"Wurf"]
[6,{"$f":"IF($D$5=\"\",\"\",IF($D$5=\"weiblich_R\",VLOOKUP((($H485-1)*6+6),'Dat-Bl'!$B$4:$D$123,2),VLOOKUP((($H485-1)*6+6),'Dat-Bl'!$B$127:$D$246,2)))","v":0},{"$f":"IF($D$5=\"\",\"\",IF($D$5=\"weiblich_R\",VLOOKUP((($H485-1)*6+6),'Dat-Bl'!$B$4:$D$123,3),VLOOKUP((($H485-1)*6+6),'Dat-Bl'!$B$127:$D$246,3)))","v":"W17/06-Regel"},{"$f":"IF($D$5=\"\",\"\",IF($D$5=\"weiblich_R\",VLOOKUP((($H485-1)*6+6),'Dat-Bl'!$B$4:$E$123,4),VLOOKUP((($H485-1)*6+6),'Dat-Bl'!$B$127:$E$246,4)))","v":"00:00:00"},"Sprint"]
[null,null,null,null,"Sprung"]
[null,null,null,null,"Wurf"]
[]
[null,null,null,null,"Staffelwertung (5 X 80m)"]
[]
[null,"Leichtathletik Mannschaftsdreikampf der Schulen"]
[]
[null,null,{"$f":"$C$3","v":"Bezirksmeisterschaft"},null,{"$f":"$E$3","v":2014},{"$f":"$F$3","v":"St. Pölten"}]
[]
[null,null,"Auswahl Geschlecht:",{"$f":"$D$5","v":"weiblich_R"},null,"Mannschaft:",null,18]
[null,null,null,null,{"$f":"$E$6","v":"C"}]
["Schule:",null,{"$f":"IF($D$5=\"\",\"\",IF($D$5=\"weiblich_R\",VLOOKUP((($H515-1)*6+1),'Dat-Bl'!$B$4:$F$123,5),VLOOKUP((($H515-1)*6+1),'Dat-Bl'!$B$127:$F$246,5)))","v":0}]
[null,null,null,null,null,"Versuch",null,null,"gewertete\n Leistung\n"]
[null,"Start Nr.","Name","Geb. Jahr","Bewerb","1.","2.","3."]
[1,{"$f":"IF($D$5=\"\",\"\",IF($D$5=\"weiblich_R\",VLOOKUP((($H515-1)*6+1),'Dat-Bl'!$B$4:$D$123,2),VLOOKUP((($H515-1)*6+1),'Dat-Bl'!$B$127:$D$246,2)))","v":0},{"$f":"IF($D$5=\"\",\"\",IF($D$5=\"weiblich_R\",VLOOKUP((($H515-1)*6+1),'Dat-Bl'!$B$4:$D$123,3),VLOOKUP((($H515-1)*6+1),'Dat-Bl'!$B$127:$D$246,3)))","v":"W18/01-Regel"},{"$f":"IF($D$5=\"\",\"\",IF($D$5=\"weiblich_R\",VLOOKUP((($H515-1)*6+1),'Dat-Bl'!$B$4:$E$123,4),VLOOKUP((($H515-1)*6+1),'Dat-Bl'!$B$127:$E$246,4)))","v":"00:00:00"},"Sprint"]
[null,null,null,null,"Sprung"]
[null,null,null,null,"Wurf"]
[2,{"$f":"IF($D$5=\"\",\"\",IF($D$5=\"weiblich_R\",VLOOKUP((($H515-1)*6+2),'Dat-Bl'!$B$4:$D$123,2),VLOOKUP((($H515-1)*6+2),'Dat-Bl'!$B$127:$D$246,2)))","v":0},{"$f":"IF($D$5=\"\",\"\",IF($D$5=\"weiblich_R\",VLOOKUP((($H515-1)*6+2),'Dat-Bl'!$B$4:$D$123,3),VLOOKUP((($H515-1)*6+2),'Dat-Bl'!$B$127:$D$246,3)))","v":"W18/02-Regel"},{"$f":"IF($D$5=\"\",\"\",IF($D$5=\"weiblich_R\",VLOOKUP((($H515-1)*6+2),'Dat-Bl'!$B$4:$E$123,4),VLOOKUP((($H515-1)*6+2),'Dat-Bl'!$B$127:$E$246,4)))","v":"00:00:00"},"Sprint"]
[null,null,null,null,"Sprung"]
[null,null,null,null,"Wurf"]
[3,{"$f":"IF($D$5=\"\",\"\",IF($D$5=\"weiblich_R\",VLOOKUP((($H515-1)*6+3),'Dat-Bl'!$B$4:$D$123,2),VLOOKUP((($H515-1)*6+3),'Dat-Bl'!$B$127:$D$246,2)))","v":0},{"$f":"IF($D$5=\"\",\"\",IF($D$5=\"weiblich_R\",VLOOKUP((($H515-1)*6+3),'Dat-Bl'!$B$4:$D$123,3),VLOOKUP((($H515-1)*6+3),'Dat-Bl'!$B$127:$D$246,3)))","v":"W18/03-Regel"},{"$f":"IF($D$5=\"\",\"\",IF($D$5=\"weiblich_R\",VLOOKUP((($H515-1)*6+3),'Dat-Bl'!$B$4:$E$123,4),VLOOKUP((($H515-1)*6+3),'Dat-Bl'!$B$127:$E$246,4)))","v":"00:00:00"},"Sprint"]
[null,null,null,null,"Sprung"]
[null,null,null,null,"Wurf"]
[4,{"$f":"IF($D$5=\"\",\"\",IF($D$5=\"weiblich_R\",VLOOKUP((($H515-1)*6+4),'Dat-Bl'!$B$4:$D$123,2),VLOOKUP((($H515-1)*6+4),'Dat-Bl'!$B$127:$D$246,2)))","v":0},{"$f":"IF($D$5=\"\",\"\",IF($D$5=\"weiblich_R\",VLOOKUP((($H515-1)*6+4),'Dat-Bl'!$B$4:$D$123,3),VLOOKUP((($H515-1)*6+4),'Dat-Bl'!$B$127:$D$246,3)))","v":"W18/04-Regel"},{"$f":"IF($D$5=\"\",\"\",IF($D$5=\"weiblich_R\",VLOOKUP((($H515-1)*6+4),'Dat-Bl'!$B$4:$E$123,4),VLOOKUP((($H515-1)*6+4),'Dat-Bl'!$B$127:$E$246,4)))","v":"00:00:00"},"Sprint"]
[null,null,null,null,"Sprung"]
[null,null,null,null,"Wurf"]
[5,{"$f":"IF($D$5=\"\",\"\",IF($D$5=\"weiblich_R\",VLOOKUP((($H515-1)*6+5),'Dat-Bl'!$B$4:$D$123,2),VLOOKUP((($H515-1)*6+5),'Dat-Bl'!$B$127:$D$246,2)))","v":0},{"$f":"IF($D$5=\"\",\"\",IF($D$5=\"weiblich_R\",VLOOKUP((($H515-1)*6+5),'Dat-Bl'!$B$4:$D$123,3),VLOOKUP((($H515-1)*6+5),'Dat-Bl'!$B$127:$D$246,3)))","v":"W18/05-Regel"},{"$f":"IF($D$5=\"\",\"\",IF($D$5=\"weiblich_R\",VLOOKUP((($H515-1)*6+5),'Dat-Bl'!$B$4:$E$123,4),VLOOKUP((($H515-1)*6+5),'Dat-Bl'!$B$127:$E$246,4)))","v":"00:00:00"},"Sprint"]
[null,null,null,null,"Sprung"]
[null,null,null,null,"Wurf"]
[6,{"$f":"IF($D$5=\"\",\"\",IF($D$5=\"weiblich_R\",VLOOKUP((($H515-1)*6+6),'Dat-Bl'!$B$4:$D$123,2),VLOOKUP((($H515-1)*6+6),'Dat-Bl'!$B$127:$D$246,2)))","v":0},{"$f":"IF($D$5=\"\",\"\",IF($D$5=\"weiblich_R\",VLOOKUP((($H515-1)*6+6),'Dat-Bl'!$B$4:$D$123,3),VLOOKUP((($H515-1)*6+6),'Dat-Bl'!$B$127:$D$246,3)))","v":"W18/06-Regel"},{"$f":"IF($D$5=\"\",\"\",IF($D$5=\"weiblich_R\",VLOOKUP((($H515-1)*6+6),'Dat-Bl'!$B$4:$E$123,4),VLOOKUP((($H515-1)*6+6),'Dat-Bl'!$B$127:$E$246,4)))","v":"00:00:00"},"Sprint"]
[null,null,null,null,"Sprung"]
[null,null,null,null,"Wurf"]
[]
[null,null,null,null,"Staffelwertung (5 X 80m)"]
[]
[null,"Leichtathletik Mannschaftsdreikampf der Schulen"]
[]
[null,null,{"$f":"$C$3","v":"Bezirksmeisterschaft"},null,{"$f":"$E$3","v":2014},{"$f":"$F$3","v":"St. Pölten"}]
[]
[null,null,"Auswahl Geschlecht:",{"$f":"$D$5","v":"weiblich_R"},null,"Mannschaft:",null,19]
[null,null,null,null,{"$f":"$E$6","v":"C"}]
["Schule:",null,{"$f":"IF($D$5=\"\",\"\",IF($D$5=\"weiblich_R\",VLOOKUP((($H545-1)*6+1),'Dat-Bl'!$B$4:$F$123,5),VLOOKUP((($H545-1)*6+1),'Dat-Bl'!$B$127:$F$246,5)))","v":0}]
[null,null,null,null,null,"Versuch",null,null,"gewertete\n Leistung\n"]
[null,"Start Nr.","Name","Geb. Jahr","Bewerb","1.","2.","3."]
[1,{"$f":"IF($D$5=\"\",\"\",IF($D$5=\"weiblich_R\",VLOOKUP((($H545-1)*6+1),'Dat-Bl'!$B$4:$D$123,2),VLOOKUP((($H545-1)*6+1),'Dat-Bl'!$B$127:$D$246,2)))","v":0},{"$f":"IF($D$5=\"\",\"\",IF($D$5=\"weiblich_R\",VLOOKUP((($H545-1)*6+1),'Dat-Bl'!$B$4:$D$123,3),VLOOKUP((($H545-1)*6+1),'Dat-Bl'!$B$127:$D$246,3)))","v":"W19/01-Regel"},{"$f":"IF($D$5=\"\",\"\",IF($D$5=\"weiblich_R\",VLOOKUP((($H545-1)*6+1),'Dat-Bl'!$B$4:$E$123,4),VLOOKUP((($H545-1)*6+1),'Dat-Bl'!$B$127:$E$246,4)))","v":"00:00:00"},"Sprint"]
[null,null,null,null,"Sprung"]
[null,null,null,null,"Wurf"]
[2,{"$f":"IF($D$5=\"\",\"\",IF($D$5=\"weiblich_R\",VLOOKUP((($H545-1)*6+2),'Dat-Bl'!$B$4:$D$123,2),VLOOKUP((($H545-1)*6+2),'Dat-Bl'!$B$127:$D$246,2)))","v":0},{"$f":"IF($D$5=\"\",\"\",IF($D$5=\"weiblich_R\",VLOOKUP((($H545-1)*6+2),'Dat-Bl'!$B$4:$D$123,3),VLOOKUP((($H545-1)*6+2),'Dat-Bl'!$B$127:$D$246,3)))","v":"W19/02-Regel"},{"$f":"IF($D$5=\"\",\"\",IF($D$5=\"weiblich_R\",VLOOKUP((($H545-1)*6+2),'Dat-Bl'!$B$4:$E$123,4),VLOOKUP((($H545-1)*6+2),'Dat-Bl'!$B$127:$E$246,4)))","v":"00:00:00"},"Sprint"]
[null,null,null,null,"Sprung"]
[null,null,null,null,"Wurf"]
[3,{"$f":"IF($D$5=\"\",\"\",IF($D$5=\"weiblich_R\",VLOOKUP((($H545-1)*6+3),'Dat-Bl'!$B$4:$D$123,2),VLOOKUP((($H545-1)*6+3),'Dat-Bl'!$B$127:$D$246,2)))","v":0},{"$f":"IF($D$5=\"\",\"\",IF($D$5=\"weiblich_R\",VLOOKUP((($H545-1)*6+3),'Dat-Bl'!$B$4:$D$123,3),VLOOKUP((($H545-1)*6+3),'Dat-Bl'!$B$127:$D$246,3)))","v":"W19/03-Regel"},{"$f":"IF($D$5=\"\",\"\",IF($D$5=\"weiblich_R\",VLOOKUP((($H545-1)*6+3),'Dat-Bl'!$B$4:$E$123,4),VLOOKUP((($H545-1)*6+3),'Dat-Bl'!$B$127:$E$246,4)))","v":"00:00:00"},"Sprint"]
[null,null,null,null,"Sprung"]
[null,null,null,null,"Wurf"]
[4,{"$f":"IF($D$5=\"\",\"\",IF($D$5=\"weiblich_R\",VLOOKUP((($H545-1)*6+4),'Dat-Bl'!$B$4:$D$123,2),VLOOKUP((($H545-1)*6+4),'Dat-Bl'!$B$127:$D$246,2)))","v":0},{"$f":"IF($D$5=\"\",\"\",IF($D$5=\"weiblich_R\",VLOOKUP((($H545-1)*6+4),'Dat-Bl'!$B$4:$D$123,3),VLOOKUP((($H545-1)*6+4),'Dat-Bl'!$B$127:$D$246,3)))","v":"W19/04-Regel"},{"$f":"IF($D$5=\"\",\"\",IF($D$5=\"weiblich_R\",VLOOKUP((($H545-1)*6+4),'Dat-Bl'!$B$4:$E$123,4),VLOOKUP((($H545-1)*6+4),'Dat-Bl'!$B$127:$E$246,4)))","v":"00:00:00"},"Sprint"]
[null,null,null,null,"Sprung"]
[null,null,null,null,"Wurf"]
[5,{"$f":"IF($D$5=\"\",\"\",IF($D$5=\"weiblich_R\",VLOOKUP((($H545-1)*6+5),'Dat-Bl'!$B$4:$D$123,2),VLOOKUP((($H545-1)*6+5),'Dat-Bl'!$B$127:$D$246,2)))","v":0},{"$f":"IF($D$5=\"\",\"\",IF($D$5=\"weiblich_R\",VLOOKUP((($H545-1)*6+5),'Dat-Bl'!$B$4:$D$123,3),VLOOKUP((($H545-1)*6+5),'Dat-Bl'!$B$127:$D$246,3)))","v":"W19/05-Regel"},{"$f":"IF($D$5=\"\",\"\",IF($D$5=\"weiblich_R\",VLOOKUP((($H545-1)*6+5),'Dat-Bl'!$B$4:$E$123,4),VLOOKUP((($H545-1)*6+5),'Dat-Bl'!$B$127:$E$246,4)))","v":"00:00:00"},"Sprint"]
[null,null,null,null,"Sprung"]
[null,null,null,null,"Wurf"]
[6,{"$f":"IF($D$5=\"\",\"\",IF($D$5=\"weiblich_R\",VLOOKUP((($H545-1)*6+6),'Dat-Bl'!$B$4:$D$123,2),VLOOKUP((($H545-1)*6+6),'Dat-Bl'!$B$127:$D$246,2)))","v":0},{"$f":"IF($D$5=\"\",\"\",IF($D$5=\"weiblich_R\",VLOOKUP((($H545-1)*6+6),'Dat-Bl'!$B$4:$D$123,3),VLOOKUP((($H545-1)*6+6),'Dat-Bl'!$B$127:$D$246,3)))","v":"W19/06-Regel"},{"$f":"IF($D$5=\"\",\"\",IF($D$5=\"weiblich_R\",VLOOKUP((($H545-1)*6+6),'Dat-Bl'!$B$4:$E$123,4),VLOOKUP((($H545-1)*6+6),'Dat-Bl'!$B$127:$E$246,4)))","v":"00:00:00"},"Sprint"]
[null,null,null,null,"Sprung"]
[null,null,null,null,"Wurf"]
[]
[null,null,null,null,"Staffelwertung (5 X 80m)"]
[]
[null,"Leichtathletik Mannschaftsdreikampf der Schulen"]
[]
[null,null,{"$f":"$C$3","v":"Bezirksmeisterschaft"},null,{"$f":"$E$3","v":2014},{"$f":"$F$3","v":"St. Pölten"}]
[]
[null,null,"Auswahl Geschlecht:",{"$f":"$D$5","v":"weiblich_R"},null,"Mannschaft:",null,20]
[null,null,null,null,{"$f":"$E$6","v":"C"}]
["Schule:",null,{"$f":"IF($D$5=\"\",\"\",IF($D$5=\"weiblich_R\",VLOOKUP((($H575-1)*6+1),'Dat-Bl'!$B$4:$F$123,5),VLOOKUP((($H575-1)*6+1),'Dat-Bl'!$B$127:$F$246,5)))","v":0}]
[null,null,null,null,null,"Versuch",null,null,"gewertete\n Leistung\n"]
[null,"Start Nr.","Name","Geb. Jahr","Bewerb","1.","2.","3."]
[1,{"$f":"IF($D$5=\"\",\"\",IF($D$5=\"weiblich_R\",VLOOKUP((($H575-1)*6+1),'Dat-Bl'!$B$4:$D$123,2),VLOOKUP((($H575-1)*6+1),'Dat-Bl'!$B$127:$D$246,2)))","v":0},{"$f":"IF($D$5=\"\",\"\",IF($D$5=\"weiblich_R\",VLOOKUP((($H575-1)*6+1),'Dat-Bl'!$B$4:$D$123,3),VLOOKUP((($H575-1)*6+1),'Dat-Bl'!$B$127:$D$246,3)))","v":"W20/01-Regel"},{"$f":"IF($D$5=\"\",\"\",IF($D$5=\"weiblich_R\",VLOOKUP((($H575-1)*6+1),'Dat-Bl'!$B$4:$E$123,4),VLOOKUP((($H575-1)*6+1),'Dat-Bl'!$B$127:$E$246,4)))","v":"00:00:00"},"Sprint"]
[null,null,null,null,"Sprung"]
[null,null,null,null,"Wurf"]
[2,{"$f":"IF($D$5=\"\",\"\",IF($D$5=\"weiblich_R\",VLOOKUP((($H575-1)*6+2),'Dat-Bl'!$B$4:$D$123,2),VLOOKUP((($H575-1)*6+2),'Dat-Bl'!$B$127:$D$246,2)))","v":0},{"$f":"IF($D$5=\"\",\"\",IF($D$5=\"weiblich_R\",VLOOKUP((($H575-1)*6+2),'Dat-Bl'!$B$4:$D$123,3),VLOOKUP((($H575-1)*6+2),'Dat-Bl'!$B$127:$D$246,3)))","v":"W20/02-Regel"},{"$f":"IF($D$5=\"\",\"\",IF($D$5=\"weiblich_R\",VLOOKUP((($H575-1)*6+2),'Dat-Bl'!$B$4:$E$123,4),VLOOKUP((($H575-1)*6+2),'Dat-Bl'!$B$127:$E$246,4)))","v":"00:00:00"},"Sprint"]
[null,null,null,null,"Sprung"]
[null,null,null,null,"Wurf"]
[3,{"$f":"IF($D$5=\"\",\"\",IF($D$5=\"weiblich_R\",VLOOKUP((($H575-1)*6+3),'Dat-Bl'!$B$4:$D$123,2),VLOOKUP((($H575-1)*6+3),'Dat-Bl'!$B$127:$D$246,2)))","v":0},{"$f":"IF($D$5=\"\",\"\",IF($D$5=\"weiblich_R\",VLOOKUP((($H575-1)*6+3),'Dat-Bl'!$B$4:$D$123,3),VLOOKUP((($H575-1)*6+3),'Dat-Bl'!$B$127:$D$246,3)))","v":"W20/03-Regel"},{"$f":"IF($D$5=\"\",\"\",IF($D$5=\"weiblich_R\",VLOOKUP((($H575-1)*6+3),'Dat-Bl'!$B$4:$E$123,4),VLOOKUP((($H575-1)*6+3),'Dat-Bl'!$B$127:$E$246,4)))","v":"00:00:00"},"Sprint"]
[null,null,null,null,"Sprung"]
[null,null,null,null,"Wurf"]
[4,{"$f":"IF($D$5=\"\",\"\",IF($D$5=\"weiblich_R\",VLOOKUP((($H575-1)*6+4),'Dat-Bl'!$B$4:$D$123,2),VLOOKUP((($H575-1)*6+4),'Dat-Bl'!$B$127:$D$246,2)))","v":0},{"$f":"IF($D$5=\"\",\"\",IF($D$5=\"weiblich_R\",VLOOKUP((($H575-1)*6+4),'Dat-Bl'!$B$4:$D$123,3),VLOOKUP((($H575-1)*6+4),'Dat-Bl'!$B$127:$D$246,3)))","v":"W20/04-Regel"},{"$f":"IF($D$5=\"\",\"\",IF($D$5=\"weiblich_R\",VLOOKUP((($H575-1)*6+4),'Dat-Bl'!$B$4:$E$123,4),VLOOKUP((($H575-1)*6+4),'Dat-Bl'!$B$127:$E$246,4)))","v":"00:00:00"},"Sprint"]
[null,null,null,null,"Sprung"]
[null,null,null,null,"Wurf"]
[5,{"$f":"IF($D$5=\"\",\"\",IF($D$5=\"weiblich_R\",VLOOKUP((($H575-1)*6+5),'Dat-Bl'!$B$4:$D$123,2),VLOOKUP((($H575-1)*6+5),'Dat-Bl'!$B$127:$D$246,2)))","v":0},{"$f":"IF($D$5=\"\",\"\",IF($D$5=\"weiblich_R\",VLOOKUP((($H575-1)*6+5),'Dat-Bl'!$B$4:$D$123,3),VLOOKUP((($H575-1)*6+5),'Dat-Bl'!$B$127:$D$246,3)))","v":"W20/05-Regel"},{"$f":"IF($D$5=\"\",\"\",IF($D$5=\"weiblich_R\",VLOOKUP((($H575-1)*6+5),'Dat-Bl'!$B$4:$E$123,4),VLOOKUP((($H575-1)*6+5),'Dat-Bl'!$B$127:$E$246,4)))","v":"00:00:00"},"Sprint"]
[null,null,null,null,"Sprung"]
[null,null,null,null,"Wurf"]
[6,{"$f":"IF($D$5=\"\",\"\",IF($D$5=\"weiblich_R\",VLOOKUP((($H575-1)*6+6),'Dat-Bl'!$B$4:$D$123,2),VLOOKUP((($H575-1)*6+6),'Dat-Bl'!$B$127:$D$246,2)))","v":0},{"$f":"IF($D$5=\"\",\"\",IF($D$5=\"weiblich_R\",VLOOKUP((($H575-1)*6+6),'Dat-Bl'!$B$4:$D$123,3),VLOOKUP((($H575-1)*6+6),'Dat-Bl'!$B$127:$D$246,3)))","v":"W20/06-Regel"},{"$f":"IF($D$5=\"\",\"\",IF($D$5=\"weiblich_R\",VLOOKUP((($H575-1)*6+6),'Dat-Bl'!$B$4:$E$123,4),VLOOKUP((($H575-1)*6+6),'Dat-Bl'!$B$127:$E$246,4)))","v":"00:00:00"},"Sprint"]
[null,null,null,null,"Sprung"]
[null,null,null,null,"Wurf"]
[]
[null,null,null,null,"Staffelwertung (5 X 80m)"]

{"sheet":"P_Schulen_m","index":19,"n_rows":599,"n_cols":9,"rows_kept":599,"cut":false,"hidden":false,"merged":[[594,0,596,0],[594,1,596,1],[594,2,596,2],[594,3,596,3],[594,5,594,7],[598,4,598,7],[588,0,590,0],[588,1,590,1],[588,2,590,2],[588,3,590,3],[588,5,588,7],[591,0,593,0],[591,1,593,1],[591,2,593,2],[591,3,593,3],[591,5,591,7],[582,0,584,0],[582,1,584,1],[582,2,584,2],[582,3,584,3],[582,5,582,7],[585,0,587,0],[585,1,587,1],[585,2,587,2],[585,3,587,3],[585,5,585,7],[577,5,577,7],[577,8,578,8],[579,0,581,0],[579,1,581,1],[579,2,581,2],[579,3,581,3],[579,5,579,7],[570,1,570,7],[572,2,572,3],[572,5,572,7],[574,5,574,6],[575,4,576,4],[576,0,576,1],[564,0,566,0],[564,1,566,1],[564,2,566,2],[564,3,566,3],[564,5,564,7],[568,4,568,7],[558,0,560,0],[558,1,560,1],[558,2,560,2],[558,3,560,3],[558,5,558,7],[561,0,563,0],[561,1,563,1],[561,2,563,2],[561,3,563,3],[561,5,561,7],[552,0,554,0],[552,1,554,1],[552,2,554,2],[552,3,554,3],[552,5,552,7],[555,0,557,0],[555,1,557,1],[555,2,557,2],[555,3,557,3],[555,5,555,7],[547,5,547,7],[547,8,548,8],[549,0,551,0],[549,1,551,1],[549,2,551,2],[549,3,551,3],[549,5,549,7],[540,1,540,7],[542,2,542,3],[542,5,542,7],[544,5,544,6],[545,4,546,4],[546,0,546,1],[534,0,536,0],[534,1,536,1],[534,2,536,2],[534,3,536,3],[534,5,534,7],[538,4,538,7],[528,0,530,0],[528,1,530,1],[528,2,530,2],[528,3,530,3],[528,5,528,7],[531,0,533,0],[531,1,533,1],[531,2,533,2],[531,3,533,3],[531,5,531,7],[522,0,524,0],[522,1,524,1],[522,2,524,2],[522,3,524,3],[522,5,522,7],[525,0,527,0],[525,1,527,1],[525,2,527,2],[525,3,527,3],[525,5,525,7],[517,5,517,7],[517,8,518,8],[519,0,521,0],[519,1,521,1],[519,2,521,2],[519,3,521,3],[519,5,519,7],[510,1,510,7],[512,2,512,3],[512,5,512,7],[514,5,514,6],[515,4,516,4],[516,0,516,1],[504,0,506,0],[504,1,506,1],[504,2,506,2],[504,3,506,3],[504,5,504,7],[508,4,508,7],[498,0,500,0],[498,1,500,1],[498,2,500,2],[498,3,500,3],[498,5,498,7],[501,0,503,0],[501,1,503,1],[501,2,503,2],[501,3,503,3],[501,5,501,7],[492,0,494,0],[492,1,494,1],[492,2,494,2],[492,3,494,3],[492,5,492,7],[495,0,497,0],[495,1,497,1],[495,2,497,2],[495,3,497,3],[495,5,495,7],[487,5,487,7],[487,8,488,8],[489,0,491,0],[489,1,491,1],[489,2,491,2],[489,3,491,3],[489,5,489,7],[480,1,480,7],[482,2,482,3],[482,5,482,7],[484,5,484,6],[485,4,486,4],[486,0,486,1],[474,0,476,0],[474,1,476,1],[474,2,476,2],[474,3,476,3],[474,5,474,7],[478,4,478,7],[468,0,470,0],[468,1,470,1],[468,2,470,2],[468,3,470,3],[468,5,468,7],[471,0,473,0],[471,1,473,1],[471,2,473,2],[471,3,473,3],[471,5,471,7],[462,0,464,0],[462,1,464,1],[462,2,464,2],[462,3,464,3],[462,5,462,7],[465,0,467,0],[465,1,467,1],[465,2,467,2],[465,3,467,3],[465,5,465,7],[457,5,457,7],[457,8,458,8],[459,0,461,0],[459,1,461,1],[459,2,461,2],[459,3,461,3],[459,5,459,7],[450,1,450,7],[452,2,452,3],[452,5,452,7],[454,5,454,6],[455,4,456,4],[456,0,456,1],[444,0,446,0],[444,1,446,1],[444,2,446,2],[444,3,446,3],[444,5,444,7],[448,4,448,7],[438,0,440,0],[438,1,440,1],[438,2,440,2],[438,3,440,3],[438,5,438,7],[441,0,443,0],[441,1,443,1],[441,2,443,2],[441,3,443,3],[441,5,441,7],[432,0,434,0],[432,1,434,1],[432,2,434,2],[432,3,434,3],[432,5,432,7],[435,0,437,0],[435,1,437,1],[435,2,437,2],[435,3,437,3],[435,5,435,7],[427,8,428,8],[429,0,431,0],[429,1,431,1],[429,2,431,2],[429,3,431,3],[429,5,429,7],[420,1,420,7],[422,2,422,3],[422,5,422,7],[424,5,424,6],[426,0,426,1],[427,5,427,7],[414,0,416,0],[414,1,416,1],[414,2,416,2],[414,3,416,3],[414,5,414,7],[418,4,418,7],[408,0,410,0],[408,1,410,1],[408,2,410,2],[408,3,410,3],[408,5,408,7],[411,0,413,0],[411,1,413,1],[411,2,413,2],[411,3,413,3],[411,5,411,7],[402,0,404,0],[402,1,404,1],[402,2,404,2],[402,3,404,3],[402,5,402,7],[405,0,407,0],[405,1,407,1],[405,2,407,2],[405,3,407,3],[405,5,405,7],[397,5,397,7],[397,8,398,8],[399,0,401,0],[399,1,401,1],[399,2,401,2],[399,3,401,3],[399,5,399,7],[390,1,390,7],[392,2,392,3],[392,5,392,7],[394,5,394,6],[395,4,396,4],[396,0,396,1],[384,0,386,0],[384,1,386,1],[384,2,386,2],[384,3,386,3],[384,5,384,7],[388,4,388,7],[378,0,380,0],[378,1,380,1],[378,2,380,2],[378,3,380,3],[378,5,378,7],[381,0,383,0],[381,1,383,1],[381,2,383,2],[381,3,383,3],[381,5,381,7],[372,0,374,0],[372,1,374,1],[372,2,374,2],[372,3,374,3],[372,5,372,7],[375,0,377,0],[375,1,377,1],[375,2,377,2],[375,3,377,3],[375,5,375,7],[367,5,367,7],[367,8,368,8],[369,0,371,0],[369,1,371,1],[369,2,371,2],[369,3,371,3],[369,5,369,7],[360,1,360,7],[362,2,362,3],[362,5,362,7],[364,5,364,6],[365,4,366,4],[366,0,366,1],[354,0,356,0],[354,1,356,1],[354,2,356,2],[354,3,356,3],[354,5,354,7],[358,4,358,7],[348,0,350,0],[348,1,350,1],[348,2,350,2],[348,3,350,3],[348,5,348,7],[351,0,353,0],[351,1,353,1],[351,2,353,2],[351,3,353,3],[351,5,351,7],[342,0,344,0],[342,1,344,1],[342,2,344,2],[342,3,344,3],[342,5,342,7],[345,0,347,0],[345,1,347,1],[345,2,347,2],[345,3,347,3],[345,5,345,7],[337,5,337,7],[337,8,338,8],[339,0,341,0],[339,1,341,1],[339,2,341,2],[339,3,341,3],[339,5,339,7],[330,1,330,7],[332,2,332,3],[332,5,332,7],[334,5,334,6],[335,4,336,4],[336,0,336,1],[324,0,326,0],[324,1,326,1],[324,2,326,2],[324,3,326,3],[324,5,324,7],[328,4,328,7],[318,0,320,0],[318,1,320,1],[318,2,320,2],[318,3,320,3],[318,5,318,7],[321,0,323,0],[321,1,323,1],[321,2,323,2],[321,3,323,3],[321,5,321,7],[312,0,314,0],[312,1,314,1],[312,2,314,2],[312,3,314,3],[312,5,312,7],[315,0,317,0],[315,1,317,1],[315,2,317,2],[315,3,317,3],[315,5,315,7],[307,5,307,7],[307,8,308,8],[309,0,311,0],[309,1,311,1],[309,2,311,2],[309,3,311,3],[309,5,309,7],[300,1,300,7],[302,2,302,3],[302,5,302,7],[304,5,304,6],[305,4,306,4],[306,0,306,1],[294,0,296,0],[294,1,296,1],[294,2,296,2],[294,3,296,3],[294,5,294,7],[298,4,298,7],[288,0,290,0],[288,1,290,1],[288,2,290,2],[288,3,290,3],[288,5,288,7],[291,0,293,0],[291,1,293,1],[291,2,293,2],[291,3,293,3],[291,5,291,7],[282,0,284,0],[282,1,284,1],[282,2,284,2],[282,3,284,3],[282,5,282,7],[285,0,287,0],[285,1,287,1],[285,2,287,2],[285,3,287,3],[285,5,285,7],[277,5,277,7],[277,8,278,8],[279,0,281,0],[279,1,281,1],[279,2,281,2],[279,3,281,3],[279,5,279,7],[270,1,270,7],[272,2,272,3],[272,5,272,7],[274,5,274,6],[275,4,276,4],[276,0,276,1],[264,0,266,0],[264,1,266,1],[264,2,266,2],[264,3,266,3],[264,5,264,7],[268,4,268,7],[258,0,260,0],[258,1,260,1],[258,2,260,2],[258,3,260,3],[258,5,258,7],[261,0,263,0],[261,1,263,1],[261,2,263,2],[261,3,263,3],[261,5,261,7],[252,0,254,0],[252,1,254,1],[252,2,254,2],[252,3,254,3],[252,5,252,7],[255,0,257,0],[255,1,257,1],[255,2,257,2],[255,3,257,3],[255,5,255,7],[247,5,247,7],[247,8,248,8],[249,0,251,0],[249,1,251,1],[249,2,251,2],[249,3,251,3],[249,5,249,7],[240,1,240,7],[242,2,242,3],[242,5,242,7],[244,5,244,6],[245,4,246,4],[246,0,246,1],[234,0,236,0],[234,1,236,1],[234,2,236,2],[234,3,236,3],[234,5,234,7],[238,4,238,7],[228,0,230,0],[228,1,230,1],[228,2,230,2],[228,3,230,3],[228,5,228,7],[231,0,233,0],[231,1,233,1],[231,2,233,2],[231,3,233,3],[231,5,231,7],[222,0,224,0],[222,1,224,1],[222,2,224,2],[222,3,224,3],[222,5,222,7],[225,0,227,0],[225,1,227,1],[225,2,227,2],[225,3,227,3],[225,5,225,7],[217,5,217,7],[217,8,218,8],[219,0,221,0],[219,1,221,1],[219,2,221,2],[219,3,221,3],[219,5,219,7],[210,1,210,7],[212,2,212,3],[212,5,212,7],[214,5,214,6],[215,4,216,4],[216,0,216,1],[204,0,206,0],[204,1,206,1],[204,2,206,2],[204,3,206,3],[204,5,204,7],[208,4,208,7],[198,0,200,0],[198,1,200,1],[198,2,200,2],[198,3,200,3],[198,5,198,7],[201,0,203,0],[201,1,203,1],[201,2,203,2],[201,3,203,3],[201,5,201,7],[192,0,194,0],[192,1,194,1],[192,2,194,2],[192,3,194,3],[192,5,192,7],[195,0,197,0],[195,1,197,1],[195,2,197,2],[195,3,197,3],[195,5,195,7],[187,5,187,7],[187,8,188,8],[189,0,191,0],[189,1,191,1],[189,2,191,2],[189,3,191,3],[189,5,189,7],[180,1,180,7],[182,2,182,3],[182,5,182,7],[184,5,184,6],[185,4,186,4],[186,0,186,1],[174,0,176,0],[174,1,176,1],[174,2,176,2],[174,3,176,3],[174,5,174,7],[178,4,178,7],[168,0,170,0],[168,1,170,1],[168,2,170,2],[168,3,170,3],[168,5,168,7],[171,0,173,0],[171,1,173,1],[171,2,173,2],[171,3,173,3],[171,5,171,7],[162,0,164,0],[162,1,164,1],[162,2,164,2],[162,3,164,3],[162,5,162,7],[165,0,167,0],[165,1,167,1],[165,2,167,2],[165,3,167,3],[165,5,165,7],[157,5,157,7],[157,8,158,8],[159,0,161,0],[159,1,161,1],[159,2,161,2],[159,3,161,3],[159,5,159,7],[150,1,150,7],[152,2,152,3],[152,5,152,7],[154,5,154,6],[155,4,156,4],[156,0,156,1],[144,0,146,0],[144,1,146,1],[144,2,146,2],[144,3,146,3],[144,5,144,7],[148,4,148,7],[138,0,140,0],[138,1,140,1],[138,2,140,2],[138,3,140,3],[138,5,138,7],[141,0,143,0],[141,1,143,1],[141,2,143,2],[141,3,143,3],[141,5,141,7],[132,0,134,0],[132,1,134,1],[132,2,134,2],[132,3,134,3],[132,5,132,7],[135,0,137,0],[135,1,137,1],[135,2,137,2],[135,3,137,3],[135,5,135,7],[127,5,127,7],[127,8,128,8],[129,0,131,0],[129,1,131,1],[129,2,131,2],[129,3,131,3],[129,5,129,7],[120,1,120,7],[122,2,122,3],[122,5,122,7],[124,5,124,6],[125,4,126,4],[126,0,126,1],[114,0,116,0],[114,1,116,1],[114,2,116,2],[114,3,116,3],[114,5,114,7],[118,4,118,7],[108,0,110,0],[108,1,110,1],[108,2,110,2],[108,3,110,3],[108,5,108,7],[111,0,113,0],[111,1,113,1],[111,2,113,2],[111,3,113,3],[111,5,111,7],[102,0,104,0],[102,1,104,1],[102,2,104,2],[102,3,104,3],[102,5,102,7],[105,0,107,0],[105,1,107,1],[105,2,107,2],[105,3,107,3],[105,5,105,7],[97,5,97,7],[97,8,98,8],[99,0,101,0],[99,1,101,1],[99,2,101,2],[99,3,101,3],[99,5,99,7],[90,1,90,7],[92,2,92,3],[92,5,92,7],[94,5,94,6],[95,4,96,4],[96,0,96,1],[84,0,86,0],[84,1,86,1],[84,2,86,2],[84,3,86,3],[84,5,84,7],[88,4,88,7],[78,0,80,0],[78,1,80,1],[78,2,80,2],[78,3,80,3],[78,5,78,7],[81,0,83,0],[81,1,83,1],[81,2,83,2],[81,3,83,3],[81,5,81,7],[72,0,74,0],[72,1,74,1],[72,2,74,2],[72,3,74,3],[72,5,72,7],[75,0,77,0],[75,1,77,1],[75,2,77,2],[75,3,77,3],[75,5,75,7],[67,5,67,7],[67,8,68,8],[69,0,71,0],[69,1,71,1],[69,2,71,2],[69,3,71,3],[69,5,69,7],[60,1,60,7],[62,2,62,3],[62,5,62,7],[64,5,64,6],[65,4,66,4],[66,0,66,1],[54,0,56,0],[54,1,56,1],[54,2,56,2],[54,3,56,3],[54,5,54,7],[58,4,58,7],[48,0,50,0],[48,1,50,1],[48,2,50,2],[48,3,50,3],[48,5,48,7],[51,0,53,0],[51,1,53,1],[51,2,53,2],[51,3,53,3],[51,5,51,7],[42,0,44,0],[42,1,44,1],[42,2,44,2],[42,3,44,3],[42,5,42,7],[45,0,47,0],[45,1,47,1],[45,2,47,2],[45,3,47,3],[45,5,45,7],[37,5,37,7],[37,8,38,8],[39,0,41,0],[39,1,41,1],[39,2,41,2],[39,3,41,3],[39,5,39,7],[30,1,30,7],[32,2,32,3],[32,5,32,7],[34,5,34,6],[35,4,36,4],[36,0,36,1],[24,0,26,0],[24,1,26,1],[24,2,26,2],[24,3,26,3],[24,5,24,7],[28,4,28,7],[18,0,20,0],[18,1,20,1],[18,2,20,2],[18,3,20,3],[18,5,18,7],[21,0,23,0],[21,1,23,1],[21,2,23,2],[21,3,23,3],[21,5,21,7],[12,0,14,0],[12,1,14,1],[12,2,14,2],[12,3,14,3],[12,5,12,7],[15,0,17,0],[15,1,17,1],[15,2,17,2],[15,3,17,3],[15,5,15,7],[7,5,7,7],[7,8,8,8],[9,0,11,0],[9,1,11,1],[9,2,11,2],[9,3,11,3],[9,5,9,7],[0,1,0,7],[2,2,2,3],[2,5,2,7],[4,5,4,6],[5,4,6,4],[6,0,6,1]]}
[null,"Leichtathletik Mannschaftsdreikampf der Schulen"]
[]
[null,null,"Bezirksmeisterschaft",null,2014,"St. Pölten"]
[]
[null,null,"Auswahl Geschlecht:","männlich_R",null,"Mannschaft:",null,1]
[null,null,null,null,"D"]
["Schule:",null,{"$f":"IF($D$5=\"\",\"\",IF($D$5=\"männlich_R\",VLOOKUP((($H5-1)*6+1),'Dat-Bl'!$J$4:$N$123,5),VLOOKUP((($H5-1)*6+1),'Dat-Bl'!$J$127:$N$246,5)))","v":0}]
[null,null,null,null,null,"Versuch",null,null,"gewertete\n Leistung\n"]
[null,"Start Nr.","Name","Geb. Jahr","Bewerb","1.","2.","3."]
[1,{"$f":"IF($D$5=\"\",\"\",IF($D$5=\"männlich_R\",VLOOKUP((($H5-1)*6+1),'Dat-Bl'!$J$4:$N$123,2),VLOOKUP((($H5-1)*6+1),'Dat-Bl'!$J$127:$N$246,2)))","v":0},{"$f":"IF($D$5=\"\",\"\",IF($D$5=\"männlich_R\",VLOOKUP((($H5-1)*6+1),'Dat-Bl'!$J$4:$N$123,3),VLOOKUP((($H5-1)*6+1),'Dat-Bl'!$J$127:$N$246,3)))","v":"M1/01-Regel"},{"$f":"IF($D$5=\"\",\"\",IF($D$5=\"männlich_R\",VLOOKUP((($H5-1)*6+1),'Dat-Bl'!$J$4:$N$123,4),VLOOKUP((($H5-1)*6+1),'Dat-Bl'!$J$127:$N$246,4)))","v":"00:00:00"},"Sprint"]
[null,null,null,null,"Sprung"]
[null,null,null,null,"Wurf"]
[2,{"$f":"IF($D$5=\"\",\"\",IF($D$5=\"männlich_R\",VLOOKUP((($H5-1)*6+2),'Dat-Bl'!$J$4:$N$123,2),VLOOKUP((($H5-1)*6+2),'Dat-Bl'!$J$127:$N$246,2)))","v":0},{"$f":"IF($D$5=\"\",\"\",IF($D$5=\"männlich_R\",VLOOKUP((($H5-1)*6+2),'Dat-Bl'!$J$4:$N$123,3),VLOOKUP((($H5-1)*6+2),'Dat-Bl'!$J$127:$N$246,3)))","v":"M1/02-Regel"},{"$f":"IF($D$5=\"\",\"\",IF($D$5=\"männlich_R\",VLOOKUP((($H5-1)*6+2),'Dat-Bl'!$J$4:$N$123,4),VLOOKUP((($H5-1)*6+2),'Dat-Bl'!$J$127:$N$246,4)))","v":"00:00:00"},"Sprint"]
[null,null,null,null,"Sprung"]
[null,null,null,null,"Wurf"]
[3,{"$f":"IF($D$5=\"\",\"\",IF($D$5=\"männlich_R\",VLOOKUP((($H5-1)*6+3),'Dat-Bl'!$J$4:$N$123,2),VLOOKUP((($H5-1)*6+3),'Dat-Bl'!$J$127:$N$246,2)))","v":0},{"$f":"IF($D$5=\"\",\"\",IF($D$5=\"männlich_R\",VLOOKUP((($H5-1)*6+3),'Dat-Bl'!$J$4:$N$123,3),VLOOKUP((($H5-1)*6+3),'Dat-Bl'!$J$127:$N$246,3)))","v":"M1/03-Regel"},{"$f":"IF($D$5=\"\",\"\",IF($D$5=\"männlich_R\",VLOOKUP((($H5-1)*6+3),'Dat-Bl'!$J$4:$N$123,4),VLOOKUP((($H5-1)*6+3),'Dat-Bl'!$J$127:$N$246,4)))","v":"00:00:00"},"Sprint"]
[null,null,null,null,"Sprung"]
[null,null,null,null,"Wurf"]
[4,{"$f":"IF($D$5=\"\",\"\",IF($D$5=\"männlich_R\",VLOOKUP((($H5-1)*6+4),'Dat-Bl'!$J$4:$N$123,2),VLOOKUP((($H5-1)*6+4),'Dat-Bl'!$J$127:$N$246,2)))","v":0},{"$f":"IF($D$5=\"\",\"\",IF($D$5=\"männlich_R\",VLOOKUP((($H5-1)*6+4),'Dat-Bl'!$J$4:$N$123,3),VLOOKUP((($H5-1)*6+4),'Dat-Bl'!$J$127:$N$246,3)))","v":"M1/04-Regel"},{"$f":"IF($D$5=\"\",\"\",IF($D$5=\"männlich_R\",VLOOKUP((($H5-1)*6+4),'Dat-Bl'!$J$4:$N$123,4),VLOOKUP((($H5-1)*6+4),'Dat-Bl'!$J$127:$N$246,4)))","v":"00:00:00"},"Sprint"]
[null,null,null,null,"Sprung"]
[null,null,null,null,"Wurf"]
[5,{"$f":"IF($D$5=\"\",\"\",IF($D$5=\"männlich_R\",VLOOKUP((($H5-1)*6+5),'Dat-Bl'!$J$4:$N$123,2),VLOOKUP((($H5-1)*6+5),'Dat-Bl'!$J$127:$N$246,2)))","v":0},{"$f":"IF($D$5=\"\",\"\",IF($D$5=\"männlich_R\",VLOOKUP((($H5-1)*6+5),'Dat-Bl'!$J$4:$N$123,3),VLOOKUP((($H5-1)*6+5),'Dat-Bl'!$J$127:$N$246,3)))","v":"M1/05-Regel"},{"$f":"IF($D$5=\"\",\"\",IF($D$5=\"männlich_R\",VLOOKUP((($H5-1)*6+5),'Dat-Bl'!$J$4:$N$123,4),VLOOKUP((($H5-1)*6+5),'Dat-Bl'!$J$127:$N$246,4)))","v":"00:00:00"},"Sprint"]
[null,null,null,null,"Sprung"]
[null,null,null,null,"Wurf"]
[6,{"$f":"IF($D$5=\"\",\"\",IF($D$5=\"männlich_R\",VLOOKUP((($H5-1)*6+6),'Dat-Bl'!$J$4:$N$123,2),VLOOKUP((($H5-1)*6+6),'Dat-Bl'!$J$127:$N$246,2)))","v":0},{"$f":"IF($D$5=\"\",\"\",IF($D$5=\"männlich_R\",VLOOKUP((($H5-1)*6+6),'Dat-Bl'!$J$4:$N$123,3),VLOOKUP((($H5-1)*6+6),'Dat-Bl'!$J$127:$N$246,3)))","v":"M1/06-Regel"},{"$f":"IF($D$5=\"\",\"\",IF($D$5=\"männlich_R\",VLOOKUP((($H5-1)*6+6),'Dat-Bl'!$J$4:$N$123,4),VLOOKUP((($H5-1)*6+6),'Dat-Bl'!$J$127:$N$246,4)))","v":"00:00:00"},"Sprint"]
[null,null,null,null,"Sprung"]
[null,null,null,null,"Wurf"]
[]
[null,null,null,null,"Staffelwertung (5 X 80m)"]
[]
[null,"Leichtathletik Mannschaftsdreikampf der Schulen"]
[]
[null,null,{"$f":"$C$3","v":"Bezirksmeisterschaft"},null,{"$f":"$E$3","v":2014},{"$f":"$F$3","v":"St. Pölten"}]
[]
[null,null,"Auswahl Geschlecht:",{"$f":"$D$5","v":"männlich_R"},null,"Mannschaft:",null,2]
[null,null,null,null,{"$f":"$E$6","v":"D"}]
["Schule:",null,{"$f":"IF($D$5=\"\",\"\",IF($D$5=\"männlich_R\",VLOOKUP((($H35-1)*6+1),'Dat-Bl'!$J$4:$N$123,5),VLOOKUP((($H35-1)*6+1),'Dat-Bl'!$J$127:$N$246,5)))","v":0}]
[null,null,null,null,null,"Versuch",null,null,"gewertete\n Leistung\n"]
[null,"Start Nr.","Name","Geb. Jahr","Bewerb","1.","2.","3."]
[1,{"$f":"IF($D$5=\"\",\"\",IF($D$5=\"männlich_R\",VLOOKUP((($H35-1)*6+1),'Dat-Bl'!$J$4:$N$123,2),VLOOKUP((($H35-1)*6+1),'Dat-Bl'!$J$127:$N$246,2)))","v":0},{"$f":"IF($D$5=\"\",\"\",IF($D$5=\"männlich_R\",VLOOKUP((($H35-1)*6+1),'Dat-Bl'!$J$4:$N$123,3),VLOOKUP((($H35-1)*6+1),'Dat-Bl'!$J$127:$N$246,3)))","v":"M2/01-Regel"},{"$f":"IF($D$5=\"\",\"\",IF($D$5=\"männlich_R\",VLOOKUP((($H35-1)*6+1),'Dat-Bl'!$J$4:$N$123,4),VLOOKUP((($H35-1)*6+1),'Dat-Bl'!$J$127:$N$246,4)))","v":"00:00:00"},"Sprint"]
[null,null,null,null,"Sprung"]
[null,null,null,null,"Wurf"]
[2,{"$f":"IF($D$5=\"\",\"\",IF($D$5=\"männlich_R\",VLOOKUP((($H35-1)*6+2),'Dat-Bl'!$J$4:$N$123,2),VLOOKUP((($H35-1)*6+2),'Dat-Bl'!$J$127:$N$246,2)))","v":0},{"$f":"IF($D$5=\"\",\"\",IF($D$5=\"männlich_R\",VLOOKUP((($H35-1)*6+2),'Dat-Bl'!$J$4:$N$123,3),VLOOKUP((($H35-1)*6+2),'Dat-Bl'!$J$127:$N$246,3)))","v":"M2/02-Regel"},{"$f":"IF($D$5=\"\",\"\",IF($D$5=\"männlich_R\",VLOOKUP((($H35-1)*6+2),'Dat-Bl'!$J$4:$N$123,4),VLOOKUP((($H35-1)*6+2),'Dat-Bl'!$J$127:$N$246,4)))","v":"00:00:00"},"Sprint"]
[null,null,null,null,"Sprung"]
[null,null,null,null,"Wurf"]
[3,{"$f":"IF($D$5=\"\",\"\",IF($D$5=\"männlich_R\",VLOOKUP((($H35-1)*6+3),'Dat-Bl'!$J$4:$N$123,2),VLOOKUP((($H35-1)*6+3),'Dat-Bl'!$J$127:$N$246,2)))","v":0},{"$f":"IF($D$5=\"\",\"\",IF($D$5=\"männlich_R\",VLOOKUP((($H35-1)*6+3),'Dat-Bl'!$J$4:$N$123,3),VLOOKUP((($H35-1)*6+3),'Dat-Bl'!$J$127:$N$246,3)))","v":"M2/03-Regel"},{"$f":"IF($D$5=\"\",\"\",IF($D$5=\"männlich_R\",VLOOKUP((($H35-1)*6+3),'Dat-Bl'!$J$4:$N$123,4),VLOOKUP((($H35-1)*6+3),'Dat-Bl'!$J$127:$N$246,4)))","v":"00:00:00"},"Sprint"]
[null,null,null,null,"Sprung"]
[null,null,null,null,"Wurf"]
[4,{"$f":"IF($D$5=\"\",\"\",IF($D$5=\"männlich_R\",VLOOKUP((($H35-1)*6+4),'Dat-Bl'!$J$4:$N$123,2),VLOOKUP((($H35-1)*6+4),'Dat-Bl'!$J$127:$N$246,2)))","v":0},{"$f":"IF($D$5=\"\",\"\",IF($D$5=\"männlich_R\",VLOOKUP((($H35-1)*6+4),'Dat-Bl'!$J$4:$N$123,3),VLOOKUP((($H35-1)*6+4),'Dat-Bl'!$J$127:$N$246,3)))","v":"M2/04-Regel"},{"$f":"IF($D$5=\"\",\"\",IF($D$5=\"männlich_R\",VLOOKUP((($H35-1)*6+4),'Dat-Bl'!$J$4:$N$123,4),VLOOKUP((($H35-1)*6+4),'Dat-Bl'!$J$127:$N$246,4)))","v":"00:00:00"},"Sprint"]
[null,null,null,null,"Sprung"]
[null,null,null,null,"Wurf"]
[5,{"$f":"IF($D$5=\"\",\"\",IF($D$5=\"männlich_R\",VLOOKUP((($H35-1)*6+5),'Dat-Bl'!$J$4:$N$123,2),VLOOKUP((($H35-1)*6+5),'Dat-Bl'!$J$127:$N$246,2)))","v":0},{"$f":"IF($D$5=\"\",\"\",IF($D$5=\"männlich_R\",VLOOKUP((($H35-1)*6+5),'Dat-Bl'!$J$4:$N$123,3),VLOOKUP((($H35-1)*6+5),'Dat-Bl'!$J$127:$N$246,3)))","v":"M2/05-Regel"},{"$f":"IF($D$5=\"\",\"\",IF($D$5=\"männlich_R\",VLOOKUP((($H35-1)*6+5),'Dat-Bl'!$J$4:$N$123,4),VLOOKUP((($H35-1)*6+5),'Dat-Bl'!$J$127:$N$246,4)))","v":"00:00:00"},"Sprint"]
[null,null,null,null,"Sprung"]
[null,null,null,null,"Wurf"]
[6,{"$f":"IF($D$5=\"\",\"\",IF($D$5=\"männlich_R\",VLOOKUP((($H35-1)*6+6),'Dat-Bl'!$J$4:$N$123,2),VLOOKUP((($H35-1)*6+6),'Dat-Bl'!$J$127:$N$246,2)))","v":0},{"$f":"IF($D$5=\"\",\"\",IF($D$5=\"männlich_R\",VLOOKUP((($H35-1)*6+6),'Dat-Bl'!$J$4:$N$123,3),VLOOKUP((($H35-1)*6+6),'Dat-Bl'!$J$127:$N$246,3)))","v":"M2/06-Regel"},{"$f":"IF($D$5=\"\",\"\",IF($D$5=\"männlich_R\",VLOOKUP((($H35-1)*6+6),'Dat-Bl'!$J$4:$N$123,4),VLOOKUP((($H35-1)*6+6),'Dat-Bl'!$J$127:$N$246,4)))","v":"00:00:00"},"Sprint"]
[null,null,null,null,"Sprung"]
[null,null,null,null,"Wurf"]
[]
[null,null,null,null,"Staffelwertung (5 X 80m)"]
[]
[null,"Leichtathletik Mannschaftsdreikampf der Schulen"]
[]
[null,null,{"$f":"$C$3","v":"Bezirksmeisterschaft"},null,{"$f":"$E$3","v":2014},{"$f":"$F$3","v":"St. Pölten"}]
[]
[null,null,"Auswahl Geschlecht:",{"$f":"$D$5","v":"männlich_R"},null,"Mannschaft:",null,3]
[null,null,null,null,{"$f":"$E$6","v":"D"}]
["Schule:",null,{"$f":"IF($D$5=\"\",\"\",IF($D$5=\"männlich_R\",VLOOKUP((($H65-1)*6+1),'Dat-Bl'!$J$4:$N$123,5),VLOOKUP((($H65-1)*6+1),'Dat-Bl'!$J$127:$N$246,5)))","v":0}]
[null,null,null,null,null,"Versuch",null,null,"gewertete\n Leistung\n"]
[null,"Start Nr.","Name","Geb. Jahr","Bewerb","1.","2.","3."]
[1,{"$f":"IF($D$5=\"\",\"\",IF($D$5=\"männlich_R\",VLOOKUP((($H65-1)*6+1),'Dat-Bl'!$J$4:$N$123,2),VLOOKUP((($H65-1)*6+1),'Dat-Bl'!$J$127:$N$246,2)))","v":0},{"$f":"IF($D$5=\"\",\"\",IF($D$5=\"männlich_R\",VLOOKUP((($H65-1)*6+1),'Dat-Bl'!$J$4:$N$123,3),VLOOKUP((($H65-1)*6+1),'Dat-Bl'!$J$127:$N$246,3)))","v":"M3/01-Regel"},{"$f":"IF($D$5=\"\",\"\",IF($D$5=\"männlich_R\",VLOOKUP((($H65-1)*6+1),'Dat-Bl'!$J$4:$N$123,4),VLOOKUP((($H65-1)*6+1),'Dat-Bl'!$J$127:$N$246,4)))","v":"00:00:00"},"Sprint"]
[null,null,null,null,"Sprung"]
[null,null,null,null,"Wurf"]
[2,{"$f":"IF($D$5=\"\",\"\",IF($D$5=\"männlich_R\",VLOOKUP((($H65-1)*6+2),'Dat-Bl'!$J$4:$N$123,2),VLOOKUP((($H65-1)*6+2),'Dat-Bl'!$J$127:$N$246,2)))","v":0},{"$f":"IF($D$5=\"\",\"\",IF($D$5=\"männlich_R\",VLOOKUP((($H65-1)*6+2),'Dat-Bl'!$J$4:$N$123,3),VLOOKUP((($H65-1)*6+2),'Dat-Bl'!$J$127:$N$246,3)))","v":"M3/02-Regel"},{"$f":"IF($D$5=\"\",\"\",IF($D$5=\"männlich_R\",VLOOKUP((($H65-1)*6+2),'Dat-Bl'!$J$4:$N$123,4),VLOOKUP((($H65-1)*6+2),'Dat-Bl'!$J$127:$N$246,4)))","v":"00:00:00"},"Sprint"]
[null,null,null,null,"Sprung"]
[null,null,null,null,"Wurf"]
[3,{"$f":"IF($D$5=\"\",\"\",IF($D$5=\"männlich_R\",VLOOKUP((($H65-1)*6+3),'Dat-Bl'!$J$4:$N$123,2),VLOOKUP((($H65-1)*6+3),'Dat-Bl'!$J$127:$N$246,2)))","v":0},{"$f":"IF($D$5=\"\",\"\",IF($D$5=\"männlich_R\",VLOOKUP((($H65-1)*6+3),'Dat-Bl'!$J$4:$N$123,3),VLOOKUP((($H65-1)*6+3),'Dat-Bl'!$J$127:$N$246,3)))","v":"M3/03-Regel"},{"$f":"IF($D$5=\"\",\"\",IF($D$5=\"männlich_R\",VLOOKUP((($H65-1)*6+3),'Dat-Bl'!$J$4:$N$123,4),VLOOKUP((($H65-1)*6+3),'Dat-Bl'!$J$127:$N$246,4)))","v":"00:00:00"},"Sprint"]
[null,null,null,null,"Sprung"]
[null,null,null,null,"Wurf"]
[4,{"$f":"IF($D$5=\"\",\"\",IF($D$5=\"männlich_R\",VLOOKUP((($H65-1)*6+4),'Dat-Bl'!$J$4:$N$123,2),VLOOKUP((($H65-1)*6+4),'Dat-Bl'!$J$127:$N$246,2)))","v":0},{"$f":"IF($D$5=\"\",\"\",IF($D$5=\"männlich_R\",VLOOKUP((($H65-1)*6+4),'Dat-Bl'!$J$4:$N$123,3),VLOOKUP((($H65-1)*6+4),'Dat-Bl'!$J$127:$N$246,3)))","v":"M3/04-Regel"},{"$f":"IF($D$5=\"\",\"\",IF($D$5=\"männlich_R\",VLOOKUP((($H65-1)*6+4),'Dat-Bl'!$J$4:$N$123,4),VLOOKUP((($H65-1)*6+4),'Dat-Bl'!$J$127:$N$246,4)))","v":"00:00:00"},"Sprint"]
[null,null,null,null,"Sprung"]
[null,null,null,null,"Wurf"]
[5,{"$f":"IF($D$5=\"\",\"\",IF($D$5=\"männlich_R\",VLOOKUP((($H65-1)*6+5),'Dat-Bl'!$J$4:$N$123,2),VLOOKUP((($H65-1)*6+5),'Dat-Bl'!$J$127:$N$246,2)))","v":0},{"$f":"IF($D$5=\"\",\"\",IF($D$5=\"männlich_R\",VLOOKUP((($H65-1)*6+5),'Dat-Bl'!$J$4:$N$123,3),VLOOKUP((($H65-1)*6+5),'Dat-Bl'!$J$127:$N$246,3)))","v":"M3/05-Regel"},{"$f":"IF($D$5=\"\",\"\",IF($D$5=\"männlich_R\",VLOOKUP((($H65-1)*6+5),'Dat-Bl'!$J$4:$N$123,4),VLOOKUP((($H65-1)*6+5),'Dat-Bl'!$J$127:$N$246,4)))","v":"00:00:00"},"Sprint"]
[null,null,null,null,"Sprung"]
[null,null,null,null,"Wurf"]
[6,{"$f":"IF($D$5=\"\",\"\",IF($D$5=\"männlich_R\",VLOOKUP((($H65-1)*6+6),'Dat-Bl'!$J$4:$N$123,2),VLOOKUP((($H65-1)*6+6),'Dat-Bl'!$J$127:$N$246,2)))","v":0},{"$f":"IF($D$5=\"\",\"\",IF($D$5=\"männlich_R\",VLOOKUP((($H65-1)*6+6),'Dat-Bl'!$J$4:$N$123,3),VLOOKUP((($H65-1)*6+6),'Dat-Bl'!$J$127:$N$246,3)))","v":"M3/06-Regel"},{"$f":"IF($D$5=\"\",\"\",IF($D$5=\"männlich_R\",VLOOKUP((($H65-1)*6+6),'Dat-Bl'!$J$4:$N$123,4),VLOOKUP((($H65-1)*6+6),'Dat-Bl'!$J$127:$N$246,4)))","v":"00:00:00"},"Sprint"]
[null,null,null,null,"Sprung"]
[null,null,null,null,"Wurf"]
[]
[null,null,null,null,"Staffelwertung (5 X 80m)"]
[]
[null,"Leichtathletik Mannschaftsdreikampf der Schulen"]
[]
[null,null,{"$f":"$C$3","v":"Bezirksmeisterschaft"},null,{"$f":"$E$3","v":2014},{"$f":"$F$3","v":"St. Pölten"}]
[]
[null,null,"Auswahl Geschlecht:",{"$f":"$D$5","v":"männlich_R"},null,"Mannschaft:",null,4]
[null,null,null,null,{"$f":"$E$6","v":"D"}]
["Schule:",null,{"$f":"IF($D$5=\"\",\"\",IF($D$5=\"männlich_R\",VLOOKUP((($H95-1)*6+1),'Dat-Bl'!$J$4:$N$123,5),VLOOKUP((($H95-1)*6+1),'Dat-Bl'!$J$127:$N$246,5)))","v":0}]
[null,null,null,null,null,"Versuch",null,null,"gewertete\n Leistung\n"]
[null,"Start Nr.","Name","Geb. Jahr","Bewerb","1.","2.","3."]
[1,{"$f":"IF($D$5=\"\",\"\",IF($D$5=\"männlich_R\",VLOOKUP((($H95-1)*6+1),'Dat-Bl'!$J$4:$N$123,2),VLOOKUP((($H95-1)*6+1),'Dat-Bl'!$J$127:$N$246,2)))","v":0},{"$f":"IF($D$5=\"\",\"\",IF($D$5=\"männlich_R\",VLOOKUP((($H95-1)*6+1),'Dat-Bl'!$J$4:$N$123,3),VLOOKUP((($H95-1)*6+1),'Dat-Bl'!$J$127:$N$246,3)))","v":"M4/01-Regel"},{"$f":"IF($D$5=\"\",\"\",IF($D$5=\"männlich_R\",VLOOKUP((($H95-1)*6+1),'Dat-Bl'!$J$4:$N$123,4),VLOOKUP((($H95-1)*6+1),'Dat-Bl'!$J$127:$N$246,4)))","v":"00:00:00"},"Sprint"]
[null,null,null,null,"Sprung"]
[null,null,null,null,"Wurf"]
[2,{"$f":"IF($D$5=\"\",\"\",IF($D$5=\"männlich_R\",VLOOKUP((($H95-1)*6+2),'Dat-Bl'!$J$4:$N$123,2),VLOOKUP((($H95-1)*6+2),'Dat-Bl'!$J$127:$N$246,2)))","v":0},{"$f":"IF($D$5=\"\",\"\",IF($D$5=\"männlich_R\",VLOOKUP((($H95-1)*6+2),'Dat-Bl'!$J$4:$N$123,3),VLOOKUP((($H95-1)*6+2),'Dat-Bl'!$J$127:$N$246,3)))","v":"M4/02-Regel"},{"$f":"IF($D$5=\"\",\"\",IF($D$5=\"männlich_R\",VLOOKUP((($H95-1)*6+2),'Dat-Bl'!$J$4:$N$123,4),VLOOKUP((($H95-1)*6+2),'Dat-Bl'!$J$127:$N$246,4)))","v":"00:00:00"},"Sprint"]
[null,null,null,null,"Sprung"]
[null,null,null,null,"Wurf"]
[3,{"$f":"IF($D$5=\"\",\"\",IF($D$5=\"männlich_R\",VLOOKUP((($H95-1)*6+3),'Dat-Bl'!$J$4:$N$123,2),VLOOKUP((($H95-1)*6+3),'Dat-Bl'!$J$127:$N$246,2)))","v":0},{"$f":"IF($D$5=\"\",\"\",IF($D$5=\"männlich_R\",VLOOKUP((($H95-1)*6+3),'Dat-Bl'!$J$4:$N$123,3),VLOOKUP((($H95-1)*6+3),'Dat-Bl'!$J$127:$N$246,3)))","v":"M4/03-Regel"},{"$f":"IF($D$5=\"\",\"\",IF($D$5=\"männlich_R\",VLOOKUP((($H95-1)*6+3),'Dat-Bl'!$J$4:$N$123,4),VLOOKUP((($H95-1)*6+3),'Dat-Bl'!$J$127:$N$246,4)))","v":"00:00:00"},"Sprint"]
[null,null,null,null,"Sprung"]
[null,null,null,null,"Wurf"]
[4,{"$f":"IF($D$5=\"\",\"\",IF($D$5=\"männlich_R\",VLOOKUP((($H95-1)*6+4),'Dat-Bl'!$J$4:$N$123,2),VLOOKUP((($H95-1)*6+4),'Dat-Bl'!$J$127:$N$246,2)))","v":0},{"$f":"IF($D$5=\"\",\"\",IF($D$5=\"männlich_R\",VLOOKUP((($H95-1)*6+4),'Dat-Bl'!$J$4:$N$123,3),VLOOKUP((($H95-1)*6+4),'Dat-Bl'!$J$127:$N$246,3)))","v":"M4/04-Regel"},{"$f":"IF($D$5=\"\",\"\",IF($D$5=\"männlich_R\",VLOOKUP((($H95-1)*6+4),'Dat-Bl'!$J$4:$N$123,4),VLOOKUP((($H95-1)*6+4),'Dat-Bl'!$J$127:$N$246,4)))","v":"00:00:00"},"Sprint"]
[null,null,null,null,"Sprung"]
[null,null,null,null,"Wurf"]
[5,{"$f":"IF($D$5=\"\",\"\",IF($D$5=\"männlich_R\",VLOOKUP((($H95-1)*6+5),'Dat-Bl'!$J$4:$N$123,2),VLOOKUP((($H95-1)*6+5),'Dat-Bl'!$J$127:$N$246,2)))","v":0},{"$f":"IF($D$5=\"\",\"\",IF($D$5=\"männlich_R\",VLOOKUP((($H95-1)*6+5),'Dat-Bl'!$J$4:$N$123,3),VLOOKUP((($H95-1)*6+5),'Dat-Bl'!$J$127:$N$246,3)))","v":"M4/05-Regel"},{"$f":"IF($D$5=\"\",\"\",IF($D$5=\"männlich_R\",VLOOKUP((($H95-1)*6+5),'Dat-Bl'!$J$4:$N$123,4),VLOOKUP((($H95-1)*6+5),'Dat-Bl'!$J$127:$N$246,4)))","v":"00:00:00"},"Sprint"]
[null,null,null,null,"Sprung"]
[null,null,null,null,"Wurf"]
[6,{"$f":"IF($D$5=\"\",\"\",IF($D$5=\"männlich_R\",VLOOKUP((($H95-1)*6+6),'Dat-Bl'!$J$4:$N$123,2),VLOOKUP((($H95-1)*6+6),'Dat-Bl'!$J$127:$N$246,2)))","v":0},{"$f":"IF($D$5=\"\",\"\",IF($D$5=\"männlich_R\",VLOOKUP((($H95-1)*6+6),'Dat-Bl'!$J$4:$N$123,3),VLOOKUP((($H95-1)*6+6),'Dat-Bl'!$J$127:$N$246,3)))","v":"M4/06-Regel"},{"$f":"IF($D$5=\"\",\"\",IF($D$5=\"männlich_R\",VLOOKUP((($H95-1)*6+6),'Dat-Bl'!$J$4:$N$123,4),VLOOKUP((($H95-1)*6+6),'Dat-Bl'!$J$127:$N$246,4)))","v":"00:00:00"},"Sprint"]
[null,null,null,null,"Sprung"]
[null,null,null,null,"Wurf"]
[]
[null,null,null,null,"Staffelwertung (5 X 80m)"]
[]
[null,"Leichtathletik Mannschaftsdreikampf der Schulen"]
[]
[null,null,{"$f":"$C$3","v":"Bezirksmeisterschaft"},null,{"$f":"$E$3","v":2014},{"$f":"$F$3","v":"St. Pölten"}]
[]
[null,null,"Auswahl Geschlecht:",{"$f":"$D$5","v":"männlich_R"},null,"Mannschaft:",null,5]
[null,null,null,null,{"$f":"$E$6","v":"D"}]
["Schule:",null,{"$f":"IF($D$5=\"\",\"\",IF($D$5=\"männlich_R\",VLOOKUP((($H125-1)*6+1),'Dat-Bl'!$J$4:$N$123,5),VLOOKUP((($H125-1)*6+1),'Dat-Bl'!$J$127:$N$246,5)))","v":0}]
[null,null,null,null,null,"Versuch",null,null,"gewertete\n Leistung\n"]
[null,"Start Nr.","Name","Geb. Jahr","Bewerb","1.","2.","3."]
[1,{"$f":"IF($D$5=\"\",\"\",IF($D$5=\"männlich_R\",VLOOKUP((($H125-1)*6+1),'Dat-Bl'!$J$4:$N$123,2),VLOOKUP((($H125-1)*6+1),'Dat-Bl'!$J$127:$N$246,2)))","v":0},{"$f":"IF($D$5=\"\",\"\",IF($D$5=\"männlich_R\",VLOOKUP((($H125-1)*6+1),'Dat-Bl'!$J$4:$N$123,3),VLOOKUP((($H125-1)*6+1),'Dat-Bl'!$J$127:$N$246,3)))","v":"M5/01-Regel"},{"$f":"IF($D$5=\"\",\"\",IF($D$5=\"männlich_R\",VLOOKUP((($H125-1)*6+1),'Dat-Bl'!$J$4:$N$123,4),VLOOKUP((($H125-1)*6+1),'Dat-Bl'!$J$127:$N$246,4)))","v":"00:00:00"},"Sprint"]
[null,null,null,null,"Sprung"]
[null,null,null,null,"Wurf"]
[2,{"$f":"IF($D$5=\"\",\"\",IF($D$5=\"männlich_R\",VLOOKUP((($H125-1)*6+2),'Dat-Bl'!$J$4:$N$123,2),VLOOKUP((($H125-1)*6+2),'Dat-Bl'!$J$127:$N$246,2)))","v":0},{"$f":"IF($D$5=\"\",\"\",IF($D$5=\"männlich_R\",VLOOKUP((($H125-1)*6+2),'Dat-Bl'!$J$4:$N$123,3),VLOOKUP((($H125-1)*6+2),'Dat-Bl'!$J$127:$N$246,3)))","v":"M5/02-Regel"},{"$f":"IF($D$5=\"\",\"\",IF($D$5=\"männlich_R\",VLOOKUP((($H125-1)*6+2),'Dat-Bl'!$J$4:$N$123,4),VLOOKUP((($H125-1)*6+2),'Dat-Bl'!$J$127:$N$246,4)))","v":"00:00:00"},"Sprint"]
[null,null,null,null,"Sprung"]
[null,null,null,null,"Wurf"]
[3,{"$f":"IF($D$5=\"\",\"\",IF($D$5=\"männlich_R\",VLOOKUP((($H125-1)*6+3),'Dat-Bl'!$J$4:$N$123,2),VLOOKUP((($H125-1)*6+3),'Dat-Bl'!$J$127:$N$246,2)))","v":0},{"$f":"IF($D$5=\"\",\"\",IF($D$5=\"männlich_R\",VLOOKUP((($H125-1)*6+3),'Dat-Bl'!$J$4:$N$123,3),VLOOKUP((($H125-1)*6+3),'Dat-Bl'!$J$127:$N$246,3)))","v":"M5/03-Regel"},{"$f":"IF($D$5=\"\",\"\",IF($D$5=\"männlich_R\",VLOOKUP((($H125-1)*6+3),'Dat-Bl'!$J$4:$N$123,4),VLOOKUP((($H125-1)*6+3),'Dat-Bl'!$J$127:$N$246,4)))","v":"00:00:00"},"Sprint"]
[null,null,null,null,"Sprung"]
[null,null,null,null,"Wurf"]
[4,{"$f":"IF($D$5=\"\",\"\",IF($D$5=\"männlich_R\",VLOOKUP((($H125-1)*6+4),'Dat-Bl'!$J$4:$N$123,2),VLOOKUP((($H125-1)*6+4),'Dat-Bl'!$J$127:$N$246,2)))","v":0},{"$f":"IF($D$5=\"\",\"\",IF($D$5=\"männlich_R\",VLOOKUP((($H125-1)*6+4),'Dat-Bl'!$J$4:$N$123,3),VLOOKUP((($H125-1)*6+4),'Dat-Bl'!$J$127:$N$246,3)))","v":"M5/04-Regel"},{"$f":"IF($D$5=\"\",\"\",IF($D$5=\"männlich_R\",VLOOKUP((($H125-1)*6+4),'Dat-Bl'!$J$4:$N$123,4),VLOOKUP((($H125-1)*6+4),'Dat-Bl'!$J$127:$N$246,4)))","v":"00:00:00"},"Sprint"]
[null,null,null,null,"Sprung"]
[null,null,null,null,"Wurf"]
[5,{"$f":"IF($D$5=\"\",\"\",IF($D$5=\"männlich_R\",VLOOKUP((($H125-1)*6+5),'Dat-Bl'!$J$4:$N$123,2),VLOOKUP((($H125-1)*6+5),'Dat-Bl'!$J$127:$N$246,2)))","v":0},{"$f":"IF($D$5=\"\",\"\",IF($D$5=\"männlich_R\",VLOOKUP((($H125-1)*6+5),'Dat-Bl'!$J$4:$N$123,3),VLOOKUP((($H125-1)*6+5),'Dat-Bl'!$J$127:$N$246,3)))","v":"M5/05-Regel"},{"$f":"IF($D$5=\"\",\"\",IF($D$5=\"männlich_R\",VLOOKUP((($H125-1)*6+5),'Dat-Bl'!$J$4:$N$123,4),VLOOKUP((($H125-1)*6+5),'Dat-Bl'!$J$127:$N$246,4)))","v":"00:00:00"},"Sprint"]
[null,null,null,null,"Sprung"]
[null,null,null,null,"Wurf"]
[6,{"$f":"IF($D$5=\"\",\"\",IF($D$5=\"männlich_R\",VLOOKUP((($H125-1)*6+6),'Dat-Bl'!$J$4:$N$123,2),VLOOKUP((($H125-1)*6+6),'Dat-Bl'!$J$127:$N$246,2)))","v":0},{"$f":"IF($D$5=\"\",\"\",IF($D$5=\"männlich_R\",VLOOKUP((($H125-1)*6+6),'Dat-Bl'!$J$4:$N$123,3),VLOOKUP((($H125-1)*6+6),'Dat-Bl'!$J$127:$N$246,3)))","v":"M5/06-Regel"},{"$f":"IF($D$5=\"\",\"\",IF($D$5=\"männlich_R\",VLOOKUP((($H125-1)*6+6),'Dat-Bl'!$J$4:$N$123,4),VLOOKUP((($H125-1)*6+6),'Dat-Bl'!$J$127:$N$246,4)))","v":"00:00:00"},"Sprint"]
[null,null,null,null,"Sprung"]
[null,null,null,null,"Wurf"]
[]
[null,null,null,null,"Staffelwertung (5 X 80m)"]
[]
[null,"Leichtathletik Mannschaftsdreikampf der Schulen"]
[]
[null,null,{"$f":"$C$3","v":"Bezirksmeisterschaft"},null,{"$f":"$E$3","v":2014},{"$f":"$F$3","v":"St. Pölten"}]
[]
[null,null,"Auswahl Geschlecht:",{"$f":"$D$5","v":"männlich_R"},null,"Mannschaft:",null,6]
[null,null,null,null,{"$f":"$E$6","v":"D"}]
["Schule:",null,{"$f":"IF($D$5=\"\",\"\",IF($D$5=\"männlich_R\",VLOOKUP((($H155-1)*6+1),'Dat-Bl'!$J$4:$N$123,5),VLOOKUP((($H155-1)*6+1),'Dat-Bl'!$J$127:$N$246,5)))","v":0}]
[null,null,null,null,null,"Versuch",null,null,"gewertete\n Leistung\n"]
[null,"Start Nr.","Name","Geb. Jahr","Bewerb","1.","2.","3."]
[1,{"$f":"IF($D$5=\"\",\"\",IF($D$5=\"männlich_R\",VLOOKUP((($H155-1)*6+1),'Dat-Bl'!$J$4:$N$123,2),VLOOKUP((($H155-1)*6+1),'Dat-Bl'!$J$127:$N$246,2)))","v":0},{"$f":"IF($D$5=\"\",\"\",IF($D$5=\"männlich_R\",VLOOKUP((($H155-1)*6+1),'Dat-Bl'!$J$4:$N$123,3),VLOOKUP((($H155-1)*6+1),'Dat-Bl'!$J$127:$N$246,3)))","v":"M6/01-Regel"},{"$f":"IF($D$5=\"\",\"\",IF($D$5=\"männlich_R\",VLOOKUP((($H155-1)*6+1),'Dat-Bl'!$J$4:$N$123,4),VLOOKUP((($H155-1)*6+1),'Dat-Bl'!$J$127:$N$246,4)))","v":"00:00:00"},"Sprint"]
[null,null,null,null,"Sprung"]
[null,null,null,null,"Wurf"]
[2,{"$f":"IF($D$5=\"\",\"\",IF($D$5=\"männlich_R\",VLOOKUP((($H155-1)*6+2),'Dat-Bl'!$J$4:$N$123,2),VLOOKUP((($H155-1)*6+2),'Dat-Bl'!$J$127:$N$246,2)))","v":0},{"$f":"IF($D$5=\"\",\"\",IF($D$5=\"männlich_R\",VLOOKUP((($H155-1)*6+2),'Dat-Bl'!$J$4:$N$123,3),VLOOKUP((($H155-1)*6+2),'Dat-Bl'!$J$127:$N$246,3)))","v":"M6/02-Regel"},{"$f":"IF($D$5=\"\",\"\",IF($D$5=\"männlich_R\",VLOOKUP((($H155-1)*6+2),'Dat-Bl'!$J$4:$N$123,4),VLOOKUP((($H155-1)*6+2),'Dat-Bl'!$J$127:$N$246,4)))","v":"00:00:00"},"Sprint"]
[null,null,null,null,"Sprung"]
[null,null,null,null,"Wurf"]
[3,{"$f":"IF($D$5=\"\",\"\",IF($D$5=\"männlich_R\",VLOOKUP((($H155-1)*6+3),'Dat-Bl'!$J$4:$N$123,2),VLOOKUP((($H155-1)*6+3),'Dat-Bl'!$J$127:$N$246,2)))","v":0},{"$f":"IF($D$5=\"\",\"\",IF($D$5=\"männlich_R\",VLOOKUP((($H155-1)*6+3),'Dat-Bl'!$J$4:$N$123,3),VLOOKUP((($H155-1)*6+3),'Dat-Bl'!$J$127:$N$246,3)))","v":"M6/03-Regel"},{"$f":"IF($D$5=\"\",\"\",IF($D$5=\"männlich_R\",VLOOKUP((($H155-1)*6+3),'Dat-Bl'!$J$4:$N$123,4),VLOOKUP((($H155-1)*6+3),'Dat-Bl'!$J$127:$N$246,4)))","v":"00:00:00"},"Sprint"]
[null,null,null,null,"Sprung"]
[null,null,null,null,"Wurf"]
[4,{"$f":"IF($D$5=\"\",\"\",IF($D$5=\"männlich_R\",VLOOKUP((($H155-1)*6+4),'Dat-Bl'!$J$4:$N$123,2),VLOOKUP((($H155-1)*6+4),'Dat-Bl'!$J$127:$N$246,2)))","v":0},{"$f":"IF($D$5=\"\",\"\",IF($D$5=\"männlich_R\",VLOOKUP((($H155-1)*6+4),'Dat-Bl'!$J$4:$N$123,3),VLOOKUP((($H155-1)*6+4),'Dat-Bl'!$J$127:$N$246,3)))","v":"M6/04-Regel"},{"$f":"IF($D$5=\"\",\"\",IF($D$5=\"männlich_R\",VLOOKUP((($H155-1)*6+4),'Dat-Bl'!$J$4:$N$123,4),VLOOKUP((($H155-1)*6+4),'Dat-Bl'!$J$127:$N$246,4)))","v":"00:00:00"},"Sprint"]
[null,null,null,null,"Sprung"]
[null,null,null,null,"Wurf"]
[5,{"$f":"IF($D$5=\"\",\"\",IF($D$5=\"männlich_R\",VLOOKUP((($H155-1)*6+5),'Dat-Bl'!$J$4:$N$123,2),VLOOKUP((($H155-1)*6+5),'Dat-Bl'!$J$127:$N$246,2)))","v":0},{"$f":"IF($D$5=\"\",\"\",IF($D$5=\"männlich_R\",VLOOKUP((($H155-1)*6+5),'Dat-Bl'!$J$4:$N$123,3),VLOOKUP((($H155-1)*6+5),'Dat-Bl'!$J$127:$N$246,3)))","v":"M6/05-Regel"},{"$f":"IF($D$5=\"\",\"\",IF($D$5=\"männlich_R\",VLOOKUP((($H155-1)*6+5),'Dat-Bl'!$J$4:$N$123,4),VLOOKUP((($H155-1)*6+5),'Dat-Bl'!$J$127:$N$246,4)))","v":"00:00:00"},"Sprint"]
[null,null,null,null,"Sprung"]
[null,null,null,null,"Wurf"]
[6,{"$f":"IF($D$5=\"\",\"\",IF($D$5=\"männlich_R\",VLOOKUP((($H155-1)*6+6),'Dat-Bl'!$J$4:$N$123,2),VLOOKUP((($H155-1)*6+6),'Dat-Bl'!$J$127:$N$246,2)))","v":0},{"$f":"IF($D$5=\"\",\"\",IF($D$5=\"männlich_R\",VLOOKUP((($H155-1)*6+6),'Dat-Bl'!$J$4:$N$123,3),VLOOKUP((($H155-1)*6+6),'Dat-Bl'!$J$127:$N$246,3)))","v":"M6/06-Regel"},{"$f":"IF($D$5=\"\",\"\",IF($D$5=\"männlich_R\",VLOOKUP((($H155-1)*6+6),'Dat-Bl'!$J$4:$N$123,4),VLOOKUP((($H155-1)*6+6),'Dat-Bl'!$J$127:$N$246,4)))","v":"00:00:00"},"Sprint"]
[null,null,null,null,"Sprung"]
[null,null,null,null,"Wurf"]
[]
[null,null,null,null,"Staffelwertung (5 X 80m)"]
[]
[null,"Leichtathletik Mannschaftsdreikampf der Schulen"]
[]
[null,null,{"$f":"$C$3","v":"Bezirksmeisterschaft"},null,{"$f":"$E$3","v":2014},{"$f":"$F$3","v":"St. Pölten"}]
[]
[null,null,"Auswahl Geschlecht:",{"$f":"$D$5","v":"männlich_R"},null,"Mannschaft:",null,7]
[null,null,null,null,{"$f":"$E$6","v":"D"}]
["Schule:",null,{"$f":"IF($D$5=\"\",\"\",IF($D$5=\"männlich_R\",VLOOKUP((($H185-1)*6+1),'Dat-Bl'!$J$4:$N$123,5),VLOOKUP((($H185-1)*6+1),'Dat-Bl'!$J$127:$N$246,5)))","v":0}]
[null,null,null,null,null,"Versuch",null,null,"gewertete\n Leistung\n"]
[null,"Start Nr.","Name","Geb. Jahr","Bewerb","1.","2.","3."]
[1,{"$f":"IF($D$5=\"\",\"\",IF($D$5=\"männlich_R\",VLOOKUP((($H185-1)*6+1),'Dat-Bl'!$J$4:$N$123,2),VLOOKUP((($H185-1)*6+1),'Dat-Bl'!$J$127:$N$246,2)))","v":0},{"$f":"IF($D$5=\"\",\"\",IF($D$5=\"männlich_R\",VLOOKUP((($H185-1)*6+1),'Dat-Bl'!$J$4:$N$123,3),VLOOKUP((($H185-1)*6+1),'Dat-Bl'!$J$127:$N$246,3)))","v":"M7/01-Regel"},{"$f":"IF($D$5=\"\",\"\",IF($D$5=\"männlich_R\",VLOOKUP((($H185-1)*6+1),'Dat-Bl'!$J$4:$N$123,4),VLOOKUP((($H185-1)*6+1),'Dat-Bl'!$J$127:$N$246,4)))","v":"00:00:00"},"Sprint"]
[null,null,null,null,"Sprung"]
[null,null,null,null,"Wurf"]
[2,{"$f":"IF($D$5=\"\",\"\",IF($D$5=\"männlich_R\",VLOOKUP((($H185-1)*6+2),'Dat-Bl'!$J$4:$N$123,2),VLOOKUP((($H185-1)*6+2),'Dat-Bl'!$J$127:$N$246,2)))","v":0},{"$f":"IF($D$5=\"\",\"\",IF($D$5=\"männlich_R\",VLOOKUP((($H185-1)*6+2),'Dat-Bl'!$J$4:$N$123,3),VLOOKUP((($H185-1)*6+2),'Dat-Bl'!$J$127:$N$246,3)))","v":"M7/02-Regel"},{"$f":"IF($D$5=\"\",\"\",IF($D$5=\"männlich_R\",VLOOKUP((($H185-1)*6+2),'Dat-Bl'!$J$4:$N$123,4),VLOOKUP((($H185-1)*6+2),'Dat-Bl'!$J$127:$N$246,4)))","v":"00:00:00"},"Sprint"]
[null,null,null,null,"Sprung"]
[null,null,null,null,"Wurf"]
[3,{"$f":"IF($D$5=\"\",\"\",IF($D$5=\"männlich_R\",VLOOKUP((($H185-1)*6+3),'Dat-Bl'!$J$4:$N$123,2),VLOOKUP((($H185-1)*6+3),'Dat-Bl'!$J$127:$N$246,2)))","v":0},{"$f":"IF($D$5=\"\",\"\",IF($D$5=\"männlich_R\",VLOOKUP((($H185-1)*6+3),'Dat-Bl'!$J$4:$N$123,3),VLOOKUP((($H185-1)*6+3),'Dat-Bl'!$J$127:$N$246,3)))","v":"M7/03-Regel"},{"$f":"IF($D$5=\"\",\"\",IF($D$5=\"männlich_R\",VLOOKUP((($H185-1)*6+3),'Dat-Bl'!$J$4:$N$123,4),VLOOKUP((($H185-1)*6+3),'Dat-Bl'!$J$127:$N$246,4)))","v":"00:00:00"},"Sprint"]
[null,null,null,null,"Sprung"]
[null,null,null,null,"Wurf"]
[4,{"$f":"IF($D$5=\"\",\"\",IF($D$5=\"männlich_R\",VLOOKUP((($H185-1)*6+4),'Dat-Bl'!$J$4:$N$123,2),VLOOKUP((($H185-1)*6+4),'Dat-Bl'!$J$127:$N$246,2)))","v":0},{"$f":"IF($D$5=\"\",\"\",IF($D$5=\"männlich_R\",VLOOKUP((($H185-1)*6+4),'Dat-Bl'!$J$4:$N$123,3),VLOOKUP((($H185-1)*6+4),'Dat-Bl'!$J$127:$N$246,3)))","v":"M7/04-Regel"},{"$f":"IF($D$5=\"\",\"\",IF($D$5=\"männlich_R\",VLOOKUP((($H185-1)*6+4),'Dat-Bl'!$J$4:$N$123,4),VLOOKUP((($H185-1)*6+4),'Dat-Bl'!$J$127:$N$246,4)))","v":"00:00:00"},"Sprint"]
[null,null,null,null,"Sprung"]
[null,null,null,null,"Wurf"]
[5,{"$f":"IF($D$5=\"\",\"\",IF($D$5=\"männlich_R\",VLOOKUP((($H185-1)*6+5),'Dat-Bl'!$J$4:$N$123,2),VLOOKUP((($H185-1)*6+5),'Dat-Bl'!$J$127:$N$246,2)))","v":0},{"$f":"IF($D$5=\"\",\"\",IF($D$5=\"männlich_R\",VLOOKUP((($H185-1)*6+5),'Dat-Bl'!$J$4:$N$123,3),VLOOKUP((($H185-1)*6+5),'Dat-Bl'!$J$127:$N$246,3)))","v":"M7/05-Regel"},{"$f":"IF($D$5=\"\",\"\",IF($D$5=\"männlich_R\",VLOOKUP((($H185-1)*6+5),'Dat-Bl'!$J$4:$N$123,4),VLOOKUP((($H185-1)*6+5),'Dat-Bl'!$J$127:$N$246,4)))","v":"00:00:00"},"Sprint"]
[null,null,null,null,"Sprung"]
[null,null,null,null,"Wurf"]
[6,{"$f":"IF($D$5=\"\",\"\",IF($D$5=\"männlich_R\",VLOOKUP((($H185-1)*6+6),'Dat-Bl'!$J$4:$N$123,2),VLOOKUP((($H185-1)*6+6),'Dat-Bl'!$J$127:$N$246,2)))","v":0},{"$f":"IF($D$5=\"\",\"\",IF($D$5=\"männlich_R\",VLOOKUP((($H185-1)*6+6),'Dat-Bl'!$J$4:$N$123,3),VLOOKUP((($H185-1)*6+6),'Dat-Bl'!$J$127:$N$246,3)))","v":"M7/06-Regel"},{"$f":"IF($D$5=\"\",\"\",IF($D$5=\"männlich_R\",VLOOKUP((($H185-1)*6+6),'Dat-Bl'!$J$4:$N$123,4),VLOOKUP((($H185-1)*6+6),'Dat-Bl'!$J$127:$N$246,4)))","v":"00:00:00"},"Sprint"]
[null,null,null,null,"Sprung"]
[null,null,null,null,"Wurf"]
[]
[null,null,null,null,"Staffelwertung (5 X 80m)"]
[]
[null,"Leichtathletik Mannschaftsdreikampf der Schulen"]
[]
[null,null,{"$f":"$C$3","v":"Bezirksmeisterschaft"},null,{"$f":"$E$3","v":2014},{"$f":"$F$3","v":"St. Pölten"}]
[]
[null,null,"Auswahl Geschlecht:",{"$f":"$D$5","v":"männlich_R"},null,"Mannschaft:",null,8]
[null,null,null,null,{"$f":"$E$6","v":"D"}]
["Schule:",null,{"$f":"IF($D$5=\"\",\"\",IF($D$5=\"männlich_R\",VLOOKUP((($H215-1)*6+1),'Dat-Bl'!$J$4:$N$123,5),VLOOKUP((($H215-1)*6+1),'Dat-Bl'!$J$127:$N$246,5)))","v":0}]
[null,null,null,null,null,"Versuch",null,null,"gewertete\n Leistung\n"]
[null,"Start Nr.","Name","Geb. Jahr","Bewerb","1.","2.","3."]
[1,{"$f":"IF($D$5=\"\",\"\",IF($D$5=\"männlich_R\",VLOOKUP((($H215-1)*6+1),'Dat-Bl'!$J$4:$N$123,2),VLOOKUP((($H215-1)*6+1),'Dat-Bl'!$J$127:$N$246,2)))","v":0},{"$f":"IF($D$5=\"\",\"\",IF($D$5=\"männlich_R\",VLOOKUP((($H215-1)*6+1),'Dat-Bl'!$J$4:$N$123,3),VLOOKUP((($H215-1)*6+1),'Dat-Bl'!$J$127:$N$246,3)))","v":"M8/01-Regel"},{"$f":"IF($D$5=\"\",\"\",IF($D$5=\"männlich_R\",VLOOKUP((($H215-1)*6+1),'Dat-Bl'!$J$4:$N$123,4),VLOOKUP((($H215-1)*6+1),'Dat-Bl'!$J$127:$N$246,4)))","v":"00:00:00"},"Sprint"]
[null,null,null,null,"Sprung"]
[null,null,null,null,"Wurf"]
[2,{"$f":"IF($D$5=\"\",\"\",IF($D$5=\"männlich_R\",VLOOKUP((($H215-1)*6+2),'Dat-Bl'!$J$4:$N$123,2),VLOOKUP((($H215-1)*6+2),'Dat-Bl'!$J$127:$N$246,2)))","v":0},{"$f":"IF($D$5=\"\",\"\",IF($D$5=\"männlich_R\",VLOOKUP((($H215-1)*6+2),'Dat-Bl'!$J$4:$N$123,3),VLOOKUP((($H215-1)*6+2),'Dat-Bl'!$J$127:$N$246,3)))","v":"M8/02-Regel"},{"$f":"IF($D$5=\"\",\"\",IF($D$5=\"männlich_R\",VLOOKUP((($H215-1)*6+2),'Dat-Bl'!$J$4:$N$123,4),VLOOKUP((($H215-1)*6+2),'Dat-Bl'!$J$127:$N$246,4)))","v":"00:00:00"},"Sprint"]
[null,null,null,null,"Sprung"]
[null,null,null,null,"Wurf"]
[3,{"$f":"IF($D$5=\"\",\"\",IF($D$5=\"männlich_R\",VLOOKUP((($H215-1)*6+3),'Dat-Bl'!$J$4:$N$123,2),VLOOKUP((($H215-1)*6+3),'Dat-Bl'!$J$127:$N$246,2)))","v":0},{"$f":"IF($D$5=\"\",\"\",IF($D$5=\"männlich_R\",VLOOKUP((($H215-1)*6+3),'Dat-Bl'!$J$4:$N$123,3),VLOOKUP((($H215-1)*6+3),'Dat-Bl'!$J$127:$N$246,3)))","v":"M8/03-Regel"},{"$f":"IF($D$5=\"\",\"\",IF($D$5=\"männlich_R\",VLOOKUP((($H215-1)*6+3),'Dat-Bl'!$J$4:$N$123,4),VLOOKUP((($H215-1)*6+3),'Dat-Bl'!$J$127:$N$246,4)))","v":"00:00:00"},"Sprint"]
[null,null,null,null,"Sprung"]
[null,null,null,null,"Wurf"]
[4,{"$f":"IF($D$5=\"\",\"\",IF($D$5=\"männlich_R\",VLOOKUP((($H215-1)*6+4),'Dat-Bl'!$J$4:$N$123,2),VLOOKUP((($H215-1)*6+4),'Dat-Bl'!$J$127:$N$246,2)))","v":0},{"$f":"IF($D$5=\"\",\"\",IF($D$5=\"männlich_R\",VLOOKUP((($H215-1)*6+4),'Dat-Bl'!$J$4:$N$123,3),VLOOKUP((($H215-1)*6+4),'Dat-Bl'!$J$127:$N$246,3)))","v":"M8/04-Regel"},{"$f":"IF($D$5=\"\",\"\",IF($D$5=\"männlich_R\",VLOOKUP((($H215-1)*6+4),'Dat-Bl'!$J$4:$N$123,4),VLOOKUP((($H215-1)*6+4),'Dat-Bl'!$J$127:$N$246,4)))","v":"00:00:00"},"Sprint"]
[null,null,null,null,"Sprung"]
[null,null,null,null,"Wurf"]
[5,{"$f":"IF($D$5=\"\",\"\",IF($D$5=\"männlich_R\",VLOOKUP((($H215-1)*6+5),'Dat-Bl'!$J$4:$N$123,2),VLOOKUP((($H215-1)*6+5),'Dat-Bl'!$J$127:$N$246,2)))","v":0},{"$f":"IF($D$5=\"\",\"\",IF($D$5=\"männlich_R\",VLOOKUP((($H215-1)*6+5),'Dat-Bl'!$J$4:$N$123,3),VLOOKUP((($H215-1)*6+5),'Dat-Bl'!$J$127:$N$246,3)))","v":"M8/05-Regel"},{"$f":"IF($D$5=\"\",\"\",IF($D$5=\"männlich_R\",VLOOKUP((($H215-1)*6+5),'Dat-Bl'!$J$4:$N$123,4),VLOOKUP((($H215-1)*6+5),'Dat-Bl'!$J$127:$N$246,4)))","v":"00:00:00"},"Sprint"]
[null,null,null,null,"Sprung"]
[null,null,null,null,"Wurf"]
[6,{"$f":"IF($D$5=\"\",\"\",IF($D$5=\"männlich_R\",VLOOKUP((($H215-1)*6+6),'Dat-Bl'!$J$4:$N$123,2),VLOOKUP((($H215-1)*6+6),'Dat-Bl'!$J$127:$N$246,2)))","v":0},{"$f":"IF($D$5=\"\",\"\",IF($D$5=\"männlich_R\",VLOOKUP((($H215-1)*6+6),'Dat-Bl'!$J$4:$N$123,3),VLOOKUP((($H215-1)*6+6),'Dat-Bl'!$J$127:$N$246,3)))","v":"M8/06-Regel"},{"$f":"IF($D$5=\"\",\"\",IF($D$5=\"männlich_R\",VLOOKUP((($H215-1)*6+6),'Dat-Bl'!$J$4:$N$123,4),VLOOKUP((($H215-1)*6+6),'Dat-Bl'!$J$127:$N$246,4)))","v":"00:00:00"},"Sprint"]
[null,null,null,null,"Sprung"]
[null,null,null,null,"Wurf"]
[]
[null,null,null,null,"Staffelwertung (5 X 80m)"]
[]
[null,"Leichtathletik Mannschaftsdreikampf der Schulen"]
[]
[null,null,{"$f":"$C$3","v":"Bezirksmeisterschaft"},null,{"$f":"$E$3","v":2014},{"$f":"$F$3","v":"St. Pölten"}]
[]
[null,null,"Auswahl Geschlecht:",{"$f":"$D$5","v":"männlich_R"},null,"Mannschaft:",null,9]
[null,null,null,null,{"$f":"$E$6","v":"D"}]
["Schule:",null,{"$f":"IF($D$5=\"\",\"\",IF($D$5=\"männlich_R\",VLOOKUP((($H245-1)*6+1),'Dat-Bl'!$J$4:$N$123,5),VLOOKUP((($H245-1)*6+1),'Dat-Bl'!$J$127:$N$246,5)))","v":0}]
[null,null,null,null,null,"Versuch",null,null,"gewertete\n Leistung\n"]
[null,"Start Nr.","Name","Geb. Jahr","Bewerb","1.","2.","3."]
[1,{"$f":"IF($D$5=\"\",\"\",IF($D$5=\"männlich_R\",VLOOKUP((($H245-1)*6+1),'Dat-Bl'!$J$4:$N$123,2),VLOOKUP((($H245-1)*6+1),'Dat-Bl'!$J$127:$N$246,2)))","v":0},{"$f":"IF($D$5=\"\",\"\",IF($D$5=\"männlich_R\",VLOOKUP((($H245-1)*6+1),'Dat-Bl'!$J$4:$N$123,3),VLOOKUP((($H245-1)*6+1),'Dat-Bl'!$J$127:$N$246,3)))","v":"M9/01-Regel"},{"$f":"IF($D$5=\"\",\"\",IF($D$5=\"männlich_R\",VLOOKUP((($H245-1)*6+1),'Dat-Bl'!$J$4:$N$123,4),VLOOKUP((($H245-1)*6+1),'Dat-Bl'!$J$127:$N$246,4)))","v":"00:00:00"},"Sprint"]
[null,null,null,null,"Sprung"]
[null,null,null,null,"Wurf"]
[2,{"$f":"IF($D$5=\"\",\"\",IF($D$5=\"männlich_R\",VLOOKUP((($H245-1)*6+2),'Dat-Bl'!$J$4:$N$123,2),VLOOKUP((($H245-1)*6+2),'Dat-Bl'!$J$127:$N$246,2)))","v":0},{"$f":"IF($D$5=\"\",\"\",IF($D$5=\"männlich_R\",VLOOKUP((($H245-1)*6+2),'Dat-Bl'!$J$4:$N$123,3),VLOOKUP((($H245-1)*6+2),'Dat-Bl'!$J$127:$N$246,3)))","v":"M9/02-Regel"},{"$f":"IF($D$5=\"\",\"\",IF($D$5=\"männlich_R\",VLOOKUP((($H245-1)*6+2),'Dat-Bl'!$J$4:$N$123,4),VLOOKUP((($H245-1)*6+2),'Dat-Bl'!$J$127:$N$246,4)))","v":"00:00:00"},"Sprint"]
[null,null,null,null,"Sprung"]
[null,null,null,null,"Wurf"]
[3,{"$f":"IF($D$5=\"\",\"\",IF($D$5=\"männlich_R\",VLOOKUP((($H245-1)*6+3),'Dat-Bl'!$J$4:$N$123,2),VLOOKUP((($H245-1)*6+3),'Dat-Bl'!$J$127:$N$246,2)))","v":0},{"$f":"IF($D$5=\"\",\"\",IF($D$5=\"männlich_R\",VLOOKUP((($H245-1)*6+3),'Dat-Bl'!$J$4:$N$123,3),VLOOKUP((($H245-1)*6+3),'Dat-Bl'!$J$127:$N$246,3)))","v":"M9/03-Regel"},{"$f":"IF($D$5=\"\",\"\",IF($D$5=\"männlich_R\",VLOOKUP((($H245-1)*6+3),'Dat-Bl'!$J$4:$N$123,4),VLOOKUP((($H245-1)*6+3),'Dat-Bl'!$J$127:$N$246,4)))","v":"00:00:00"},"Sprint"]
[null,null,null,null,"Sprung"]
[null,null,null,null,"Wurf"]
[4,{"$f":"IF($D$5=\"\",\"\",IF($D$5=\"männlich_R\",VLOOKUP((($H245-1)*6+4),'Dat-Bl'!$J$4:$N$123,2),VLOOKUP((($H245-1)*6+4),'Dat-Bl'!$J$127:$N$246,2)))","v":0},{"$f":"IF($D$5=\"\",\"\",IF($D$5=\"männlich_R\",VLOOKUP((($H245-1)*6+4),'Dat-Bl'!$J$4:$N$123,3),VLOOKUP((($H245-1)*6+4),'Dat-Bl'!$J$127:$N$246,3)))","v":"M9/04-Regel"},{"$f":"IF($D$5=\"\",\"\",IF($D$5=\"männlich_R\",VLOOKUP((($H245-1)*6+4),'Dat-Bl'!$J$4:$N$123,4),VLOOKUP((($H245-1)*6+4),'Dat-Bl'!$J$127:$N$246,4)))","v":"00:00:00"},"Sprint"]
[null,null,null,null,"Sprung"]
[null,null,null,null,"Wurf"]
[5,{"$f":"IF($D$5=\"\",\"\",IF($D$5=\"männlich_R\",VLOOKUP((($H245-1)*6+5),'Dat-Bl'!$J$4:$N$123,2),VLOOKUP((($H245-1)*6+5),'Dat-Bl'!$J$127:$N$246,2)))","v":0},{"$f":"IF($D$5=\"\",\"\",IF($D$5=\"männlich_R\",VLOOKUP((($H245-1)*6+5),'Dat-Bl'!$J$4:$N$123,3),VLOOKUP((($H245-1)*6+5),'Dat-Bl'!$J$127:$N$246,3)))","v":"M9/05-Regel"},{"$f":"IF($D$5=\"\",\"\",IF($D$5=\"männlich_R\",VLOOKUP((($H245-1)*6+5),'Dat-Bl'!$J$4:$N$123,4),VLOOKUP((($H245-1)*6+5),'Dat-Bl'!$J$127:$N$246,4)))","v":"00:00:00"},"Sprint"]
[null,null,null,null,"Sprung"]
[null,null,null,null,"Wurf"]
[6,{"$f":"IF($D$5=\"\",\"\",IF($D$5=\"männlich_R\",VLOOKUP((($H245-1)*6+6),'Dat-Bl'!$J$4:$N$123,2),VLOOKUP((($H245-1)*6+6),'Dat-Bl'!$J$127:$N$246,2)))","v":0},{"$f":"IF($D$5=\"\",\"\",IF($D$5=\"männlich_R\",VLOOKUP((($H245-1)*6+6),'Dat-Bl'!$J$4:$N$123,3),VLOOKUP((($H245-1)*6+6),'Dat-Bl'!$J$127:$N$246,3)))","v":"M9/06-Regel"},{"$f":"IF($D$5=\"\",\"\",IF($D$5=\"männlich_R\",VLOOKUP((($H245-1)*6+6),'Dat-Bl'!$J$4:$N$123,4),VLOOKUP((($H245-1)*6+6),'Dat-Bl'!$J$127:$N$246,4)))","v":"00:00:00"},"Sprint"]
[null,null,null,null,"Sprung"]
[null,null,null,null,"Wurf"]
[]
[null,null,null,null,"Staffelwertung (5 X 80m)"]
[]
[null,"Leichtathletik Mannschaftsdreikampf der Schulen"]
[]
[null,null,{"$f":"$C$3","v":"Bezirksmeisterschaft"},null,{"$f":"$E$3","v":2014},{"$f":"$F$3","v":"St. Pölten"}]
[]
[null,null,"Auswahl Geschlecht:",{"$f":"$D$5","v":"männlich_R"},null,"Mannschaft:",null,10]
[null,null,null,null,{"$f":"$E$6","v":"D"}]
["Schule:",null,{"$f":"IF($D$5=\"\",\"\",IF($D$5=\"männlich_R\",VLOOKUP((($H275-1)*6+1),'Dat-Bl'!$J$4:$N$123,5),VLOOKUP((($H275-1)*6+1),'Dat-Bl'!$J$127:$N$246,5)))","v":0}]
[null,null,null,null,null,"Versuch",null,null,"gewertete\n Leistung\n"]
[null,"Start Nr.","Name","Geb. Jahr","Bewerb","1.","2.","3."]
[1,{"$f":"IF($D$5=\"\",\"\",IF($D$5=\"männlich_R\",VLOOKUP((($H275-1)*6+1),'Dat-Bl'!$J$4:$N$123,2),VLOOKUP((($H275-1)*6+1),'Dat-Bl'!$J$127:$N$246,2)))","v":0},{"$f":"IF($D$5=\"\",\"\",IF($D$5=\"männlich_R\",VLOOKUP((($H275-1)*6+1),'Dat-Bl'!$J$4:$N$123,3),VLOOKUP((($H275-1)*6+1),'Dat-Bl'!$J$127:$N$246,3)))","v":"M10/01-Regel"},{"$f":"IF($D$5=\"\",\"\",IF($D$5=\"männlich_R\",VLOOKUP((($H275-1)*6+1),'Dat-Bl'!$J$4:$N$123,4),VLOOKUP((($H275-1)*6+1),'Dat-Bl'!$J$127:$N$246,4)))","v":"00:00:00"},"Sprint"]
[null,null,null,null,"Sprung"]
[null,null,null,null,"Wurf"]
[2,{"$f":"IF($D$5=\"\",\"\",IF($D$5=\"männlich_R\",VLOOKUP((($H275-1)*6+2),'Dat-Bl'!$J$4:$N$123,2),VLOOKUP((($H275-1)*6+2),'Dat-Bl'!$J$127:$N$246,2)))","v":0},{"$f":"IF($D$5=\"\",\"\",IF($D$5=\"männlich_R\",VLOOKUP((($H275-1)*6+2),'Dat-Bl'!$J$4:$N$123,3),VLOOKUP((($H275-1)*6+2),'Dat-Bl'!$J$127:$N$246,3)))","v":"M10/02-Regel"},{"$f":"IF($D$5=\"\",\"\",IF($D$5=\"männlich_R\",VLOOKUP((($H275-1)*6+2),'Dat-Bl'!$J$4:$N$123,4),VLOOKUP((($H275-1)*6+2),'Dat-Bl'!$J$127:$N$246,4)))","v":"00:00:00"},"Sprint"]
[null,null,null,null,"Sprung"]
[null,null,null,null,"Wurf"]
[3,{"$f":"IF($D$5=\"\",\"\",IF($D$5=\"männlich_R\",VLOOKUP((($H275-1)*6+3),'Dat-Bl'!$J$4:$N$123,2),VLOOKUP((($H275-1)*6+3),'Dat-Bl'!$J$127:$N$246,2)))","v":0},{"$f":"IF($D$5=\"\",\"\",IF($D$5=\"männlich_R\",VLOOKUP((($H275-1)*6+3),'Dat-Bl'!$J$4:$N$123,3),VLOOKUP((($H275-1)*6+3),'Dat-Bl'!$J$127:$N$246,3)))","v":"M10/03-Regel"},{"$f":"IF($D$5=\"\",\"\",IF($D$5=\"männlich_R\",VLOOKUP((($H275-1)*6+3),'Dat-Bl'!$J$4:$N$123,4),VLOOKUP((($H275-1)*6+3),'Dat-Bl'!$J$127:$N$246,4)))","v":"00:00:00"},"Sprint"]
[null,null,null,null,"Sprung"]
[null,null,null,null,"Wurf"]
[4,{"$f":"IF($D$5=\"\",\"\",IF($D$5=\"männlich_R\",VLOOKUP((($H275-1)*6+4),'Dat-Bl'!$J$4:$N$123,2),VLOOKUP((($H275-1)*6+4),'Dat-Bl'!$J$127:$N$246,2)))","v":0},{"$f":"IF($D$5=\"\",\"\",IF($D$5=\"männlich_R\",VLOOKUP((($H275-1)*6+4),'Dat-Bl'!$J$4:$N$123,3),VLOOKUP((($H275-1)*6+4),'Dat-Bl'!$J$127:$N$246,3)))","v":"M10/04-Regel"},{"$f":"IF($D$5=\"\",\"\",IF($D$5=\"männlich_R\",VLOOKUP((($H275-1)*6+4),'Dat-Bl'!$J$4:$N$123,4),VLOOKUP((($H275-1)*6+4),'Dat-Bl'!$J$127:$N$246,4)))","v":"00:00:00"},"Sprint"]
[null,null,null,null,"Sprung"]
[null,null,null,null,"Wurf"]
[5,{"$f":"IF($D$5=\"\",\"\",IF($D$5=\"männlich_R\",VLOOKUP((($H275-1)*6+5),'Dat-Bl'!$J$4:$N$123,2),VLOOKUP((($H275-1)*6+5),'Dat-Bl'!$J$127:$N$246,2)))","v":0},{"$f":"IF($D$5=\"\",\"\",IF($D$5=\"männlich_R\",VLOOKUP((($H275-1)*6+5),'Dat-Bl'!$J$4:$N$123,3),VLOOKUP((($H275-1)*6+5),'Dat-Bl'!$J$127:$N$246,3)))","v":"M10/05-Regel"},{"$f":"IF($D$5=\"\",\"\",IF($D$5=\"männlich_R\",VLOOKUP((($H275-1)*6+5),'Dat-Bl'!$J$4:$N$123,4),VLOOKUP((($H275-1)*6+5),'Dat-Bl'!$J$127:$N$246,4)))","v":"00:00:00"},"Sprint"]
[null,null,null,null,"Sprung"]
[null,null,null,null,"Wurf"]
[6,{"$f":"IF($D$5=\"\",\"\",IF($D$5=\"männlich_R\",VLOOKUP((($H275-1)*6+6),'Dat-Bl'!$J$4:$N$123,2),VLOOKUP((($H275-1)*6+6),'Dat-Bl'!$J$127:$N$246,2)))","v":0},{"$f":"IF($D$5=\"\",\"\",IF($D$5=\"männlich_R\",VLOOKUP((($H275-1)*6+6),'Dat-Bl'!$J$4:$N$123,3),VLOOKUP((($H275-1)*6+6),'Dat-Bl'!$J$127:$N$246,3)))","v":"M10/06-Regel"},{"$f":"IF($D$5=\"\",\"\",IF($D$5=\"männlich_R\",VLOOKUP((($H275-1)*6+6),'Dat-Bl'!$J$4:$N$123,4),VLOOKUP((($H275-1)*6+6),'Dat-Bl'!$J$127:$N$246,4)))","v":"00:00:00"},"Sprint"]
[null,null,null,null,"Sprung"]
[null,null,null,null,"Wurf"]
[]
[null,null,null,null,"Staffelwertung (5 X 80m)"]
[]
[null,"Leichtathletik Mannschaftsdreikampf der Schulen"]
[]
[null,null,{"$f":"$C$3","v":"Bezirksmeisterschaft"},null,{"$f":"$E$3","v":2014},{"$f":"$F$3","v":"St. Pölten"}]
[]
[null,null,"Auswahl Geschlecht:",{"$f":"$D$5","v":"männlich_R"},null,"Mannschaft:",null,11]
[null,null,null,null,{"$f":"$E$6","v":"D"}]
["Schule:",null,{"$f":"IF($D$5=\"\",\"\",IF($D$5=\"männlich_R\",VLOOKUP((($H305-1)*6+1),'Dat-Bl'!$J$4:$N$123,5),VLOOKUP((($H305-1)*6+1),'Dat-Bl'!$J$127:$N$246,5)))","v":0}]
[null,null,null,null,null,"Versuch",null,null,"gewertete\n Leistung\n"]
[null,"Start Nr.","Name","Geb. Jahr","Bewerb","1.","2.","3."]
[1,{"$f":"IF($D$5=\"\",\"\",IF($D$5=\"männlich_R\",VLOOKUP((($H305-1)*6+1),'Dat-Bl'!$J$4:$N$123,2),VLOOKUP((($H305-1)*6+1),'Dat-Bl'!$J$127:$N$246,2)))","v":0},{"$f":"IF($D$5=\"\",\"\",IF($D$5=\"männlich_R\",VLOOKUP((($H305-1)*6+1),'Dat-Bl'!$J$4:$N$123,3),VLOOKUP((($H305-1)*6+1),'Dat-Bl'!$J$127:$N$246,3)))","v":"M11/01-Regel"},{"$f":"IF($D$5=\"\",\"\",IF($D$5=\"männlich_R\",VLOOKUP((($H305-1)*6+1),'Dat-Bl'!$J$4:$N$123,4),VLOOKUP((($H305-1)*6+1),'Dat-Bl'!$J$127:$N$246,4)))","v":"00:00:00"},"Sprint"]
[null,null,null,null,"Sprung"]
[null,null,null,null,"Wurf"]
[2,{"$f":"IF($D$5=\"\",\"\",IF($D$5=\"männlich_R\",VLOOKUP((($H305-1)*6+2),'Dat-Bl'!$J$4:$N$123,2),VLOOKUP((($H305-1)*6+2),'Dat-Bl'!$J$127:$N$246,2)))","v":0},{"$f":"IF($D$5=\"\",\"\",IF($D$5=\"männlich_R\",VLOOKUP((($H305-1)*6+2),'Dat-Bl'!$J$4:$N$123,3),VLOOKUP((($H305-1)*6+2),'Dat-Bl'!$J$127:$N$246,3)))","v":"M11/02-Regel"},{"$f":"IF($D$5=\"\",\"\",IF($D$5=\"männlich_R\",VLOOKUP((($H305-1)*6+2),'Dat-Bl'!$J$4:$N$123,4),VLOOKUP((($H305-1)*6+2),'Dat-Bl'!$J$127:$N$246,4)))","v":"00:00:00"},"Sprint"]
[null,null,null,null,"Sprung"]
[null,null,null,null,"Wurf"]
[3,{"$f":"IF($D$5=\"\",\"\",IF($D$5=\"männlich_R\",VLOOKUP((($H305-1)*6+3),'Dat-Bl'!$J$4:$N$123,2),VLOOKUP((($H305-1)*6+3),'Dat-Bl'!$J$127:$N$246,2)))","v":0},{"$f":"IF($D$5=\"\",\"\",IF($D$5=\"männlich_R\",VLOOKUP((($H305-1)*6+3),'Dat-Bl'!$J$4:$N$123,3),VLOOKUP((($H305-1)*6+3),'Dat-Bl'!$J$127:$N$246,3)))","v":"M11/03-Regel"},{"$f":"IF($D$5=\"\",\"\",IF($D$5=\"männlich_R\",VLOOKUP((($H305-1)*6+3),'Dat-Bl'!$J$4:$N$123,4),VLOOKUP((($H305-1)*6+3),'Dat-Bl'!$J$127:$N$246,4)))","v":"00:00:00"},"Sprint"]
[null,null,null,null,"Sprung"]
[null,null,null,null,"Wurf"]
[4,{"$f":"IF($D$5=\"\",\"\",IF($D$5=\"männlich_R\",VLOOKUP((($H305-1)*6+4),'Dat-Bl'!$J$4:$N$123,2),VLOOKUP((($H305-1)*6+4),'Dat-Bl'!$J$127:$N$246,2)))","v":0},{"$f":"IF($D$5=\"\",\"\",IF($D$5=\"männlich_R\",VLOOKUP((($H305-1)*6+4),'Dat-Bl'!$J$4:$N$123,3),VLOOKUP((($H305-1)*6+4),'Dat-Bl'!$J$127:$N$246,3)))","v":"M11/04-Regel"},{"$f":"IF($D$5=\"\",\"\",IF($D$5=\"männlich_R\",VLOOKUP((($H305-1)*6+4),'Dat-Bl'!$J$4:$N$123,4),VLOOKUP((($H305-1)*6+4),'Dat-Bl'!$J$127:$N$246,4)))","v":"00:00:00"},"Sprint"]
[null,null,null,null,"Sprung"]
[null,null,null,null,"Wurf"]
[5,{"$f":"IF($D$5=\"\",\"\",IF($D$5=\"männlich_R\",VLOOKUP((($H305-1)*6+5),'Dat-Bl'!$J$4:$N$123,2),VLOOKUP((($H305-1)*6+5),'Dat-Bl'!$J$127:$N$246,2)))","v":0},{"$f":"IF($D$5=\"\",\"\",IF($D$5=\"männlich_R\",VLOOKUP((($H305-1)*6+5),'Dat-Bl'!$J$4:$N$123,3),VLOOKUP((($H305-1)*6+5),'Dat-Bl'!$J$127:$N$246,3)))","v":"M11/05-Regel"},{"$f":"IF($D$5=\"\",\"\",IF($D$5=\"männlich_R\",VLOOKUP((($H305-1)*6+5),'Dat-Bl'!$J$4:$N$123,4),VLOOKUP((($H305-1)*6+5),'Dat-Bl'!$J$127:$N$246,4)))","v":"00:00:00"},"Sprint"]
[null,null,null,null,"Sprung"]
[null,null,null,null,"Wurf"]
[6,{"$f":"IF($D$5=\"\",\"\",IF($D$5=\"männlich_R\",VLOOKUP((($H305-1)*6+6),'Dat-Bl'!$J$4:$N$123,2),VLOOKUP((($H305-1)*6+6),'Dat-Bl'!$J$127:$N$246,2)))","v":0},{"$f":"IF($D$5=\"\",\"\",IF($D$5=\"männlich_R\",VLOOKUP((($H305-1)*6+6),'Dat-Bl'!$J$4:$N$123,3),VLOOKUP((($H305-1)*6+6),'Dat-Bl'!$J$127:$N$246,3)))","v":"M11/06-Regel"},{"$f":"IF($D$5=\"\",\"\",IF($D$5=\"männlich_R\",VLOOKUP((($H305-1)*6+6),'Dat-Bl'!$J$4:$N$123,4),VLOOKUP((($H305-1)*6+6),'Dat-Bl'!$J$127:$N$246,4)))","v":"00:00:00"},"Sprint"]
[null,null,null,null,"Sprung"]
[null,null,null,null,"Wurf"]
[]
[null,null,null,null,"Staffelwertung (5 X 80m)"]
[]
[null,"Leichtathletik Mannschaftsdreikampf der Schulen"]
[]
[null,null,{"$f":"$C$3","v":"Bezirksmeisterschaft"},null,{"$f":"$E$3","v":2014},{"$f":"$F$3","v":"St. Pölten"}]
[]
[null,null,"Auswahl Geschlecht:",{"$f":"$D$5","v":"männlich_R"},null,"Mannschaft:",null,12]
[null,null,null,null,{"$f":"$E$6","v":"D"}]
["Schule:",null,{"$f":"IF($D$5=\"\",\"\",IF($D$5=\"männlich_R\",VLOOKUP((($H335-1)*6+1),'Dat-Bl'!$J$4:$N$123,5),VLOOKUP((($H335-1)*6+1),'Dat-Bl'!$J$127:$N$246,5)))","v":0}]
[null,null,null,null,null,"Versuch",null,null,"gewertete\n Leistung\n"]
[null,"Start Nr.","Name","Geb. Jahr","Bewerb","1.","2.","3."]
[1,{"$f":"IF($D$5=\"\",\"\",IF($D$5=\"männlich_R\",VLOOKUP((($H335-1)*6+1),'Dat-Bl'!$J$4:$N$123,2),VLOOKUP((($H335-1)*6+1),'Dat-Bl'!$J$127:$N$246,2)))","v":0},{"$f":"IF($D$5=\"\",\"\",IF($D$5=\"männlich_R\",VLOOKUP((($H335-1)*6+1),'Dat-Bl'!$J$4:$N$123,3),VLOOKUP((($H335-1)*6+1),'Dat-Bl'!$J$127:$N$246,3)))","v":"M12/01-Regel"},{"$f":"IF($D$5=\"\",\"\",IF($D$5=\"männlich_R\",VLOOKUP((($H335-1)*6+1),'Dat-Bl'!$J$4:$N$123,4),VLOOKUP((($H335-1)*6+1),'Dat-Bl'!$J$127:$N$246,4)))","v":"00:00:00"},"Sprint"]
[null,null,null,null,"Sprung"]
[null,null,null,null,"Wurf"]
[2,{"$f":"IF($D$5=\"\",\"\",IF($D$5=\"männlich_R\",VLOOKUP((($H335-1)*6+2),'Dat-Bl'!$J$4:$N$123,2),VLOOKUP((($H335-1)*6+2),'Dat-Bl'!$J$127:$N$246,2)))","v":0},{"$f":"IF($D$5=\"\",\"\",IF($D$5=\"männlich_R\",VLOOKUP((($H335-1)*6+2),'Dat-Bl'!$J$4:$N$123,3),VLOOKUP((($H335-1)*6+2),'Dat-Bl'!$J$127:$N$246,3)))","v":"M12/02-Regel"},{"$f":"IF($D$5=\"\",\"\",IF($D$5=\"männlich_R\",VLOOKUP((($H335-1)*6+2),'Dat-Bl'!$J$4:$N$123,4),VLOOKUP((($H335-1)*6+2),'Dat-Bl'!$J$127:$N$246,4)))","v":"00:00:00"},"Sprint"]
[null,null,null,null,"Sprung"]
[null,null,null,null,"Wurf"]
[3,{"$f":"IF($D$5=\"\",\"\",IF($D$5=\"männlich_R\",VLOOKUP((($H335-1)*6+3),'Dat-Bl'!$J$4:$N$123,2),VLOOKUP((($H335-1)*6+3),'Dat-Bl'!$J$127:$N$246,2)))","v":0},{"$f":"IF($D$5=\"\",\"\",IF($D$5=\"männlich_R\",VLOOKUP((($H335-1)*6+3),'Dat-Bl'!$J$4:$N$123,3),VLOOKUP((($H335-1)*6+3),'Dat-Bl'!$J$127:$N$246,3)))","v":"M12/03-Regel"},{"$f":"IF($D$5=\"\",\"\",IF($D$5=\"männlich_R\",VLOOKUP((($H335-1)*6+3),'Dat-Bl'!$J$4:$N$123,4),VLOOKUP((($H335-1)*6+3),'Dat-Bl'!$J$127:$N$246,4)))","v":"00:00:00"},"Sprint"]
[null,null,null,null,"Sprung"]
[null,null,null,null,"Wurf"]
[4,{"$f":"IF($D$5=\"\",\"\",IF($D$5=\"männlich_R\",VLOOKUP((($H335-1)*6+4),'Dat-Bl'!$J$4:$N$123,2),VLOOKUP((($H335-1)*6+4),'Dat-Bl'!$J$127:$N$246,2)))","v":0},{"$f":"IF($D$5=\"\",\"\",IF($D$5=\"männlich_R\",VLOOKUP((($H335-1)*6+4),'Dat-Bl'!$J$4:$N$123,3),VLOOKUP((($H335-1)*6+4),'Dat-Bl'!$J$127:$N$246,3)))","v":"M12/04-Regel"},{"$f":"IF($D$5=\"\",\"\",IF($D$5=\"männlich_R\",VLOOKUP((($H335-1)*6+4),'Dat-Bl'!$J$4:$N$123,4),VLOOKUP((($H335-1)*6+4),'Dat-Bl'!$J$127:$N$246,4)))","v":"00:00:00"},"Sprint"]
[null,null,null,null,"Sprung"]
[null,null,null,null,"Wurf"]
[5,{"$f":"IF($D$5=\"\",\"\",IF($D$5=\"männlich_R\",VLOOKUP((($H335-1)*6+5),'Dat-Bl'!$J$4:$N$123,2),VLOOKUP((($H335-1)*6+5),'Dat-Bl'!$J$127:$N$246,2)))","v":0},{"$f":"IF($D$5=\"\",\"\",IF($D$5=\"männlich_R\",VLOOKUP((($H335-1)*6+5),'Dat-Bl'!$J$4:$N$123,3),VLOOKUP((($H335-1)*6+5),'Dat-Bl'!$J$127:$N$246,3)))","v":"M12/05-Regel"},{"$f":"IF($D$5=\"\",\"\",IF($D$5=\"männlich_R\",VLOOKUP((($H335-1)*6+5),'Dat-Bl'!$J$4:$N$123,4),VLOOKUP((($H335-1)*6+5),'Dat-Bl'!$J$127:$N$246,4)))","v":"00:00:00"},"Sprint"]
[null,null,null,null,"Sprung"]
[null,null,null,null,"Wurf"]
[6,{"$f":"IF($D$5=\"\",\"\",IF($D$5=\"männlich_R\",VLOOKUP((($H335-1)*6+6),'Dat-Bl'!$J$4:$N$123,2),VLOOKUP((($H335-1)*6+6),'Dat-Bl'!$J$127:$N$246,2)))","v":0},{"$f":"IF($D$5=\"\",\"\",IF($D$5=\"männlich_R\",VLOOKUP((($H335-1)*6+6),'Dat-Bl'!$J$4:$N$123,3),VLOOKUP((($H335-1)*6+6),'Dat-Bl'!$J$127:$N$246,3)))","v":"M12/06-Regel"},{"$f":"IF($D$5=\"\",\"\",IF($D$5=\"männlich_R\",VLOOKUP((($H335-1)*6+6),'Dat-Bl'!$J$4:$N$123,4),VLOOKUP((($H335-1)*6+6),'Dat-Bl'!$J$127:$N$246,4)))","v":"00:00:00"},"Sprint"]
[null,null,null,null,"Sprung"]
[null,null,null,null,"Wurf"]
[]
[null,null,null,null,"Staffelwertung (5 X 80m)"]
[]
[null,"Leichtathletik Mannschaftsdreikampf der Schulen"]
[]
[null,null,{"$f":"$C$3","v":"Bezirksmeisterschaft"},null,{"$f":"$E$3","v":2014},{"$f":"$F$3","v":"St. Pölten"}]
[]
[null,null,"Auswahl Geschlecht:",{"$f":"$D$5","v":"männlich_R"},null,"Mannschaft:",null,13]
[null,null,null,null,{"$f":"$E$6","v":"D"}]
["Schule:",null,{"$f":"IF($D$5=\"\",\"\",IF($D$5=\"männlich_R\",VLOOKUP((($H365-1)*6+1),'Dat-Bl'!$J$4:$N$123,5),VLOOKUP((($H365-1)*6+1),'Dat-Bl'!$J$127:$N$246,5)))","v":0}]
[null,null,null,null,null,"Versuch",null,null,"gewertete\n Leistung\n"]
[null,"Start Nr.","Name","Geb. Jahr","Bewerb","1.","2.","3."]
[1,{"$f":"IF($D$5=\"\",\"\",IF($D$5=\"männlich_R\",VLOOKUP((($H365-1)*6+1),'Dat-Bl'!$J$4:$N$123,2),VLOOKUP((($H365-1)*6+1),'Dat-Bl'!$J$127:$N$246,2)))","v":0},{"$f":"IF($D$5=\"\",\"\",IF($D$5=\"männlich_R\",VLOOKUP((($H365-1)*6+1),'Dat-Bl'!$J$4:$N$123,3),VLOOKUP((($H365-1)*6+1),'Dat-Bl'!$J$127:$N$246,3)))","v":"M13/01-Regel"},{"$f":"IF($D$5=\"\",\"\",IF($D$5=\"männlich_R\",VLOOKUP((($H365-1)*6+1),'Dat-Bl'!$J$4:$N$123,4),VLOOKUP((($H365-1)*6+1),'Dat-Bl'!$J$127:$N$246,4)))","v":"00:00:00"},"Sprint"]
[null,null,null,null,"Sprung"]
[null,null,null,null,"Wurf"]
[2,{"$f":"IF($D$5=\"\",\"\",IF($D$5=\"männlich_R\",VLOOKUP((($H365-1)*6+2),'Dat-Bl'!$J$4:$N$123,2),VLOOKUP((($H365-1)*6+2),'Dat-Bl'!$J$127:$N$246,2)))","v":0},{"$f":"IF($D$5=\"\",\"\",IF($D$5=\"männlich_R\",VLOOKUP((($H365-1)*6+2),'Dat-Bl'!$J$4:$N$123,3),VLOOKUP((($H365-1)*6+2),'Dat-Bl'!$J$127:$N$246,3)))","v":"M13/02-Regel"},{"$f":"IF($D$5=\"\",\"\",IF($D$5=\"männlich_R\",VLOOKUP((($H365-1)*6+2),'Dat-Bl'!$J$4:$N$123,4),VLOOKUP((($H365-1)*6+2),'Dat-Bl'!$J$127:$N$246,4)))","v":"00:00:00"},"Sprint"]
[null,null,null,null,"Sprung"]
[null,null,null,null,"Wurf"]
[3,{"$f":"IF($D$5=\"\",\"\",IF($D$5=\"männlich_R\",VLOOKUP((($H365-1)*6+3),'Dat-Bl'!$J$4:$N$123,2),VLOOKUP((($H365-1)*6+3),'Dat-Bl'!$J$127:$N$246,2)))","v":0},{"$f":"IF($D$5=\"\",\"\",IF($D$5=\"männlich_R\",VLOOKUP((($H365-1)*6+3),'Dat-Bl'!$J$4:$N$123,3),VLOOKUP((($H365-1)*6+3),'Dat-Bl'!$J$127:$N$246,3)))","v":"M13/03-Regel"},{"$f":"IF($D$5=\"\",\"\",IF($D$5=\"männlich_R\",VLOOKUP((($H365-1)*6+3),'Dat-Bl'!$J$4:$N$123,4),VLOOKUP((($H365-1)*6+3),'Dat-Bl'!$J$127:$N$246,4)))","v":"00:00:00"},"Sprint"]
[null,null,null,null,"Sprung"]
[null,null,null,null,"Wurf"]
[4,{"$f":"IF($D$5=\"\",\"\",IF($D$5=\"männlich_R\",VLOOKUP((($H365-1)*6+4),'Dat-Bl'!$J$4:$N$123,2),VLOOKUP((($H365-1)*6+4),'Dat-Bl'!$J$127:$N$246,2)))","v":0},{"$f":"IF($D$5=\"\",\"\",IF($D$5=\"männlich_R\",VLOOKUP((($H365-1)*6+4),'Dat-Bl'!$J$4:$N$123,3),VLOOKUP((($H365-1)*6+4),'Dat-Bl'!$J$127:$N$246,3)))","v":"M13/04-Regel"},{"$f":"IF($D$5=\"\",\"\",IF($D$5=\"männlich_R\",VLOOKUP((($H365-1)*6+4),'Dat-Bl'!$J$4:$N$123,4),VLOOKUP((($H365-1)*6+4),'Dat-Bl'!$J$127:$N$246,4)))","v":"00:00:00"},"Sprint"]
[null,null,null,null,"Sprung"]
[null,null,null,null,"Wurf"]
[5,{"$f":"IF($D$5=\"\",\"\",IF($D$5=\"männlich_R\",VLOOKUP((($H365-1)*6+5),'Dat-Bl'!$J$4:$N$123,2),VLOOKUP((($H365-1)*6+5),'Dat-Bl'!$J$127:$N$246,2)))","v":0},{"$f":"IF($D$5=\"\",\"\",IF($D$5=\"männlich_R\",VLOOKUP((($H365-1)*6+5),'Dat-Bl'!$J$4:$N$123,3),VLOOKUP((($H365-1)*6+5),'Dat-Bl'!$J$127:$N$246,3)))","v":"M13/05-Regel"},{"$f":"IF($D$5=\"\",\"\",IF($D$5=\"männlich_R\",VLOOKUP((($H365-1)*6+5),'Dat-Bl'!$J$4:$N$123,4),VLOOKUP((($H365-1)*6+5),'Dat-Bl'!$J$127:$N$246,4)))","v":"00:00:00"},"Sprint"]
[null,null,null,null,"Sprung"]
[null,null,null,null,"Wurf"]
[6,{"$f":"IF($D$5=\"\",\"\",IF($D$5=\"männlich_R\",VLOOKUP((($H365-1)*6+6),'Dat-Bl'!$J$4:$N$123,2),VLOOKUP((($H365-1)*6+6),'Dat-Bl'!$J$127:$N$246,2)))","v":0},{"$f":"IF($D$5=\"\",\"\",IF($D$5=\"männlich_R\",VLOOKUP((($H365-1)*6+6),'Dat-Bl'!$J$4:$N$123,3),VLOOKUP((($H365-1)*6+6),'Dat-Bl'!$J$127:$N$246,3)))","v":"M13/06-Regel"},{"$f":"IF($D$5=\"\",\"\",IF($D$5=\"männlich_R\",VLOOKUP((($H365-1)*6+6),'Dat-Bl'!$J$4:$N$123,4),VLOOKUP((($H365-1)*6+6),'Dat-Bl'!$J$127:$N$246,4)))","v":"00:00:00"},"Sprint"]
[null,null,null,null,"Sprung"]
[null,null,null,null,"Wurf"]
[]
[null,null,null,null,"Staffelwertung (5 X 80m)"]
[]
[null,"Leichtathletik Mannschaftsdreikampf der Schulen"]
[]
[null,null,{"$f":"$C$3","v":"Bezirksmeisterschaft"},null,{"$f":"$E$3","v":2014},{"$f":"$F$3","v":"St. Pölten"}]
[]
[null,null,"Auswahl Geschlecht:",{"$f":"$D$5","v":"männlich_R"},null,"Mannschaft:",null,14]
[null,null,null,null,{"$f":"$E$6","v":"D"}]
["Schule:",null,{"$f":"IF($D$5=\"\",\"\",IF($D$5=\"männlich_R\",VLOOKUP((($H395-1)*6+1),'Dat-Bl'!$J$4:$N$123,5),VLOOKUP((($H395-1)*6+1),'Dat-Bl'!$J$127:$N$246,5)))","v":0}]
[null,null,null,null,null,"Versuch",null,null,"gewertete\n Leistung\n"]
[null,"Start Nr.","Name","Geb. Jahr","Bewerb","1.","2.","3."]
[1,{"$f":"IF($D$5=\"\",\"\",IF($D$5=\"männlich_R\",VLOOKUP((($H395-1)*6+1),'Dat-Bl'!$J$4:$N$123,2),VLOOKUP((($H395-1)*6+1),'Dat-Bl'!$J$127:$N$246,2)))","v":0},{"$f":"IF($D$5=\"\",\"\",IF($D$5=\"männlich_R\",VLOOKUP((($H395-1)*6+1),'Dat-Bl'!$J$4:$N$123,3),VLOOKUP((($H395-1)*6+1),'Dat-Bl'!$J$127:$N$246,3)))","v":"M14/01-Regel"},{"$f":"IF($D$5=\"\",\"\",IF($D$5=\"männlich_R\",VLOOKUP((($H395-1)*6+1),'Dat-Bl'!$J$4:$N$123,4),VLOOKUP((($H395-1)*6+1),'Dat-Bl'!$J$127:$N$246,4)))","v":"00:00:00"},"Sprint"]
[null,null,null,null,"Sprung"]
[null,null,null,null,"Wurf"]
[2,{"$f":"IF($D$5=\"\",\"\",IF($D$5=\"männlich_R\",VLOOKUP((($H395-1)*6+2),'Dat-Bl'!$J$4:$N$123,2),VLOOKUP((($H395-1)*6+2),'Dat-Bl'!$J$127:$N$246,2)))","v":0},{"$f":"IF($D$5=\"\",\"\",IF($D$5=\"männlich_R\",VLOOKUP((($H395-1)*6+2),'Dat-Bl'!$J$4:$N$123,3),VLOOKUP((($H395-1)*6+2),'Dat-Bl'!$J$127:$N$246,3)))","v":"M14/02-Regel"},{"$f":"IF($D$5=\"\",\"\",IF($D$5=\"männlich_R\",VLOOKUP((($H395-1)*6+2),'Dat-Bl'!$J$4:$N$123,4),VLOOKUP((($H395-1)*6+2),'Dat-Bl'!$J$127:$N$246,4)))","v":"00:00:00"},"Sprint"]
[null,null,null,null,"Sprung"]
[null,null,null,null,"Wurf"]
[3,{"$f":"IF($D$5=\"\",\"\",IF($D$5=\"männlich_R\",VLOOKUP((($H395-1)*6+3),'Dat-Bl'!$J$4:$N$123,2),VLOOKUP((($H395-1)*6+3),'Dat-Bl'!$J$127:$N$246,2)))","v":0},{"$f":"IF($D$5=\"\",\"\",IF($D$5=\"männlich_R\",VLOOKUP((($H395-1)*6+3),'Dat-Bl'!$J$4:$N$123,3),VLOOKUP((($H395-1)*6+3),'Dat-Bl'!$J$127:$N$246,3)))","v":"M14/03-Regel"},{"$f":"IF($D$5=\"\",\"\",IF($D$5=\"männlich_R\",VLOOKUP((($H395-1)*6+3),'Dat-Bl'!$J$4:$N$123,4),VLOOKUP((($H395-1)*6+3),'Dat-Bl'!$J$127:$N$246,4)))","v":"00:00:00"},"Sprint"]
[null,null,null,null,"Sprung"]
[null,null,null,null,"Wurf"]
[4,{"$f":"IF($D$5=\"\",\"\",IF($D$5=\"männlich_R\",VLOOKUP((($H395-1)*6+4),'Dat-Bl'!$J$4:$N$123,2),VLOOKUP((($H395-1)*6+4),'Dat-Bl'!$J$127:$N$246,2)))","v":0},{"$f":"IF($D$5=\"\",\"\",IF($D$5=\"männlich_R\",VLOOKUP((($H395-1)*6+4),'Dat-Bl'!$J$4:$N$123,3),VLOOKUP((($H395-1)*6+4),'Dat-Bl'!$J$127:$N$246,3)))","v":"M14/04-Regel"},{"$f":"IF($D$5=\"\",\"\",IF($D$5=\"männlich_R\",VLOOKUP((($H395-1)*6+4),'Dat-Bl'!$J$4:$N$123,4),VLOOKUP((($H395-1)*6+4),'Dat-Bl'!$J$127:$N$246,4)))","v":"00:00:00"},"Sprint"]
[null,null,null,null,"Sprung"]
[null,null,null,null,"Wurf"]
[5,{"$f":"IF($D$5=\"\",\"\",IF($D$5=\"männlich_R\",VLOOKUP((($H395-1)*6+5),'Dat-Bl'!$J$4:$N$123,2),VLOOKUP((($H395-1)*6+5),'Dat-Bl'!$J$127:$N$246,2)))","v":0},{"$f":"IF($D$5=\"\",\"\",IF($D$5=\"männlich_R\",VLOOKUP((($H395-1)*6+5),'Dat-Bl'!$J$4:$N$123,3),VLOOKUP((($H395-1)*6+5),'Dat-Bl'!$J$127:$N$246,3)))","v":"M14/05-Regel"},{"$f":"IF($D$5=\"\",\"\",IF($D$5=\"männlich_R\",VLOOKUP((($H395-1)*6+5),'Dat-Bl'!$J$4:$N$123,4),VLOOKUP((($H395-1)*6+5),'Dat-Bl'!$J$127:$N$246,4)))","v":"00:00:00"},"Sprint"]
[null,null,null,null,"Sprung"]
[null,null,null,null,"Wurf"]
[6,{"$f":"IF($D$5=\"\",\"\",IF($D$5=\"männlich_R\",VLOOKUP((($H395-1)*6+6),'Dat-Bl'!$J$4:$N$123,2),VLOOKUP((($H395-1)*6+6),'Dat-Bl'!$J$127:$N$246,2)))","v":0},{"$f":"IF($D$5=\"\",\"\",IF($D$5=\"männlich_R\",VLOOKUP((($H395-1)*6+6),'Dat-Bl'!$J$4:$N$123,3),VLOOKUP((($H395-1)*6+6),'Dat-Bl'!$J$127:$N$246,3)))","v":"M14/06-Regel"},{"$f":"IF($D$5=\"\",\"\",IF($D$5=\"männlich_R\",VLOOKUP((($H395-1)*6+6),'Dat-Bl'!$J$4:$N$123,4),VLOOKUP((($H395-1)*6+6),'Dat-Bl'!$J$127:$N$246,4)))","v":"00:00:00"},"Sprint"]
[null,null,null,null,"Sprung"]
[null,null,null,null,"Wurf"]
[]
[null,null,null,null,"Staffelwertung (5 X 80m)"]
[]
[null,"Leichtathletik Mannschaftsdreikampf der Schulen"]
[]
[null,null,{"$f":"$C$3","v":"Bezirksmeisterschaft"},null,{"$f":"$E$3","v":2014},{"$f":"$F$3","v":"St. Pölten"}]
[]
[null,null,"Auswahl Geschlecht:",{"$f":"$D$5","v":"männlich_R"},null,"Mannschaft:",null,15]
[]
["Schule:",null,{"$f":"IF($D$5=\"\",\"\",IF($D$5=\"männlich_R\",VLOOKUP((($H425-1)*6+1),'Dat-Bl'!$J$4:$N$123,5),VLOOKUP((($H425-1)*6+1),'Dat-Bl'!$J$127:$N$246,5)))","v":0}]
[null,null,null,null,null,"Versuch",null,null,"gewertete\n Leistung\n"]
[null,"Start Nr.","Name","Geb. Jahr","Bewerb","1.","2.","3."]
[1,{"$f":"IF($D$5=\"\",\"\",IF($D$5=\"männlich_R\",VLOOKUP((($H425-1)*6+1),'Dat-Bl'!$J$4:$N$123,2),VLOOKUP((($H425-1)*6+1),'Dat-Bl'!$J$127:$N$246,2)))","v":0},{"$f":"IF($D$5=\"\",\"\",IF($D$5=\"männlich_R\",VLOOKUP((($H425-1)*6+1),'Dat-Bl'!$J$4:$N$123,3),VLOOKUP((($H425-1)*6+1),'Dat-Bl'!$J$127:$N$246,3)))","v":"M15/01-Regel"},{"$f":"IF($D$5=\"\",\"\",IF($D$5=\"männlich_R\",VLOOKUP((($H425-1)*6+1),'Dat-Bl'!$J$4:$N$123,4),VLOOKUP((($H425-1)*6+1),'Dat-Bl'!$J$127:$N$246,4)))","v":"00:00:00"},"Sprint"]
[null,null,null,null,"Sprung"]
[null,null,null,null,"Wurf"]
[2,{"$f":"IF($D$5=\"\",\"\",IF($D$5=\"männlich_R\",VLOOKUP((($H425-1)*6+2),'Dat-Bl'!$J$4:$N$123,2),VLOOKUP((($H425-1)*6+2),'Dat-Bl'!$J$127:$N$246,2)))","v":0},{"$f":"IF($D$5=\"\",\"\",IF($D$5=\"männlich_R\",VLOOKUP((($H425-1)*6+2),'Dat-Bl'!$J$4:$N$123,3),VLOOKUP((($H425-1)*6+2),'Dat-Bl'!$J$127:$N$246,3)))","v":"M15/02-Regel"},{"$f":"IF($D$5=\"\",\"\",IF($D$5=\"männlich_R\",VLOOKUP((($H425-1)*6+2),'Dat-Bl'!$J$4:$N$123,4),VLOOKUP((($H425-1)*6+2),'Dat-Bl'!$J$127:$N$246,4)))","v":"00:00:00"},"Sprint"]
[null,null,null,null,"Sprung"]
[null,null,null,null,"Wurf"]
[3,{"$f":"IF($D$5=\"\",\"\",IF($D$5=\"männlich_R\",VLOOKUP((($H425-1)*6+3),'Dat-Bl'!$J$4:$N$123,2),VLOOKUP((($H425-1)*6+3),'Dat-Bl'!$J$127:$N$246,2)))","v":0},{"$f":"IF($D$5=\"\",\"\",IF($D$5=\"männlich_R\",VLOOKUP((($H425-1)*6+3),'Dat-Bl'!$J$4:$N$123,3),VLOOKUP((($H425-1)*6+3),'Dat-Bl'!$J$127:$N$246,3)))","v":"M15/03-Regel"},{"$f":"IF($D$5=\"\",\"\",IF($D$5=\"männlich_R\",VLOOKUP((($H425-1)*6+3),'Dat-Bl'!$J$4:$N$123,4),VLOOKUP((($H425-1)*6+3),'Dat-Bl'!$J$127:$N$246,4)))","v":"00:00:00"},"Sprint"]
[null,null,null,null,"Sprung"]
[null,null,null,null,"Wurf"]
[4,{"$f":"IF($D$5=\"\",\"\",IF($D$5=\"männlich_R\",VLOOKUP((($H425-1)*6+4),'Dat-Bl'!$J$4:$N$123,2),VLOOKUP((($H425-1)*6+4),'Dat-Bl'!$J$127:$N$246,2)))","v":0},{"$f":"IF($D$5=\"\",\"\",IF($D$5=\"männlich_R\",VLOOKUP((($H425-1)*6+4),'Dat-Bl'!$J$4:$N$123,3),VLOOKUP((($H425-1)*6+4),'Dat-Bl'!$J$127:$N$246,3)))","v":"M15/04-Regel"},{"$f":"IF($D$5=\"\",\"\",IF($D$5=\"männlich_R\",VLOOKUP((($H425-1)*6+4),'Dat-Bl'!$J$4:$N$123,4),VLOOKUP((($H425-1)*6+4),'Dat-Bl'!$J$127:$N$246,4)))","v":"00:00:00"},"Sprint"]
[null,null,null,null,"Sprung"]
[null,null,null,null,"Wurf"]
[5,{"$f":"IF($D$5=\"\",\"\",IF($D$5=\"männlich_R\",VLOOKUP((($H425-1)*6+5),'Dat-Bl'!$J$4:$N$123,2),VLOOKUP((($H425-1)*6+5),'Dat-Bl'!$J$127:$N$246,2)))","v":0},{"$f":"IF($D$5=\"\",\"\",IF($D$5=\"männlich_R\",VLOOKUP((($H425-1)*6+5),'Dat-Bl'!$J$4:$N$123,3),VLOOKUP((($H425-1)*6+5),'Dat-Bl'!$J$127:$N$246,3)))","v":"M15/05-Regel"},{"$f":"IF($D$5=\"\",\"\",IF($D$5=\"männlich_R\",VLOOKUP((($H425-1)*6+5),'Dat-Bl'!$J$4:$N$123,4),VLOOKUP((($H425-1)*6+5),'Dat-Bl'!$J$127:$N$246,4)))","v":"00:00:00"},"Sprint"]
[null,null,null,null,"Sprung"]
[null,null,null,null,"Wurf"]
[6,{"$f":"IF($D$5=\"\",\"\",IF($D$5=\"männlich_R\",VLOOKUP((($H425-1)*6+6),'Dat-Bl'!$J$4:$N$123,2),VLOOKUP((($H425-1)*6+6),'Dat-Bl'!$J$127:$N$246,2)))","v":0},{"$f":"IF($D$5=\"\",\"\",IF($D$5=\"männlich_R\",VLOOKUP((($H425-1)*6+6),'Dat-Bl'!$J$4:$N$123,3),VLOOKUP((($H425-1)*6+6),'Dat-Bl'!$J$127:$N$246,3)))","v":"M15/06-Regel"},{"$f":"IF($D$5=\"\",\"\",IF($D$5=\"männlich_R\",VLOOKUP((($H425-1)*6+6),'Dat-Bl'!$J$4:$N$123,4),VLOOKUP((($H425-1)*6+6),'Dat-Bl'!$J$127:$N$246,4)))","v":"00:00:00"},"Sprint"]
[null,null,null,null,"Sprung"]
[null,null,null,null,"Wurf"]
[]
[null,null,null,null,"Staffelwertung (5 X 80m)"]
[]
[null,"Leichtathletik Mannschaftsdreikampf der Schulen"]
[]
[null,null,{"$f":"$C$3","v":"Bezirksmeisterschaft"},null,{"$f":"$E$3","v":2014},{"$f":"$F$3","v":"St. Pölten"}]
[]
[null,null,"Auswahl Geschlecht:",{"$f":"$D$5","v":"männlich_R"},null,"Mannschaft:",null,16]
[null,null,null,null,{"$f":"$E$6","v":"D"}]
["Schule:",null,{"$f":"IF($D$5=\"\",\"\",IF($D$5=\"männlich_R\",VLOOKUP((($H455-1)*6+1),'Dat-Bl'!$J$4:$N$123,5),VLOOKUP((($H455-1)*6+1),'Dat-Bl'!$J$127:$N$246,5)))","v":0}]
[null,null,null,null,null,"Versuch",null,null,"gewertete\n Leistung\n"]
[null,"Start Nr.","Name","Geb. Jahr","Bewerb","1.","2.","3."]
[1,{"$f":"IF($D$5=\"\",\"\",IF($D$5=\"männlich_R\",VLOOKUP((($H455-1)*6+1),'Dat-Bl'!$J$4:$N$123,2),VLOOKUP((($H455-1)*6+1),'Dat-Bl'!$J$127:$N$246,2)))","v":0},{"$f":"IF($D$5=\"\",\"\",IF($D$5=\"männlich_R\",VLOOKUP((($H455-1)*6+1),'Dat-Bl'!$J$4:$N$123,3),VLOOKUP((($H455-1)*6+1),'Dat-Bl'!$J$127:$N$246,3)))","v":"M16/01-Regel"},{"$f":"IF($D$5=\"\",\"\",IF($D$5=\"männlich_R\",VLOOKUP((($H455-1)*6+1),'Dat-Bl'!$J$4:$N$123,4),VLOOKUP((($H455-1)*6+1),'Dat-Bl'!$J$127:$N$246,4)))","v":"00:00:00"},"Sprint"]
[null,null,null,null,"Sprung"]
[null,null,null,null,"Wurf"]
[2,{"$f":"IF($D$5=\"\",\"\",IF($D$5=\"männlich_R\",VLOOKUP((($H455-1)*6+2),'Dat-Bl'!$J$4:$N$123,2),VLOOKUP((($H455-1)*6+2),'Dat-Bl'!$J$127:$N$246,2)))","v":0},{"$f":"IF($D$5=\"\",\"\",IF($D$5=\"männlich_R\",VLOOKUP((($H455-1)*6+2),'Dat-Bl'!$J$4:$N$123,3),VLOOKUP((($H455-1)*6+2),'Dat-Bl'!$J$127:$N$246,3)))","v":"M16/02-Regel"},{"$f":"IF($D$5=\"\",\"\",IF($D$5=\"männlich_R\",VLOOKUP((($H455-1)*6+2),'Dat-Bl'!$J$4:$N$123,4),VLOOKUP((($H455-1)*6+2),'Dat-Bl'!$J$127:$N$246,4)))","v":"00:00:00"},"Sprint"]
[null,null,null,null,"Sprung"]
[null,null,null,null,"Wurf"]
[3,{"$f":"IF($D$5=\"\",\"\",IF($D$5=\"männlich_R\",VLOOKUP((($H455-1)*6+3),'Dat-Bl'!$J$4:$N$123,2),VLOOKUP((($H455-1)*6+3),'Dat-Bl'!$J$127:$N$246,2)))","v":0},{"$f":"IF($D$5=\"\",\"\",IF($D$5=\"männlich_R\",VLOOKUP((($H455-1)*6+3),'Dat-Bl'!$J$4:$N$123,3),VLOOKUP((($H455-1)*6+3),'Dat-Bl'!$J$127:$N$246,3)))","v":"M16/03-Regel"},{"$f":"IF($D$5=\"\",\"\",IF($D$5=\"männlich_R\",VLOOKUP((($H455-1)*6+3),'Dat-Bl'!$J$4:$N$123,4),VLOOKUP((($H455-1)*6+3),'Dat-Bl'!$J$127:$N$246,4)))","v":"00:00:00"},"Sprint"]
[null,null,null,null,"Sprung"]
[null,null,null,null,"Wurf"]
[4,{"$f":"IF($D$5=\"\",\"\",IF($D$5=\"männlich_R\",VLOOKUP((($H455-1)*6+4),'Dat-Bl'!$J$4:$N$123,2),VLOOKUP((($H455-1)*6+4),'Dat-Bl'!$J$127:$N$246,2)))","v":0},{"$f":"IF($D$5=\"\",\"\",IF($D$5=\"männlich_R\",VLOOKUP((($H455-1)*6+4),'Dat-Bl'!$J$4:$N$123,3),VLOOKUP((($H455-1)*6+4),'Dat-Bl'!$J$127:$N$246,3)))","v":"M16/04-Regel"},{"$f":"IF($D$5=\"\",\"\",IF($D$5=\"männlich_R\",VLOOKUP((($H455-1)*6+4),'Dat-Bl'!$J$4:$N$123,4),VLOOKUP((($H455-1)*6+4),'Dat-Bl'!$J$127:$N$246,4)))","v":"00:00:00"},"Sprint"]
[null,null,null,null,"Sprung"]
[null,null,null,null,"Wurf"]
[5,{"$f":"IF($D$5=\"\",\"\",IF($D$5=\"männlich_R\",VLOOKUP((($H455-1)*6+5),'Dat-Bl'!$J$4:$N$123,2),VLOOKUP((($H455-1)*6+5),'Dat-Bl'!$J$127:$N$246,2)))","v":0},{"$f":"IF($D$5=\"\",\"\",IF($D$5=\"männlich_R\",VLOOKUP((($H455-1)*6+5),'Dat-Bl'!$J$4:$N$123,3),VLOOKUP((($H455-1)*6+5),'Dat-Bl'!$J$127:$N$246,3)))","v":"M16/05-Regel"},{"$f":"IF($D$5=\"\",\"\",IF($D$5=\"männlich_R\",VLOOKUP((($H455-1)*6+5),'Dat-Bl'!$J$4:$N$123,4),VLOOKUP((($H455-1)*6+5),'Dat-Bl'!$J$127:$N$246,4)))","v":"00:00:00"},"Sprint"]
[null,null,null,null,"Sprung"]
[null,null,null,null,"Wurf"]
[6,{"$f":"IF($D$5=\"\",\"\",IF($D$5=\"männlich_R\",VLOOKUP((($H455-1)*6+6),'Dat-Bl'!$J$4:$N$123,2),VLOOKUP((($H455-1)*6+6),'Dat-Bl'!$J$127:$N$246,2)))","v":0},{"$f":"IF($D$5=\"\",\"\",IF($D$5=\"männlich_R\",VLOOKUP((($H455-1)*6+6),'Dat-Bl'!$J$4:$N$123,3),VLOOKUP((($H455-1)*6+6),'Dat-Bl'!$J$127:$N$246,3)))","v":"M16/06-Regel"},{"$f":"IF($D$5=\"\",\"\",IF($D$5=\"männlich_R\",VLOOKUP((($H455-1)*6+6),'Dat-Bl'!$J$4:$N$123,4),VLOOKUP((($H455-1)*6+6),'Dat-Bl'!$J$127:$N$246,4)))","v":"00:00:00"},"Sprint"]
[null,null,null,null,"Sprung"]
[null,null,null,null,"Wurf"]
[]
[null,null,null,null,"Staffelwertung (5 X 80m)"]
[]
[null,"Leichtathletik Mannschaftsdreikampf der Schulen"]
[]
[null,null,{"$f":"$C$3","v":"Bezirksmeisterschaft"},null,{"$f":"$E$3","v":2014},{"$f":"$F$3","v":"St. Pölten"}]
[]
[null,null,"Auswahl Geschlecht:",{"$f":"$D$5","v":"männlich_R"},null,"Mannschaft:",null,17]
[null,null,null,null,{"$f":"$E$6","v":"D"}]
["Schule:",null,{"$f":"IF($D$5=\"\",\"\",IF($D$5=\"männlich_R\",VLOOKUP((($H485-1)*6+1),'Dat-Bl'!$J$4:$N$123,5),VLOOKUP((($H485-1)*6+1),'Dat-Bl'!$J$127:$N$246,5)))","v":0}]
[null,null,null,null,null,"Versuch",null,null,"gewertete\n Leistung\n"]
[null,"Start Nr.","Name","Geb. Jahr","Bewerb","1.","2.","3."]
[1,{"$f":"IF($D$5=\"\",\"\",IF($D$5=\"männlich_R\",VLOOKUP((($H485-1)*6+1),'Dat-Bl'!$J$4:$N$123,2),VLOOKUP((($H485-1)*6+1),'Dat-Bl'!$J$127:$N$246,2)))","v":0},{"$f":"IF($D$5=\"\",\"\",IF($D$5=\"männlich_R\",VLOOKUP((($H485-1)*6+1),'Dat-Bl'!$J$4:$N$123,3),VLOOKUP((($H485-1)*6+1),'Dat-Bl'!$J$127:$N$246,3)))","v":"M17/01-Regel"},{"$f":"IF($D$5=\"\",\"\",IF($D$5=\"männlich_R\",VLOOKUP((($H485-1)*6+1),'Dat-Bl'!$J$4:$N$123,4),VLOOKUP((($H485-1)*6+1),'Dat-Bl'!$J$127:$N$246,4)))","v":"00:00:00"},"Sprint"]
[null,null,null,null,"Sprung"]
[null,null,null,null,"Wurf"]
[2,{"$f":"IF($D$5=\"\",\"\",IF($D$5=\"männlich_R\",VLOOKUP((($H485-1)*6+2),'Dat-Bl'!$J$4:$N$123,2),VLOOKUP((($H485-1)*6+2),'Dat-Bl'!$J$127:$N$246,2)))","v":0},{"$f":"IF($D$5=\"\",\"\",IF($D$5=\"männlich_R\",VLOOKUP((($H485-1)*6+2),'Dat-Bl'!$J$4:$N$123,3),VLOOKUP((($H485-1)*6+2),'Dat-Bl'!$J$127:$N$246,3)))","v":"M17/02-Regel"},{"$f":"IF($D$5=\"\",\"\",IF($D$5=\"männlich_R\",VLOOKUP((($H485-1)*6+2),'Dat-Bl'!$J$4:$N$123,4),VLOOKUP((($H485-1)*6+2),'Dat-Bl'!$J$127:$N$246,4)))","v":"00:00:00"},"Sprint"]
[null,null,null,null,"Sprung"]
[null,null,null,null,"Wurf"]
[3,{"$f":"IF($D$5=\"\",\"\",IF($D$5=\"männlich_R\",VLOOKUP((($H485-1)*6+3),'Dat-Bl'!$J$4:$N$123,2),VLOOKUP((($H485-1)*6+3),'Dat-Bl'!$J$127:$N$246,2)))","v":0},{"$f":"IF($D$5=\"\",\"\",IF($D$5=\"männlich_R\",VLOOKUP((($H485-1)*6+3),'Dat-Bl'!$J$4:$N$123,3),VLOOKUP((($H485-1)*6+3),'Dat-Bl'!$J$127:$N$246,3)))","v":"M17/03-Regel"},{"$f":"IF($D$5=\"\",\"\",IF($D$5=\"männlich_R\",VLOOKUP((($H485-1)*6+3),'Dat-Bl'!$J$4:$N$123,4),VLOOKUP((($H485-1)*6+3),'Dat-Bl'!$J$127:$N$246,4)))","v":"00:00:00"},"Sprint"]
[null,null,null,null,"Sprung"]
[null,null,null,null,"Wurf"]
[4,{"$f":"IF($D$5=\"\",\"\",IF($D$5=\"männlich_R\",VLOOKUP((($H485-1)*6+4),'Dat-Bl'!$J$4:$N$123,2),VLOOKUP((($H485-1)*6+4),'Dat-Bl'!$J$127:$N$246,2)))","v":0},{"$f":"IF($D$5=\"\",\"\",IF($D$5=\"männlich_R\",VLOOKUP((($H485-1)*6+4),'Dat-Bl'!$J$4:$N$123,3),VLOOKUP((($H485-1)*6+4),'Dat-Bl'!$J$127:$N$246,3)))","v":"M17/04-Regel"},{"$f":"IF($D$5=\"\",\"\",IF($D$5=\"männlich_R\",VLOOKUP((($H485-1)*6+4),'Dat-Bl'!$J$4:$N$123,4),VLOOKUP((($H485-1)*6+4),'Dat-Bl'!$J$127:$N$246,4)))","v":"00:00:00"},"Sprint"]
[null,null,null,null,"Sprung"]
[null,null,null,null,"Wurf"]
[5,{"$f":"IF($D$5=\"\",\"\",IF($D$5=\"männlich_R\",VLOOKUP((($H485-1)*6+5),'Dat-Bl'!$J$4:$N$123,2),VLOOKUP((($H485-1)*6+5),'Dat-Bl'!$J$127:$N$246,2)))","v":0},{"$f":"IF($D$5=\"\",\"\",IF($D$5=\"männlich_R\",VLOOKUP((($H485-1)*6+5),'Dat-Bl'!$J$4:$N$123,3),VLOOKUP((($H485-1)*6+5),'Dat-Bl'!$J$127:$N$246,3)))","v":"M17/05-Regel"},{"$f":"IF($D$5=\"\",\"\",IF($D$5=\"männlich_R\",VLOOKUP((($H485-1)*6+5),'Dat-Bl'!$J$4:$N$123,4),VLOOKUP((($H485-1)*6+5),'Dat-Bl'!$J$127:$N$246,4)))","v":"00:00:00"},"Sprint"]
[null,null,null,null,"Sprung"]
[null,null,null,null,"Wurf"]
[6,{"$f":"IF($D$5=\"\",\"\",IF($D$5=\"männlich_R\",VLOOKUP((($H485-1)*6+6),'Dat-Bl'!$J$4:$N$123,2),VLOOKUP((($H485-1)*6+6),'Dat-Bl'!$J$127:$N$246,2)))","v":0},{"$f":"IF($D$5=\"\",\"\",IF($D$5=\"männlich_R\",VLOOKUP((($H485-1)*6+6),'Dat-Bl'!$J$4:$N$123,3),VLOOKUP((($H485-1)*6+6),'Dat-Bl'!$J$127:$N$246,3)))","v":"M17/06-Regel"},{"$f":"IF($D$5=\"\",\"\",IF($D$5=\"männlich_R\",VLOOKUP((($H485-1)*6+6),'Dat-Bl'!$J$4:$N$123,4),VLOOKUP((($H485-1)*6+6),'Dat-Bl'!$J$127:$N$246,4)))","v":"00:00:00"},"Sprint"]
[null,null,null,null,"Sprung"]
[null,null,null,null,"Wurf"]
[]
[null,null,null,null,"Staffelwertung (5 X 80m)"]
[]
[null,"Leichtathletik Mannschaftsdreikampf der Schulen"]
[]
[null,null,{"$f":"$C$3","v":"Bezirksmeisterschaft"},null,{"$f":"$E$3","v":2014},{"$f":"$F$3","v":"St. Pölten"}]
[]
[null,null,"Auswahl Geschlecht:",{"$f":"$D$5","v":"männlich_R"},null,"Mannschaft:",null,18]
[null,null,null,null,{"$f":"$E$6","v":"D"}]
["Schule:",null,{"$f":"IF($D$5=\"\",\"\",IF($D$5=\"männlich_R\",VLOOKUP((($H515-1)*6+1),'Dat-Bl'!$J$4:$N$123,5),VLOOKUP((($H515-1)*6+1),'Dat-Bl'!$J$127:$N$246,5)))","v":0}]
[null,null,null,null,null,"Versuch",null,null,"gewertete\n Leistung\n"]
[null,"Start Nr.","Name","Geb. Jahr","Bewerb","1.","2.","3."]
[1,{"$f":"IF($D$5=\"\",\"\",IF($D$5=\"männlich_R\",VLOOKUP((($H515-1)*6+1),'Dat-Bl'!$J$4:$N$123,2),VLOOKUP((($H515-1)*6+1),'Dat-Bl'!$J$127:$N$246,2)))","v":0},{"$f":"IF($D$5=\"\",\"\",IF($D$5=\"männlich_R\",VLOOKUP((($H515-1)*6+1),'Dat-Bl'!$J$4:$N$123,3),VLOOKUP((($H515-1)*6+1),'Dat-Bl'!$J$127:$N$246,3)))","v":"M18/01-Regel"},{"$f":"IF($D$5=\"\",\"\",IF($D$5=\"männlich_R\",VLOOKUP((($H515-1)*6+1),'Dat-Bl'!$J$4:$N$123,4),VLOOKUP((($H515-1)*6+1),'Dat-Bl'!$J$127:$N$246,4)))","v":"00:00:00"},"Sprint"]
[null,null,null,null,"Sprung"]
[null,null,null,null,"Wurf"]
[2,{"$f":"IF($D$5=\"\",\"\",IF($D$5=\"männlich_R\",VLOOKUP((($H515-1)*6+2),'Dat-Bl'!$J$4:$N$123,2),VLOOKUP((($H515-1)*6+2),'Dat-Bl'!$J$127:$N$246,2)))","v":0},{"$f":"IF($D$5=\"\",\"\",IF($D$5=\"männlich_R\",VLOOKUP((($H515-1)*6+2),'Dat-Bl'!$J$4:$N$123,3),VLOOKUP((($H515-1)*6+2),'Dat-Bl'!$J$127:$N$246,3)))","v":"M18/02-Regel"},{"$f":"IF($D$5=\"\",\"\",IF($D$5=\"männlich_R\",VLOOKUP((($H515-1)*6+2),'Dat-Bl'!$J$4:$N$123,4),VLOOKUP((($H515-1)*6+2),'Dat-Bl'!$J$127:$N$246,4)))","v":"00:00:00"},"Sprint"]
[null,null,null,null,"Sprung"]
[null,null,null,null,"Wurf"]
[3,{"$f":"IF($D$5=\"\",\"\",IF($D$5=\"männlich_R\",VLOOKUP((($H515-1)*6+3),'Dat-Bl'!$J$4:$N$123,2),VLOOKUP((($H515-1)*6+3),'Dat-Bl'!$J$127:$N$246,2)))","v":0},{"$f":"IF($D$5=\"\",\"\",IF($D$5=\"männlich_R\",VLOOKUP((($H515-1)*6+3),'Dat-Bl'!$J$4:$N$123,3),VLOOKUP((($H515-1)*6+3),'Dat-Bl'!$J$127:$N$246,3)))","v":"M18/03-Regel"},{"$f":"IF($D$5=\"\",\"\",IF($D$5=\"männlich_R\",VLOOKUP((($H515-1)*6+3),'Dat-Bl'!$J$4:$N$123,4),VLOOKUP((($H515-1)*6+3),'Dat-Bl'!$J$127:$N$246,4)))","v":"00:00:00"},"Sprint"]
[null,null,null,null,"Sprung"]
[null,null,null,null,"Wurf"]
[4,{"$f":"IF($D$5=\"\",\"\",IF($D$5=\"männlich_R\",VLOOKUP((($H515-1)*6+4),'Dat-Bl'!$J$4:$N$123,2),VLOOKUP((($H515-1)*6+4),'Dat-Bl'!$J$127:$N$246,2)))","v":0},{"$f":"IF($D$5=\"\",\"\",IF($D$5=\"männlich_R\",VLOOKUP((($H515-1)*6+4),'Dat-Bl'!$J$4:$N$123,3),VLOOKUP((($H515-1)*6+4),'Dat-Bl'!$J$127:$N$246,3)))","v":"M18/04-Regel"},{"$f":"IF($D$5=\"\",\"\",IF($D$5=\"männlich_R\",VLOOKUP((($H515-1)*6+4),'Dat-Bl'!$J$4:$N$123,4),VLOOKUP((($H515-1)*6+4),'Dat-Bl'!$J$127:$N$246,4)))","v":"00:00:00"},"Sprint"]
[null,null,null,null,"Sprung"]
[null,null,null,null,"Wurf"]
[5,{"$f":"IF($D$5=\"\",\"\",IF($D$5=\"männlich_R\",VLOOKUP((($H515-1)*6+5),'Dat-Bl'!$J$4:$N$123,2),VLOOKUP((($H515-1)*6+5),'Dat-Bl'!$J$127:$N$246,2)))","v":0},{"$f":"IF($D$5=\"\",\"\",IF($D$5=\"männlich_R\",VLOOKUP((($H515-1)*6+5),'Dat-Bl'!$J$4:$N$123,3),VLOOKUP((($H515-1)*6+5),'Dat-Bl'!$J$127:$N$246,3)))","v":"M18/05-Regel"},{"$f":"IF($D$5=\"\",\"\",IF($D$5=\"männlich_R\",VLOOKUP((($H515-1)*6+5),'Dat-Bl'!$J$4:$N$123,4),VLOOKUP((($H515-1)*6+5),'Dat-Bl'!$J$127:$N$246,4)))","v":"00:00:00"},"Sprint"]
[null,null,null,null,"Sprung"]
[null,null,null,null,"Wurf"]
[6,{"$f":"IF($D$5=\"\",\"\",IF($D$5=\"männlich_R\",VLOOKUP((($H515-1)*6+6),'Dat-Bl'!$J$4:$N$123,2),VLOOKUP((($H515-1)*6+6),'Dat-Bl'!$J$127:$N$246,2)))","v":0},{"$f":"IF($D$5=\"\",\"\",IF($D$5=\"männlich_R\",VLOOKUP((($H515-1)*6+6),'Dat-Bl'!$J$4:$N$123,3),VLOOKUP((($H515-1)*6+6),'Dat-Bl'!$J$127:$N$246,3)))","v":"M18/06-Regel"},{"$f":"IF($D$5=\"\",\"\",IF($D$5=\"männlich_R\",VLOOKUP((($H515-1)*6+6),'Dat-Bl'!$J$4:$N$123,4),VLOOKUP((($H515-1)*6+6),'Dat-Bl'!$J$127:$N$246,4)))","v":"00:00:00"},"Sprint"]
[null,null,null,null,"Sprung"]
[null,null,null,null,"Wurf"]
[]
[null,null,null,null,"Staffelwertung (5 X 80m)"]
[]
[null,"Leichtathletik Mannschaftsdreikampf der Schulen"]
[]
[null,null,{"$f":"$C$3","v":"Bezirksmeisterschaft"},null,{"$f":"$E$3","v":2014},{"$f":"$F$3","v":"St. Pölten"}]
[]
[null,null,"Auswahl Geschlecht:",{"$f":"$D$5","v":"männlich_R"},null,"Mannschaft:",null,19]
[null,null,null,null,{"$f":"$E$6","v":"D"}]
["Schule:",null,{"$f":"IF($D$5=\"\",\"\",IF($D$5=\"männlich_R\",VLOOKUP((($H545-1)*6+1),'Dat-Bl'!$J$4:$N$123,5),VLOOKUP((($H545-1)*6+1),'Dat-Bl'!$J$127:$N$246,5)))","v":0}]
[null,null,null,null,null,"Versuch",null,null,"gewertete\n Leistung\n"]
[null,"Start Nr.","Name","Geb. Jahr","Bewerb","1.","2.","3."]
[1,{"$f":"IF($D$5=\"\",\"\",IF($D$5=\"männlich_R\",VLOOKUP((($H545-1)*6+1),'Dat-Bl'!$J$4:$N$123,2),VLOOKUP((($H545-1)*6+1),'Dat-Bl'!$J$127:$N$246,2)))","v":0},{"$f":"IF($D$5=\"\",\"\",IF($D$5=\"männlich_R\",VLOOKUP((($H545-1)*6+1),'Dat-Bl'!$J$4:$N$123,3),VLOOKUP((($H545-1)*6+1),'Dat-Bl'!$J$127:$N$246,3)))","v":"M19/01-Regel"},{"$f":"IF($D$5=\"\",\"\",IF($D$5=\"männlich_R\",VLOOKUP((($H545-1)*6+1),'Dat-Bl'!$J$4:$N$123,4),VLOOKUP((($H545-1)*6+1),'Dat-Bl'!$J$127:$N$246,4)))","v":"00:00:00"},"Sprint"]
[null,null,null,null,"Sprung"]
[null,null,null,null,"Wurf"]
[2,{"$f":"IF($D$5=\"\",\"\",IF($D$5=\"männlich_R\",VLOOKUP((($H545-1)*6+2),'Dat-Bl'!$J$4:$N$123,2),VLOOKUP((($H545-1)*6+2),'Dat-Bl'!$J$127:$N$246,2)))","v":0},{"$f":"IF($D$5=\"\",\"\",IF($D$5=\"männlich_R\",VLOOKUP((($H545-1)*6+2),'Dat-Bl'!$J$4:$N$123,3),VLOOKUP((($H545-1)*6+2),'Dat-Bl'!$J$127:$N$246,3)))","v":"M19/02-Regel"},{"$f":"IF($D$5=\"\",\"\",IF($D$5=\"männlich_R\",VLOOKUP((($H545-1)*6+2),'Dat-Bl'!$J$4:$N$123,4),VLOOKUP((($H545-1)*6+2),'Dat-Bl'!$J$127:$N$246,4)))","v":"00:00:00"},"Sprint"]
[null,null,null,null,"Sprung"]
[null,null,null,null,"Wurf"]
[3,{"$f":"IF($D$5=\"\",\"\",IF($D$5=\"männlich_R\",VLOOKUP((($H545-1)*6+3),'Dat-Bl'!$J$4:$N$123,2),VLOOKUP((($H545-1)*6+3),'Dat-Bl'!$J$127:$N$246,2)))","v":0},{"$f":"IF($D$5=\"\",\"\",IF($D$5=\"männlich_R\",VLOOKUP((($H545-1)*6+3),'Dat-Bl'!$J$4:$N$123,3),VLOOKUP((($H545-1)*6+3),'Dat-Bl'!$J$127:$N$246,3)))","v":"M19/03-Regel"},{"$f":"IF($D$5=\"\",\"\",IF($D$5=\"männlich_R\",VLOOKUP((($H545-1)*6+3),'Dat-Bl'!$J$4:$N$123,4),VLOOKUP((($H545-1)*6+3),'Dat-Bl'!$J$127:$N$246,4)))","v":"00:00:00"},"Sprint"]
[null,null,null,null,"Sprung"]
[null,null,null,null,"Wurf"]
[4,{"$f":"IF($D$5=\"\",\"\",IF($D$5=\"männlich_R\",VLOOKUP((($H545-1)*6+4),'Dat-Bl'!$J$4:$N$123,2),VLOOKUP((($H545-1)*6+4),'Dat-Bl'!$J$127:$N$246,2)))","v":0},{"$f":"IF($D$5=\"\",\"\",IF($D$5=\"männlich_R\",VLOOKUP((($H545-1)*6+4),'Dat-Bl'!$J$4:$N$123,3),VLOOKUP((($H545-1)*6+4),'Dat-Bl'!$J$127:$N$246,3)))","v":"M19/04-Regel"},{"$f":"IF($D$5=\"\",\"\",IF($D$5=\"männlich_R\",VLOOKUP((($H545-1)*6+4),'Dat-Bl'!$J$4:$N$123,4),VLOOKUP((($H545-1)*6+4),'Dat-Bl'!$J$127:$N$246,4)))","v":"00:00:00"},"Sprint"]
[null,null,null,null,"Sprung"]
[null,null,null,null,"Wurf"]
[5,{"$f":"IF($D$5=\"\",\"\",IF($D$5=\"männlich_R\",VLOOKUP((($H545-1)*6+5),'Dat-Bl'!$J$4:$N$123,2),VLOOKUP((($H545-1)*6+5),'Dat-Bl'!$J$127:$N$246,2)))","v":0},{"$f":"IF($D$5=\"\",\"\",IF($D$5=\"männlich_R\",VLOOKUP((($H545-1)*6+5),'Dat-Bl'!$J$4:$N$123,3),VLOOKUP((($H545-1)*6+5),'Dat-Bl'!$J$127:$N$246,3)))","v":"M19/05-Regel"},{"$f":"IF($D$5=\"\",\"\",IF($D$5=\"männlich_R\",VLOOKUP((($H545-1)*6+5),'Dat-Bl'!$J$4:$N$123,4),VLOOKUP((($H545-1)*6+5),'Dat-Bl'!$J$127:$N$246,4)))","v":"00:00:00"},"Sprint"]
[null,null,null,null,"Sprung"]
[null,null,null,null,"Wurf"]
[6,{"$f":"IF($D$5=\"\",\"\",IF($D$5=\"männlich_R\",VLOOKUP((($H545-1)*6+6),'Dat-Bl'!$J$4:$N$123,2),VLOOKUP((($H545-1)*6+6),'Dat-Bl'!$J$127:$N$246,2)))","v":0},{"$f":"IF($D$5=\"\",\"\",IF($D$5=\"männlich_R\",VLOOKUP((($H545-1)*6+6),'Dat-Bl'!$J$4:$N$123,3),VLOOKUP((($H545-1)*6+6),'Dat-Bl'!$J$127:$N$246,3)))","v":"M19/06-Regel"},{"$f":"IF($D$5=\"\",\"\",IF($D$5=\"männlich_R\",VLOOKUP((($H545-1)*6+6),'Dat-Bl'!$J$4:$N$123,4),VLOOKUP((($H545-1)*6+6),'Dat-Bl'!$J$127:$N$246,4)))","v":"00:00:00"},"Sprint"]
[null,null,null,null,"Sprung"]
[null,null,null,null,"Wurf"]
[]
[null,null,null,null,"Staffelwertung (5 X 80m)"]
[]
[null,"Leichtathletik Mannschaftsdreikampf der Schulen"]
[]
[null,null,{"$f":"$C$3","v":"Bezirksmeisterschaft"},null,{"$f":"$E$3","v":2014},{"$f":"$F$3","v":"St. Pölten"}]
[]
[null,null,"Auswahl Geschlecht:",{"$f":"$D$5","v":"männlich_R"},null,"Mannschaft:",null,20]
[null,null,null,null,{"$f":"$E$6","v":"D"}]
["Schule:",null,{"$f":"IF($D$5=\"\",\"\",IF($D$5=\"männlich_R\",VLOOKUP((($H575-1)*6+1),'Dat-Bl'!$J$4:$N$123,5),VLOOKUP((($H575-1)*6+1),'Dat-Bl'!$J$127:$N$246,5)))","v":0}]
[null,null,null,null,null,"Versuch",null,null,"gewertete\n Leistung\n"]
[null,"Start Nr.","Name","Geb. Jahr","Bewerb","1.","2.","3."]
[1,{"$f":"IF($D$5=\"\",\"\",IF($D$5=\"männlich_R\",VLOOKUP((($H575-1)*6+1),'Dat-Bl'!$J$4:$N$123,2),VLOOKUP((($H575-1)*6+1),'Dat-Bl'!$J$127:$N$246,2)))","v":0},{"$f":"IF($D$5=\"\",\"\",IF($D$5=\"männlich_R\",VLOOKUP((($H575-1)*6+1),'Dat-Bl'!$J$4:$N$123,3),VLOOKUP((($H575-1)*6+1),'Dat-Bl'!$J$127:$N$246,3)))","v":"M20/01-Regel"},{"$f":"IF($D$5=\"\",\"\",IF($D$5=\"männlich_R\",VLOOKUP((($H575-1)*6+1),'Dat-Bl'!$J$4:$N$123,4),VLOOKUP((($H575-1)*6+1),'Dat-Bl'!$J$127:$N$246,4)))","v":"00:00:00"},"Sprint"]
[null,null,null,null,"Sprung"]
[null,null,null,null,"Wurf"]
[2,{"$f":"IF($D$5=\"\",\"\",IF($D$5=\"männlich_R\",VLOOKUP((($H575-1)*6+2),'Dat-Bl'!$J$4:$N$123,2),VLOOKUP((($H575-1)*6+2),'Dat-Bl'!$J$127:$N$246,2)))","v":0},{"$f":"IF($D$5=\"\",\"\",IF($D$5=\"männlich_R\",VLOOKUP((($H575-1)*6+2),'Dat-Bl'!$J$4:$N$123,3),VLOOKUP((($H575-1)*6+2),'Dat-Bl'!$J$127:$N$246,3)))","v":"M20/02-Regel"},{"$f":"IF($D$5=\"\",\"\",IF($D$5=\"männlich_R\",VLOOKUP((($H575-1)*6+2),'Dat-Bl'!$J$4:$N$123,4),VLOOKUP((($H575-1)*6+2),'Dat-Bl'!$J$127:$N$246,4)))","v":"00:00:00"},"Sprint"]
[null,null,null,null,"Sprung"]
[null,null,null,null,"Wurf"]
[3,{"$f":"IF($D$5=\"\",\"\",IF($D$5=\"männlich_R\",VLOOKUP((($H575-1)*6+3),'Dat-Bl'!$J$4:$N$123,2),VLOOKUP((($H575-1)*6+3),'Dat-Bl'!$J$127:$N$246,2)))","v":0},{"$f":"IF($D$5=\"\",\"\",IF($D$5=\"männlich_R\",VLOOKUP((($H575-1)*6+3),'Dat-Bl'!$J$4:$N$123,3),VLOOKUP((($H575-1)*6+3),'Dat-Bl'!$J$127:$N$246,3)))","v":"M20/03-Regel"},{"$f":"IF($D$5=\"\",\"\",IF($D$5=\"männlich_R\",VLOOKUP((($H575-1)*6+3),'Dat-Bl'!$J$4:$N$123,4),VLOOKUP((($H575-1)*6+3),'Dat-Bl'!$J$127:$N$246,4)))","v":"00:00:00"},"Sprint"]
[null,null,null,null,"Sprung"]
[null,null,null,null,"Wurf"]
[4,{"$f":"IF($D$5=\"\",\"\",IF($D$5=\"männlich_R\",VLOOKUP((($H575-1)*6+4),'Dat-Bl'!$J$4:$N$123,2),VLOOKUP((($H575-1)*6+4),'Dat-Bl'!$J$127:$N$246,2)))","v":0},{"$f":"IF($D$5=\"\",\"\",IF($D$5=\"männlich_R\",VLOOKUP((($H575-1)*6+4),'Dat-Bl'!$J$4:$N$123,3),VLOOKUP((($H575-1)*6+4),'Dat-Bl'!$J$127:$N$246,3)))","v":"M20/04-Regel"},{"$f":"IF($D$5=\"\",\"\",IF($D$5=\"männlich_R\",VLOOKUP((($H575-1)*6+4),'Dat-Bl'!$J$4:$N$123,4),VLOOKUP((($H575-1)*6+4),'Dat-Bl'!$J$127:$N$246,4)))","v":"00:00:00"},"Sprint"]
[null,null,null,null,"Sprung"]
[null,null,null,null,"Wurf"]
[5,{"$f":"IF($D$5=\"\",\"\",IF($D$5=\"männlich_R\",VLOOKUP((($H575-1)*6+5),'Dat-Bl'!$J$4:$N$123,2),VLOOKUP((($H575-1)*6+5),'Dat-Bl'!$J$127:$N$246,2)))","v":0},{"$f":"IF($D$5=\"\",\"\",IF($D$5=\"männlich_R\",VLOOKUP((($H575-1)*6+5),'Dat-Bl'!$J$4:$N$123,3),VLOOKUP((($H575-1)*6+5),'Dat-Bl'!$J$127:$N$246,3)))","v":"M20/05-Regel"},{"$f":"IF($D$5=\"\",\"\",IF($D$5=\"männlich_R\",VLOOKUP((($H575-1)*6+5),'Dat-Bl'!$J$4:$N$123,4),VLOOKUP((($H575-1)*6+5),'Dat-Bl'!$J$127:$N$246,4)))","v":"00:00:00"},"Sprint"]
[null,null,null,null,"Sprung"]
[null,null,null,null,"Wurf"]
[6,{"$f":"IF($D$5=\"\",\"\",IF($D$5=\"männlich_R\",VLOOKUP((($H575-1)*6+6),'Dat-Bl'!$J$4:$N$123,2),VLOOKUP((($H575-1)*6+6),'Dat-Bl'!$J$127:$N$246,2)))","v":0},{"$f":"IF($D$5=\"\",\"\",IF($D$5=\"männlich_R\",VLOOKUP((($H575-1)*6+6),'Dat-Bl'!$J$4:$N$123,3),VLOOKUP((($H575-1)*6+6),'Dat-Bl'!$J$127:$N$246,3)))","v":"M20/06-Regel"},{"$f":"IF($D$5=\"\",\"\",IF($D$5=\"männlich_R\",VLOOKUP((($H575-1)*6+6),'Dat-Bl'!$J$4:$N$123,4),VLOOKUP((($H575-1)*6+6),'Dat-Bl'!$J$127:$N$246,4)))","v":"00:00:00"},"Sprint"]
[null,null,null,null,"Sprung"]
[null,null,null,null,"Wurf"]
[]
[null,null,null,null,"Staffelwertung (5 X 80m)"]

{"sheet":"Ez-60m","index":20,"n_rows":246,"n_cols":11,"rows_kept":246,"cut":false,"hidden":false,"merged":[[245,0,245,1],[245,6,245,7],[0,9,0,10],[123,6,123,7],[0,0,0,1],[0,3,0,4],[123,0,123,1],[123,3,123,4],[0,6,0,7],[122,0,122,1],[122,6,122,7],[122,3,122,4],[245,3,245,4],[123,9,123,10],[245,9,245,10],[122,9,122,10]]}
["Einzelwertung 60 m",null,{"$f":"'w-E_R'!C1","v":"D-C/Regel-Schulen"},{"$f":"'w-E_R'!E1","v":"Ortsangabe,Datum"},null,null,"Einzelwertung 60 m",null,{"$f":"'m-E_R'!C1","v":"D-C/Regel-Schulen"},{"$f":"'m-E_R'!E1","v":"Ortsangabe,Datum"}]
["Rang","WEIBLICH","Schule:","Leistung","Punkte",null,"Rang","MÄNNLICH","Schule:","Leistung","Punkte"]
[{"$f":"RANK(E3,$E$3:$E$122,0)","v":1},{"$f":"'w-E_R'!B3","v":"W1/01-Regel"},{"$f":"'w-E_R'!D3","v":0},{"$f":"'w-E_R'!F3","v":0},{"$f":"'w-E_R'!G3","v":0},null,{"$f":"RANK(K3,$K$3:$K$122,0)","v":1},{"$f":"'m-E_R'!B3","v":"M1/01-Regel"},{"$f":"'m-E_R'!D3","v":0},{"$f":"'m-E_R'!F3","v":0},{"$f":"'m-E_R'!G3","v":0}]
[1,{"$f":"'w-E_R'!B4","v":"W1/02-Regel"},{"$f":"'w-E_R'!D4","v":0},{"$f":"'w-E_R'!F4","v":0},{"$f":"'w-E_R'!G4","v":0},null,1,{"$f":"'m-E_R'!B4","v":"M1/02-Regel"},{"$f":"'m-E_R'!D4","v":0},{"$f":"'m-E_R'!F4","v":0},{"$f":"'m-E_R'!G4","v":0}]
[1,{"$f":"'w-E_R'!B5","v":"W1/03-Regel"},{"$f":"'w-E_R'!D5","v":0},{"$f":"'w-E_R'!F5","v":0},{"$f":"'w-E_R'!G5","v":0},null,1,{"$f":"'m-E_R'!B5","v":"M1/03-Regel"},{"$f":"'m-E_R'!D5","v":0},{"$f":"'m-E_R'!F5","v":0},{"$f":"'m-E_R'!G5","v":0}]
[1,{"$f":"'w-E_R'!B6","v":"W1/04-Regel"},{"$f":"'w-E_R'!D6","v":0},{"$f":"'w-E_R'!F6","v":0},{"$f":"'w-E_R'!G6","v":0},null,1,{"$f":"'m-E_R'!B6","v":"M1/04-Regel"},{"$f":"'m-E_R'!D6","v":0},{"$f":"'m-E_R'!F6","v":0},{"$f":"'m-E_R'!G6","v":0}]
[1,{"$f":"'w-E_R'!B7","v":"W1/05-Regel"},{"$f":"'w-E_R'!D7","v":0},{"$f":"'w-E_R'!F7","v":0},{"$f":"'w-E_R'!G7","v":0},null,1,{"$f":"'m-E_R'!B7","v":"M1/05-Regel"},{"$f":"'m-E_R'!D7","v":0},{"$f":"'m-E_R'!F7","v":0},{"$f":"'m-E_R'!G7","v":0}]
[1,{"$f":"'w-E_R'!B8","v":"W1/06-Regel"},{"$f":"'w-E_R'!D8","v":0},{"$f":"'w-E_R'!F8","v":0},{"$f":"'w-E_R'!G8","v":0},null,1,{"$f":"'m-E_R'!B8","v":"M1/06-Regel"},{"$f":"'m-E_R'!D8","v":0},{"$f":"'m-E_R'!F8","v":0},{"$f":"'m-E_R'!G8","v":0}]
[1,{"$f":"'w-E_R'!B10","v":"W2/01-Regel"},{"$f":"'w-E_R'!D10","v":0},{"$f":"'w-E_R'!F10","v":0},{"$f":"'w-E_R'!G10","v":0},null,1,{"$f":"'m-E_R'!B10","v":"M2/01-Regel"},{"$f":"'m-E_R'!D10","v":0},{"$f":"'m-E_R'!F10","v":0},{"$f":"'m-E_R'!G10","v":0}]
[1,{"$f":"'w-E_R'!B11","v":"W2/02-Regel"},{"$f":"'w-E_R'!D11","v":0},{"$f":"'w-E_R'!F11","v":0},{"$f":"'w-E_R'!G11","v":0},null,1,{"$f":"'m-E_R'!B11","v":"M2/02-Regel"},{"$f":"'m-E_R'!D11","v":0},{"$f":"'m-E_R'!F11","v":0},{"$f":"'m-E_R'!G11","v":0}]
[1,{"$f":"'w-E_R'!B12","v":"W2/03-Regel"},{"$f":"'w-E_R'!D12","v":0},{"$f":"'w-E_R'!F12","v":0},{"$f":"'w-E_R'!G12","v":0},null,1,{"$f":"'m-E_R'!B12","v":"M2/03-Regel"},{"$f":"'m-E_R'!D12","v":0},{"$f":"'m-E_R'!F12","v":0},{"$f":"'m-E_R'!G12","v":0}]
[1,{"$f":"'w-E_R'!B13","v":"W2/04-Regel"},{"$f":"'w-E_R'!D13","v":0},{"$f":"'w-E_R'!F13","v":0},{"$f":"'w-E_R'!G13","v":0},null,1,{"$f":"'m-E_R'!B13","v":"M2/04-Regel"},{"$f":"'m-E_R'!D13","v":0},{"$f":"'m-E_R'!F13","v":0},{"$f":"'m-E_R'!G13","v":0}]
[1,{"$f":"'w-E_R'!B14","v":"W2/05-Regel"},{"$f":"'w-E_R'!D14","v":0},{"$f":"'w-E_R'!F14","v":0},{"$f":"'w-E_R'!G14","v":0},null,1,{"$f":"'m-E_R'!B14","v":"M2/05-Regel"},{"$f":"'m-E_R'!D14","v":0},{"$f":"'m-E_R'!F14","v":0},{"$f":"'m-E_R'!G14","v":0}]
[1,{"$f":"'w-E_R'!B15","v":"W2/06-Regel"},{"$f":"'w-E_R'!D15","v":0},{"$f":"'w-E_R'!F15","v":0},{"$f":"'w-E_R'!G15","v":0},null,1,{"$f":"'m-E_R'!B15","v":"M2/06-Regel"},{"$f":"'m-E_R'!D15","v":0},{"$f":"'m-E_R'!F15","v":0},{"$f":"'m-E_R'!G15","v":0}]
[1,{"$f":"'w-E_R'!B17","v":"W3/01-Regel"},{"$f":"'w-E_R'!D17","v":0},{"$f":"'w-E_R'!F17","v":0},{"$f":"'w-E_R'!G17","v":0},null,1,{"$f":"'m-E_R'!B17","v":"M3/01-Regel"},{"$f":"'m-E_R'!D17","v":0},{"$f":"'m-E_R'!F17","v":0},{"$f":"'m-E_R'!G17","v":0}]
[1,{"$f":"'w-E_R'!B18","v":"W3/02-Regel"},{"$f":"'w-E_R'!D18","v":0},{"$f":"'w-E_R'!F18","v":0},{"$f":"'w-E_R'!G18","v":0},null,1,{"$f":"'m-E_R'!B18","v":"M3/02-Regel"},{"$f":"'m-E_R'!D18","v":0},{"$f":"'m-E_R'!F18","v":0},{"$f":"'m-E_R'!G18","v":0}]
[1,{"$f":"'w-E_R'!B19","v":"W3/03-Regel"},{"$f":"'w-E_R'!D19","v":0},{"$f":"'w-E_R'!F19","v":0},{"$f":"'w-E_R'!G19","v":0},null,1,{"$f":"'m-E_R'!B19","v":"M3/03-Regel"},{"$f":"'m-E_R'!D19","v":0},{"$f":"'m-E_R'!F19","v":0},{"$f":"'m-E_R'!G19","v":0}]
[1,{"$f":"'w-E_R'!B20","v":"W3/04-Regel"},{"$f":"'w-E_R'!D20","v":0},{"$f":"'w-E_R'!F20","v":0},{"$f":"'w-E_R'!G20","v":0},null,1,{"$f":"'m-E_R'!B20","v":"M3/04-Regel"},{"$f":"'m-E_R'!D20","v":0},{"$f":"'m-E_R'!F20","v":0},{"$f":"'m-E_R'!G20","v":0}]
[1,{"$f":"'w-E_R'!B21","v":"W3/05-Regel"},{"$f":"'w-E_R'!D21","v":0},{"$f":"'w-E_R'!F21","v":0},{"$f":"'w-E_R'!G21","v":0},null,1,{"$f":"'m-E_R'!B21","v":"M3/05-Regel"},{"$f":"'m-E_R'!D21","v":0},{"$f":"'m-E_R'!F21","v":0},{"$f":"'m-E_R'!G21","v":0}]
[1,{"$f":"'w-E_R'!B22","v":"W3/06-Regel"},{"$f":"'w-E_R'!D22","v":0},{"$f":"'w-E_R'!F22","v":0},{"$f":"'w-E_R'!G22","v":0},null,1,{"$f":"'m-E_R'!B22","v":"M3/06-Regel"},{"$f":"'m-E_R'!D22","v":0},{"$f":"'m-E_R'!F22","v":0},{"$f":"'m-E_R'!G22","v":0}]
[1,{"$f":"'w-E_R'!B24","v":"W4/01-Regel"},{"$f":"'w-E_R'!D24","v":0},{"$f":"'w-E_R'!F24","v":0},{"$f":"'w-E_R'!G24","v":0},null,1,{"$f":"'m-E_R'!B24","v":"M4/01-Regel"},{"$f":"'m-E_R'!D24","v":0},{"$f":"'m-E_R'!F24","v":0},{"$f":"'m-E_R'!G24","v":0}]
[1,{"$f":"'w-E_R'!B25","v":"W4/02-Regel"},{"$f":"'w-E_R'!D25","v":0},{"$f":"'w-E_R'!F25","v":0},{"$f":"'w-E_R'!G25","v":0},null,1,{"$f":"'m-E_R'!B25","v":"M4/02-Regel"},{"$f":"'m-E_R'!D25","v":0},{"$f":"'m-E_R'!F25","v":0},{"$f":"'m-E_R'!G25","v":0}]
[1,{"$f":"'w-E_R'!B26","v":"W4/03-Regel"},{"$f":"'w-E_R'!D26","v":0},{"$f":"'w-E_R'!F26","v":0},{"$f":"'w-E_R'!G26","v":0},null,1,{"$f":"'m-E_R'!B26","v":"M4/03-Regel"},{"$f":"'m-E_R'!D26","v":0},{"$f":"'m-E_R'!F26","v":0},{"$f":"'m-E_R'!G26","v":0}]
[1,{"$f":"'w-E_R'!B27","v":"W4/04-Regel"},{"$f":"'w-E_R'!D27","v":0},{"$f":"'w-E_R'!F27","v":0},{"$f":"'w-E_R'!G27","v":0},null,1,{"$f":"'m-E_R'!B27","v":"M4/04-Regel"},{"$f":"'m-E_R'!D27","v":0},{"$f":"'m-E_R'!F27","v":0},{"$f":"'m-E_R'!G27","v":0}]
[1,{"$f":"'w-E_R'!B28","v":"W4/05-Regel"},{"$f":"'w-E_R'!D28","v":0},{"$f":"'w-E_R'!F28","v":0},{"$f":"'w-E_R'!G28","v":0},null,1,{"$f":"'m-E_R'!B28","v":"M4/05-Regel"},{"$f":"'m-E_R'!D28","v":0},{"$f":"'m-E_R'!F28","v":0},{"$f":"'m-E_R'!G28","v":0}]
[1,{"$f":"'w-E_R'!B29","v":"W4/06-Regel"},{"$f":"'w-E_R'!D29","v":0},{"$f":"'w-E_R'!F29","v":0},{"$f":"'w-E_R'!G29","v":0},null,1,{"$f":"'m-E_R'!B29","v":"M4/06-Regel"},{"$f":"'m-E_R'!D29","v":0},{"$f":"'m-E_R'!F29","v":0},{"$f":"'m-E_R'!G29","v":0}]
[1,{"$f":"'w-E_R'!B31","v":"W5/01-Regel"},{"$f":"'w-E_R'!D31","v":0},{"$f":"'w-E_R'!F31","v":0},{"$f":"'w-E_R'!G31","v":0},null,1,{"$f":"'m-E_R'!B31","v":"M5/01-Regel"},{"$f":"'m-E_R'!D31","v":0},{"$f":"'m-E_R'!F31","v":0},{"$f":"'m-E_R'!G31","v":0}]
[1,{"$f":"'w-E_R'!B32","v":"W5/02-Regel"},{"$f":"'w-E_R'!D32","v":0},{"$f":"'w-E_R'!F32","v":0},{"$f":"'w-E_R'!G32","v":0},null,1,{"$f":"'m-E_R'!B32","v":"M5/02-Regel"},{"$f":"'m-E_R'!D32","v":0},{"$f":"'m-E_R'!F32","v":0},{"$f":"'m-E_R'!G32","v":0}]
[1,{"$f":"'w-E_R'!B33","v":"W5/03-Regel"},{"$f":"'w-E_R'!D33","v":0},{"$f":"'w-E_R'!F33","v":0},{"$f":"'w-E_R'!G33","v":0},null,1,{"$f":"'m-E_R'!B33","v":"M5/03-Regel"},{"$f":"'m-E_R'!D33","v":0},{"$f":"'m-E_R'!F33","v":0},{"$f":"'m-E_R'!G33","v":0}]
[1,{"$f":"'w-E_R'!B34","v":"W5/04-Regel"},{"$f":"'w-E_R'!D34","v":0},{"$f":"'w-E_R'!F34","v":0},{"$f":"'w-E_R'!G34","v":0},null,1,{"$f":"'m-E_R'!B34","v":"M5/04-Regel"},{"$f":"'m-E_R'!D34","v":0},{"$f":"'m-E_R'!F34","v":0},{"$f":"'m-E_R'!G34","v":0}]
[1,{"$f":"'w-E_R'!B35","v":"W5/05-Regel"},{"$f":"'w-E_R'!D35","v":0},{"$f":"'w-E_R'!F35","v":0},{"$f":"'w-E_R'!G35","v":0},null,1,{"$f":"'m-E_R'!B35","v":"M5/05-Regel"},{"$f":"'m-E_R'!D35","v":0},{"$f":"'m-E_R'!F35","v":0},{"$f":"'m-E_R'!G35","v":0}]
[1,{"$f":"'w-E_R'!B36","v":"W5/06-Regel"},{"$f":"'w-E_R'!D36","v":0},{"$f":"'w-E_R'!F36","v":0},{"$f":"'w-E_R'!G36","v":0},null,1,{"$f":"'m-E_R'!B36","v":"M5/06-Regel"},{"$f":"'m-E_R'!D36","v":0},{"$f":"'m-E_R'!F36","v":0},{"$f":"'m-E_R'!G36","v":0}]
[1,{"$f":"'w-E_R'!B38","v":"W6/01-Regel"},{"$f":"'w-E_R'!D38","v":0},{"$f":"'w-E_R'!F38","v":0},{"$f":"'w-E_R'!G38","v":0},null,1,{"$f":"'m-E_R'!B38","v":"M6/01-Regel"},{"$f":"'m-E_R'!D38","v":0},{"$f":"'m-E_R'!F38","v":0},{"$f":"'m-E_R'!G38","v":0}]
[1,{"$f":"'w-E_R'!B39","v":"W6/02-Regel"},{"$f":"'w-E_R'!D39","v":0},{"$f":"'w-E_R'!F39","v":0},{"$f":"'w-E_R'!G39","v":0},null,1,{"$f":"'m-E_R'!B39","v":"M6/02-Regel"},{"$f":"'m-E_R'!D39","v":0},{"$f":"'m-E_R'!F39","v":0},{"$f":"'m-E_R'!G39","v":0}]
[{"$f":"RANK(E35,$E$3:$E$122,0)","v":1},{"$f":"'w-E_R'!B40","v":"W6/03-Regel"},{"$f":"'w-E_R'!D40","v":0},{"$f":"'w-E_R'!F40","v":0},{"$f":"'w-E_R'!G40","v":0},null,{"$f":"RANK(K35,$K$3:$K$122,0)","v":1},{"$f":"'m-E_R'!B40","v":"M6/03-Regel"},{"$f":"'m-E_R'!D40","v":0},{"$f":"'m-E_R'!F40","v":0},{"$f":"'m-E_R'!G40","v":0}]
[1,{"$f":"'w-E_R'!B41","v":"W6/04-Regel"},{"$f":"'w-E_R'!D41","v":0},{"$f":"'w-E_R'!F41","v":0},{"$f":"'w-E_R'!G41","v":0},null,1,{"$f":"'m-E_R'!B41","v":"M6/04-Regel"},{"$f":"'m-E_R'!D41","v":0},{"$f":"'m-E_R'!F41","v":0},{"$f":"'m-E_R'!G41","v":0}]
[1,{"$f":"'w-E_R'!B42","v":"W6/05-Regel"},{"$f":"'w-E_R'!D42","v":0},{"$f":"'w-E_R'!F42","v":0},{"$f":"'w-E_R'!G42","v":0},null,1,{"$f":"'m-E_R'!B42","v":"M6/05-Regel"},{"$f":"'m-E_R'!D42","v":0},{"$f":"'m-E_R'!F42","v":0},{"$f":"'m-E_R'!G42","v":0}]
[1,{"$f":"'w-E_R'!B43","v":"W6/06-Regel"},{"$f":"'w-E_R'!D43","v":0},{"$f":"'w-E_R'!F43","v":0},{"$f":"'w-E_R'!G43","v":0},null,1,{"$f":"'m-E_R'!B43","v":"M6/06-Regel"},{"$f":"'m-E_R'!D43","v":0},{"$f":"'m-E_R'!F43","v":0},{"$f":"'m-E_R'!G43","v":0}]
[1,{"$f":"'w-E_R'!B45","v":"W7/01-Regel"},{"$f":"'w-E_R'!D45","v":0},{"$f":"'w-E_R'!F45","v":0},{"$f":"'w-E_R'!G45","v":0},null,1,{"$f":"'m-E_R'!B45","v":"M7/01-Regel"},{"$f":"'m-E_R'!D45","v":0},{"$f":"'m-E_R'!F45","v":0},{"$f":"'m-E_R'!G45","v":0}]
[1,{"$f":"'w-E_R'!B46","v":"W7/02-Regel"},{"$f":"'w-E_R'!D46","v":0},{"$f":"'w-E_R'!F46","v":0},{"$f":"'w-E_R'!G46","v":0},null,1,{"$f":"'m-E_R'!B46","v":"M7/02-Regel"},{"$f":"'m-E_R'!D46","v":0},{"$f":"'m-E_R'!F46","v":0},{"$f":"'m-E_R'!G46","v":0}]
[1,{"$f":"'w-E_R'!B47","v":"W7/03-Regel"},{"$f":"'w-E_R'!D47","v":0},{"$f":"'w-E_R'!F47","v":0},{"$f":"'w-E_R'!G47","v":0},null,1,{"$f":"'m-E_R'!B47","v":"M7/03-Regel"},{"$f":"'m-E_R'!D47","v":0},{"$f":"'m-E_R'!F47","v":0},{"$f":"'m-E_R'!G47","v":0}]
[1,{"$f":"'w-E_R'!B48","v":"W7/04-Regel"},{"$f":"'w-E_R'!D48","v":0},{"$f":"'w-E_R'!F48","v":0},{"$f":"'w-E_R'!G48","v":0},null,1,{"$f":"'m-E_R'!B48","v":"M7/04-Regel"},{"$f":"'m-E_R'!D48","v":0},{"$f":"'m-E_R'!F48","v":0},{"$f":"'m-E_R'!G48","v":0}]
[1,{"$f":"'w-E_R'!B49","v":"W7/05-Regel"},{"$f":"'w-E_R'!D49","v":0},{"$f":"'w-E_R'!F49","v":0},{"$f":"'w-E_R'!G49","v":0},null,1,{"$f":"'m-E_R'!B49","v":"M7/05-Regel"},{"$f":"'m-E_R'!D49","v":0},{"$f":"'m-E_R'!F49","v":0},{"$f":"'m-E_R'!G49","v":0}]
[1,{"$f":"'w-E_R'!B50","v":"W7/06-Regel"},{"$f":"'w-E_R'!D50","v":0},{"$f":"'w-E_R'!F50","v":0},{"$f":"'w-E_R'!G50","v":0},null,1,{"$f":"'m-E_R'!B50","v":"M7/06-Regel"},{"$f":"'m-E_R'!D50","v":0},{"$f":"'m-E_R'!F50","v":0},{"$f":"'m-E_R'!G50","v":0}]
[1,{"$f":"'w-E_R'!B52","v":"W8/01-Regel"},{"$f":"'w-E_R'!D52","v":0},{"$f":"'w-E_R'!F52","v":0},{"$f":"'w-E_R'!G52","v":0},null,1,{"$f":"'m-E_R'!B52","v":"M8/01-Regel"},{"$f":"'m-E_R'!D52","v":0},{"$f":"'m-E_R'!F52","v":0},{"$f":"'m-E_R'!G52","v":0}]
[1,{"$f":"'w-E_R'!B53","v":"W8/02-Regel"},{"$f":"'w-E_R'!D53","v":0},{"$f":"'w-E_R'!F53","v":0},{"$f":"'w-E_R'!G53","v":0},null,1,{"$f":"'m-E_R'!B53","v":"M8/02-Regel"},{"$f":"'m-E_R'!D53","v":0},{"$f":"'m-E_R'!F53","v":0},{"$f":"'m-E_R'!G53","v":0}]
[1,{"$f":"'w-E_R'!B54","v":"W8/03-Regel"},{"$f":"'w-E_R'!D54","v":0},{"$f":"'w-E_R'!F54","v":0},{"$f":"'w-E_R'!G54","v":0},null,1,{"$f":"'m-E_R'!B54","v":"M8/03-Regel"},{"$f":"'m-E_R'!D54","v":0},{"$f":"'m-E_R'!F54","v":0},{"$f":"'m-E_R'!G54","v":0}]
[1,{"$f":"'w-E_R'!B55","v":"W8/04-Regel"},{"$f":"'w-E_R'!D55","v":0},{"$f":"'w-E_R'!F55","v":0},{"$f":"'w-E_R'!G55","v":0},null,1,{"$f":"'m-E_R'!B55","v":"M8/04-Regel"},{"$f":"'m-E_R'!D55","v":0},{"$f":"'m-E_R'!F55","v":0},{"$f":"'m-E_R'!G55","v":0}]
[1,{"$f":"'w-E_R'!B56","v":"W8/05-Regel"},{"$f":"'w-E_R'!D56","v":0},{"$f":"'w-E_R'!F56","v":0},{"$f":"'w-E_R'!G56","v":0},null,1,{"$f":"'m-E_R'!B56","v":"M8/05-Regel"},{"$f":"'m-E_R'!D56","v":0},{"$f":"'m-E_R'!F56","v":0},{"$f":"'m-E_R'!G56","v":0}]
[1,{"$f":"'w-E_R'!B57","v":"W8/06-Regel"},{"$f":"'w-E_R'!D57","v":0},{"$f":"'w-E_R'!F57","v":0},{"$f":"'w-E_R'!G57","v":0},null,1,{"$f":"'m-E_R'!B57","v":"M8/06-Regel"},{"$f":"'m-E_R'!D57","v":0},{"$f":"'m-E_R'!F57","v":0},{"$f":"'m-E_R'!G57","v":0}]
[1,{"$f":"'w-E_R'!B59","v":"W9/01-Regel"},{"$f":"'w-E_R'!D59","v":0},{"$f":"'w-E_R'!F59","v":0},{"$f":"'w-E_R'!G59","v":0},null,1,{"$f":"'m-E_R'!B59","v":"M9/01-Regel"},{"$f":"'m-E_R'!D59","v":0},{"$f":"'m-E_R'!F59","v":0},{"$f":"'m-E_R'!G59","v":0}]
[1,{"$f":"'w-E_R'!B60","v":"W9/02-Regel"},{"$f":"'w-E_R'!D60","v":0},{"$f":"'w-E_R'!F60","v":0},{"$f":"'w-E_R'!G60","v":0},null,1,{"$f":"'m-E_R'!B60","v":"M9/02-Regel"},{"$f":"'m-E_R'!D60","v":0},{"$f":"'m-E_R'!F60","v":0},{"$f":"'m-E_R'!G60","v":0}]
[1,{"$f":"'w-E_R'!B61","v":"W9/03-Regel"},{"$f":"'w-E_R'!D61","v":0},{"$f":"'w-E_R'!F61","v":0},{"$f":"'w-E_R'!G61","v":0},null,1,{"$f":"'m-E_R'!B61","v":"M9/03-Regel"},{"$f":"'m-E_R'!D61","v":0},{"$f":"'m-E_R'!F61","v":0},{"$f":"'m-E_R'!G61","v":0}]
[1,{"$f":"'w-E_R'!B62","v":"W9/04-Regel"},{"$f":"'w-E_R'!D62","v":0},{"$f":"'w-E_R'!F62","v":0},{"$f":"'w-E_R'!G62","v":0},null,1,{"$f":"'m-E_R'!B62","v":"M9/04-Regel"},{"$f":"'m-E_R'!D62","v":0},{"$f":"'m-E_R'!F62","v":0},{"$f":"'m-E_R'!G62","v":0}]
[1,{"$f":"'w-E_R'!B63","v":"W9/05-Regel"},{"$f":"'w-E_R'!D63","v":0},{"$f":"'w-E_R'!F63","v":0},{"$f":"'w-E_R'!G63","v":0},null,1,{"$f":"'m-E_R'!B63","v":"M9/05-Regel"},{"$f":"'m-E_R'!D63","v":0},{"$f":"'m-E_R'!F63","v":0},{"$f":"'m-E_R'!G63","v":0}]
[1,{"$f":"'w-E_R'!B64","v":"W9/06-Regel"},{"$f":"'w-E_R'!D64","v":0},{"$f":"'w-E_R'!F64","v":0},{"$f":"'w-E_R'!G64","v":0},null,1,{"$f":"'m-E_R'!B64","v":"M9/06-Regel"},{"$f":"'m-E_R'!D64","v":0},{"$f":"'m-E_R'!F64","v":0},{"$f":"'m-E_R'!G64","v":0}]
[1,{"$f":"'w-E_R'!B66","v":"W10/01-Regel"},{"$f":"'w-E_R'!D66","v":0},{"$f":"'w-E_R'!F66","v":0},{"$f":"'w-E_R'!G66","v":0},null,1,{"$f":"'m-E_R'!B66","v":"M10/01-Regel"},{"$f":"'m-E_R'!D66","v":0},{"$f":"'m-E_R'!F66","v":0},{"$f":"'m-E_R'!G66","v":0}]
[1,{"$f":"'w-E_R'!B67","v":"W10/02-Regel"},{"$f":"'w-E_R'!D67","v":0},{"$f":"'w-E_R'!F67","v":0},{"$f":"'w-E_R'!G67","v":0},null,1,{"$f":"'m-E_R'!B67","v":"M10/02-Regel"},{"$f":"'m-E_R'!D67","v":0},{"$f":"'m-E_R'!F67","v":0},{"$f":"'m-E_R'!G67","v":0}]
[1,{"$f":"'w-E_R'!B68","v":"W10/03-Regel"},{"$f":"'w-E_R'!D68","v":0},{"$f":"'w-E_R'!F68","v":0},{"$f":"'w-E_R'!G68","v":0},null,1,{"$f":"'m-E_R'!B68","v":"M10/03-Regel"},{"$f":"'m-E_R'!D68","v":0},{"$f":"'m-E_R'!F68","v":0},{"$f":"'m-E_R'!G68","v":0}]
[1,{"$f":"'w-E_R'!B69","v":"W10/04-Regel"},{"$f":"'w-E_R'!D69","v":0},{"$f":"'w-E_R'!F69","v":0},{"$f":"'w-E_R'!G69","v":0},null,1,{"$f":"'m-E_R'!B69","v":"M10/04-Regel"},{"$f":"'m-E_R'!D69","v":0},{"$f":"'m-E_R'!F69","v":0},{"$f":"'m-E_R'!G69","v":0}]
[1,{"$f":"'w-E_R'!B70","v":"W10/05-Regel"},{"$f":"'w-E_R'!D70","v":0},{"$f":"'w-E_R'!F70","v":0},{"$f":"'w-E_R'!G70","v":0},null,1,{"$f":"'m-E_R'!B70","v":"M10/05-Regel"},{"$f":"'m-E_R'!D70","v":0},{"$f":"'m-E_R'!F70","v":0},{"$f":"'m-E_R'!G70","v":0}]
[1,{"$f":"'w-E_R'!B71","v":"W10/06-Regel"},{"$f":"'w-E_R'!D71","v":0},{"$f":"'w-E_R'!F71","v":0},{"$f":"'w-E_R'!G71","v":0},null,1,{"$f":"'m-E_R'!B71","v":"M10/06-Regel"},{"$f":"'m-E_R'!D71","v":0},{"$f":"'m-E_R'!F71","v":0},{"$f":"'m-E_R'!G71","v":0}]
[1,{"$f":"'w-E_R'!B73","v":"W11/01-Regel"},{"$f":"'w-E_R'!D73","v":0},{"$f":"'w-E_R'!F73","v":0},{"$f":"'w-E_R'!G73","v":0},null,1,{"$f":"'m-E_R'!B73","v":"M11/01-Regel"},{"$f":"'m-E_R'!D73","v":0},{"$f":"'m-E_R'!F73","v":0},{"$f":"'m-E_R'!G73","v":0}]
[1,{"$f":"'w-E_R'!B74","v":"W11/02-Regel"},{"$f":"'w-E_R'!D74","v":0},{"$f":"'w-E_R'!F74","v":0},{"$f":"'w-E_R'!G74","v":0},null,1,{"$f":"'m-E_R'!B74","v":"M11/02-Regel"},{"$f":"'m-E_R'!D74","v":0},{"$f":"'m-E_R'!F74","v":0},{"$f":"'m-E_R'!G74","v":0}]
[1,{"$f":"'w-E_R'!B75","v":"W11/03-Regel"},{"$f":"'w-E_R'!D75","v":0},{"$f":"'w-E_R'!F75","v":0},{"$f":"'w-E_R'!G75","v":0},null,1,{"$f":"'m-E_R'!B75","v":"M11/03-Regel"},{"$f":"'m-E_R'!D75","v":0},{"$f":"'m-E_R'!F75","v":0},{"$f":"'m-E_R'!G75","v":0}]
[1,{"$f":"'w-E_R'!B76","v":"W11/04-Regel"},{"$f":"'w-E_R'!D76","v":0},{"$f":"'w-E_R'!F76","v":0},{"$f":"'w-E_R'!G76","v":0},null,1,{"$f":"'m-E_R'!B76","v":"M11/04-Regel"},{"$f":"'m-E_R'!D76","v":0},{"$f":"'m-E_R'!F76","v":0},{"$f":"'m-E_R'!G76","v":0}]
[{"$f":"RANK(E67,$E$3:$E$122,0)","v":1},{"$f":"'w-E_R'!B77","v":"W11/05-Regel"},{"$f":"'w-E_R'!D77","v":0},{"$f":"'w-E_R'!F77","v":0},{"$f":"'w-E_R'!G77","v":0},null,{"$f":"RANK(K67,$K$3:$K$122,0)","v":1},{"$f":"'m-E_R'!B77","v":"M11/05-Regel"},{"$f":"'m-E_R'!D77","v":0},{"$f":"'m-E_R'!F77","v":0},{"$f":"'m-E_R'!G77","v":0}]
[1,{"$f":"'w-E_R'!B78","v":"W11/06-Regel"},{"$f":"'w-E_R'!D78","v":0},{"$f":"'w-E_R'!F78","v":0},{"$f":"'w-E_R'!G78","v":0},null,1,{"$f":"'m-E_R'!B78","v":"M11/06-Regel"},{"$f":"'m-E_R'!D78","v":0},{"$f":"'m-E_R'!F78","v":0},{"$f":"'m-E_R'!G78","v":0}]
[1,{"$f":"'w-E_R'!B80","v":"W12/01-Regel"},{"$f":"'w-E_R'!D80","v":0},{"$f":"'w-E_R'!F80","v":0},{"$f":"'w-E_R'!G80","v":0},null,1,{"$f":"'m-E_R'!B80","v":"M12/01-Regel"},{"$f":"'m-E_R'!D80","v":0},{"$f":"'m-E_R'!F80","v":0},{"$f":"'m-E_R'!G80","v":0}]
[1,{"$f":"'w-E_R'!B81","v":"W12/02-Regel"},{"$f":"'w-E_R'!D81","v":0},{"$f":"'w-E_R'!F81","v":0},{"$f":"'w-E_R'!G81","v":0},null,1,{"$f":"'m-E_R'!B81","v":"M12/02-Regel"},{"$f":"'m-E_R'!D81","v":0},{"$f":"'m-E_R'!F81","v":0},{"$f":"'m-E_R'!G81","v":0}]
[1,{"$f":"'w-E_R'!B82","v":"W12/03-Regel"},{"$f":"'w-E_R'!D82","v":0},{"$f":"'w-E_R'!F82","v":0},{"$f":"'w-E_R'!G82","v":0},null,1,{"$f":"'m-E_R'!B82","v":"M12/03-Regel"},{"$f":"'m-E_R'!D82","v":0},{"$f":"'m-E_R'!F82","v":0},{"$f":"'m-E_R'!G82","v":0}]
[1,{"$f":"'w-E_R'!B83","v":"W12/04-Regel"},{"$f":"'w-E_R'!D83","v":0},{"$f":"'w-E_R'!F83","v":0},{"$f":"'w-E_R'!G83","v":0},null,1,{"$f":"'m-E_R'!B83","v":"M12/04-Regel"},{"$f":"'m-E_R'!D83","v":0},{"$f":"'m-E_R'!F83","v":0},{"$f":"'m-E_R'!G83","v":0}]
[1,{"$f":"'w-E_R'!B84","v":"W12/05-Regel"},{"$f":"'w-E_R'!D84","v":0},{"$f":"'w-E_R'!F84","v":0},{"$f":"'w-E_R'!G84","v":0},null,1,{"$f":"'m-E_R'!B84","v":"M12/05-Regel"},{"$f":"'m-E_R'!D84","v":0},{"$f":"'m-E_R'!F84","v":0},{"$f":"'m-E_R'!G84","v":0}]
[1,{"$f":"'w-E_R'!B85","v":"W12/06-Regel"},{"$f":"'w-E_R'!D85","v":0},{"$f":"'w-E_R'!F85","v":0},{"$f":"'w-E_R'!G85","v":0},null,1,{"$f":"'m-E_R'!B85","v":"M12/06-Regel"},{"$f":"'m-E_R'!D85","v":0},{"$f":"'m-E_R'!F85","v":0},{"$f":"'m-E_R'!G85","v":0}]
[1,{"$f":"'w-E_R'!B87","v":"W13/01-Regel"},{"$f":"'w-E_R'!D87","v":0},{"$f":"'w-E_R'!F87","v":0},{"$f":"'w-E_R'!G87","v":0},null,1,{"$f":"'m-E_R'!B87","v":"M13/01-Regel"},{"$f":"'m-E_R'!D87","v":0},{"$f":"'m-E_R'!F87","v":0},{"$f":"'m-E_R'!G87","v":0}]
[1,{"$f":"'w-E_R'!B88","v":"W13/02-Regel"},{"$f":"'w-E_R'!D88","v":0},{"$f":"'w-E_R'!F88","v":0},{"$f":"'w-E_R'!G88","v":0},null,1,{"$f":"'m-E_R'!B88","v":"M13/02-Regel"},{"$f":"'m-E_R'!D88","v":0},{"$f":"'m-E_R'!F88","v":0},{"$f":"'m-E_R'!G88","v":0}]
[1,{"$f":"'w-E_R'!B89","v":"W13/03-Regel"},{"$f":"'w-E_R'!D89","v":0},{"$f":"'w-E_R'!F89","v":0},{"$f":"'w-E_R'!G89","v":0},null,1,{"$f":"'m-E_R'!B89","v":"M13/03-Regel"},{"$f":"'m-E_R'!D89","v":0},{"$f":"'m-E_R'!F89","v":0},{"$f":"'m-E_R'!G89","v":0}]
[1,{"$f":"'w-E_R'!B90","v":"W13/04-Regel"},{"$f":"'w-E_R'!D90","v":0},{"$f":"'w-E_R'!F90","v":0},{"$f":"'w-E_R'!G90","v":0},null,1,{"$f":"'m-E_R'!B90","v":"M13/04-Regel"},{"$f":"'m-E_R'!D90","v":0},{"$f":"'m-E_R'!F90","v":0},{"$f":"'m-E_R'!G90","v":0}]
[1,{"$f":"'w-E_R'!B91","v":"W13/05-Regel"},{"$f":"'w-E_R'!D91","v":0},{"$f":"'w-E_R'!F91","v":0},{"$f":"'w-E_R'!G91","v":0},null,1,{"$f":"'m-E_R'!B91","v":"M13/05-Regel"},{"$f":"'m-E_R'!D91","v":0},{"$f":"'m-E_R'!F91","v":0},{"$f":"'m-E_R'!G91","v":0}]
[1,{"$f":"'w-E_R'!B92","v":"W13/06-Regel"},{"$f":"'w-E_R'!D92","v":0},{"$f":"'w-E_R'!F92","v":0},{"$f":"'w-E_R'!G92","v":0},null,1,{"$f":"'m-E_R'!B92","v":"M13/06-Regel"},{"$f":"'m-E_R'!D92","v":0},{"$f":"'m-E_R'!F92","v":0},{"$f":"'m-E_R'!G92","v":0}]
[1,{"$f":"'w-E_R'!B94","v":"W14/01-Regel"},{"$f":"'w-E_R'!D94","v":0},{"$f":"'w-E_R'!F94","v":0},{"$f":"'w-E_R'!G94","v":0},null,1,{"$f":"'m-E_R'!B94","v":"M14/01-Regel"},{"$f":"'m-E_R'!D94","v":0},{"$f":"'m-E_R'!F94","v":0},{"$f":"'m-E_R'!G94","v":0}]
[1,{"$f":"'w-E_R'!B95","v":"W14/02-Regel"},{"$f":"'w-E_R'!D95","v":0},{"$f":"'w-E_R'!F95","v":0},{"$f":"'w-E_R'!G95","v":0},null,1,{"$f":"'m-E_R'!B95","v":"M14/02-Regel"},{"$f":"'m-E_R'!D95","v":0},{"$f":"'m-E_R'!F95","v":0},{"$f":"'m-E_R'!G95","v":0}]
[1,{"$f":"'w-E_R'!B96","v":"W14/03-Regel"},{"$f":"'w-E_R'!D96","v":0},{"$f":"'w-E_R'!F96","v":0},{"$f":"'w-E_R'!G96","v":0},null,1,{"$f":"'m-E_R'!B96","v":"M14/03-Regel"},{"$f":"'m-E_R'!D96","v":0},{"$f":"'m-E_R'!F96","v":0},{"$f":"'m-E_R'!G96","v":0}]
[1,{"$f":"'w-E_R'!B97","v":"W14/04-Regel"},{"$f":"'w-E_R'!D97","v":0},{"$f":"'w-E_R'!F97","v":0},{"$f":"'w-E_R'!G97","v":0},null,1,{"$f":"'m-E_R'!B97","v":"M14/04-Regel"},{"$f":"'m-E_R'!D97","v":0},{"$f":"'m-E_R'!F97","v":0},{"$f":"'m-E_R'!G97","v":0}]
[1,{"$f":"'w-E_R'!B98","v":"W14/05-Regel"},{"$f":"'w-E_R'!D98","v":0},{"$f":"'w-E_R'!F98","v":0},{"$f":"'w-E_R'!G98","v":0},null,1,{"$f":"'m-E_R'!B98","v":"M14/05-Regel"},{"$f":"'m-E_R'!D98","v":0},{"$f":"'m-E_R'!F98","v":0},{"$f":"'m-E_R'!G98","v":0}]
[1,{"$f":"'w-E_R'!B99","v":"W14/06-Regel"},{"$f":"'w-E_R'!D99","v":0},{"$f":"'w-E_R'!F99","v":0},{"$f":"'w-E_R'!G99","v":0},null,1,{"$f":"'m-E_R'!B99","v":"M14/06-Regel"},{"$f":"'m-E_R'!D99","v":0},{"$f":"'m-E_R'!F99","v":0},{"$f":"'m-E_R'!G99","v":0}]
[1,{"$f":"'w-E_R'!B101","v":"W15/01-Regel"},{"$f":"'w-E_R'!D101","v":0},{"$f":"'w-E_R'!F101","v":0},{"$f":"'w-E_R'!G101","v":0},null,1,{"$f":"'m-E_R'!B101","v":"M15/01-Regel"},{"$f":"'m-E_R'!D101","v":0},{"$f":"'m-E_R'!F101","v":0},{"$f":"'m-E_R'!G101","v":0}]
[1,{"$f":"'w-E_R'!B102","v":"W15/02-Regel"},{"$f":"'w-E_R'!D102","v":0},{"$f":"'w-E_R'!F102","v":0},{"$f":"'w-E_R'!G102","v":0},null,1,{"$f":"'m-E_R'!B102","v":"M15/02-Regel"},{"$f":"'m-E_R'!D102","v":0},{"$f":"'m-E_R'!F102","v":0},{"$f":"'m-E_R'!G102","v":0}]
[1,{"$f":"'w-E_R'!B103","v":"W15/03-Regel"},{"$f":"'w-E_R'!D103","v":0},{"$f":"'w-E_R'!F103","v":0},{"$f":"'w-E_R'!G103","v":0},null,1,{"$f":"'m-E_R'!B103","v":"M15/03-Regel"},{"$f":"'m-E_R'!D103","v":0},{"$f":"'m-E_R'!F103","v":0},{"$f":"'m-E_R'!G103","v":0}]
[1,{"$f":"'w-E_R'!B104","v":"W15/04-Regel"},{"$f":"'w-E_R'!D104","v":0},{"$f":"'w-E_R'!F104","v":0},{"$f":"'w-E_R'!G104","v":0},null,1,{"$f":"'m-E_R'!B104","v":"M15/04-Regel"},{"$f":"'m-E_R'!D104","v":0},{"$f":"'m-E_R'!F104","v":0},{"$f":"'m-E_R'!G104","v":0}]
[1,{"$f":"'w-E_R'!B105","v":"W15/05-Regel"},{"$f":"'w-E_R'!D105","v":0},{"$f":"'w-E_R'!F105","v":0},{"$f":"'w-E_R'!G105","v":0},null,1,{"$f":"'m-E_R'!B105","v":"M15/05-Regel"},{"$f":"'m-E_R'!D105","v":0},{"$f":"'m-E_R'!F105","v":0},{"$f":"'m-E_R'!G105","v":0}]
[1,{"$f":"'w-E_R'!B106","v":"W15/06-Regel"},{"$f":"'w-E_R'!D106","v":0},{"$f":"'w-E_R'!F106","v":0},{"$f":"'w-E_R'!G106","v":0},null,1,{"$f":"'m-E_R'!B106","v":"M15/06-Regel"},{"$f":"'m-E_R'!D106","v":0},{"$f":"'m-E_R'!F106","v":0},{"$f":"'m-E_R'!G106","v":0}]
[1,{"$f":"'w-E_R'!B108","v":"W16/01-Regel"},{"$f":"'w-E_R'!D108","v":0},{"$f":"'w-E_R'!F108","v":0},{"$f":"'w-E_R'!G108","v":0},null,1,{"$f":"'m-E_R'!B108","v":"M16/01-Regel"},{"$f":"'m-E_R'!D108","v":0},{"$f":"'m-E_R'!F108","v":0},{"$f":"'m-E_R'!G108","v":0}]
[1,{"$f":"'w-E_R'!B109","v":"W16/02-Regel"},{"$f":"'w-E_R'!D109","v":0},{"$f":"'w-E_R'!F109","v":0},{"$f":"'w-E_R'!G109","v":0},null,1,{"$f":"'m-E_R'!B109","v":"M16/02-Regel"},{"$f":"'m-E_R'!D109","v":0},{"$f":"'m-E_R'!F109","v":0},{"$f":"'m-E_R'!G109","v":0}]
[1,{"$f":"'w-E_R'!B110","v":"W16/03-Regel"},{"$f":"'w-E_R'!D110","v":0},{"$f":"'w-E_R'!F110","v":0},{"$f":"'w-E_R'!G110","v":0},null,1,{"$f":"'m-E_R'!B110","v":"M16/03-Regel"},{"$f":"'m-E_R'!D110","v":0},{"$f":"'m-E_R'!F110","v":0},{"$f":"'m-E_R'!G110","v":0}]
[1,{"$f":"'w-E_R'!B111","v":"W16/04-Regel"},{"$f":"'w-E_R'!D111","v":0},{"$f":"'w-E_R'!F111","v":0},{"$f":"'w-E_R'!G111","v":0},null,1,{"$f":"'m-E_R'!B111","v":"M16/04-Regel"},{"$f":"'m-E_R'!D111","v":0},{"$f":"'m-E_R'!F111","v":0},{"$f":"'m-E_R'!G111","v":0}]
[1,{"$f":"'w-E_R'!B112","v":"W16/05-Regel"},{"$f":"'w-E_R'!D112","v":0},{"$f":"'w-E_R'!F112","v":0},{"$f":"'w-E_R'!G112","v":0},null,1,{"$f":"'m-E_R'!B112","v":"M16/05-Regel"},{"$f":"'m-E_R'!D112","v":0},{"$f":"'m-E_R'!F112","v":0},{"$f":"'m-E_R'!G112","v":0}]
[1,{"$f":"'w-E_R'!B113","v":"W16/06-Regel"},{"$f":"'w-E_R'!D113","v":0},{"$f":"'w-E_R'!F113","v":0},{"$f":"'w-E_R'!G113","v":0},null,1,{"$f":"'m-E_R'!B113","v":"M16/06-Regel"},{"$f":"'m-E_R'!D113","v":0},{"$f":"'m-E_R'!F113","v":0},{"$f":"'m-E_R'!G113","v":0}]
[{"$f":"RANK(E99,$E$3:$E$122,0)","v":1},{"$f":"'w-E_R'!B115","v":"W17/01-Regel"},{"$f":"'w-E_R'!D115","v":0},{"$f":"'w-E_R'!F115","v":0},{"$f":"'w-E_R'!G115","v":0},null,{"$f":"RANK(K99,$K$3:$K$122,0)","v":1},{"$f":"'m-E_R'!B115","v":"M17/01-Regel"},{"$f":"'m-E_R'!D115","v":0},{"$f":"'m-E_R'!F115","v":0},{"$f":"'m-E_R'!G115","v":0}]
[1,{"$f":"'w-E_R'!B116","v":"W17/02-Regel"},{"$f":"'w-E_R'!D116","v":0},{"$f":"'w-E_R'!F116","v":0},{"$f":"'w-E_R'!G116","v":0},null,1,{"$f":"'m-E_R'!B116","v":"M17/02-Regel"},{"$f":"'m-E_R'!D116","v":0},{"$f":"'m-E_R'!F116","v":0},{"$f":"'m-E_R'!G116","v":0}]
[1,{"$f":"'w-E_R'!B117","v":"W17/03-Regel"},{"$f":"'w-E_R'!D117","v":0},{"$f":"'w-E_R'!F117","v":0},{"$f":"'w-E_R'!G117","v":0},null,1,{"$f":"'m-E_R'!B117","v":"M17/03-Regel"},{"$f":"'m-E_R'!D117","v":0},{"$f":"'m-E_R'!F117","v":0},{"$f":"'m-E_R'!G117","v":0}]
[1,{"$f":"'w-E_R'!B118","v":"W17/04-Regel"},{"$f":"'w-E_R'!D118","v":0},{"$f":"'w-E_R'!F118","v":0},{"$f":"'w-E_R'!G118","v":0},null,1,{"$f":"'m-E_R'!B118","v":"M17/04-Regel"},{"$f":"'m-E_R'!D118","v":0},{"$f":"'m-E_R'!F118","v":0},{"$f":"'m-E_R'!G118","v":0}]
[1,{"$f":"'w-E_R'!B119","v":"W17/05-Regel"},{"$f":"'w-E_R'!D119","v":0},{"$f":"'w-E_R'!F119","v":0},{"$f":"'w-E_R'!G119","v":0},null,1,{"$f":"'m-E_R'!B119","v":"M17/05-Regel"},{"$f":"'m-E_R'!D119","v":0},{"$f":"'m-E_R'!F119","v":0},{"$f":"'m-E_R'!G119","v":0}]
[1,{"$f":"'w-E_R'!B120","v":"W17/06-Regel"},{"$f":"'w-E_R'!D120","v":0},{"$f":"'w-E_R'!F120","v":0},{"$f":"'w-E_R'!G120","v":0},null,1,{"$f":"'m-E_R'!B120","v":"M17/06-Regel"},{"$f":"'m-E_R'!D120","v":0},{"$f":"'m-E_R'!F120","v":0},{"$f":"'m-E_R'!G120","v":0}]
[1,{"$f":"'w-E_R'!B122","v":"W18/01-Regel"},{"$f":"'w-E_R'!D122","v":0},{"$f":"'w-E_R'!F122","v":0},{"$f":"'w-E_R'!G122","v":0},null,1,{"$f":"'m-E_R'!B122","v":"M18/01-Regel"},{"$f":"'m-E_R'!D122","v":0},{"$f":"'m-E_R'!F122","v":0},{"$f":"'m-E_R'!G122","v":0}]
[1,{"$f":"'w-E_R'!B123","v":"W18/02-Regel"},{"$f":"'w-E_R'!D123","v":0},{"$f":"'w-E_R'!F123","v":0},{"$f":"'w-E_R'!G123","v":0},null,1,{"$f":"'m-E_R'!B123","v":"M18/02-Regel"},{"$f":"'m-E_R'!D123","v":0},{"$f":"'m-E_R'!F123","v":0},{"$f":"'m-E_R'!G123","v":0}]
[1,{"$f":"'w-E_R'!B124","v":"W18/03-Regel"},{"$f":"'w-E_R'!D124","v":0},{"$f":"'w-E_R'!F124","v":0},{"$f":"'w-E_R'!G124","v":0},null,1,{"$f":"'m-E_R'!B124","v":"M18/03-Regel"},{"$f":"'m-E_R'!D124","v":0},{"$f":"'m-E_R'!F124","v":0},{"$f":"'m-E_R'!G124","v":0}]
[1,{"$f":"'w-E_R'!B125","v":"W18/04-Regel"},{"$f":"'w-E_R'!D125","v":0},{"$f":"'w-E_R'!F125","v":0},{"$f":"'w-E_R'!G125","v":0},null,1,{"$f":"'m-E_R'!B125","v":"M18/04-Regel"},{"$f":"'m-E_R'!D125","v":0},{"$f":"'m-E_R'!F125","v":0},{"$f":"'m-E_R'!G125","v":0}]
[1,{"$f":"'w-E_R'!B126","v":"W18/05-Regel"},{"$f":"'w-E_R'!D126","v":0},{"$f":"'w-E_R'!F126","v":0},{"$f":"'w-E_R'!G126","v":0},null,1,{"$f":"'m-E_R'!B126","v":"M18/05-Regel"},{"$f":"'m-E_R'!D126","v":0},{"$f":"'m-E_R'!F126","v":0},{"$f":"'m-E_R'!G126","v":0}]
[1,{"$f":"'w-E_R'!B127","v":"W18/06-Regel"},{"$f":"'w-E_R'!D127","v":0},{"$f":"'w-E_R'!F127","v":0},{"$f":"'w-E_R'!G127","v":0},null,1,{"$f":"'m-E_R'!B127","v":"M18/06-Regel"},{"$f":"'m-E_R'!D127","v":0},{"$f":"'m-E_R'!F127","v":0},{"$f":"'m-E_R'!G127","v":0}]
[1,{"$f":"'w-E_R'!B129","v":"W19/01-Regel"},{"$f":"'w-E_R'!D129","v":0},{"$f":"'w-E_R'!F129","v":0},{"$f":"'w-E_R'!G129","v":0},null,1,{"$f":"'m-E_R'!B129","v":"M19/01-Regel"},{"$f":"'m-E_R'!D129","v":0},{"$f":"'m-E_R'!F129","v":0},{"$f":"'m-E_R'!G129","v":0}]
[1,{"$f":"'w-E_R'!B130","v":"W19/02-Regel"},{"$f":"'w-E_R'!D130","v":0},{"$f":"'w-E_R'!F130","v":0},{"$f":"'w-E_R'!G130","v":0},null,1,{"$f":"'m-E_R'!B130","v":"M19/02-Regel"},{"$f":"'m-E_R'!D130","v":0},{"$f":"'m-E_R'!F130","v":0},{"$f":"'m-E_R'!G130","v":0}]
[1,{"$f":"'w-E_R'!B131","v":"W19/03-Regel"},{"$f":"'w-E_R'!D131","v":0},{"$f":"'w-E_R'!F131","v":0},{"$f":"'w-E_R'!G131","v":0},null,1,{"$f":"'m-E_R'!B131","v":"M19/03-Regel"},{"$f":"'m-E_R'!D131","v":0},{"$f":"'m-E_R'!F131","v":0},{"$f":"'m-E_R'!G131","v":0}]
[1,{"$f":"'w-E_R'!B132","v":"W19/04-Regel"},{"$f":"'w-E_R'!D132","v":0},{"$f":"'w-E_R'!F132","v":0},{"$f":"'w-E_R'!G132","v":0},null,1,{"$f":"'m-E_R'!B132","v":"M19/04-Regel"},{"$f":"'m-E_R'!D132","v":0},{"$f":"'m-E_R'!F132","v":0},{"$f":"'m-E_R'!G132","v":0}]
[1,{"$f":"'w-E_R'!B133","v":"W19/05-Regel"},{"$f":"'w-E_R'!D133","v":0},{"$f":"'w-E_R'!F133","v":0},{"$f":"'w-E_R'!G133","v":0},null,1,{"$f":"'m-E_R'!B133","v":"M19/05-Regel"},{"$f":"'m-E_R'!D133","v":0},{"$f":"'m-E_R'!F133","v":0},{"$f":"'m-E_R'!G133","v":0}]
[1,{"$f":"'w-E_R'!B134","v":"W19/06-Regel"},{"$f":"'w-E_R'!D134","v":0},{"$f":"'w-E_R'!F134","v":0},{"$f":"'w-E_R'!G134","v":0},null,1,{"$f":"'m-E_R'!B134","v":"M19/06-Regel"},{"$f":"'m-E_R'!D134","v":0},{"$f":"'m-E_R'!F134","v":0},{"$f":"'m-E_R'!G134","v":0}]
[1,{"$f":"'w-E_R'!B136","v":"W20/01-Regel"},{"$f":"'w-E_R'!D136","v":0},{"$f":"'w-E_R'!F136","v":0},{"$f":"'w-E_R'!G136","v":0},null,1,{"$f":"'m-E_R'!B136","v":"M20/01-Regel"},{"$f":"'m-E_R'!D136","v":0},{"$f":"'m-E_R'!F136","v":0},{"$f":"'m-E_R'!G136","v":0}]
[1,{"$f":"'w-E_R'!B137","v":"W20/02-Regel"},{"$f":"'w-E_R'!D137","v":0},{"$f":"'w-E_R'!F137","v":0},{"$f":"'w-E_R'!G137","v":0},null,1,{"$f":"'m-E_R'!B137","v":"M20/02-Regel"},{"$f":"'m-E_R'!D137","v":0},{"$f":"'m-E_R'!F137","v":0},{"$f":"'m-E_R'!G137","v":0}]
[1,{"$f":"'w-E_R'!B138","v":"W20/03-Regel"},{"$f":"'w-E_R'!D138","v":0},{"$f":"'w-E_R'!F138","v":0},{"$f":"'w-E_R'!G138","v":0},null,1,{"$f":"'m-E_R'!B138","v":"M20/03-Regel"},{"$f":"'m-E_R'!D138","v":0},{"$f":"'m-E_R'!F138","v":0},{"$f":"'m-E_R'!G138","v":0}]
[1,{"$f":"'w-E_R'!B139","v":"W20/04-Regel"},{"$f":"'w-E_R'!D139","v":0},{"$f":"'w-E_R'!F139","v":0},{"$f":"'w-E_R'!G139","v":0},null,1,{"$f":"'m-E_R'!B139","v":"M20/04-Regel"},{"$f":"'m-E_R'!D139","v":0},{"$f":"'m-E_R'!F139","v":0},{"$f":"'m-E_R'!G139","v":0}]
[1,{"$f":"'w-E_R'!B140","v":"W20/05-Regel"},{"$f":"'w-E_R'!D140","v":0},{"$f":"'w-E_R'!F140","v":0},{"$f":"'w-E_R'!G140","v":0},null,1,{"$f":"'m-E_R'!B140","v":"M20/05-Regel"},{"$f":"'m-E_R'!D140","v":0},{"$f":"'m-E_R'!F140","v":0},{"$f":"'m-E_R'!G140","v":0}]
[1,{"$f":"'w-E_R'!B141","v":"W20/06-Regel"},{"$f":"'w-E_R'!D141","v":0},{"$f":"'w-E_R'!F141","v":0},{"$f":"'w-E_R'!G141","v":0},null,1,{"$f":"'m-E_R'!B141","v":"M20/06-Regel"},{"$f":"'m-E_R'!D141","v":0},{"$f":"'m-E_R'!F141","v":0},{"$f":"'m-E_R'!G141","v":0}]
["Einzelwertung 60 m Weiblich",null,{"$f":"'w-E_R'!C1","v":"D-C/Regel-Schulen"},{"$f":"'w-E_R'!E1","v":"Ortsangabe,Datum"},null,null,"Einzelwertung 60 m Männlich",null,{"$f":"'m-E_R'!C1","v":"D-C/Regel-Schulen"},{"$f":"'m-E_R'!E123","v":0}]
["Einzelwertung 60 m",null,{"$f":"'w-E_Sp'!C1","v":"D-C/Sport-Schwerpunkt"},{"$f":"'w-E_Sp'!E1","v":"Ortsangabe,Datum"},null,null,"Einzelwertung 60 m",null,{"$f":"'m-E_Sp'!C1","v":"D-C/Sport-Schwerpunkt"},{"$f":"'m-E_Sp'!E1","v":"Ortsangabe,Datum"}]
["Rang","WEIBLICH","Schule:","Leistung","Punkte",null,"Rang","MÄNNLICH","Schule:","Leistung","Punkte"]
[{"$f":"RANK(E126,$E$126:$E245,0)","v":1},{"$f":"'w-E_Sp'!B3","v":"W1/01-Sport"},{"$f":"'w-E_Sp'!D3","v":0},{"$f":"'w-E_Sp'!F3","v":0},{"$f":"'w-E_Sp'!G3","v":0},null,{"$f":"RANK(K126,$K$126:$K245,0)","v":1},{"$f":"'m-E_Sp'!B3","v":"M1/01-Sport"},{"$f":"'m-E_Sp'!D3","v":0},{"$f":"'m-E_Sp'!F3","v":0},{"$f":"'m-E_Sp'!G3","v":0}]
[{"$f":"RANK(E127,$E$126:$E245,0)","v":1},{"$f":"'w-E_Sp'!B4","v":"W1/02-Sport"},{"$f":"'w-E_Sp'!D4","v":0},{"$f":"'w-E_Sp'!F4","v":0},{"$f":"'w-E_Sp'!G4","v":0},null,{"$f":"RANK(K127,$K$126:$K245,0)","v":1},{"$f":"'m-E_Sp'!B4","v":"M1/02-Sport"},{"$f":"'m-E_Sp'!D4","v":0},{"$f":"'m-E_Sp'!F4","v":0},{"$f":"'m-E_Sp'!G4","v":0}]
[{"$f":"RANK(E128,$E$126:$E245,0)","v":1},{"$f":"'w-E_Sp'!B5","v":"W1/03-Sport"},{"$f":"'w-E_Sp'!D5","v":0},{"$f":"'w-E_Sp'!F5","v":0},{"$f":"'w-E_Sp'!G5","v":0},null,{"$f":"RANK(K128,$K$126:$K245,0)","v":1},{"$f":"'m-E_Sp'!B5","v":"M1/03-Sport"},{"$f":"'m-E_Sp'!D5","v":0},{"$f":"'m-E_Sp'!F5","v":0},{"$f":"'m-E_Sp'!G5","v":0}]
[{"$f":"RANK(E129,$E$126:$E245,0)","v":1},{"$f":"'w-E_Sp'!B6","v":"W1/04-Sport"},{"$f":"'w-E_Sp'!D6","v":0},{"$f":"'w-E_Sp'!F6","v":0},{"$f":"'w-E_Sp'!G6","v":0},null,{"$f":"RANK(K129,$K$126:$K245,0)","v":1},{"$f":"'m-E_Sp'!B6","v":"M1/04-Sport"},{"$f":"'m-E_Sp'!D6","v":0},{"$f":"'m-E_Sp'!F6","v":0},{"$f":"'m-E_Sp'!G6","v":0}]
[{"$f":"RANK(E130,$E$126:$E245,0)","v":1},{"$f":"'w-E_Sp'!B7","v":"W1/05-Sport"},{"$f":"'w-E_Sp'!D7","v":0},{"$f":"'w-E_Sp'!F7","v":0},{"$f":"'w-E_Sp'!G7","v":0},null,{"$f":"RANK(K130,$K$126:$K245,0)","v":1},{"$f":"'m-E_Sp'!B7","v":"M1/05-Sport"},{"$f":"'m-E_Sp'!D7","v":0},{"$f":"'m-E_Sp'!F7","v":0},{"$f":"'m-E_Sp'!G7","v":0}]
[{"$f":"RANK(E131,$E$126:$E245,0)","v":1},{"$f":"'w-E_Sp'!B8","v":"W1/06-Sport"},{"$f":"'w-E_Sp'!D8","v":0},{"$f":"'w-E_Sp'!F8","v":0},{"$f":"'w-E_Sp'!G8","v":0},null,{"$f":"RANK(K131,$K$126:$K245,0)","v":1},{"$f":"'m-E_Sp'!B8","v":"M1/06-Sport"},{"$f":"'m-E_Sp'!D8","v":0},{"$f":"'m-E_Sp'!F8","v":0},{"$f":"'m-E_Sp'!G8","v":0}]
[{"$f":"RANK(E132,$E$126:$E245,0)","v":1},{"$f":"'w-E_Sp'!B10","v":"W2/01-Sport"},{"$f":"'w-E_Sp'!D10","v":0},{"$f":"'w-E_Sp'!F10","v":0},{"$f":"'w-E_Sp'!G10","v":0},null,{"$f":"RANK(K132,$K$126:$K245,0)","v":1},{"$f":"'m-E_Sp'!B10","v":"M2/01-Sport"},{"$f":"'m-E_Sp'!D10","v":0},{"$f":"'m-E_Sp'!F10","v":0},{"$f":"'m-E_Sp'!G10","v":0}]
[{"$f":"RANK(E133,$E$126:$E245,0)","v":1},{"$f":"'w-E_Sp'!B11","v":"W2/02-Sport"},{"$f":"'w-E_Sp'!D11","v":0},{"$f":"'w-E_Sp'!F11","v":0},{"$f":"'w-E_Sp'!G11","v":0},null,{"$f":"RANK(K133,$K$126:$K245,0)","v":1},{"$f":"'m-E_Sp'!B11","v":"M2/02-Sport"},{"$f":"'m-E_Sp'!D11","v":0},{"$f":"'m-E_Sp'!F11","v":0},{"$f":"'m-E_Sp'!G11","v":0}]
[{"$f":"RANK(E134,$E$126:$E245,0)","v":1},{"$f":"'w-E_Sp'!B12","v":"W2/03-Sport"},{"$f":"'w-E_Sp'!D12","v":0},{"$f":"'w-E_Sp'!F12","v":0},{"$f":"'w-E_Sp'!G12","v":0},null,{"$f":"RANK(K134,$K$126:$K245,0)","v":1},{"$f":"'m-E_Sp'!B12","v":"M2/03-Sport"},{"$f":"'m-E_Sp'!D12","v":0},{"$f":"'m-E_Sp'!F12","v":0},{"$f":"'m-E_Sp'!G12","v":0}]
[{"$f":"RANK(E135,$E$126:$E245,0)","v":1},{"$f":"'w-E_Sp'!B13","v":"W2/04-Sport"},{"$f":"'w-E_Sp'!D13","v":0},{"$f":"'w-E_Sp'!F13","v":0},{"$f":"'w-E_Sp'!G13","v":0},null,{"$f":"RANK(K135,$K$126:$K245,0)","v":1},{"$f":"'m-E_Sp'!B13","v":"M2/04-Sport"},{"$f":"'m-E_Sp'!D13","v":0},{"$f":"'m-E_Sp'!F13","v":0},{"$f":"'m-E_Sp'!G13","v":0}]
[{"$f":"RANK(E136,$E$126:$E245,0)","v":1},{"$f":"'w-E_Sp'!B14","v":"W2/05-Sport"},{"$f":"'w-E_Sp'!D14","v":0},{"$f":"'w-E_Sp'!F14","v":0},{"$f":"'w-E_Sp'!G14","v":0},null,{"$f":"RANK(K136,$K$126:$K245,0)","v":1},{"$f":"'m-E_Sp'!B14","v":"M2/05-Sport"},{"$f":"'m-E_Sp'!D14","v":0},{"$f":"'m-E_Sp'!F14","v":0},{"$f":"'m-E_Sp'!G14","v":0}]
[{"$f":"RANK(E137,$E$126:$E245,0)","v":1},{"$f":"'w-E_Sp'!B15","v":"W2/06-Sport"},{"$f":"'w-E_Sp'!D15","v":0},{"$f":"'w-E_Sp'!F15","v":0},{"$f":"'w-E_Sp'!G15","v":0},null,{"$f":"RANK(K137,$K$126:$K245,0)","v":1},{"$f":"'m-E_Sp'!B15","v":"M2/06-Sport"},{"$f":"'m-E_Sp'!D15","v":0},{"$f":"'m-E_Sp'!F15","v":0},{"$f":"'m-E_Sp'!G15","v":0}]
[{"$f":"RANK(E138,$E$126:$E245,0)","v":1},{"$f":"'w-E_Sp'!B17","v":"W3/01-Sport"},{"$f":"'w-E_Sp'!D17","v":0},{"$f":"'w-E_Sp'!F17","v":0},{"$f":"'w-E_Sp'!G17","v":0},null,{"$f":"RANK(K138,$K$126:$K245,0)","v":1},{"$f":"'m-E_Sp'!B17","v":"M3/01-Sport"},{"$f":"'m-E_Sp'!D17","v":0},{"$f":"'m-E_Sp'!F17","v":0},{"$f":"'m-E_Sp'!G17","v":0}]
[{"$f":"RANK(E139,$E$126:$E245,0)","v":1},{"$f":"'w-E_Sp'!B18","v":"W3/02-Sport"},{"$f":"'w-E_Sp'!D18","v":0},{"$f":"'w-E_Sp'!F18","v":0},{"$f":"'w-E_Sp'!G18","v":0},null,{"$f":"RANK(K139,$K$126:$K245,0)","v":1},{"$f":"'m-E_Sp'!B18","v":"M3/02-Sport"},{"$f":"'m-E_Sp'!D18","v":0},{"$f":"'m-E_Sp'!F18","v":0},{"$f":"'m-E_Sp'!G18","v":0}]
[{"$f":"RANK(E140,$E$126:$E245,0)","v":1},{"$f":"'w-E_Sp'!B19","v":"W3/03-Sport"},{"$f":"'w-E_Sp'!D19","v":0},{"$f":"'w-E_Sp'!F19","v":0},{"$f":"'w-E_Sp'!G19","v":0},null,{"$f":"RANK(K140,$K$126:$K245,0)","v":1},{"$f":"'m-E_Sp'!B19","v":"M3/03-Sport"},{"$f":"'m-E_Sp'!D19","v":0},{"$f":"'m-E_Sp'!F19","v":0},{"$f":"'m-E_Sp'!G19","v":0}]
[{"$f":"RANK(E141,$E$126:$E245,0)","v":1},{"$f":"'w-E_Sp'!B20","v":"W3/04-Sport"},{"$f":"'w-E_Sp'!D20","v":0},{"$f":"'w-E_Sp'!F20","v":0},{"$f":"'w-E_Sp'!G20","v":0},null,{"$f":"RANK(K141,$K$126:$K245,0)","v":1},{"$f":"'m-E_Sp'!B20","v":"M3/04-Sport"},{"$f":"'m-E_Sp'!D20","v":0},{"$f":"'m-E_Sp'!F20","v":0},{"$f":"'m-E_Sp'!G20","v":0}]
[{"$f":"RANK(E142,$E$126:$E245,0)","v":1},{"$f":"'w-E_Sp'!B21","v":"W3/05-Sport"},{"$f":"'w-E_Sp'!D21","v":0},{"$f":"'w-E_Sp'!F21","v":0},{"$f":"'w-E_Sp'!G21","v":0},null,{"$f":"RANK(K142,$K$126:$K245,0)","v":1},{"$f":"'m-E_Sp'!B21","v":"M3/05-Sport"},{"$f":"'m-E_Sp'!D21","v":0},{"$f":"'m-E_Sp'!F21","v":0},{"$f":"'m-E_Sp'!G21","v":0}]
[{"$f":"RANK(E143,$E$126:$E245,0)","v":1},{"$f":"'w-E_Sp'!B22","v":"W3/06-Sport"},{"$f":"'w-E_Sp'!D22","v":0},{"$f":"'w-E_Sp'!F22","v":0},{"$f":"'w-E_Sp'!G22","v":0},null,{"$f":"RANK(K143,$K$126:$K245,0)","v":1},{"$f":"'m-E_Sp'!B22","v":"M3/06-Sport"},{"$f":"'m-E_Sp'!D22","v":0},{"$f":"'m-E_Sp'!F22","v":0},{"$f":"'m-E_Sp'!G22","v":0}]
[{"$f":"RANK(E144,$E$126:$E245,0)","v":1},{"$f":"'w-E_Sp'!B24","v":"W4/01-Sport"},{"$f":"'w-E_Sp'!D24","v":0},{"$f":"'w-E_Sp'!F24","v":0},{"$f":"'w-E_Sp'!G24","v":0},null,{"$f":"RANK(K144,$K$126:$K245,0)","v":1},{"$f":"'m-E_Sp'!B24","v":"M4/01-Sport"},{"$f":"'m-E_Sp'!D24","v":0},{"$f":"'m-E_Sp'!F24","v":0},{"$f":"'m-E_Sp'!G24","v":0}]
[{"$f":"RANK(E145,$E$126:$E245,0)","v":1},{"$f":"'w-E_Sp'!B25","v":"W4/02-Sport"},{"$f":"'w-E_Sp'!D25","v":0},{"$f":"'w-E_Sp'!F25","v":0},{"$f":"'w-E_Sp'!G25","v":0},null,{"$f":"RANK(K145,$K$126:$K245,0)","v":1},{"$f":"'m-E_Sp'!B25","v":"M4/02-Sport"},{"$f":"'m-E_Sp'!D25","v":0},{"$f":"'m-E_Sp'!F25","v":0},{"$f":"'m-E_Sp'!G25","v":0}]
[{"$f":"RANK(E146,$E$126:$E245,0)","v":1},{"$f":"'w-E_Sp'!B26","v":"W4/03-Sport"},{"$f":"'w-E_Sp'!D26","v":0},{"$f":"'w-E_Sp'!F26","v":0},{"$f":"'w-E_Sp'!G26","v":0},null,{"$f":"RANK(K146,$K$126:$K245,0)","v":1},{"$f":"'m-E_Sp'!B26","v":"M4/03-Sport"},{"$f":"'m-E_Sp'!D26","v":0},{"$f":"'m-E_Sp'!F26","v":0},{"$f":"'m-E_Sp'!G26","v":0}]
[{"$f":"RANK(E147,$E$126:$E245,0)","v":1},{"$f":"'w-E_Sp'!B27","v":"W4/04-Sport"},{"$f":"'w-E_Sp'!D27","v":0},{"$f":"'w-E_Sp'!F27","v":0},{"$f":"'w-E_Sp'!G27","v":0},null,{"$f":"RANK(K147,$K$126:$K245,0)","v":1},{"$f":"'m-E_Sp'!B27","v":"M4/04-Sport"},{"$f":"'m-E_Sp'!D27","v":0},{"$f":"'m-E_Sp'!F27","v":0},{"$f":"'m-E_Sp'!G27","v":0}]
[{"$f":"RANK(E148,$E$126:$E245,0)","v":1},{"$f":"'w-E_Sp'!B28","v":"W4/05-Sport"},{"$f":"'w-E_Sp'!D28","v":0},{"$f":"'w-E_Sp'!F28","v":0},{"$f":"'w-E_Sp'!G28","v":0},null,{"$f":"RANK(K148,$K$126:$K245,0)","v":1},{"$f":"'m-E_Sp'!B28","v":"M4/05-Sport"},{"$f":"'m-E_Sp'!D28","v":0},{"$f":"'m-E_Sp'!F28","v":0},{"$f":"'m-E_Sp'!G28","v":0}]
[{"$f":"RANK(E149,$E$126:$E245,0)","v":1},{"$f":"'w-E_Sp'!B29","v":"W4/06-Sport"},{"$f":"'w-E_Sp'!D29","v":0},{"$f":"'w-E_Sp'!F29","v":0},{"$f":"'w-E_Sp'!G29","v":0},null,{"$f":"RANK(K149,$K$126:$K245,0)","v":1},{"$f":"'m-E_Sp'!B29","v":"M4/06-Sport"},{"$f":"'m-E_Sp'!D29","v":0},{"$f":"'m-E_Sp'!F29","v":0},{"$f":"'m-E_Sp'!G29","v":0}]
[{"$f":"RANK(E150,$E$126:$E245,0)","v":1},{"$f":"'w-E_Sp'!B31","v":"W5/01-Sport"},{"$f":"'w-E_Sp'!D31","v":0},{"$f":"'w-E_Sp'!F31","v":0},{"$f":"'w-E_Sp'!G31","v":0},null,{"$f":"RANK(K150,$K$126:$K245,0)","v":1},{"$f":"'m-E_Sp'!B31","v":"M5/01-Sport"},{"$f":"'m-E_Sp'!D31","v":0},{"$f":"'m-E_Sp'!F31","v":0},{"$f":"'m-E_Sp'!G31","v":0}]
[{"$f":"RANK(E151,$E$126:$E245,0)","v":1},{"$f":"'w-E_Sp'!B32","v":"W5/02-Sport"},{"$f":"'w-E_Sp'!D32","v":0},{"$f":"'w-E_Sp'!F32","v":0},{"$f":"'w-E_Sp'!G32","v":0},null,{"$f":"RANK(K151,$K$126:$K245,0)","v":1},{"$f":"'m-E_Sp'!B32","v":"M5/02-Sport"},{"$f":"'m-E_Sp'!D32","v":0},{"$f":"'m-E_Sp'!F32","v":0},{"$f":"'m-E_Sp'!G32","v":0}]
[{"$f":"RANK(E152,$E$126:$E245,0)","v":1},{"$f":"'w-E_Sp'!B33","v":"W5/03-Sport"},{"$f":"'w-E_Sp'!D33","v":0},{"$f":"'w-E_Sp'!F33","v":0},{"$f":"'w-E_Sp'!G33","v":0},null,{"$f":"RANK(K152,$K$126:$K245,0)","v":1},{"$f":"'m-E_Sp'!B33","v":"M5/03-Sport"},{"$f":"'m-E_Sp'!D33","v":0},{"$f":"'m-E_Sp'!F33","v":0},{"$f":"'m-E_Sp'!G33","v":0}]
[{"$f":"RANK(E153,$E$126:$E245,0)","v":1},{"$f":"'w-E_Sp'!B34","v":"W5/04-Sport"},{"$f":"'w-E_Sp'!D34","v":0},{"$f":"'w-E_Sp'!F34","v":0},{"$f":"'w-E_Sp'!G34","v":0},null,{"$f":"RANK(K153,$K$126:$K245,0)","v":1},{"$f":"'m-E_Sp'!B34","v":"M5/04-Sport"},{"$f":"'m-E_Sp'!D34","v":0},{"$f":"'m-E_Sp'!F34","v":0},{"$f":"'m-E_Sp'!G34","v":0}]
[{"$f":"RANK(E154,$E$126:$E245,0)","v":1},{"$f":"'w-E_Sp'!B35","v":"W5/05-Sport"},{"$f":"'w-E_Sp'!D35","v":0},{"$f":"'w-E_Sp'!F35","v":0},{"$f":"'w-E_Sp'!G35","v":0},null,{"$f":"RANK(K154,$K$126:$K245,0)","v":1},{"$f":"'m-E_Sp'!B35","v":"M5/05-Sport"},{"$f":"'m-E_Sp'!D35","v":0},{"$f":"'m-E_Sp'!F35","v":0},{"$f":"'m-E_Sp'!G35","v":0}]
[{"$f":"RANK(E155,$E$126:$E245,0)","v":1},{"$f":"'w-E_Sp'!B36","v":"W5/06-Sport"},{"$f":"'w-E_Sp'!D36","v":0},{"$f":"'w-E_Sp'!F36","v":0},{"$f":"'w-E_Sp'!G36","v":0},null,{"$f":"RANK(K155,$K$126:$K245,0)","v":1},{"$f":"'m-E_Sp'!B36","v":"M5/06-Sport"},{"$f":"'m-E_Sp'!D36","v":0},{"$f":"'m-E_Sp'!F36","v":0},{"$f":"'m-E_Sp'!G36","v":0}]
[{"$f":"RANK(E156,$E$126:$E245,0)","v":1},{"$f":"'w-E_Sp'!B38","v":"W6/01-Sport"},{"$f":"'w-E_Sp'!D38","v":0},{"$f":"'w-E_Sp'!F38","v":0},{"$f":"'w-E_Sp'!G38","v":0},null,{"$f":"RANK(K156,$K$126:$K245,0)","v":1},{"$f":"'m-E_Sp'!B38","v":"M6/01-Sport"},{"$f":"'m-E_Sp'!D38","v":0},{"$f":"'m-E_Sp'!F38","v":0},{"$f":"'m-E_Sp'!G38","v":0}]
[{"$f":"RANK(E157,$E$126:$E245,0)","v":1},{"$f":"'w-E_Sp'!B39","v":"W6/02-Sport"},{"$f":"'w-E_Sp'!D39","v":0},{"$f":"'w-E_Sp'!F39","v":0},{"$f":"'w-E_Sp'!G39","v":0},null,{"$f":"RANK(K157,$K$126:$K245,0)","v":1},{"$f":"'m-E_Sp'!B39","v":"M6/02-Sport"},{"$f":"'m-E_Sp'!D39","v":0},{"$f":"'m-E_Sp'!F39","v":0},{"$f":"'m-E_Sp'!G39","v":0}]
[{"$f":"RANK(E158,$E$126:$E245,0)","v":1},{"$f":"'w-E_Sp'!B40","v":"W6/03-Sport"},{"$f":"'w-E_Sp'!D40","v":0},{"$f":"'w-E_Sp'!F40","v":0},{"$f":"'w-E_Sp'!G40","v":0},null,{"$f":"RANK(K158,$K$126:$K245,0)","v":1},{"$f":"'m-E_Sp'!B40","v":"M6/03-Sport"},{"$f":"'m-E_Sp'!D40","v":0},{"$f":"'m-E_Sp'!F40","v":0},{"$f":"'m-E_Sp'!G40","v":0}]
[{"$f":"RANK(E159,$E$126:$E245,0)","v":1},{"$f":"'w-E_Sp'!B41","v":"W6/04-Sport"},{"$f":"'w-E_Sp'!D41","v":0},{"$f":"'w-E_Sp'!F41","v":0},{"$f":"'w-E_Sp'!G41","v":0},null,{"$f":"RANK(K159,$K$126:$K245,0)","v":1},{"$f":"'m-E_Sp'!B41","v":"M6/04-Sport"},{"$f":"'m-E_Sp'!D41","v":0},{"$f":"'m-E_Sp'!F41","v":0},{"$f":"'m-E_Sp'!G41","v":0}]
[{"$f":"RANK(E160,$E$126:$E245,0)","v":1},{"$f":"'w-E_Sp'!B42","v":"W6/05-Sport"},{"$f":"'w-E_Sp'!D42","v":0},{"$f":"'w-E_Sp'!F42","v":0},{"$f":"'w-E_Sp'!G42","v":0},null,{"$f":"RANK(K160,$K$126:$K245,0)","v":1},{"$f":"'m-E_Sp'!B42","v":"M6/05-Sport"},{"$f":"'m-E_Sp'!D42","v":0},{"$f":"'m-E_Sp'!F42","v":0},{"$f":"'m-E_Sp'!G42","v":0}]
[{"$f":"RANK(E161,$E$126:$E245,0)","v":1},{"$f":"'w-E_Sp'!B43","v":"W6/06-Sport"},{"$f":"'w-E_Sp'!D43","v":0},{"$f":"'w-E_Sp'!F43","v":0},{"$f":"'w-E_Sp'!G43","v":0},null,{"$f":"RANK(K161,$K$126:$K245,0)","v":1},{"$f":"'m-E_Sp'!B43","v":"M6/06-Sport"},{"$f":"'m-E_Sp'!D43","v":0},{"$f":"'m-E_Sp'!F43","v":0},{"$f":"'m-E_Sp'!G43","v":0}]
[{"$f":"RANK(E162,$E$126:$E245,0)","v":1},{"$f":"'w-E_Sp'!B45","v":"W7/01-Sport"},{"$f":"'w-E_Sp'!D45","v":0},{"$f":"'w-E_Sp'!F45","v":0},{"$f":"'w-E_Sp'!G45","v":0},null,{"$f":"RANK(K162,$K$126:$K245,0)","v":1},{"$f":"'m-E_Sp'!B45","v":"M7/01-Sport"},{"$f":"'m-E_Sp'!D45","v":0},{"$f":"'m-E_Sp'!F45","v":0},{"$f":"'m-E_Sp'!G45","v":0}]
[{"$f":"RANK(E163,$E$126:$E245,0)","v":1},{"$f":"'w-E_Sp'!B46","v":"W7/02-Sport"},{"$f":"'w-E_Sp'!D46","v":0},{"$f":"'w-E_Sp'!F46","v":0},{"$f":"'w-E_Sp'!G46","v":0},null,{"$f":"RANK(K163,$K$126:$K245,0)","v":1},{"$f":"'m-E_Sp'!B46","v":"M7/02-Sport"},{"$f":"'m-E_Sp'!D46","v":0},{"$f":"'m-E_Sp'!F46","v":0},{"$f":"'m-E_Sp'!G46","v":0}]
[{"$f":"RANK(E164,$E$126:$E245,0)","v":1},{"$f":"'w-E_Sp'!B47","v":"W7/03-Sport"},{"$f":"'w-E_Sp'!D47","v":0},{"$f":"'w-E_Sp'!F47","v":0},{"$f":"'w-E_Sp'!G47","v":0},null,{"$f":"RANK(K164,$K$126:$K245,0)","v":1},{"$f":"'m-E_Sp'!B47","v":"M7/03-Sport"},{"$f":"'m-E_Sp'!D47","v":0},{"$f":"'m-E_Sp'!F47","v":0},{"$f":"'m-E_Sp'!G47","v":0}]
[{"$f":"RANK(E165,$E$126:$E245,0)","v":1},{"$f":"'w-E_Sp'!B48","v":"W7/04-Sport"},{"$f":"'w-E_Sp'!D48","v":0},{"$f":"'w-E_Sp'!F48","v":0},{"$f":"'w-E_Sp'!G48","v":0},null,{"$f":"RANK(K165,$K$126:$K245,0)","v":1},{"$f":"'m-E_Sp'!B48","v":"M7/04-Sport"},{"$f":"'m-E_Sp'!D48","v":0},{"$f":"'m-E_Sp'!F48","v":0},{"$f":"'m-E_Sp'!G48","v":0}]
[{"$f":"RANK(E166,$E$126:$E245,0)","v":1},{"$f":"'w-E_Sp'!B49","v":"W7/05-Sport"},{"$f":"'w-E_Sp'!D49","v":0},{"$f":"'w-E_Sp'!F49","v":0},{"$f":"'w-E_Sp'!G49","v":0},null,{"$f":"RANK(K166,$K$126:$K245,0)","v":1},{"$f":"'m-E_Sp'!B49","v":"M7/05-Sport"},{"$f":"'m-E_Sp'!D49","v":0},{"$f":"'m-E_Sp'!F49","v":0},{"$f":"'m-E_Sp'!G49","v":0}]
[{"$f":"RANK(E167,$E$126:$E245,0)","v":1},{"$f":"'w-E_Sp'!B50","v":"W7/06-Sport"},{"$f":"'w-E_Sp'!D50","v":0},{"$f":"'w-E_Sp'!F50","v":0},{"$f":"'w-E_Sp'!G50","v":0},null,{"$f":"RANK(K167,$K$126:$K245,0)","v":1},{"$f":"'m-E_Sp'!B50","v":"M7/06-Sport"},{"$f":"'m-E_Sp'!D50","v":0},{"$f":"'m-E_Sp'!F50","v":0},{"$f":"'m-E_Sp'!G50","v":0}]
[{"$f":"RANK(E168,$E$126:$E245,0)","v":1},{"$f":"'w-E_Sp'!B52","v":"W8/01-Sport"},{"$f":"'w-E_Sp'!D52","v":0},{"$f":"'w-E_Sp'!F52","v":0},{"$f":"'w-E_Sp'!G52","v":0},null,{"$f":"RANK(K168,$K$126:$K245,0)","v":1},{"$f":"'m-E_Sp'!B52","v":"M8/01-Sport"},{"$f":"'m-E_Sp'!D52","v":0},{"$f":"'m-E_Sp'!F52","v":0},{"$f":"'m-E_Sp'!G52","v":0}]
[{"$f":"RANK(E169,$E$126:$E245,0)","v":1},{"$f":"'w-E_Sp'!B53","v":"W8/02-Sport"},{"$f":"'w-E_Sp'!D53","v":0},{"$f":"'w-E_Sp'!F53","v":0},{"$f":"'w-E_Sp'!G53","v":0},null,{"$f":"RANK(K169,$K$126:$K245,0)","v":1},{"$f":"'m-E_Sp'!B53","v":"M8/02-Sport"},{"$f":"'m-E_Sp'!D53","v":0},{"$f":"'m-E_Sp'!F53","v":0},{"$f":"'m-E_Sp'!G53","v":0}]
[{"$f":"RANK(E170,$E$126:$E245,0)","v":1},{"$f":"'w-E_Sp'!B54","v":"W8/03-Sport"},{"$f":"'w-E_Sp'!D54","v":0},{"$f":"'w-E_Sp'!F54","v":0},{"$f":"'w-E_Sp'!G54","v":0},null,{"$f":"RANK(K170,$K$126:$K245,0)","v":1},{"$f":"'m-E_Sp'!B54","v":"M8/03-Sport"},{"$f":"'m-E_Sp'!D54","v":0},{"$f":"'m-E_Sp'!F54","v":0},{"$f":"'m-E_Sp'!G54","v":0}]
[{"$f":"RANK(E171,$E$126:$E245,0)","v":1},{"$f":"'w-E_Sp'!B55","v":"W8/04-Sport"},{"$f":"'w-E_Sp'!D55","v":0},{"$f":"'w-E_Sp'!F55","v":0},{"$f":"'w-E_Sp'!G55","v":0},null,{"$f":"RANK(K171,$K$126:$K245,0)","v":1},{"$f":"'m-E_Sp'!B55","v":"M8/04-Sport"},{"$f":"'m-E_Sp'!D55","v":0},{"$f":"'m-E_Sp'!F55","v":0},{"$f":"'m-E_Sp'!G55","v":0}]
[{"$f":"RANK(E172,$E$126:$E245,0)","v":1},{"$f":"'w-E_Sp'!B56","v":"W8/05-Sport"},{"$f":"'w-E_Sp'!D56","v":0},{"$f":"'w-E_Sp'!F56","v":0},{"$f":"'w-E_Sp'!G56","v":0},null,{"$f":"RANK(K172,$K$126:$K245,0)","v":1},{"$f":"'m-E_Sp'!B56","v":"M8/05-Sport"},{"$f":"'m-E_Sp'!D56","v":0},{"$f":"'m-E_Sp'!F56","v":0},{"$f":"'m-E_Sp'!G56","v":0}]
[{"$f":"RANK(E173,$E$126:$E245,0)","v":1},{"$f":"'w-E_Sp'!B57","v":"W8/06-Sport"},{"$f":"'w-E_Sp'!D57","v":0},{"$f":"'w-E_Sp'!F57","v":0},{"$f":"'w-E_Sp'!G57","v":0},null,{"$f":"RANK(K173,$K$126:$K245,0)","v":1},{"$f":"'m-E_Sp'!B57","v":"M8/06-Sport"},{"$f":"'m-E_Sp'!D57","v":0},{"$f":"'m-E_Sp'!F57","v":0},{"$f":"'m-E_Sp'!G57","v":0}]
[{"$f":"RANK(E174,$E$126:$E245,0)","v":1},{"$f":"'w-E_Sp'!B59","v":"W9/01-Sport"},{"$f":"'w-E_Sp'!D59","v":0},{"$f":"'w-E_Sp'!F59","v":0},{"$f":"'w-E_Sp'!G59","v":0},null,{"$f":"RANK(K174,$K$126:$K245,0)","v":1},{"$f":"'m-E_Sp'!B59","v":"M9/01-Sport"},{"$f":"'m-E_Sp'!D59","v":0},{"$f":"'m-E_Sp'!F59","v":0},{"$f":"'m-E_Sp'!G59","v":0}]
[{"$f":"RANK(E175,$E$126:$E245,0)","v":1},{"$f":"'w-E_Sp'!B60","v":"W9/02-Sport"},{"$f":"'w-E_Sp'!D60","v":0},{"$f":"'w-E_Sp'!F60","v":0},{"$f":"'w-E_Sp'!G60","v":0},null,{"$f":"RANK(K175,$K$126:$K245,0)","v":1},{"$f":"'m-E_Sp'!B60","v":"M9/02-Sport"},{"$f":"'m-E_Sp'!D60","v":0},{"$f":"'m-E_Sp'!F60","v":0},{"$f":"'m-E_Sp'!G60","v":0}]
[{"$f":"RANK(E176,$E$126:$E245,0)","v":1},{"$f":"'w-E_Sp'!B61","v":"W9/03-Sport"},{"$f":"'w-E_Sp'!D61","v":0},{"$f":"'w-E_Sp'!F61","v":0},{"$f":"'w-E_Sp'!G61","v":0},null,{"$f":"RANK(K176,$K$126:$K245,0)","v":1},{"$f":"'m-E_Sp'!B61","v":"M9/03-Sport"},{"$f":"'m-E_Sp'!D61","v":0},{"$f":"'m-E_Sp'!F61","v":0},{"$f":"'m-E_Sp'!G61","v":0}]
[{"$f":"RANK(E177,$E$126:$E245,0)","v":1},{"$f":"'w-E_Sp'!B62","v":"W9/04-Sport"},{"$f":"'w-E_Sp'!D62","v":0},{"$f":"'w-E_Sp'!F62","v":0},{"$f":"'w-E_Sp'!G62","v":0},null,{"$f":"RANK(K177,$K$126:$K245,0)","v":1},{"$f":"'m-E_Sp'!B62","v":"M9/04-Sport"},{"$f":"'m-E_Sp'!D62","v":0},{"$f":"'m-E_Sp'!F62","v":0},{"$f":"'m-E_Sp'!G62","v":0}]
[{"$f":"RANK(E178,$E$126:$E245,0)","v":1},{"$f":"'w-E_Sp'!B63","v":"W9/05-Sport"},{"$f":"'w-E_Sp'!D63","v":0},{"$f":"'w-E_Sp'!F63","v":0},{"$f":"'w-E_Sp'!G63","v":0},null,{"$f":"RANK(K178,$K$126:$K245,0)","v":1},{"$f":"'m-E_Sp'!B63","v":"M9/05-Sport"},{"$f":"'m-E_Sp'!D63","v":0},{"$f":"'m-E_Sp'!F63","v":0},{"$f":"'m-E_Sp'!G63","v":0}]
[{"$f":"RANK(E179,$E$126:$E245,0)","v":1},{"$f":"'w-E_Sp'!B64","v":"W9/06-Sport"},{"$f":"'w-E_Sp'!D64","v":0},{"$f":"'w-E_Sp'!F64","v":0},{"$f":"'w-E_Sp'!G64","v":0},null,{"$f":"RANK(K179,$K$126:$K245,0)","v":1},{"$f":"'m-E_Sp'!B64","v":"M9/06-Sport"},{"$f":"'m-E_Sp'!D64","v":0},{"$f":"'m-E_Sp'!F64","v":0},{"$f":"'m-E_Sp'!G64","v":0}]
[{"$f":"RANK(E180,$E$126:$E245,0)","v":1},{"$f":"'w-E_Sp'!B66","v":"W10/01-Sport"},{"$f":"'w-E_Sp'!D66","v":0},{"$f":"'w-E_Sp'!F66","v":0},{"$f":"'w-E_Sp'!G66","v":0},null,{"$f":"RANK(K180,$K$126:$K245,0)","v":1},{"$f":"'m-E_Sp'!B66","v":"M10/01-Sport"},{"$f":"'m-E_Sp'!D66","v":0},{"$f":"'m-E_Sp'!F66","v":0},{"$f":"'m-E_Sp'!G66","v":0}]
[{"$f":"RANK(E181,$E$126:$E245,0)","v":1},{"$f":"'w-E_Sp'!B67","v":"W10/02-Sport"},{"$f":"'w-E_Sp'!D67","v":0},{"$f":"'w-E_Sp'!F67","v":0},{"$f":"'w-E_Sp'!G67","v":0},null,{"$f":"RANK(K181,$K$126:$K245,0)","v":1},{"$f":"'m-E_Sp'!B67","v":"M10/02-Sport"},{"$f":"'m-E_Sp'!D67","v":0},{"$f":"'m-E_Sp'!F67","v":0},{"$f":"'m-E_Sp'!G67","v":0}]
[{"$f":"RANK(E182,$E$126:$E245,0)","v":1},{"$f":"'w-E_Sp'!B68","v":"W10/03-Sport"},{"$f":"'w-E_Sp'!D68","v":0},{"$f":"'w-E_Sp'!F68","v":0},{"$f":"'w-E_Sp'!G68","v":0},null,{"$f":"RANK(K182,$K$126:$K245,0)","v":1},{"$f":"'m-E_Sp'!B68","v":"M10/03-Sport"},{"$f":"'m-E_Sp'!D68","v":0},{"$f":"'m-E_Sp'!F68","v":0},{"$f":"'m-E_Sp'!G68","v":0}]
[{"$f":"RANK(E183,$E$126:$E245,0)","v":1},{"$f":"'w-E_Sp'!B69","v":"W10/04-Sport"},{"$f":"'w-E_Sp'!D69","v":0},{"$f":"'w-E_Sp'!F69","v":0},{"$f":"'w-E_Sp'!G69","v":0},null,{"$f":"RANK(K183,$K$126:$K245,0)","v":1},{"$f":"'m-E_Sp'!B69","v":"M10/04-Sport"},{"$f":"'m-E_Sp'!D69","v":0},{"$f":"'m-E_Sp'!F69","v":0},{"$f":"'m-E_Sp'!G69","v":0}]
[{"$f":"RANK(E184,$E$126:$E245,0)","v":1},{"$f":"'w-E_Sp'!B70","v":"W10/05-Sport"},{"$f":"'w-E_Sp'!D70","v":0},{"$f":"'w-E_Sp'!F70","v":0},{"$f":"'w-E_Sp'!G70","v":0},null,{"$f":"RANK(K184,$K$126:$K245,0)","v":1},{"$f":"'m-E_Sp'!B70","v":"M10/05-Sport"},{"$f":"'m-E_Sp'!D70","v":0},{"$f":"'m-E_Sp'!F70","v":0},{"$f":"'m-E_Sp'!G70","v":0}]
[{"$f":"RANK(E185,$E$126:$E245,0)","v":1},{"$f":"'w-E_Sp'!B71","v":"W10/06-Sport"},{"$f":"'w-E_Sp'!D71","v":0},{"$f":"'w-E_Sp'!F71","v":0},{"$f":"'w-E_Sp'!G71","v":0},null,{"$f":"RANK(K185,$K$126:$K245,0)","v":1},{"$f":"'m-E_Sp'!B71","v":"M10/06-Sport"},{"$f":"'m-E_Sp'!D71","v":0},{"$f":"'m-E_Sp'!F71","v":0},{"$f":"'m-E_Sp'!G71","v":0}]
[{"$f":"RANK(E186,$E$126:$E245,0)","v":1},{"$f":"'w-E_Sp'!B73","v":"W11/01-Sport"},{"$f":"'w-E_Sp'!D73","v":0},{"$f":"'w-E_Sp'!F73","v":0},{"$f":"'w-E_Sp'!G73","v":0},null,{"$f":"RANK(K186,$K$126:$K245,0)","v":1},{"$f":"'m-E_Sp'!B73","v":"M11/01-Sport"},{"$f":"'m-E_Sp'!D73","v":0},{"$f":"'m-E_Sp'!F73","v":0},{"$f":"'m-E_Sp'!G73","v":0}]
[{"$f":"RANK(E187,$E$126:$E245,0)","v":1},{"$f":"'w-E_Sp'!B74","v":"W11/02-Sport"},{"$f":"'w-E_Sp'!D74","v":0},{"$f":"'w-E_Sp'!F74","v":0},{"$f":"'w-E_Sp'!G74","v":0},null,{"$f":"RANK(K187,$K$126:$K245,0)","v":1},{"$f":"'m-E_Sp'!B74","v":"M11/02-Sport"},{"$f":"'m-E_Sp'!D74","v":0},{"$f":"'m-E_Sp'!F74","v":0},{"$f":"'m-E_Sp'!G74","v":0}]
[{"$f":"RANK(E188,$E$126:$E245,0)","v":1},{"$f":"'w-E_Sp'!B75","v":"W11/03-Sport"},{"$f":"'w-E_Sp'!D75","v":0},{"$f":"'w-E_Sp'!F75","v":0},{"$f":"'w-E_Sp'!G75","v":0},null,{"$f":"RANK(K188,$K$126:$K245,0)","v":1},{"$f":"'m-E_Sp'!B75","v":"M11/03-Sport"},{"$f":"'m-E_Sp'!D75","v":0},{"$f":"'m-E_Sp'!F75","v":0},{"$f":"'m-E_Sp'!G75","v":0}]
[{"$f":"RANK(E189,$E$126:$E245,0)","v":1},{"$f":"'w-E_Sp'!B76","v":"W11/04-Sport"},{"$f":"'w-E_Sp'!D76","v":0},{"$f":"'w-E_Sp'!F76","v":0},{"$f":"'w-E_Sp'!G76","v":0},null,{"$f":"RANK(K189,$K$126:$K245,0)","v":1},{"$f":"'m-E_Sp'!B76","v":"M11/04-Sport"},{"$f":"'m-E_Sp'!D76","v":0},{"$f":"'m-E_Sp'!F76","v":0},{"$f":"'m-E_Sp'!G76","v":0}]
[{"$f":"RANK(E190,$E$126:$E245,0)","v":1},{"$f":"'w-E_Sp'!B77","v":"W11/05-Sport"},{"$f":"'w-E_Sp'!D77","v":0},{"$f":"'w-E_Sp'!F77","v":0},{"$f":"'w-E_Sp'!G77","v":0},null,{"$f":"RANK(K190,$K$126:$K245,0)","v":1},{"$f":"'m-E_Sp'!B77","v":"M11/05-Sport"},{"$f":"'m-E_Sp'!D77","v":0},{"$f":"'m-E_Sp'!F77","v":0},{"$f":"'m-E_Sp'!G77","v":0}]
[{"$f":"RANK(E191,$E$126:$E245,0)","v":1},{"$f":"'w-E_Sp'!B78","v":"W11/06-Sport"},{"$f":"'w-E_Sp'!D78","v":0},{"$f":"'w-E_Sp'!F78","v":0},{"$f":"'w-E_Sp'!G78","v":0},null,{"$f":"RANK(K191,$K$126:$K245,0)","v":1},{"$f":"'m-E_Sp'!B78","v":"M11/06-Sport"},{"$f":"'m-E_Sp'!D78","v":0},{"$f":"'m-E_Sp'!F78","v":0},{"$f":"'m-E_Sp'!G78","v":0}]
[{"$f":"RANK(E192,$E$126:$E245,0)","v":1},{"$f":"'w-E_Sp'!B80","v":"W12/01-Sport"},{"$f":"'w-E_Sp'!D80","v":0},{"$f":"'w-E_Sp'!F80","v":0},{"$f":"'w-E_Sp'!G80","v":0},null,{"$f":"RANK(K192,$K$126:$K245,0)","v":1},{"$f":"'m-E_Sp'!B80","v":"M12/01-Sport"},{"$f":"'m-E_Sp'!D80","v":0},{"$f":"'m-E_Sp'!F80","v":0},{"$f":"'m-E_Sp'!G80","v":0}]
[{"$f":"RANK(E193,$E$126:$E245,0)","v":1},{"$f":"'w-E_Sp'!B81","v":"W12/02-Sport"},{"$f":"'w-E_Sp'!D81","v":0},{"$f":"'w-E_Sp'!F81","v":0},{"$f":"'w-E_Sp'!G81","v":0},null,{"$f":"RANK(K193,$K$126:$K245,0)","v":1},{"$f":"'m-E_Sp'!B81","v":"M12/02-Sport"},{"$f":"'m-E_Sp'!D81","v":0},{"$f":"'m-E_Sp'!F81","v":0},{"$f":"'m-E_Sp'!G81","v":0}]
[{"$f":"RANK(E194,$E$126:$E245,0)","v":1},{"$f":"'w-E_Sp'!B82","v":"W12/03-Sport"},{"$f":"'w-E_Sp'!D82","v":0},{"$f":"'w-E_Sp'!F82","v":0},{"$f":"'w-E_Sp'!G82","v":0},null,{"$f":"RANK(K194,$K$126:$K245,0)","v":1},{"$f":"'m-E_Sp'!B82","v":"M12/03-Sport"},{"$f":"'m-E_Sp'!D82","v":0},{"$f":"'m-E_Sp'!F82","v":0},{"$f":"'m-E_Sp'!G82","v":0}]
[{"$f":"RANK(E195,$E$126:$E245,0)","v":1},{"$f":"'w-E_Sp'!B83","v":"W12/04-Sport"},{"$f":"'w-E_Sp'!D83","v":0},{"$f":"'w-E_Sp'!F83","v":0},{"$f":"'w-E_Sp'!G83","v":0},null,{"$f":"RANK(K195,$K$126:$K245,0)","v":1},{"$f":"'m-E_Sp'!B83","v":"M12/04-Sport"},{"$f":"'m-E_Sp'!D83","v":0},{"$f":"'m-E_Sp'!F83","v":0},{"$f":"'m-E_Sp'!G83","v":0}]
[{"$f":"RANK(E196,$E$126:$E245,0)","v":1},{"$f":"'w-E_Sp'!B84","v":"W12/05-Sport"},{"$f":"'w-E_Sp'!D84","v":0},{"$f":"'w-E_Sp'!F84","v":0},{"$f":"'w-E_Sp'!G84","v":0},null,{"$f":"RANK(K196,$K$126:$K245,0)","v":1},{"$f":"'m-E_Sp'!B84","v":"M12/05-Sport"},{"$f":"'m-E_Sp'!D84","v":0},{"$f":"'m-E_Sp'!F84","v":0},{"$f":"'m-E_Sp'!G84","v":0}]
[{"$f":"RANK(E197,$E$126:$E245,0)","v":1},{"$f":"'w-E_Sp'!B85","v":"W12/06-Sport"},{"$f":"'w-E_Sp'!D85","v":0},{"$f":"'w-E_Sp'!F85","v":0},{"$f":"'w-E_Sp'!G85","v":0},null,{"$f":"RANK(K197,$K$126:$K245,0)","v":1},{"$f":"'m-E_Sp'!B85","v":"M12/06-Sport"},{"$f":"'m-E_Sp'!D85","v":0},{"$f":"'m-E_Sp'!F85","v":0},{"$f":"'m-E_Sp'!G85","v":0}]
[{"$f":"RANK(E198,$E$126:$E245,0)","v":1},{"$f":"'w-E_Sp'!B87","v":"W13/01-Sport"},{"$f":"'w-E_Sp'!D87","v":0},{"$f":"'w-E_Sp'!F87","v":0},{"$f":"'w-E_Sp'!G87","v":0},null,{"$f":"RANK(K198,$K$126:$K245,0)","v":1},{"$f":"'m-E_Sp'!B87","v":"M13/01-Sport"},{"$f":"'m-E_Sp'!D87","v":0},{"$f":"'m-E_Sp'!F87","v":0},{"$f":"'m-E_Sp'!G87","v":0}]
[{"$f":"RANK(E199,$E$126:$E245,0)","v":1},{"$f":"'w-E_Sp'!B88","v":"W13/02-Sport"},{"$f":"'w-E_Sp'!D88","v":0},{"$f":"'w-E_Sp'!F88","v":0},{"$f":"'w-E_Sp'!G88","v":0},null,{"$f":"RANK(K199,$K$126:$K245,0)","v":1},{"$f":"'m-E_Sp'!B88","v":"M13/02-Sport"},{"$f":"'m-E_Sp'!D88","v":0},{"$f":"'m-E_Sp'!F88","v":0},{"$f":"'m-E_Sp'!G88","v":0}]
[{"$f":"RANK(E200,$E$126:$E245,0)","v":1},{"$f":"'w-E_Sp'!B89","v":"W13/03-Sport"},{"$f":"'w-E_Sp'!D89","v":0},{"$f":"'w-E_Sp'!F89","v":0},{"$f":"'w-E_Sp'!G89","v":0},null,{"$f":"RANK(K200,$K$126:$K245,0)","v":1},{"$f":"'m-E_Sp'!B89","v":"M13/03-Sport"},{"$f":"'m-E_Sp'!D89","v":0},{"$f":"'m-E_Sp'!F89","v":0},{"$f":"'m-E_Sp'!G89","v":0}]
[{"$f":"RANK(E201,$E$126:$E245,0)","v":1},{"$f":"'w-E_Sp'!B90","v":"W13/04-Sport"},{"$f":"'w-E_Sp'!D90","v":0},{"$f":"'w-E_Sp'!F90","v":0},{"$f":"'w-E_Sp'!G90","v":0},null,{"$f":"RANK(K201,$K$126:$K245,0)","v":1},{"$f":"'m-E_Sp'!B90","v":"M13/04-Sport"},{"$f":"'m-E_Sp'!D90","v":0},{"$f":"'m-E_Sp'!F90","v":0},{"$f":"'m-E_Sp'!G90","v":0}]
[{"$f":"RANK(E202,$E$126:$E245,0)","v":1},{"$f":"'w-E_Sp'!B91","v":"W13/05-Sport"},{"$f":"'w-E_Sp'!D91","v":0},{"$f":"'w-E_Sp'!F91","v":0},{"$f":"'w-E_Sp'!G91","v":0},null,{"$f":"RANK(K202,$K$126:$K245,0)","v":1},{"$f":"'m-E_Sp'!B91","v":"M13/05-Sport"},{"$f":"'m-E_Sp'!D91","v":0},{"$f":"'m-E_Sp'!F91","v":0},{"$f":"'m-E_Sp'!G91","v":0}]
[{"$f":"RANK(E203,$E$126:$E245,0)","v":1},{"$f":"'w-E_Sp'!B92","v":"W13/06-Sport"},{"$f":"'w-E_Sp'!D92","v":0},{"$f":"'w-E_Sp'!F92","v":0},{"$f":"'w-E_Sp'!G92","v":0},null,{"$f":"RANK(K203,$K$126:$K245,0)","v":1},{"$f":"'m-E_Sp'!B92","v":"M13/06-Sport"},{"$f":"'m-E_Sp'!D92","v":0},{"$f":"'m-E_Sp'!F92","v":0},{"$f":"'m-E_Sp'!G92","v":0}]
[{"$f":"RANK(E204,$E$126:$E245,0)","v":1},{"$f":"'w-E_Sp'!B94","v":"W14/01-Sport"},{"$f":"'w-E_Sp'!D94","v":0},{"$f":"'w-E_Sp'!F94","v":0},{"$f":"'w-E_Sp'!G94","v":0},null,{"$f":"RANK(K204,$K$126:$K245,0)","v":1},{"$f":"'m-E_Sp'!B94","v":"M14/01-Sport"},{"$f":"'m-E_Sp'!D94","v":0},{"$f":"'m-E_Sp'!F94","v":0},{"$f":"'m-E_Sp'!G94","v":0}]
[{"$f":"RANK(E205,$E$126:$E245,0)","v":1},{"$f":"'w-E_Sp'!B95","v":"W14/02-Sport"},{"$f":"'w-E_Sp'!D95","v":0},{"$f":"'w-E_Sp'!F95","v":0},{"$f":"'w-E_Sp'!G95","v":0},null,{"$f":"RANK(K205,$K$126:$K245,0)","v":1},{"$f":"'m-E_Sp'!B95","v":"M14/02-Sport"},{"$f":"'m-E_Sp'!D95","v":0},{"$f":"'m-E_Sp'!F95","v":0},{"$f":"'m-E_Sp'!G95","v":0}]
[{"$f":"RANK(E206,$E$126:$E245,0)","v":1},{"$f":"'w-E_Sp'!B96","v":"W14/03-Sport"},{"$f":"'w-E_Sp'!D96","v":0},{"$f":"'w-E_Sp'!F96","v":0},{"$f":"'w-E_Sp'!G96","v":0},null,{"$f":"RANK(K206,$K$126:$K245,0)","v":1},{"$f":"'m-E_Sp'!B96","v":"M14/03-Sport"},{"$f":"'m-E_Sp'!D96","v":0},{"$f":"'m-E_Sp'!F96","v":0},{"$f":"'m-E_Sp'!G96","v":0}]
[{"$f":"RANK(E207,$E$126:$E245,0)","v":1},{"$f":"'w-E_Sp'!B97","v":"W14/04-Sport"},{"$f":"'w-E_Sp'!D97","v":0},{"$f":"'w-E_Sp'!F97","v":0},{"$f":"'w-E_Sp'!G97","v":0},null,{"$f":"RANK(K207,$K$126:$K245,0)","v":1},{"$f":"'m-E_Sp'!B97","v":"M14/04-Sport"},{"$f":"'m-E_Sp'!D97","v":0},{"$f":"'m-E_Sp'!F97","v":0},{"$f":"'m-E_Sp'!G97","v":0}]
[{"$f":"RANK(E208,$E$126:$E245,0)","v":1},{"$f":"'w-E_Sp'!B98","v":"W14/05-Sport"},{"$f":"'w-E_Sp'!D98","v":0},{"$f":"'w-E_Sp'!F98","v":0},{"$f":"'w-E_Sp'!G98","v":0},null,{"$f":"RANK(K208,$K$126:$K245,0)","v":1},{"$f":"'m-E_Sp'!B98","v":"M14/05-Sport"},{"$f":"'m-E_Sp'!D98","v":0},{"$f":"'m-E_Sp'!F98","v":0},{"$f":"'m-E_Sp'!G98","v":0}]
[{"$f":"RANK(E209,$E$126:$E245,0)","v":1},{"$f":"'w-E_Sp'!B99","v":"W14/06-Sport"},{"$f":"'w-E_Sp'!D99","v":0},{"$f":"'w-E_Sp'!F99","v":0},{"$f":"'w-E_Sp'!G99","v":0},null,{"$f":"RANK(K209,$K$126:$K245,0)","v":1},{"$f":"'m-E_Sp'!B99","v":"M14/06-Sport"},{"$f":"'m-E_Sp'!D99","v":0},{"$f":"'m-E_Sp'!F99","v":0},{"$f":"'m-E_Sp'!G99","v":0}]
[{"$f":"RANK(E210,$E$126:$E245,0)","v":1},{"$f":"'w-E_Sp'!B101","v":"W15/01-Sport"},{"$f":"'w-E_Sp'!D101","v":0},{"$f":"'w-E_Sp'!F101","v":0},{"$f":"'w-E_Sp'!G101","v":0},null,{"$f":"RANK(K210,$K$126:$K245,0)","v":1},{"$f":"'m-E_Sp'!B101","v":"M15/01-Sport"},{"$f":"'m-E_Sp'!D101","v":0},{"$f":"'m-E_Sp'!F101","v":0},{"$f":"'m-E_Sp'!G101","v":0}]
[{"$f":"RANK(E211,$E$126:$E245,0)","v":1},{"$f":"'w-E_Sp'!B102","v":"W15/02-Sport"},{"$f":"'w-E_Sp'!D102","v":0},{"$f":"'w-E_Sp'!F102","v":0},{"$f":"'w-E_Sp'!G102","v":0},null,{"$f":"RANK(K211,$K$126:$K245,0)","v":1},{"$f":"'m-E_Sp'!B102","v":"M15/02-Sport"},{"$f":"'m-E_Sp'!D102","v":0},{"$f":"'m-E_Sp'!F102","v":0},{"$f":"'m-E_Sp'!G102","v":0}]
[{"$f":"RANK(E212,$E$126:$E245,0)","v":1},{"$f":"'w-E_Sp'!B103","v":"W15/03-Sport"},{"$f":"'w-E_Sp'!D103","v":0},{"$f":"'w-E_Sp'!F103","v":0},{"$f":"'w-E_Sp'!G103","v":0},null,{"$f":"RANK(K212,$K$126:$K245,0)","v":1},{"$f":"'m-E_Sp'!B103","v":"M15/03-Sport"},{"$f":"'m-E_Sp'!D103","v":0},{"$f":"'m-E_Sp'!F103","v":0},{"$f":"'m-E_Sp'!G103","v":0}]
[{"$f":"RANK(E213,$E$126:$E245,0)","v":1},{"$f":"'w-E_Sp'!B104","v":"W15/04-Sport"},{"$f":"'w-E_Sp'!D104","v":0},{"$f":"'w-E_Sp'!F104","v":0},{"$f":"'w-E_Sp'!G104","v":0},null,{"$f":"RANK(K213,$K$126:$K245,0)","v":1},{"$f":"'m-E_Sp'!B104","v":"M15/04-Sport"},{"$f":"'m-E_Sp'!D104","v":0},{"$f":"'m-E_Sp'!F104","v":0},{"$f":"'m-E_Sp'!G104","v":0}]
[{"$f":"RANK(E214,$E$126:$E245,0)","v":1},{"$f":"'w-E_Sp'!B105","v":"W15/05-Sport"},{"$f":"'w-E_Sp'!D105","v":0},{"$f":"'w-E_Sp'!F105","v":0},{"$f":"'w-E_Sp'!G105","v":0},null,{"$f":"RANK(K214,$K$126:$K245,0)","v":1},{"$f":"'m-E_Sp'!B105","v":"M15/05-Sport"},{"$f":"'m-E_Sp'!D105","v":0},{"$f":"'m-E_Sp'!F105","v":0},{"$f":"'m-E_Sp'!G105","v":0}]
[{"$f":"RANK(E215,$E$126:$E245,0)","v":1},{"$f":"'w-E_Sp'!B106","v":"W15/06-Sport"},{"$f":"'w-E_Sp'!D106","v":0},{"$f":"'w-E_Sp'!F106","v":0},{"$f":"'w-E_Sp'!G106","v":0},null,{"$f":"RANK(K215,$K$126:$K245,0)","v":1},{"$f":"'m-E_Sp'!B106","v":"M15/06-Sport"},{"$f":"'m-E_Sp'!D106","v":0},{"$f":"'m-E_Sp'!F106","v":0},{"$f":"'m-E_Sp'!G106","v":0}]
[{"$f":"RANK(E216,$E$126:$E245,0)","v":1},{"$f":"'w-E_Sp'!B108","v":"W16/01-Sport"},{"$f":"'w-E_Sp'!D108","v":0},{"$f":"'w-E_Sp'!F108","v":0},{"$f":"'w-E_Sp'!G108","v":0},null,{"$f":"RANK(K216,$K$126:$K245,0)","v":1},{"$f":"'m-E_Sp'!B108","v":"M16/01-Sport"},{"$f":"'m-E_Sp'!D108","v":0},{"$f":"'m-E_Sp'!F108","v":0},{"$f":"'m-E_Sp'!G108","v":0}]
[{"$f":"RANK(E217,$E$126:$E245,0)","v":1},{"$f":"'w-E_Sp'!B109","v":"W16/02-Sport"},{"$f":"'w-E_Sp'!D109","v":0},{"$f":"'w-E_Sp'!F109","v":0},{"$f":"'w-E_Sp'!G109","v":0},null,{"$f":"RANK(K217,$K$126:$K245,0)","v":1},{"$f":"'m-E_Sp'!B109","v":"M16/02-Sport"},{"$f":"'m-E_Sp'!D109","v":0},{"$f":"'m-E_Sp'!F109","v":0},{"$f":"'m-E_Sp'!G109","v":0}]
[{"$f":"RANK(E218,$E$126:$E245,0)","v":1},{"$f":"'w-E_Sp'!B110","v":"W16/03-Sport"},{"$f":"'w-E_Sp'!D110","v":0},{"$f":"'w-E_Sp'!F110","v":0},{"$f":"'w-E_Sp'!G110","v":0},null,{"$f":"RANK(K218,$K$126:$K245,0)","v":1},{"$f":"'m-E_Sp'!B110","v":"M16/03-Sport"},{"$f":"'m-E_Sp'!D110","v":0},{"$f":"'m-E_Sp'!F110","v":0},{"$f":"'m-E_Sp'!G110","v":0}]
[{"$f":"RANK(E219,$E$126:$E245,0)","v":1},{"$f":"'w-E_Sp'!B111","v":"W16/04-Sport"},{"$f":"'w-E_Sp'!D111","v":0},{"$f":"'w-E_Sp'!F111","v":0},{"$f":"'w-E_Sp'!G111","v":0},null,{"$f":"RANK(K219,$K$126:$K245,0)","v":1},{"$f":"'m-E_Sp'!B111","v":"M16/04-Sport"},{"$f":"'m-E_Sp'!D111","v":0},{"$f":"'m-E_Sp'!F111","v":0},{"$f":"'m-E_Sp'!G111","v":0}]
[{"$f":"RANK(E220,$E$126:$E245,0)","v":1},{"$f":"'w-E_Sp'!B112","v":"W16/05-Sport"},{"$f":"'w-E_Sp'!D112","v":0},{"$f":"'w-E_Sp'!F112","v":0},{"$f":"'w-E_Sp'!G112","v":0},null,{"$f":"RANK(K220,$K$126:$K245,0)","v":1},{"$f":"'m-E_Sp'!B112","v":"M16/05-Sport"},{"$f":"'m-E_Sp'!D112","v":0},{"$f":"'m-E_Sp'!F112","v":0},{"$f":"'m-E_Sp'!G112","v":0}]
[{"$f":"RANK(E221,$E$126:$E245,0)","v":1},{"$f":"'w-E_Sp'!B113","v":"W16/06-Sport"},{"$f":"'w-E_Sp'!D113","v":0},{"$f":"'w-E_Sp'!F113","v":0},{"$f":"'w-E_Sp'!G113","v":0},null,{"$f":"RANK(K221,$K$126:$K245,0)","v":1},{"$f":"'m-E_Sp'!B113","v":"M16/06-Sport"},{"$f":"'m-E_Sp'!D113","v":0},{"$f":"'m-E_Sp'!F113","v":0},{"$f":"'m-E_Sp'!G113","v":0}]
[{"$f":"RANK(E222,$E$126:$E245,0)","v":1},{"$f":"'w-E_Sp'!B115","v":"W17/01-Sport"},{"$f":"'w-E_Sp'!D115","v":0},{"$f":"'w-E_Sp'!F115","v":0},{"$f":"'w-E_Sp'!G115","v":0},null,{"$f":"RANK(K222,$K$126:$K245,0)","v":1},{"$f":"'m-E_Sp'!B115","v":"M17/01-Sport"},{"$f":"'m-E_Sp'!D115","v":0},{"$f":"'m-E_Sp'!F115","v":0},{"$f":"'m-E_Sp'!G115","v":0}]
[{"$f":"RANK(E223,$E$126:$E245,0)","v":1},{"$f":"'w-E_Sp'!B116","v":"W17/02-Sport"},{"$f":"'w-E_Sp'!D116","v":0},{"$f":"'w-E_Sp'!F116","v":0},{"$f":"'w-E_Sp'!G116","v":0},null,{"$f":"RANK(K223,$K$126:$K245,0)","v":1},{"$f":"'m-E_Sp'!B116","v":"M17/02-Sport"},{"$f":"'m-E_Sp'!D116","v":0},{"$f":"'m-E_Sp'!F116","v":0},{"$f":"'m-E_Sp'!G116","v":0}]
[{"$f":"RANK(E224,$E$126:$E245,0)","v":1},{"$f":"'w-E_Sp'!B117","v":"W17/03-Sport"},{"$f":"'w-E_Sp'!D117","v":0},{"$f":"'w-E_Sp'!F117","v":0},{"$f":"'w-E_Sp'!G117","v":0},null,{"$f":"RANK(K224,$K$126:$K245,0)","v":1},{"$f":"'m-E_Sp'!B117","v":"M17/03-Sport"},{"$f":"'m-E_Sp'!D117","v":0},{"$f":"'m-E_Sp'!F117","v":0},{"$f":"'m-E_Sp'!G117","v":0}]
[{"$f":"RANK(E225,$E$126:$E245,0)","v":1},{"$f":"'w-E_Sp'!B118","v":"W17/04-Sport"},{"$f":"'w-E_Sp'!D118","v":0},{"$f":"'w-E_Sp'!F118","v":0},{"$f":"'w-E_Sp'!G118","v":0},null,{"$f":"RANK(K225,$K$126:$K245,0)","v":1},{"$f":"'m-E_Sp'!B118","v":"M17/04-Sport"},{"$f":"'m-E_Sp'!D118","v":0},{"$f":"'m-E_Sp'!F118","v":0},{"$f":"'m-E_Sp'!G118","v":0}]
[{"$f":"RANK(E226,$E$126:$E245,0)","v":1},{"$f":"'w-E_Sp'!B119","v":"W17/05-Sport"},{"$f":"'w-E_Sp'!D119","v":0},{"$f":"'w-E_Sp'!F119","v":0},{"$f":"'w-E_Sp'!G119","v":0},null,{"$f":"RANK(K226,$K$126:$K245,0)","v":1},{"$f":"'m-E_Sp'!B119","v":"M17/05-Sport"},{"$f":"'m-E_Sp'!D119","v":0},{"$f":"'m-E_Sp'!F119","v":0},{"$f":"'m-E_Sp'!G119","v":0}]
[{"$f":"RANK(E227,$E$126:$E245,0)","v":1},{"$f":"'w-E_Sp'!B120","v":"W17/06-Sport"},{"$f":"'w-E_Sp'!D120","v":0},{"$f":"'w-E_Sp'!F120","v":0},{"$f":"'w-E_Sp'!G120","v":0},null,{"$f":"RANK(K227,$K$126:$K245,0)","v":1},{"$f":"'m-E_Sp'!B120","v":"M17/06-Sport"},{"$f":"'m-E_Sp'!D120","v":0},{"$f":"'m-E_Sp'!F120","v":0},{"$f":"'m-E_Sp'!G120","v":0}]
[{"$f":"RANK(E228,$E$126:$E245,0)","v":1},{"$f":"'w-E_Sp'!B122","v":"W18/01-Sport"},{"$f":"'w-E_Sp'!D122","v":0},{"$f":"'w-E_Sp'!F122","v":0},{"$f":"'w-E_Sp'!G122","v":0},null,{"$f":"RANK(K228,$K$126:$K245,0)","v":1},{"$f":"'m-E_Sp'!B122","v":"M18/01-Sport"},{"$f":"'m-E_Sp'!D122","v":0},{"$f":"'m-E_Sp'!F122","v":0},{"$f":"'m-E_Sp'!G122","v":0}]
[{"$f":"RANK(E229,$E$126:$E245,0)","v":1},{"$f":"'w-E_Sp'!B123","v":"W18/02-Sport"},{"$f":"'w-E_Sp'!D123","v":0},{"$f":"'w-E_Sp'!F123","v":0},{"$f":"'w-E_Sp'!G123","v":0},null,{"$f":"RANK(K229,$K$126:$K245,0)","v":1},{"$f":"'m-E_Sp'!B123","v":"M18/02-Sport"},{"$f":"'m-E_Sp'!D123","v":0},{"$f":"'m-E_Sp'!F123","v":0},{"$f":"'m-E_Sp'!G123","v":0}]
[{"$f":"RANK(E230,$E$126:$E245,0)","v":1},{"$f":"'w-E_Sp'!B124","v":"W18/03-Sport"},{"$f":"'w-E_Sp'!D124","v":0},{"$f":"'w-E_Sp'!F124","v":0},{"$f":"'w-E_Sp'!G124","v":0},null,{"$f":"RANK(K230,$K$126:$K245,0)","v":1},{"$f":"'m-E_Sp'!B124","v":"M18/03-Sport"},{"$f":"'m-E_Sp'!D124","v":0},{"$f":"'m-E_Sp'!F124","v":0},{"$f":"'m-E_Sp'!G124","v":0}]
[{"$f":"RANK(E231,$E$126:$E245,0)","v":1},{"$f":"'w-E_Sp'!B125","v":"W18/04-Sport"},{"$f":"'w-E_Sp'!D125","v":0},{"$f":"'w-E_Sp'!F125","v":0},{"$f":"'w-E_Sp'!G125","v":0},null,{"$f":"RANK(K231,$K$126:$K245,0)","v":1},{"$f":"'m-E_Sp'!B125","v":"M18/04-Sport"},{"$f":"'m-E_Sp'!D125","v":0},{"$f":"'m-E_Sp'!F125","v":0},{"$f":"'m-E_Sp'!G125","v":0}]
[{"$f":"RANK(E232,$E$126:$E245,0)","v":1},{"$f":"'w-E_Sp'!B126","v":"W18/05-Sport"},{"$f":"'w-E_Sp'!D126","v":0},{"$f":"'w-E_Sp'!F126","v":0},{"$f":"'w-E_Sp'!G126","v":0},null,{"$f":"RANK(K232,$K$126:$K245,0)","v":1},{"$f":"'m-E_Sp'!B126","v":"M18/05-Sport"},{"$f":"'m-E_Sp'!D126","v":0},{"$f":"'m-E_Sp'!F126","v":0},{"$f":"'m-E_Sp'!G126","v":0}]
[{"$f":"RANK(E233,$E$126:$E245,0)","v":1},{"$f":"'w-E_Sp'!B127","v":"W18/06-Sport"},{"$f":"'w-E_Sp'!D127","v":0},{"$f":"'w-E_Sp'!F127","v":0},{"$f":"'w-E_Sp'!G127","v":0},null,{"$f":"RANK(K233,$K$126:$K245,0)","v":1},{"$f":"'m-E_Sp'!B127","v":"M18/06-Sport"},{"$f":"'m-E_Sp'!D127","v":0},{"$f":"'m-E_Sp'!F127","v":0},{"$f":"'m-E_Sp'!G127","v":0}]
[{"$f":"RANK(E234,$E$126:$E245,0)","v":1},{"$f":"'w-E_Sp'!B129","v":"W19/01-Sport"},{"$f":"'w-E_Sp'!D129","v":0},{"$f":"'w-E_Sp'!F129","v":0},{"$f":"'w-E_Sp'!G129","v":0},null,{"$f":"RANK(K234,$K$126:$K245,0)","v":1},{"$f":"'m-E_Sp'!B129","v":"M19/01-Sport"},{"$f":"'m-E_Sp'!D129","v":0},{"$f":"'m-E_Sp'!F129","v":0},{"$f":"'m-E_Sp'!G129","v":0}]
[{"$f":"RANK(E235,$E$126:$E245,0)","v":1},{"$f":"'w-E_Sp'!B130","v":"W19/02-Sport"},{"$f":"'w-E_Sp'!D130","v":0},{"$f":"'w-E_Sp'!F130","v":0},{"$f":"'w-E_Sp'!G130","v":0},null,{"$f":"RANK(K235,$K$126:$K245,0)","v":1},{"$f":"'m-E_Sp'!B130","v":"M19/02-Sport"},{"$f":"'m-E_Sp'!D130","v":0},{"$f":"'m-E_Sp'!F130","v":0},{"$f":"'m-E_Sp'!G130","v":0}]
[{"$f":"RANK(E236,$E$126:$E245,0)","v":1},{"$f":"'w-E_Sp'!B131","v":"W19/03-Sport"},{"$f":"'w-E_Sp'!D131","v":0},{"$f":"'w-E_Sp'!F131","v":0},{"$f":"'w-E_Sp'!G131","v":0},null,{"$f":"RANK(K236,$K$126:$K245,0)","v":1},{"$f":"'m-E_Sp'!B131","v":"M19/03-Sport"},{"$f":"'m-E_Sp'!D131","v":0},{"$f":"'m-E_Sp'!F131","v":0},{"$f":"'m-E_Sp'!G131","v":0}]
[{"$f":"RANK(E237,$E$126:$E245,0)","v":1},{"$f":"'w-E_Sp'!B132","v":"W19/04-Sport"},{"$f":"'w-E_Sp'!D132","v":0},{"$f":"'w-E_Sp'!F132","v":0},{"$f":"'w-E_Sp'!G132","v":0},null,{"$f":"RANK(K237,$K$126:$K245,0)","v":1},{"$f":"'m-E_Sp'!B132","v":"M19/04-Sport"},{"$f":"'m-E_Sp'!D132","v":0},{"$f":"'m-E_Sp'!F132","v":0},{"$f":"'m-E_Sp'!G132","v":0}]
[{"$f":"RANK(E238,$E$126:$E245,0)","v":1},{"$f":"'w-E_Sp'!B133","v":"W19/05-Sport"},{"$f":"'w-E_Sp'!D133","v":0},{"$f":"'w-E_Sp'!F133","v":0},{"$f":"'w-E_Sp'!G133","v":0},null,{"$f":"RANK(K238,$K$126:$K245,0)","v":1},{"$f":"'m-E_Sp'!B133","v":"M19/05-Sport"},{"$f":"'m-E_Sp'!D133","v":0},{"$f":"'m-E_Sp'!F133","v":0},{"$f":"'m-E_Sp'!G133","v":0}]
[{"$f":"RANK(E239,$E$126:$E245,0)","v":1},{"$f":"'w-E_Sp'!B134","v":"W19/06-Sport"},{"$f":"'w-E_Sp'!D134","v":0},{"$f":"'w-E_Sp'!F134","v":0},{"$f":"'w-E_Sp'!G134","v":0},null,{"$f":"RANK(K239,$K$126:$K245,0)","v":1},{"$f":"'m-E_Sp'!B134","v":"M19/06-Sport"},{"$f":"'m-E_Sp'!D134","v":0},{"$f":"'m-E_Sp'!F134","v":0},{"$f":"'m-E_Sp'!G134","v":0}]
[{"$f":"RANK(E240,$E$126:$E245,0)","v":1},{"$f":"'w-E_Sp'!B136","v":"W20/01-Sport"},{"$f":"'w-E_Sp'!D136","v":0},{"$f":"'w-E_Sp'!F136","v":0},{"$f":"'w-E_Sp'!G136","v":0},null,{"$f":"RANK(K240,$K$126:$K245,0)","v":1},{"$f":"'m-E_Sp'!B136","v":"M20/01-Sport"},{"$f":"'m-E_Sp'!D136","v":0},{"$f":"'m-E_Sp'!F136","v":0},{"$f":"'m-E_Sp'!G136","v":0}]
[{"$f":"RANK(E241,$E$126:$E245,0)","v":1},{"$f":"'w-E_Sp'!B137","v":"W20/02-Sport"},{"$f":"'w-E_Sp'!D137","v":0},{"$f":"'w-E_Sp'!F137","v":0},{"$f":"'w-E_Sp'!G137","v":0},null,{"$f":"RANK(K241,$K$126:$K245,0)","v":1},{"$f":"'m-E_Sp'!B137","v":"M20/02-Sport"},{"$f":"'m-E_Sp'!D137","v":0},{"$f":"'m-E_Sp'!F137","v":0},{"$f":"'m-E_Sp'!G137","v":0}]
[{"$f":"RANK(E242,$E$126:$E245,0)","v":1},{"$f":"'w-E_Sp'!B138","v":"W20/03-Sport"},{"$f":"'w-E_Sp'!D138","v":0},{"$f":"'w-E_Sp'!F138","v":0},{"$f":"'w-E_Sp'!G138","v":0},null,{"$f":"RANK(K242,$K$126:$K245,0)","v":1},{"$f":"'m-E_Sp'!B138","v":"M20/03-Sport"},{"$f":"'m-E_Sp'!D138","v":0},{"$f":"'m-E_Sp'!F138","v":0},{"$f":"'m-E_Sp'!G138","v":0}]
[{"$f":"RANK(E243,$E$126:$E245,0)","v":1},{"$f":"'w-E_Sp'!B139","v":"W20/04-Sport"},{"$f":"'w-E_Sp'!D139","v":0},{"$f":"'w-E_Sp'!F139","v":0},{"$f":"'w-E_Sp'!G139","v":0},null,{"$f":"RANK(K243,$K$126:$K245,0)","v":1},{"$f":"'m-E_Sp'!B139","v":"M20/04-Sport"},{"$f":"'m-E_Sp'!D139","v":0},{"$f":"'m-E_Sp'!F139","v":0},{"$f":"'m-E_Sp'!G139","v":0}]
[{"$f":"RANK(E244,$E$126:$E245,0)","v":1},{"$f":"'w-E_Sp'!B140","v":"W20/05-Sport"},{"$f":"'w-E_Sp'!D140","v":0},{"$f":"'w-E_Sp'!F140","v":0},{"$f":"'w-E_Sp'!G140","v":0},null,{"$f":"RANK(K244,$K$126:$K245,0)","v":1},{"$f":"'m-E_Sp'!B140","v":"M20/05-Sport"},{"$f":"'m-E_Sp'!D140","v":0},{"$f":"'m-E_Sp'!F140","v":0},{"$f":"'m-E_Sp'!G140","v":0}]
[{"$f":"RANK(E245,$E$126:$E245,0)","v":1},{"$f":"'w-E_Sp'!B141","v":"W20/06-Sport"},{"$f":"'w-E_Sp'!D141","v":0},{"$f":"'w-E_Sp'!F141","v":0},{"$f":"'w-E_Sp'!G141","v":0},null,{"$f":"RANK(K245,$K$126:$K245,0)","v":1},{"$f":"'m-E_Sp'!B141","v":"M20/06-Sport"},{"$f":"'m-E_Sp'!D141","v":0},{"$f":"'m-E_Sp'!F141","v":0},{"$f":"'m-E_Sp'!G141","v":0}]
["Einzelwertung 60 m Weiblich",null,{"$f":"'w-E_Sp'!C1","v":"D-C/Sport-Schwerpunkt"},{"$f":"'w-E_Sp'!E1","v":"Ortsangabe,Datum"},null,null,"Einzelwertung 60 m Männlich",null,{"$f":"'m-E_Sp'!C1","v":"D-C/Sport-Schwerpunkt"},{"$f":"'m-E_Sp'!E1","v":"Ortsangabe,Datum"}]

{"sheet":"Ez-Schlagball","index":21,"n_rows":246,"n_cols":11,"rows_kept":246,"cut":false,"hidden":false,"merged":[[245,0,245,1],[245,6,245,7],[123,9,123,10],[0,0,0,1],[0,3,0,4],[0,6,0,7],[0,9,0,10],[123,0,123,1],[123,3,123,4],[123,6,123,7],[122,0,122,1],[122,6,122,7],[122,3,122,4],[245,3,245,4],[122,9,122,10],[245,9,245,10]]}
["Einzelwertung Schlagball",null,{"$f":"'w-E_R'!C1","v":"D-C/Regel-Schulen"},{"$f":"'w-E_R'!E1","v":"Ortsangabe,Datum"},null,null,"Einzelwertung Schlagball",null,{"$f":"'m-E_R'!C1","v":"D-C/Regel-Schulen"},{"$f":"'m-E_R'!E1","v":"Ortsangabe,Datum"}]
["Rang","WEIBLICH","Schule:","Leistung","Punkte",null,"Rang","MÄNNLICH","Schule:","Leistung","Punkte"]
[{"$f":"RANK(E3,$E$3:$E$122,0)","v":1},{"$f":"'w-E_R'!B3","v":"W1/01-Regel"},{"$f":"'w-E_R'!D3","v":0},{"$f":"'w-E_R'!H3","v":0},{"$f":"'w-E_R'!I3","v":0},null,{"$f":"RANK(K3,$K$3:$K$122,0)","v":1},{"$f":"'m-E_R'!B3","v":"M1/01-Regel"},{"$f":"'m-E_R'!D3","v":0},{"$f":"'m-E_R'!H3","v":0},{"$f":"'m-E_R'!I3","v":0}]
[1,{"$f":"'w-E_R'!B4","v":"W1/02-Regel"},{"$f":"'w-E_R'!D4","v":0},{"$f":"'w-E_R'!H4","v":0},{"$f":"'w-E_R'!I4","v":0},null,1,{"$f":"'m-E_R'!B4","v":"M1/02-Regel"},{"$f":"'m-E_R'!D4","v":0},{"$f":"'m-E_R'!H4","v":0},{"$f":"'m-E_R'!I4","v":0}]
[1,{"$f":"'w-E_R'!B5","v":"W1/03-Regel"},{"$f":"'w-E_R'!D5","v":0},{"$f":"'w-E_R'!H5","v":0},{"$f":"'w-E_R'!I5","v":0},null,1,{"$f":"'m-E_R'!B5","v":"M1/03-Regel"},{"$f":"'m-E_R'!D5","v":0},{"$f":"'m-E_R'!H5","v":0},{"$f":"'m-E_R'!I5","v":0}]
[1,{"$f":"'w-E_R'!B6","v":"W1/04-Regel"},{"$f":"'w-E_R'!D6","v":0},{"$f":"'w-E_R'!H6","v":0},{"$f":"'w-E_R'!I6","v":0},null,1,{"$f":"'m-E_R'!B6","v":"M1/04-Regel"},{"$f":"'m-E_R'!D6","v":0},{"$f":"'m-E_R'!H6","v":0},{"$f":"'m-E_R'!I6","v":0}]
[1,{"$f":"'w-E_R'!B7","v":"W1/05-Regel"},{"$f":"'w-E_R'!D7","v":0},{"$f":"'w-E_R'!H7","v":0},{"$f":"'w-E_R'!I7","v":0},null,1,{"$f":"'m-E_R'!B7","v":"M1/05-Regel"},{"$f":"'m-E_R'!D7","v":0},{"$f":"'m-E_R'!H7","v":0},{"$f":"'m-E_R'!I7","v":0}]
[1,{"$f":"'w-E_R'!B8","v":"W1/06-Regel"},{"$f":"'w-E_R'!D8","v":0},{"$f":"'w-E_R'!H8","v":0},{"$f":"'w-E_R'!I8","v":0},null,1,{"$f":"'m-E_R'!B8","v":"M1/06-Regel"},{"$f":"'m-E_R'!D8","v":0},{"$f":"'m-E_R'!H8","v":0},{"$f":"'m-E_R'!I8","v":0}]
[1,{"$f":"'w-E_R'!B10","v":"W2/01-Regel"},{"$f":"'w-E_R'!D10","v":0},{"$f":"'w-E_R'!H10","v":0},{"$f":"'w-E_R'!I10","v":0},null,1,{"$f":"'m-E_R'!B10","v":"M2/01-Regel"},{"$f":"'m-E_R'!D10","v":0},{"$f":"'m-E_R'!H10","v":0},{"$f":"'m-E_R'!I10","v":0}]
[1,{"$f":"'w-E_R'!B11","v":"W2/02-Regel"},{"$f":"'w-E_R'!D11","v":0},{"$f":"'w-E_R'!H11","v":0},{"$f":"'w-E_R'!I11","v":0},null,1,{"$f":"'m-E_R'!B11","v":"M2/02-Regel"},{"$f":"'m-E_R'!D11","v":0},{"$f":"'m-E_R'!H11","v":0},{"$f":"'m-E_R'!I11","v":0}]
[1,{"$f":"'w-E_R'!B12","v":"W2/03-Regel"},{"$f":"'w-E_R'!D12","v":0},{"$f":"'w-E_R'!H12","v":0},{"$f":"'w-E_R'!I12","v":0},null,1,{"$f":"'m-E_R'!B12","v":"M2/03-Regel"},{"$f":"'m-E_R'!D12","v":0},{"$f":"'m-E_R'!H12","v":0},{"$f":"'m-E_R'!I12","v":0}]
[1,{"$f":"'w-E_R'!B13","v":"W2/04-Regel"},{"$f":"'w-E_R'!D13","v":0},{"$f":"'w-E_R'!H13","v":0},{"$f":"'w-E_R'!I13","v":0},null,1,{"$f":"'m-E_R'!B13","v":"M2/04-Regel"},{"$f":"'m-E_R'!D13","v":0},{"$f":"'m-E_R'!H13","v":0},{"$f":"'m-E_R'!I13","v":0}]
[1,{"$f":"'w-E_R'!B14","v":"W2/05-Regel"},{"$f":"'w-E_R'!D14","v":0},{"$f":"'w-E_R'!H14","v":0},{"$f":"'w-E_R'!I14","v":0},null,1,{"$f":"'m-E_R'!B14","v":"M2/05-Regel"},{"$f":"'m-E_R'!D14","v":0},{"$f":"'m-E_R'!H14","v":0},{"$f":"'m-E_R'!I14","v":0}]
[1,{"$f":"'w-E_R'!B15","v":"W2/06-Regel"},{"$f":"'w-E_R'!D15","v":0},{"$f":"'w-E_R'!H15","v":0},{"$f":"'w-E_R'!I15","v":0},null,1,{"$f":"'m-E_R'!B15","v":"M2/06-Regel"},{"$f":"'m-E_R'!D15","v":0},{"$f":"'m-E_R'!H15","v":0},{"$f":"'m-E_R'!I15","v":0}]
[1,{"$f":"'w-E_R'!B17","v":"W3/01-Regel"},{"$f":"'w-E_R'!D17","v":0},{"$f":"'w-E_R'!H17","v":0},{"$f":"'w-E_R'!I17","v":0},null,1,{"$f":"'m-E_R'!B17","v":"M3/01-Regel"},{"$f":"'m-E_R'!D17","v":0},{"$f":"'m-E_R'!H17","v":0},{"$f":"'m-E_R'!I17","v":0}]
[1,{"$f":"'w-E_R'!B18","v":"W3/02-Regel"},{"$f":"'w-E_R'!D18","v":0},{"$f":"'w-E_R'!H18","v":0},{"$f":"'w-E_R'!I18","v":0},null,1,{"$f":"'m-E_R'!B18","v":"M3/02-Regel"},{"$f":"'m-E_R'!D18","v":0},{"$f":"'m-E_R'!H18","v":0},{"$f":"'m-E_R'!I18","v":0}]
[1,{"$f":"'w-E_R'!B19","v":"W3/03-Regel"},{"$f":"'w-E_R'!D19","v":0},{"$f":"'w-E_R'!H19","v":0},{"$f":"'w-E_R'!I19","v":0},null,1,{"$f":"'m-E_R'!B19","v":"M3/03-Regel"},{"$f":"'m-E_R'!D19","v":0},{"$f":"'m-E_R'!H19","v":0},{"$f":"'m-E_R'!I19","v":0}]
[1,{"$f":"'w-E_R'!B20","v":"W3/04-Regel"},{"$f":"'w-E_R'!D20","v":0},{"$f":"'w-E_R'!H20","v":0},{"$f":"'w-E_R'!I20","v":0},null,1,{"$f":"'m-E_R'!B20","v":"M3/04-Regel"},{"$f":"'m-E_R'!D20","v":0},{"$f":"'m-E_R'!H20","v":0},{"$f":"'m-E_R'!I20","v":0}]
[1,{"$f":"'w-E_R'!B21","v":"W3/05-Regel"},{"$f":"'w-E_R'!D21","v":0},{"$f":"'w-E_R'!H21","v":0},{"$f":"'w-E_R'!I21","v":0},null,1,{"$f":"'m-E_R'!B21","v":"M3/05-Regel"},{"$f":"'m-E_R'!D21","v":0},{"$f":"'m-E_R'!H21","v":0},{"$f":"'m-E_R'!I21","v":0}]
[1,{"$f":"'w-E_R'!B22","v":"W3/06-Regel"},{"$f":"'w-E_R'!D22","v":0},{"$f":"'w-E_R'!H22","v":0},{"$f":"'w-E_R'!I22","v":0},null,1,{"$f":"'m-E_R'!B22","v":"M3/06-Regel"},{"$f":"'m-E_R'!D22","v":0},{"$f":"'m-E_R'!H22","v":0},{"$f":"'m-E_R'!I22","v":0}]
[1,{"$f":"'w-E_R'!B24","v":"W4/01-Regel"},{"$f":"'w-E_R'!D24","v":0},{"$f":"'w-E_R'!H24","v":0},{"$f":"'w-E_R'!I24","v":0},null,1,{"$f":"'m-E_R'!B24","v":"M4/01-Regel"},{"$f":"'m-E_R'!D24","v":0},{"$f":"'m-E_R'!H24","v":0},{"$f":"'m-E_R'!I24","v":0}]
[1,{"$f":"'w-E_R'!B25","v":"W4/02-Regel"},{"$f":"'w-E_R'!D25","v":0},{"$f":"'w-E_R'!H25","v":0},{"$f":"'w-E_R'!I25","v":0},null,1,{"$f":"'m-E_R'!B25","v":"M4/02-Regel"},{"$f":"'m-E_R'!D25","v":0},{"$f":"'m-E_R'!H25","v":0},{"$f":"'m-E_R'!I25","v":0}]
[1,{"$f":"'w-E_R'!B26","v":"W4/03-Regel"},{"$f":"'w-E_R'!D26","v":0},{"$f":"'w-E_R'!H26","v":0},{"$f":"'w-E_R'!I26","v":0},null,1,{"$f":"'m-E_R'!B26","v":"M4/03-Regel"},{"$f":"'m-E_R'!D26","v":0},{"$f":"'m-E_R'!H26","v":0},{"$f":"'m-E_R'!I26","v":0}]
[1,{"$f":"'w-E_R'!B27","v":"W4/04-Regel"},{"$f":"'w-E_R'!D27","v":0},{"$f":"'w-E_R'!H27","v":0},{"$f":"'w-E_R'!I27","v":0},null,1,{"$f":"'m-E_R'!B27","v":"M4/04-Regel"},{"$f":"'m-E_R'!D27","v":0},{"$f":"'m-E_R'!H27","v":0},{"$f":"'m-E_R'!I27","v":0}]
[1,{"$f":"'w-E_R'!B28","v":"W4/05-Regel"},{"$f":"'w-E_R'!D28","v":0},{"$f":"'w-E_R'!H28","v":0},{"$f":"'w-E_R'!I28","v":0},null,1,{"$f":"'m-E_R'!B28","v":"M4/05-Regel"},{"$f":"'m-E_R'!D28","v":0},{"$f":"'m-E_R'!H28","v":0},{"$f":"'m-E_R'!I28","v":0}]
[1,{"$f":"'w-E_R'!B29","v":"W4/06-Regel"},{"$f":"'w-E_R'!D29","v":0},{"$f":"'w-E_R'!H29","v":0},{"$f":"'w-E_R'!I29","v":0},null,1,{"$f":"'m-E_R'!B29","v":"M4/06-Regel"},{"$f":"'m-E_R'!D29","v":0},{"$f":"'m-E_R'!H29","v":0},{"$f":"'m-E_R'!I29","v":0}]
[1,{"$f":"'w-E_R'!B31","v":"W5/01-Regel"},{"$f":"'w-E_R'!D31","v":0},{"$f":"'w-E_R'!H31","v":0},{"$f":"'w-E_R'!I31","v":0},null,1,{"$f":"'m-E_R'!B31","v":"M5/01-Regel"},{"$f":"'m-E_R'!D31","v":0},{"$f":"'m-E_R'!H31","v":0},{"$f":"'m-E_R'!I31","v":0}]
[1,{"$f":"'w-E_R'!B32","v":"W5/02-Regel"},{"$f":"'w-E_R'!D32","v":0},{"$f":"'w-E_R'!H32","v":0},{"$f":"'w-E_R'!I32","v":0},null,1,{"$f":"'m-E_R'!B32","v":"M5/02-Regel"},{"$f":"'m-E_R'!D32","v":0},{"$f":"'m-E_R'!H32","v":0},{"$f":"'m-E_R'!I32","v":0}]
[1,{"$f":"'w-E_R'!B33","v":"W5/03-Regel"},{"$f":"'w-E_R'!D33","v":0},{"$f":"'w-E_R'!H33","v":0},{"$f":"'w-E_R'!I33","v":0},null,1,{"$f":"'m-E_R'!B33","v":"M5/03-Regel"},{"$f":"'m-E_R'!D33","v":0},{"$f":"'m-E_R'!H33","v":0},{"$f":"'m-E_R'!I33","v":0}]
[1,{"$f":"'w-E_R'!B34","v":"W5/04-Regel"},{"$f":"'w-E_R'!D34","v":0},{"$f":"'w-E_R'!H34","v":0},{"$f":"'w-E_R'!I34","v":0},null,1,{"$f":"'m-E_R'!B34","v":"M5/04-Regel"},{"$f":"'m-E_R'!D34","v":0},{"$f":"'m-E_R'!H34","v":0},{"$f":"'m-E_R'!I34","v":0}]
[1,{"$f":"'w-E_R'!B35","v":"W5/05-Regel"},{"$f":"'w-E_R'!D35","v":0},{"$f":"'w-E_R'!H35","v":0},{"$f":"'w-E_R'!I35","v":0},null,1,{"$f":"'m-E_R'!B35","v":"M5/05-Regel"},{"$f":"'m-E_R'!D35","v":0},{"$f":"'m-E_R'!H35","v":0},{"$f":"'m-E_R'!I35","v":0}]
[1,{"$f":"'w-E_R'!B36","v":"W5/06-Regel"},{"$f":"'w-E_R'!D36","v":0},{"$f":"'w-E_R'!H36","v":0},{"$f":"'w-E_R'!I36","v":0},null,1,{"$f":"'m-E_R'!B36","v":"M5/06-Regel"},{"$f":"'m-E_R'!D36","v":0},{"$f":"'m-E_R'!H36","v":0},{"$f":"'m-E_R'!I36","v":0}]
[1,{"$f":"'w-E_R'!B38","v":"W6/01-Regel"},{"$f":"'w-E_R'!D38","v":0},{"$f":"'w-E_R'!H38","v":0},{"$f":"'w-E_R'!I38","v":0},null,1,{"$f":"'m-E_R'!B38","v":"M6/01-Regel"},{"$f":"'m-E_R'!D38","v":0},{"$f":"'m-E_R'!H38","v":0},{"$f":"'m-E_R'!I38","v":0}]
[1,{"$f":"'w-E_R'!B39","v":"W6/02-Regel"},{"$f":"'w-E_R'!D39","v":0},{"$f":"'w-E_R'!H39","v":0},{"$f":"'w-E_R'!I39","v":0},null,1,{"$f":"'m-E_R'!B39","v":"M6/02-Regel"},{"$f":"'m-E_R'!D39","v":0},{"$f":"'m-E_R'!H39","v":0},{"$f":"'m-E_R'!I39","v":0}]
[{"$f":"RANK(E35,$E$3:$E$122,0)","v":1},{"$f":"'w-E_R'!B40","v":"W6/03-Regel"},{"$f":"'w-E_R'!D40","v":0},{"$f":"'w-E_R'!H40","v":0},{"$f":"'w-E_R'!I40","v":0},null,{"$f":"RANK(K35,$K$3:$K$122,0)","v":1},{"$f":"'m-E_R'!B40","v":"M6/03-Regel"},{"$f":"'m-E_R'!D40","v":0},{"$f":"'m-E_R'!H40","v":0},{"$f":"'m-E_R'!I40","v":0}]
[1,{"$f":"'w-E_R'!B41","v":"W6/04-Regel"},{"$f":"'w-E_R'!D41","v":0},{"$f":"'w-E_R'!H41","v":0},{"$f":"'w-E_R'!I41","v":0},null,1,{"$f":"'m-E_R'!B41","v":"M6/04-Regel"},{"$f":"'m-E_R'!D41","v":0},{"$f":"'m-E_R'!H41","v":0},{"$f":"'m-E_R'!I41","v":0}]
[1,{"$f":"'w-E_R'!B42","v":"W6/05-Regel"},{"$f":"'w-E_R'!D42","v":0},{"$f":"'w-E_R'!H42","v":0},{"$f":"'w-E_R'!I42","v":0},null,1,{"$f":"'m-E_R'!B42","v":"M6/05-Regel"},{"$f":"'m-E_R'!D42","v":0},{"$f":"'m-E_R'!H42","v":0},{"$f":"'m-E_R'!I42","v":0}]
[1,{"$f":"'w-E_R'!B43","v":"W6/06-Regel"},{"$f":"'w-E_R'!D43","v":0},{"$f":"'w-E_R'!H43","v":0},{"$f":"'w-E_R'!I43","v":0},null,1,{"$f":"'m-E_R'!B43","v":"M6/06-Regel"},{"$f":"'m-E_R'!D43","v":0},{"$f":"'m-E_R'!H43","v":0},{"$f":"'m-E_R'!I43","v":0}]
[1,{"$f":"'w-E_R'!B45","v":"W7/01-Regel"},{"$f":"'w-E_R'!D45","v":0},{"$f":"'w-E_R'!H45","v":0},{"$f":"'w-E_R'!I45","v":0},null,1,{"$f":"'m-E_R'!B45","v":"M7/01-Regel"},{"$f":"'m-E_R'!D45","v":0},{"$f":"'m-E_R'!H45","v":0},{"$f":"'m-E_R'!I45","v":0}]
[1,{"$f":"'w-E_R'!B46","v":"W7/02-Regel"},{"$f":"'w-E_R'!D46","v":0},{"$f":"'w-E_R'!H46","v":0},{"$f":"'w-E_R'!I46","v":0},null,1,{"$f":"'m-E_R'!B46","v":"M7/02-Regel"},{"$f":"'m-E_R'!D46","v":0},{"$f":"'m-E_R'!H46","v":0},{"$f":"'m-E_R'!I46","v":0}]
[1,{"$f":"'w-E_R'!B47","v":"W7/03-Regel"},{"$f":"'w-E_R'!D47","v":0},{"$f":"'w-E_R'!H47","v":0},{"$f":"'w-E_R'!I47","v":0},null,1,{"$f":"'m-E_R'!B47","v":"M7/03-Regel"},{"$f":"'m-E_R'!D47","v":0},{"$f":"'m-E_R'!H47","v":0},{"$f":"'m-E_R'!I47","v":0}]
[1,{"$f":"'w-E_R'!B48","v":"W7/04-Regel"},{"$f":"'w-E_R'!D48","v":0},{"$f":"'w-E_R'!H48","v":0},{"$f":"'w-E_R'!I48","v":0},null,1,{"$f":"'m-E_R'!B48","v":"M7/04-Regel"},{"$f":"'m-E_R'!D48","v":0},{"$f":"'m-E_R'!H48","v":0},{"$f":"'m-E_R'!I48","v":0}]
[1,{"$f":"'w-E_R'!B49","v":"W7/05-Regel"},{"$f":"'w-E_R'!D49","v":0},{"$f":"'w-E_R'!H49","v":0},{"$f":"'w-E_R'!I49","v":0},null,1,{"$f":"'m-E_R'!B49","v":"M7/05-Regel"},{"$f":"'m-E_R'!D49","v":0},{"$f":"'m-E_R'!H49","v":0},{"$f":"'m-E_R'!I49","v":0}]
[1,{"$f":"'w-E_R'!B50","v":"W7/06-Regel"},{"$f":"'w-E_R'!D50","v":0},{"$f":"'w-E_R'!H50","v":0},{"$f":"'w-E_R'!I50","v":0},null,1,{"$f":"'m-E_R'!B50","v":"M7/06-Regel"},{"$f":"'m-E_R'!D50","v":0},{"$f":"'m-E_R'!H50","v":0},{"$f":"'m-E_R'!I50","v":0}]
[1,{"$f":"'w-E_R'!B52","v":"W8/01-Regel"},{"$f":"'w-E_R'!D52","v":0},{"$f":"'w-E_R'!H52","v":0},{"$f":"'w-E_R'!I52","v":0},null,1,{"$f":"'m-E_R'!B52","v":"M8/01-Regel"},{"$f":"'m-E_R'!D52","v":0},{"$f":"'m-E_R'!H52","v":0},{"$f":"'m-E_R'!I52","v":0}]
[1,{"$f":"'w-E_R'!B53","v":"W8/02-Regel"},{"$f":"'w-E_R'!D53","v":0},{"$f":"'w-E_R'!H53","v":0},{"$f":"'w-E_R'!I53","v":0},null,1,{"$f":"'m-E_R'!B53","v":"M8/02-Regel"},{"$f":"'m-E_R'!D53","v":0},{"$f":"'m-E_R'!H53","v":0},{"$f":"'m-E_R'!I53","v":0}]
[1,{"$f":"'w-E_R'!B54","v":"W8/03-Regel"},{"$f":"'w-E_R'!D54","v":0},{"$f":"'w-E_R'!H54","v":0},{"$f":"'w-E_R'!I54","v":0},null,1,{"$f":"'m-E_R'!B54","v":"M8/03-Regel"},{"$f":"'m-E_R'!D54","v":0},{"$f":"'m-E_R'!H54","v":0},{"$f":"'m-E_R'!I54","v":0}]
[1,{"$f":"'w-E_R'!B55","v":"W8/04-Regel"},{"$f":"'w-E_R'!D55","v":0},{"$f":"'w-E_R'!H55","v":0},{"$f":"'w-E_R'!I55","v":0},null,1,{"$f":"'m-E_R'!B55","v":"M8/04-Regel"},{"$f":"'m-E_R'!D55","v":0},{"$f":"'m-E_R'!H55","v":0},{"$f":"'m-E_R'!I55","v":0}]
[1,{"$f":"'w-E_R'!B56","v":"W8/05-Regel"},{"$f":"'w-E_R'!D56","v":0},{"$f":"'w-E_R'!H56","v":0},{"$f":"'w-E_R'!I56","v":0},null,1,{"$f":"'m-E_R'!B56","v":"M8/05-Regel"},{"$f":"'m-E_R'!D56","v":0},{"$f":"'m-E_R'!H56","v":0},{"$f":"'m-E_R'!I56","v":0}]
[1,{"$f":"'w-E_R'!B57","v":"W8/06-Regel"},{"$f":"'w-E_R'!D57","v":0},{"$f":"'w-E_R'!H57","v":0},{"$f":"'w-E_R'!I57","v":0},null,1,{"$f":"'m-E_R'!B57","v":"M8/06-Regel"},{"$f":"'m-E_R'!D57","v":0},{"$f":"'m-E_R'!H57","v":0},{"$f":"'m-E_R'!I57","v":0}]
[1,{"$f":"'w-E_R'!B59","v":"W9/01-Regel"},{"$f":"'w-E_R'!D59","v":0},{"$f":"'w-E_R'!H59","v":0},{"$f":"'w-E_R'!I59","v":0},null,1,{"$f":"'m-E_R'!B59","v":"M9/01-Regel"},{"$f":"'m-E_R'!D59","v":0},{"$f":"'m-E_R'!H59","v":0},{"$f":"'m-E_R'!I59","v":0}]
[1,{"$f":"'w-E_R'!B60","v":"W9/02-Regel"},{"$f":"'w-E_R'!D60","v":0},{"$f":"'w-E_R'!H60","v":0},{"$f":"'w-E_R'!I60","v":0},null,1,{"$f":"'m-E_R'!B60","v":"M9/02-Regel"},{"$f":"'m-E_R'!D60","v":0},{"$f":"'m-E_R'!H60","v":0},{"$f":"'m-E_R'!I60","v":0}]
[1,{"$f":"'w-E_R'!B61","v":"W9/03-Regel"},{"$f":"'w-E_R'!D61","v":0},{"$f":"'w-E_R'!H61","v":0},{"$f":"'w-E_R'!I61","v":0},null,1,{"$f":"'m-E_R'!B61","v":"M9/03-Regel"},{"$f":"'m-E_R'!D61","v":0},{"$f":"'m-E_R'!H61","v":0},{"$f":"'m-E_R'!I61","v":0}]
[1,{"$f":"'w-E_R'!B62","v":"W9/04-Regel"},{"$f":"'w-E_R'!D62","v":0},{"$f":"'w-E_R'!H62","v":0},{"$f":"'w-E_R'!I62","v":0},null,1,{"$f":"'m-E_R'!B62","v":"M9/04-Regel"},{"$f":"'m-E_R'!D62","v":0},{"$f":"'m-E_R'!H62","v":0},{"$f":"'m-E_R'!I62","v":0}]
[1,{"$f":"'w-E_R'!B63","v":"W9/05-Regel"},{"$f":"'w-E_R'!D63","v":0},{"$f":"'w-E_R'!H63","v":0},{"$f":"'w-E_R'!I63","v":0},null,1,{"$f":"'m-E_R'!B63","v":"M9/05-Regel"},{"$f":"'m-E_R'!D63","v":0},{"$f":"'m-E_R'!H63","v":0},{"$f":"'m-E_R'!I63","v":0}]
[1,{"$f":"'w-E_R'!B64","v":"W9/06-Regel"},{"$f":"'w-E_R'!D64","v":0},{"$f":"'w-E_R'!H64","v":0},{"$f":"'w-E_R'!I64","v":0},null,1,{"$f":"'m-E_R'!B64","v":"M9/06-Regel"},{"$f":"'m-E_R'!D64","v":0},{"$f":"'m-E_R'!H64","v":0},{"$f":"'m-E_R'!I64","v":0}]
[1,{"$f":"'w-E_R'!B66","v":"W10/01-Regel"},{"$f":"'w-E_R'!D66","v":0},{"$f":"'w-E_R'!H66","v":0},{"$f":"'w-E_R'!I66","v":0},null,1,{"$f":"'m-E_R'!B66","v":"M10/01-Regel"},{"$f":"'m-E_R'!D66","v":0},{"$f":"'m-E_R'!H66","v":0},{"$f":"'m-E_R'!I66","v":0}]
[1,{"$f":"'w-E_R'!B67","v":"W10/02-Regel"},{"$f":"'w-E_R'!D67","v":0},{"$f":"'w-E_R'!H67","v":0},{"$f":"'w-E_R'!I67","v":0},null,1,{"$f":"'m-E_R'!B67","v":"M10/02-Regel"},{"$f":"'m-E_R'!D67","v":0},{"$f":"'m-E_R'!H67","v":0},{"$f":"'m-E_R'!I67","v":0}]
[1,{"$f":"'w-E_R'!B68","v":"W10/03-Regel"},{"$f":"'w-E_R'!D68","v":0},{"$f":"'w-E_R'!H68","v":0},{"$f":"'w-E_R'!I68","v":0},null,1,{"$f":"'m-E_R'!B68","v":"M10/03-Regel"},{"$f":"'m-E_R'!D68","v":0},{"$f":"'m-E_R'!H68","v":0},{"$f":"'m-E_R'!I68","v":0}]
[1,{"$f":"'w-E_R'!B69","v":"W10/04-Regel"},{"$f":"'w-E_R'!D69","v":0},{"$f":"'w-E_R'!H69","v":0},{"$f":"'w-E_R'!I69","v":0},null,1,{"$f":"'m-E_R'!B69","v":"M10/04-Regel"},{"$f":"'m-E_R'!D69","v":0},{"$f":"'m-E_R'!H69","v":0},{"$f":"'m-E_R'!I69","v":0}]
[1,{"$f":"'w-E_R'!B70","v":"W10/05-Regel"},{"$f":"'w-E_R'!D70","v":0},{"$f":"'w-E_R'!H70","v":0},{"$f":"'w-E_R'!I70","v":0},null,1,{"$f":"'m-E_R'!B70","v":"M10/05-Regel"},{"$f":"'m-E_R'!D70","v":0},{"$f":"'m-E_R'!H70","v":0},{"$f":"'m-E_R'!I70","v":0}]
[1,{"$f":"'w-E_R'!B71","v":"W10/06-Regel"},{"$f":"'w-E_R'!D71","v":0},{"$f":"'w-E_R'!H71","v":0},{"$f":"'w-E_R'!I71","v":0},null,1,{"$f":"'m-E_R'!B71","v":"M10/06-Regel"},{"$f":"'m-E_R'!D71","v":0},{"$f":"'m-E_R'!H71","v":0},{"$f":"'m-E_R'!I71","v":0}]
[1,{"$f":"'w-E_R'!B73","v":"W11/01-Regel"},{"$f":"'w-E_R'!D73","v":0},{"$f":"'w-E_R'!H73","v":0},{"$f":"'w-E_R'!I73","v":0},null,1,{"$f":"'m-E_R'!B73","v":"M11/01-Regel"},{"$f":"'m-E_R'!D73","v":0},{"$f":"'m-E_R'!H73","v":0},{"$f":"'m-E_R'!I73","v":0}]
[1,{"$f":"'w-E_R'!B74","v":"W11/02-Regel"},{"$f":"'w-E_R'!D74","v":0},{"$f":"'w-E_R'!H74","v":0},{"$f":"'w-E_R'!I74","v":0},null,1,{"$f":"'m-E_R'!B74","v":"M11/02-Regel"},{"$f":"'m-E_R'!D74","v":0},{"$f":"'m-E_R'!H74","v":0},{"$f":"'m-E_R'!I74","v":0}]
[1,{"$f":"'w-E_R'!B75","v":"W11/03-Regel"},{"$f":"'w-E_R'!D75","v":0},{"$f":"'w-E_R'!H75","v":0},{"$f":"'w-E_R'!I75","v":0},null,1,{"$f":"'m-E_R'!B75","v":"M11/03-Regel"},{"$f":"'m-E_R'!D75","v":0},{"$f":"'m-E_R'!H75","v":0},{"$f":"'m-E_R'!I75","v":0}]
[1,{"$f":"'w-E_R'!B76","v":"W11/04-Regel"},{"$f":"'w-E_R'!D76","v":0},{"$f":"'w-E_R'!H76","v":0},{"$f":"'w-E_R'!I76","v":0},null,1,{"$f":"'m-E_R'!B76","v":"M11/04-Regel"},{"$f":"'m-E_R'!D76","v":0},{"$f":"'m-E_R'!H76","v":0},{"$f":"'m-E_R'!I76","v":0}]
[{"$f":"RANK(E67,$E$3:$E$122,0)","v":1},{"$f":"'w-E_R'!B77","v":"W11/05-Regel"},{"$f":"'w-E_R'!D77","v":0},{"$f":"'w-E_R'!H77","v":0},{"$f":"'w-E_R'!I77","v":0},null,{"$f":"RANK(K67,$K$3:$K$122,0)","v":1},{"$f":"'m-E_R'!B77","v":"M11/05-Regel"},{"$f":"'m-E_R'!D77","v":0},{"$f":"'m-E_R'!H77","v":0},{"$f":"'m-E_R'!I77","v":0}]
[1,{"$f":"'w-E_R'!B78","v":"W11/06-Regel"},{"$f":"'w-E_R'!D78","v":0},{"$f":"'w-E_R'!H78","v":0},{"$f":"'w-E_R'!I78","v":0},null,1,{"$f":"'m-E_R'!B78","v":"M11/06-Regel"},{"$f":"'m-E_R'!D78","v":0},{"$f":"'m-E_R'!H78","v":0},{"$f":"'m-E_R'!I78","v":0}]
[1,{"$f":"'w-E_R'!B80","v":"W12/01-Regel"},{"$f":"'w-E_R'!D80","v":0},{"$f":"'w-E_R'!H80","v":0},{"$f":"'w-E_R'!I80","v":0},null,1,{"$f":"'m-E_R'!B80","v":"M12/01-Regel"},{"$f":"'m-E_R'!D80","v":0},{"$f":"'m-E_R'!H80","v":0},{"$f":"'m-E_R'!I80","v":0}]
[1,{"$f":"'w-E_R'!B81","v":"W12/02-Regel"},{"$f":"'w-E_R'!D81","v":0},{"$f":"'w-E_R'!H81","v":0},{"$f":"'w-E_R'!I81","v":0},null,1,{"$f":"'m-E_R'!B81","v":"M12/02-Regel"},{"$f":"'m-E_R'!D81","v":0},{"$f":"'m-E_R'!H81","v":0},{"$f":"'m-E_R'!I81","v":0}]
[1,{"$f":"'w-E_R'!B82","v":"W12/03-Regel"},{"$f":"'w-E_R'!D82","v":0},{"$f":"'w-E_R'!H82","v":0},{"$f":"'w-E_R'!I82","v":0},null,1,{"$f":"'m-E_R'!B82","v":"M12/03-Regel"},{"$f":"'m-E_R'!D82","v":0},{"$f":"'m-E_R'!H82","v":0},{"$f":"'m-E_R'!I82","v":0}]
[1,{"$f":"'w-E_R'!B83","v":"W12/04-Regel"},{"$f":"'w-E_R'!D83","v":0},{"$f":"'w-E_R'!H83","v":0},{"$f":"'w-E_R'!I83","v":0},null,1,{"$f":"'m-E_R'!B83","v":"M12/04-Regel"},{"$f":"'m-E_R'!D83","v":0},{"$f":"'m-E_R'!H83","v":0},{"$f":"'m-E_R'!I83","v":0}]
[1,{"$f":"'w-E_R'!B84","v":"W12/05-Regel"},{"$f":"'w-E_R'!D84","v":0},{"$f":"'w-E_R'!H84","v":0},{"$f":"'w-E_R'!I84","v":0},null,1,{"$f":"'m-E_R'!B84","v":"M12/05-Regel"},{"$f":"'m-E_R'!D84","v":0},{"$f":"'m-E_R'!H84","v":0},{"$f":"'m-E_R'!I84","v":0}]
[1,{"$f":"'w-E_R'!B85","v":"W12/06-Regel"},{"$f":"'w-E_R'!D85","v":0},{"$f":"'w-E_R'!H85","v":0},{"$f":"'w-E_R'!I85","v":0},null,1,{"$f":"'m-E_R'!B85","v":"M12/06-Regel"},{"$f":"'m-E_R'!D85","v":0},{"$f":"'m-E_R'!H85","v":0},{"$f":"'m-E_R'!I85","v":0}]
[1,{"$f":"'w-E_R'!B87","v":"W13/01-Regel"},{"$f":"'w-E_R'!D87","v":0},{"$f":"'w-E_R'!H87","v":0},{"$f":"'w-E_R'!I87","v":0},null,1,{"$f":"'m-E_R'!B87","v":"M13/01-Regel"},{"$f":"'m-E_R'!D87","v":0},{"$f":"'m-E_R'!H87","v":0},{"$f":"'m-E_R'!I87","v":0}]
[1,{"$f":"'w-E_R'!B88","v":"W13/02-Regel"},{"$f":"'w-E_R'!D88","v":0},{"$f":"'w-E_R'!H88","v":0},{"$f":"'w-E_R'!I88","v":0},null,1,{"$f":"'m-E_R'!B88","v":"M13/02-Regel"},{"$f":"'m-E_R'!D88","v":0},{"$f":"'m-E_R'!H88","v":0},{"$f":"'m-E_R'!I88","v":0}]
[1,{"$f":"'w-E_R'!B89","v":"W13/03-Regel"},{"$f":"'w-E_R'!D89","v":0},{"$f":"'w-E_R'!H89","v":0},{"$f":"'w-E_R'!I89","v":0},null,1,{"$f":"'m-E_R'!B89","v":"M13/03-Regel"},{"$f":"'m-E_R'!D89","v":0},{"$f":"'m-E_R'!H89","v":0},{"$f":"'m-E_R'!I89","v":0}]
[1,{"$f":"'w-E_R'!B90","v":"W13/04-Regel"},{"$f":"'w-E_R'!D90","v":0},{"$f":"'w-E_R'!H90","v":0},{"$f":"'w-E_R'!I90","v":0},null,1,{"$f":"'m-E_R'!B90","v":"M13/04-Regel"},{"$f":"'m-E_R'!D90","v":0},{"$f":"'m-E_R'!H90","v":0},{"$f":"'m-E_R'!I90","v":0}]
[1,{"$f":"'w-E_R'!B91","v":"W13/05-Regel"},{"$f":"'w-E_R'!D91","v":0},{"$f":"'w-E_R'!H91","v":0},{"$f":"'w-E_R'!I91","v":0},null,1,{"$f":"'m-E_R'!B91","v":"M13/05-Regel"},{"$f":"'m-E_R'!D91","v":0},{"$f":"'m-E_R'!H91","v":0},{"$f":"'m-E_R'!I91","v":0}]
[1,{"$f":"'w-E_R'!B92","v":"W13/06-Regel"},{"$f":"'w-E_R'!D92","v":0},{"$f":"'w-E_R'!H92","v":0},{"$f":"'w-E_R'!I92","v":0},null,1,{"$f":"'m-E_R'!B92","v":"M13/06-Regel"},{"$f":"'m-E_R'!D92","v":0},{"$f":"'m-E_R'!H92","v":0},{"$f":"'m-E_R'!I92","v":0}]
[1,{"$f":"'w-E_R'!B94","v":"W14/01-Regel"},{"$f":"'w-E_R'!D94","v":0},{"$f":"'w-E_R'!H94","v":0},{"$f":"'w-E_R'!I94","v":0},null,1,{"$f":"'m-E_R'!B94","v":"M14/01-Regel"},{"$f":"'m-E_R'!D94","v":0},{"$f":"'m-E_R'!H94","v":0},{"$f":"'m-E_R'!I94","v":0}]
[1,{"$f":"'w-E_R'!B95","v":"W14/02-Regel"},{"$f":"'w-E_R'!D95","v":0},{"$f":"'w-E_R'!H95","v":0},{"$f":"'w-E_R'!I95","v":0},null,1,{"$f":"'m-E_R'!B95","v":"M14/02-Regel"},{"$f":"'m-E_R'!D95","v":0},{"$f":"'m-E_R'!H95","v":0},{"$f":"'m-E_R'!I95","v":0}]
[1,{"$f":"'w-E_R'!B96","v":"W14/03-Regel"},{"$f":"'w-E_R'!D96","v":0},{"$f":"'w-E_R'!H96","v":0},{"$f":"'w-E_R'!I96","v":0},null,1,{"$f":"'m-E_R'!B96","v":"M14/03-Regel"},{"$f":"'m-E_R'!D96","v":0},{"$f":"'m-E_R'!H96","v":0},{"$f":"'m-E_R'!I96","v":0}]
[1,{"$f":"'w-E_R'!B97","v":"W14/04-Regel"},{"$f":"'w-E_R'!D97","v":0},{"$f":"'w-E_R'!H97","v":0},{"$f":"'w-E_R'!I97","v":0},null,1,{"$f":"'m-E_R'!B97","v":"M14/04-Regel"},{"$f":"'m-E_R'!D97","v":0},{"$f":"'m-E_R'!H97","v":0},{"$f":"'m-E_R'!I97","v":0}]
[1,{"$f":"'w-E_R'!B98","v":"W14/05-Regel"},{"$f":"'w-E_R'!D98","v":0},{"$f":"'w-E_R'!H98","v":0},{"$f":"'w-E_R'!I98","v":0},null,1,{"$f":"'m-E_R'!B98","v":"M14/05-Regel"},{"$f":"'m-E_R'!D98","v":0},{"$f":"'m-E_R'!H98","v":0},{"$f":"'m-E_R'!I98","v":0}]
[1,{"$f":"'w-E_R'!B99","v":"W14/06-Regel"},{"$f":"'w-E_R'!D99","v":0},{"$f":"'w-E_R'!H99","v":0},{"$f":"'w-E_R'!I99","v":0},null,1,{"$f":"'m-E_R'!B99","v":"M14/06-Regel"},{"$f":"'m-E_R'!D99","v":0},{"$f":"'m-E_R'!H99","v":0},{"$f":"'m-E_R'!I99","v":0}]
[1,{"$f":"'w-E_R'!B101","v":"W15/01-Regel"},{"$f":"'w-E_R'!D101","v":0},{"$f":"'w-E_R'!H101","v":0},{"$f":"'w-E_R'!I101","v":0},null,1,{"$f":"'m-E_R'!B101","v":"M15/01-Regel"},{"$f":"'m-E_R'!D101","v":0},{"$f":"'m-E_R'!H101","v":0},{"$f":"'m-E_R'!I101","v":0}]
[1,{"$f":"'w-E_R'!B102","v":"W15/02-Regel"},{"$f":"'w-E_R'!D102","v":0},{"$f":"'w-E_R'!H102","v":0},{"$f":"'w-E_R'!I102","v":0},null,1,{"$f":"'m-E_R'!B102","v":"M15/02-Regel"},{"$f":"'m-E_R'!D102","v":0},{"$f":"'m-E_R'!H102","v":0},{"$f":"'m-E_R'!I102","v":0}]
[1,{"$f":"'w-E_R'!B103","v":"W15/03-Regel"},{"$f":"'w-E_R'!D103","v":0},{"$f":"'w-E_R'!H103","v":0},{"$f":"'w-E_R'!I103","v":0},null,1,{"$f":"'m-E_R'!B103","v":"M15/03-Regel"},{"$f":"'m-E_R'!D103","v":0},{"$f":"'m-E_R'!H103","v":0},{"$f":"'m-E_R'!I103","v":0}]
[1,{"$f":"'w-E_R'!B104","v":"W15/04-Regel"},{"$f":"'w-E_R'!D104","v":0},{"$f":"'w-E_R'!H104","v":0},{"$f":"'w-E_R'!I104","v":0},null,1,{"$f":"'m-E_R'!B104","v":"M15/04-Regel"},{"$f":"'m-E_R'!D104","v":0},{"$f":"'m-E_R'!H104","v":0},{"$f":"'m-E_R'!I104","v":0}]
[1,{"$f":"'w-E_R'!B105","v":"W15/05-Regel"},{"$f":"'w-E_R'!D105","v":0},{"$f":"'w-E_R'!H105","v":0},{"$f":"'w-E_R'!I105","v":0},null,1,{"$f":"'m-E_R'!B105","v":"M15/05-Regel"},{"$f":"'m-E_R'!D105","v":0},{"$f":"'m-E_R'!H105","v":0},{"$f":"'m-E_R'!I105","v":0}]
[1,{"$f":"'w-E_R'!B106","v":"W15/06-Regel"},{"$f":"'w-E_R'!D106","v":0},{"$f":"'w-E_R'!H106","v":0},{"$f":"'w-E_R'!I106","v":0},null,1,{"$f":"'m-E_R'!B106","v":"M15/06-Regel"},{"$f":"'m-E_R'!D106","v":0},{"$f":"'m-E_R'!H106","v":0},{"$f":"'m-E_R'!I106","v":0}]
[1,{"$f":"'w-E_R'!B108","v":"W16/01-Regel"},{"$f":"'w-E_R'!D108","v":0},{"$f":"'w-E_R'!H108","v":0},{"$f":"'w-E_R'!I108","v":0},null,1,{"$f":"'m-E_R'!B108","v":"M16/01-Regel"},{"$f":"'m-E_R'!D108","v":0},{"$f":"'m-E_R'!H108","v":0},{"$f":"'m-E_R'!I108","v":0}]
[1,{"$f":"'w-E_R'!B109","v":"W16/02-Regel"},{"$f":"'w-E_R'!D109","v":0},{"$f":"'w-E_R'!H109","v":0},{"$f":"'w-E_R'!I109","v":0},null,1,{"$f":"'m-E_R'!B109","v":"M16/02-Regel"},{"$f":"'m-E_R'!D109","v":0},{"$f":"'m-E_R'!H109","v":0},{"$f":"'m-E_R'!I109","v":0}]
[1,{"$f":"'w-E_R'!B110","v":"W16/03-Regel"},{"$f":"'w-E_R'!D110","v":0},{"$f":"'w-E_R'!H110","v":0},{"$f":"'w-E_R'!I110","v":0},null,1,{"$f":"'m-E_R'!B110","v":"M16/03-Regel"},{"$f":"'m-E_R'!D110","v":0},{"$f":"'m-E_R'!H110","v":0},{"$f":"'m-E_R'!I110","v":0}]
[1,{"$f":"'w-E_R'!B111","v":"W16/04-Regel"},{"$f":"'w-E_R'!D111","v":0},{"$f":"'w-E_R'!H111","v":0},{"$f":"'w-E_R'!I111","v":0},null,1,{"$f":"'m-E_R'!B111","v":"M16/04-Regel"},{"$f":"'m-E_R'!D111","v":0},{"$f":"'m-E_R'!H111","v":0},{"$f":"'m-E_R'!I111","v":0}]
[1,{"$f":"'w-E_R'!B112","v":"W16/05-Regel"},{"$f":"'w-E_R'!D112","v":0},{"$f":"'w-E_R'!H112","v":0},{"$f":"'w-E_R'!I112","v":0},null,1,{"$f":"'m-E_R'!B112","v":"M16/05-Regel"},{"$f":"'m-E_R'!D112","v":0},{"$f":"'m-E_R'!H112","v":0},{"$f":"'m-E_R'!I112","v":0}]
[1,{"$f":"'w-E_R'!B113","v":"W16/06-Regel"},{"$f":"'w-E_R'!D113","v":0},{"$f":"'w-E_R'!H113","v":0},{"$f":"'w-E_R'!I113","v":0},null,1,{"$f":"'m-E_R'!B113","v":"M16/06-Regel"},{"$f":"'m-E_R'!D113","v":0},{"$f":"'m-E_R'!H113","v":0},{"$f":"'m-E_R'!I113","v":0}]
[{"$f":"RANK(E99,$E$3:$E$122,0)","v":1},{"$f":"'w-E_R'!B115","v":"W17/01-Regel"},{"$f":"'w-E_R'!D115","v":0},{"$f":"'w-E_R'!H115","v":0},{"$f":"'w-E_R'!I115","v":0},null,{"$f":"RANK(K99,$K$3:$K$122,0)","v":1},{"$f":"'m-E_R'!B115","v":"M17/01-Regel"},{"$f":"'m-E_R'!D115","v":0},{"$f":"'m-E_R'!H115","v":0},{"$f":"'m-E_R'!I115","v":0}]
[1,{"$f":"'w-E_R'!B116","v":"W17/02-Regel"},{"$f":"'w-E_R'!D116","v":0},{"$f":"'w-E_R'!H116","v":0},{"$f":"'w-E_R'!I116","v":0},null,1,{"$f":"'m-E_R'!B116","v":"M17/02-Regel"},{"$f":"'m-E_R'!D116","v":0},{"$f":"'m-E_R'!H116","v":0},{"$f":"'m-E_R'!I116","v":0}]
[1,{"$f":"'w-E_R'!B117","v":"W17/03-Regel"},{"$f":"'w-E_R'!D117","v":0},{"$f":"'w-E_R'!H117","v":0},{"$f":"'w-E_R'!I117","v":0},null,1,{"$f":"'m-E_R'!B117","v":"M17/03-Regel"},{"$f":"'m-E_R'!D117","v":0},{"$f":"'m-E_R'!H117","v":0},{"$f":"'m-E_R'!I117","v":0}]
[1,{"$f":"'w-E_R'!B118","v":"W17/04-Regel"},{"$f":"'w-E_R'!D118","v":0},{"$f":"'w-E_R'!H118","v":0},{"$f":"'w-E_R'!I118","v":0},null,1,{"$f":"'m-E_R'!B118","v":"M17/04-Regel"},{"$f":"'m-E_R'!D118","v":0},{"$f":"'m-E_R'!H118","v":0},{"$f":"'m-E_R'!I118","v":0}]
[1,{"$f":"'w-E_R'!B119","v":"W17/05-Regel"},{"$f":"'w-E_R'!D119","v":0},{"$f":"'w-E_R'!H119","v":0},{"$f":"'w-E_R'!I119","v":0},null,1,{"$f":"'m-E_R'!B119","v":"M17/05-Regel"},{"$f":"'m-E_R'!D119","v":0},{"$f":"'m-E_R'!H119","v":0},{"$f":"'m-E_R'!I119","v":0}]
[1,{"$f":"'w-E_R'!B120","v":"W17/06-Regel"},{"$f":"'w-E_R'!D120","v":0},{"$f":"'w-E_R'!H120","v":0},{"$f":"'w-E_R'!I120","v":0},null,1,{"$f":"'m-E_R'!B120","v":"M17/06-Regel"},{"$f":"'m-E_R'!D120","v":0},{"$f":"'m-E_R'!H120","v":0},{"$f":"'m-E_R'!I120","v":0}]
[1,{"$f":"'w-E_R'!B122","v":"W18/01-Regel"},{"$f":"'w-E_R'!D122","v":0},{"$f":"'w-E_R'!H122","v":0},{"$f":"'w-E_R'!I122","v":0},null,1,{"$f":"'m-E_R'!B122","v":"M18/01-Regel"},{"$f":"'m-E_R'!D122","v":0},{"$f":"'m-E_R'!H122","v":0},{"$f":"'m-E_R'!I122","v":0}]
[1,{"$f":"'w-E_R'!B123","v":"W18/02-Regel"},{"$f":"'w-E_R'!D123","v":0},{"$f":"'w-E_R'!H123","v":0},{"$f":"'w-E_R'!I123","v":0},null,1,{"$f":"'m-E_R'!B123","v":"M18/02-Regel"},{"$f":"'m-E_R'!D123","v":0},{"$f":"'m-E_R'!H123","v":0},{"$f":"'m-E_R'!I123","v":0}]
[1,{"$f":"'w-E_R'!B124","v":"W18/03-Regel"},{"$f":"'w-E_R'!D124","v":0},{"$f":"'w-E_R'!H124","v":0},{"$f":"'w-E_R'!I124","v":0},null,1,{"$f":"'m-E_R'!B124","v":"M18/03-Regel"},{"$f":"'m-E_R'!D124","v":0},{"$f":"'m-E_R'!H124","v":0},{"$f":"'m-E_R'!I124","v":0}]
[1,{"$f":"'w-E_R'!B125","v":"W18/04-Regel"},{"$f":"'w-E_R'!D125","v":0},{"$f":"'w-E_R'!H125","v":0},{"$f":"'w-E_R'!I125","v":0},null,1,{"$f":"'m-E_R'!B125","v":"M18/04-Regel"},{"$f":"'m-E_R'!D125","v":0},{"$f":"'m-E_R'!H125","v":0},{"$f":"'m-E_R'!I125","v":0}]
[1,{"$f":"'w-E_R'!B126","v":"W18/05-Regel"},{"$f":"'w-E_R'!D126","v":0},{"$f":"'w-E_R'!H126","v":0},{"$f":"'w-E_R'!I126","v":0},null,1,{"$f":"'m-E_R'!B126","v":"M18/05-Regel"},{"$f":"'m-E_R'!D126","v":0},{"$f":"'m-E_R'!H126","v":0},{"$f":"'m-E_R'!I126","v":0}]
[1,{"$f":"'w-E_R'!B127","v":"W18/06-Regel"},{"$f":"'w-E_R'!D127","v":0},{"$f":"'w-E_R'!H127","v":0},{"$f":"'w-E_R'!I127","v":0},null,1,{"$f":"'m-E_R'!B127","v":"M18/06-Regel"},{"$f":"'m-E_R'!D127","v":0},{"$f":"'m-E_R'!H127","v":0},{"$f":"'m-E_R'!I127","v":0}]
[1,{"$f":"'w-E_R'!B129","v":"W19/01-Regel"},{"$f":"'w-E_R'!D129","v":0},{"$f":"'w-E_R'!H129","v":0},{"$f":"'w-E_R'!I129","v":0},null,1,{"$f":"'m-E_R'!B129","v":"M19/01-Regel"},{"$f":"'m-E_R'!D129","v":0},{"$f":"'m-E_R'!H129","v":0},{"$f":"'m-E_R'!I129","v":0}]
[1,{"$f":"'w-E_R'!B130","v":"W19/02-Regel"},{"$f":"'w-E_R'!D130","v":0},{"$f":"'w-E_R'!H130","v":0},{"$f":"'w-E_R'!I130","v":0},null,1,{"$f":"'m-E_R'!B130","v":"M19/02-Regel"},{"$f":"'m-E_R'!D130","v":0},{"$f":"'m-E_R'!H130","v":0},{"$f":"'m-E_R'!I130","v":0}]
[1,{"$f":"'w-E_R'!B131","v":"W19/03-Regel"},{"$f":"'w-E_R'!D131","v":0},{"$f":"'w-E_R'!H131","v":0},{"$f":"'w-E_R'!I131","v":0},null,1,{"$f":"'m-E_R'!B131","v":"M19/03-Regel"},{"$f":"'m-E_R'!D131","v":0},{"$f":"'m-E_R'!H131","v":0},{"$f":"'m-E_R'!I131","v":0}]
[1,{"$f":"'w-E_R'!B132","v":"W19/04-Regel"},{"$f":"'w-E_R'!D132","v":0},{"$f":"'w-E_R'!H132","v":0},{"$f":"'w-E_R'!I132","v":0},null,1,{"$f":"'m-E_R'!B132","v":"M19/04-Regel"},{"$f":"'m-E_R'!D132","v":0},{"$f":"'m-E_R'!H132","v":0},{"$f":"'m-E_R'!I132","v":0}]
[1,{"$f":"'w-E_R'!B133","v":"W19/05-Regel"},{"$f":"'w-E_R'!D133","v":0},{"$f":"'w-E_R'!H133","v":0},{"$f":"'w-E_R'!I133","v":0},null,1,{"$f":"'m-E_R'!B133","v":"M19/05-Regel"},{"$f":"'m-E_R'!D133","v":0},{"$f":"'m-E_R'!H133","v":0},{"$f":"'m-E_R'!I133","v":0}]
[1,{"$f":"'w-E_R'!B134","v":"W19/06-Regel"},{"$f":"'w-E_R'!D134","v":0},{"$f":"'w-E_R'!H134","v":0},{"$f":"'w-E_R'!I134","v":0},null,1,{"$f":"'m-E_R'!B134","v":"M19/06-Regel"},{"$f":"'m-E_R'!D134","v":0},{"$f":"'m-E_R'!H134","v":0},{"$f":"'m-E_R'!I134","v":0}]
[1,{"$f":"'w-E_R'!B136","v":"W20/01-Regel"},{"$f":"'w-E_R'!D136","v":0},{"$f":"'w-E_R'!H136","v":0},{"$f":"'w-E_R'!I136","v":0},null,1,{"$f":"'m-E_R'!B136","v":"M20/01-Regel"},{"$f":"'m-E_R'!D136","v":0},{"$f":"'m-E_R'!H136","v":0},{"$f":"'m-E_R'!I136","v":0}]
[1,{"$f":"'w-E_R'!B137","v":"W20/02-Regel"},{"$f":"'w-E_R'!D137","v":0},{"$f":"'w-E_R'!H137","v":0},{"$f":"'w-E_R'!I137","v":0},null,1,{"$f":"'m-E_R'!B137","v":"M20/02-Regel"},{"$f":"'m-E_R'!D137","v":0},{"$f":"'m-E_R'!H137","v":0},{"$f":"'m-E_R'!I137","v":0}]
[1,{"$f":"'w-E_R'!B138","v":"W20/03-Regel"},{"$f":"'w-E_R'!D138","v":0},{"$f":"'w-E_R'!H138","v":0},{"$f":"'w-E_R'!I138","v":0},null,1,{"$f":"'m-E_R'!B138","v":"M20/03-Regel"},{"$f":"'m-E_R'!D138","v":0},{"$f":"'m-E_R'!H138","v":0},{"$f":"'m-E_R'!I138","v":0}]
[1,{"$f":"'w-E_R'!B139","v":"W20/04-Regel"},{"$f":"'w-E_R'!D139","v":0},{"$f":"'w-E_R'!H139","v":0},{"$f":"'w-E_R'!I139","v":0},null,1,{"$f":"'m-E_R'!B139","v":"M20/04-Regel"},{"$f":"'m-E_R'!D139","v":0},{"$f":"'m-E_R'!H139","v":0},{"$f":"'m-E_R'!I139","v":0}]
[1,{"$f":"'w-E_R'!B140","v":"W20/05-Regel"},{"$f":"'w-E_R'!D140","v":0},{"$f":"'w-E_R'!H140","v":0},{"$f":"'w-E_R'!I140","v":0},null,1,{"$f":"'m-E_R'!B140","v":"M20/05-Regel"},{"$f":"'m-E_R'!D140","v":0},{"$f":"'m-E_R'!H140","v":0},{"$f":"'m-E_R'!I140","v":0}]
[1,{"$f":"'w-E_R'!B141","v":"W20/06-Regel"},{"$f":"'w-E_R'!D141","v":0},{"$f":"'w-E_R'!H141","v":0},{"$f":"'w-E_R'!I141","v":0},null,1,{"$f":"'m-E_R'!B141","v":"M20/06-Regel"},{"$f":"'m-E_R'!D141","v":0},{"$f":"'m-E_R'!H141","v":0},{"$f":"'m-E_R'!I141","v":0}]
["Einzelwertung Schlagball Weiblich",null,{"$f":"'w-E_R'!C1","v":"D-C/Regel-Schulen"},{"$f":"'w-E_R'!E1","v":"Ortsangabe,Datum"},null,null,"Einzelwertung Schlagball Männlich",null,{"$f":"'m-E_R'!C1","v":"D-C/Regel-Schulen"},{"$f":"'m-E_R'!E1","v":"Ortsangabe,Datum"}]
["Einzelwertung Schlagball",null,{"$f":"'w-E_Sp'!C1","v":"D-C/Sport-Schwerpunkt"},{"$f":"'w-E_Sp'!E1","v":"Ortsangabe,Datum"},null,null,"Einzelwertung Schlagball",null,{"$f":"'m-E_Sp'!C1","v":"D-C/Sport-Schwerpunkt"},{"$f":"'m-E_Sp'!E1","v":"Ortsangabe,Datum"}]
["Rang","WEIBLICH","Schule:","Leistung","Punkte",null,"Rang","MÄNNLICH","Schule:","Leistung","Punkte"]
[{"$f":"RANK(E126,$E$126:$E245,0)","v":1},{"$f":"'w-E_Sp'!B3","v":"W1/01-Sport"},{"$f":"'w-E_Sp'!D3","v":0},{"$f":"'w-E_Sp'!H3","v":0},{"$f":"'w-E_Sp'!I3","v":0},null,{"$f":"RANK(K126,$K$126:$K245,0)","v":1},{"$f":"'m-E_Sp'!B3","v":"M1/01-Sport"},{"$f":"'m-E_Sp'!D3","v":0},{"$f":"'m-E_Sp'!H3","v":0},{"$f":"'m-E_Sp'!I3","v":0}]
[{"$f":"RANK(E127,$E$126:$E245,0)","v":1},{"$f":"'w-E_Sp'!B4","v":"W1/02-Sport"},{"$f":"'w-E_Sp'!D4","v":0},{"$f":"'w-E_Sp'!H4","v":0},{"$f":"'w-E_Sp'!I4","v":0},null,{"$f":"RANK(K127,$K$126:$K245,0)","v":1},{"$f":"'m-E_Sp'!B4","v":"M1/02-Sport"},{"$f":"'m-E_Sp'!D4","v":0},{"$f":"'m-E_Sp'!H4","v":0},{"$f":"'m-E_Sp'!I4","v":0}]
[{"$f":"RANK(E128,$E$126:$E245,0)","v":1},{"$f":"'w-E_Sp'!B5","v":"W1/03-Sport"},{"$f":"'w-E_Sp'!D5","v":0},{"$f":"'w-E_Sp'!H5","v":0},{"$f":"'w-E_Sp'!I5","v":0},null,{"$f":"RANK(K128,$K$126:$K245,0)","v":1},{"$f":"'m-E_Sp'!B5","v":"M1/03-Sport"},{"$f":"'m-E_Sp'!D5","v":0},{"$f":"'m-E_Sp'!H5","v":0},{"$f":"'m-E_Sp'!I5","v":0}]
[{"$f":"RANK(E129,$E$126:$E245,0)","v":1},{"$f":"'w-E_Sp'!B6","v":"W1/04-Sport"},{"$f":"'w-E_Sp'!D6","v":0},{"$f":"'w-E_Sp'!H6","v":0},{"$f":"'w-E_Sp'!I6","v":0},null,{"$f":"RANK(K129,$K$126:$K245,0)","v":1},{"$f":"'m-E_Sp'!B6","v":"M1/04-Sport"},{"$f":"'m-E_Sp'!D6","v":0},{"$f":"'m-E_Sp'!H6","v":0},{"$f":"'m-E_Sp'!I6","v":0}]
[{"$f":"RANK(E130,$E$126:$E245,0)","v":1},{"$f":"'w-E_Sp'!B7","v":"W1/05-Sport"},{"$f":"'w-E_Sp'!D7","v":0},{"$f":"'w-E_Sp'!H7","v":0},{"$f":"'w-E_Sp'!I7","v":0},null,{"$f":"RANK(K130,$K$126:$K245,0)","v":1},{"$f":"'m-E_Sp'!B7","v":"M1/05-Sport"},{"$f":"'m-E_Sp'!D7","v":0},{"$f":"'m-E_Sp'!H7","v":0},{"$f":"'m-E_Sp'!I7","v":0}]
[{"$f":"RANK(E131,$E$126:$E245,0)","v":1},{"$f":"'w-E_Sp'!B8","v":"W1/06-Sport"},{"$f":"'w-E_Sp'!D8","v":0},{"$f":"'w-E_Sp'!H8","v":0},{"$f":"'w-E_Sp'!I8","v":0},null,{"$f":"RANK(K131,$K$126:$K245,0)","v":1},{"$f":"'m-E_Sp'!B8","v":"M1/06-Sport"},{"$f":"'m-E_Sp'!D8","v":0},{"$f":"'m-E_Sp'!H8","v":0},{"$f":"'m-E_Sp'!I8","v":0}]
[{"$f":"RANK(E132,$E$126:$E245,0)","v":1},{"$f":"'w-E_Sp'!B10","v":"W2/01-Sport"},{"$f":"'w-E_Sp'!D10","v":0},{"$f":"'w-E_Sp'!H10","v":0},{"$f":"'w-E_Sp'!I10","v":0},null,{"$f":"RANK(K132,$K$126:$K245,0)","v":1},{"$f":"'m-E_Sp'!B10","v":"M2/01-Sport"},{"$f":"'m-E_Sp'!D10","v":0},{"$f":"'m-E_Sp'!H10","v":0},{"$f":"'m-E_Sp'!I10","v":0}]
[{"$f":"RANK(E133,$E$126:$E245,0)","v":1},{"$f":"'w-E_Sp'!B11","v":"W2/02-Sport"},{"$f":"'w-E_Sp'!D11","v":0},{"$f":"'w-E_Sp'!H11","v":0},{"$f":"'w-E_Sp'!I11","v":0},null,{"$f":"RANK(K133,$K$126:$K245,0)","v":1},{"$f":"'m-E_Sp'!B11","v":"M2/02-Sport"},{"$f":"'m-E_Sp'!D11","v":0},{"$f":"'m-E_Sp'!H11","v":0},{"$f":"'m-E_Sp'!I11","v":0}]
[{"$f":"RANK(E134,$E$126:$E245,0)","v":1},{"$f":"'w-E_Sp'!B12","v":"W2/03-Sport"},{"$f":"'w-E_Sp'!D12","v":0},{"$f":"'w-E_Sp'!H12","v":0},{"$f":"'w-E_Sp'!I12","v":0},null,{"$f":"RANK(K134,$K$126:$K245,0)","v":1},{"$f":"'m-E_Sp'!B12","v":"M2/03-Sport"},{"$f":"'m-E_Sp'!D12","v":0},{"$f":"'m-E_Sp'!H12","v":0},{"$f":"'m-E_Sp'!I12","v":0}]
[{"$f":"RANK(E135,$E$126:$E245,0)","v":1},{"$f":"'w-E_Sp'!B13","v":"W2/04-Sport"},{"$f":"'w-E_Sp'!D13","v":0},{"$f":"'w-E_Sp'!H13","v":0},{"$f":"'w-E_Sp'!I13","v":0},null,{"$f":"RANK(K135,$K$126:$K245,0)","v":1},{"$f":"'m-E_Sp'!B13","v":"M2/04-Sport"},{"$f":"'m-E_Sp'!D13","v":0},{"$f":"'m-E_Sp'!H13","v":0},{"$f":"'m-E_Sp'!I13","v":0}]
[{"$f":"RANK(E136,$E$126:$E245,0)","v":1},{"$f":"'w-E_Sp'!B14","v":"W2/05-Sport"},{"$f":"'w-E_Sp'!D14","v":0},{"$f":"'w-E_Sp'!H14","v":0},{"$f":"'w-E_Sp'!I14","v":0},null,{"$f":"RANK(K136,$K$126:$K245,0)","v":1},{"$f":"'m-E_Sp'!B14","v":"M2/05-Sport"},{"$f":"'m-E_Sp'!D14","v":0},{"$f":"'m-E_Sp'!H14","v":0},{"$f":"'m-E_Sp'!I14","v":0}]
[{"$f":"RANK(E137,$E$126:$E245,0)","v":1},{"$f":"'w-E_Sp'!B15","v":"W2/06-Sport"},{"$f":"'w-E_Sp'!D15","v":0},{"$f":"'w-E_Sp'!H15","v":0},{"$f":"'w-E_Sp'!I15","v":0},null,{"$f":"RANK(K137,$K$126:$K245,0)","v":1},{"$f":"'m-E_Sp'!B15","v":"M2/06-Sport"},{"$f":"'m-E_Sp'!D15","v":0},{"$f":"'m-E_Sp'!H15","v":0},{"$f":"'m-E_Sp'!I15","v":0}]
[{"$f":"RANK(E138,$E$126:$E245,0)","v":1},{"$f":"'w-E_Sp'!B17","v":"W3/01-Sport"},{"$f":"'w-E_Sp'!D17","v":0},{"$f":"'w-E_Sp'!H17","v":0},{"$f":"'w-E_Sp'!I17","v":0},null,{"$f":"RANK(K138,$K$126:$K245,0)","v":1},{"$f":"'m-E_Sp'!B17","v":"M3/01-Sport"},{"$f":"'m-E_Sp'!D17","v":0},{"$f":"'m-E_Sp'!H17","v":0},{"$f":"'m-E_Sp'!I17","v":0}]
[{"$f":"RANK(E139,$E$126:$E245,0)","v":1},{"$f":"'w-E_Sp'!B18","v":"W3/02-Sport"},{"$f":"'w-E_Sp'!D18","v":0},{"$f":"'w-E_Sp'!H18","v":0},{"$f":"'w-E_Sp'!I18","v":0},null,{"$f":"RANK(K139,$K$126:$K245,0)","v":1},{"$f":"'m-E_Sp'!B18","v":"M3/02-Sport"},{"$f":"'m-E_Sp'!D18","v":0},{"$f":"'m-E_Sp'!H18","v":0},{"$f":"'m-E_Sp'!I18","v":0}]
[{"$f":"RANK(E140,$E$126:$E245,0)","v":1},{"$f":"'w-E_Sp'!B19","v":"W3/03-Sport"},{"$f":"'w-E_Sp'!D19","v":0},{"$f":"'w-E_Sp'!H19","v":0},{"$f":"'w-E_Sp'!I19","v":0},null,{"$f":"RANK(K140,$K$126:$K245,0)","v":1},{"$f":"'m-E_Sp'!B19","v":"M3/03-Sport"},{"$f":"'m-E_Sp'!D19","v":0},{"$f":"'m-E_Sp'!H19","v":0},{"$f":"'m-E_Sp'!I19","v":0}]
[{"$f":"RANK(E141,$E$126:$E245,0)","v":1},{"$f":"'w-E_Sp'!B20","v":"W3/04-Sport"},{"$f":"'w-E_Sp'!D20","v":0},{"$f":"'w-E_Sp'!H20","v":0},{"$f":"'w-E_Sp'!I20","v":0},null,{"$f":"RANK(K141,$K$126:$K245,0)","v":1},{"$f":"'m-E_Sp'!B20","v":"M3/04-Sport"},{"$f":"'m-E_Sp'!D20","v":0},{"$f":"'m-E_Sp'!H20","v":0},{"$f":"'m-E_Sp'!I20","v":0}]
[{"$f":"RANK(E142,$E$126:$E245,0)","v":1},{"$f":"'w-E_Sp'!B21","v":"W3/05-Sport"},{"$f":"'w-E_Sp'!D21","v":0},{"$f":"'w-E_Sp'!H21","v":0},{"$f":"'w-E_Sp'!I21","v":0},null,{"$f":"RANK(K142,$K$126:$K245,0)","v":1},{"$f":"'m-E_Sp'!B21","v":"M3/05-Sport"},{"$f":"'m-E_Sp'!D21","v":0},{"$f":"'m-E_Sp'!H21","v":0},{"$f":"'m-E_Sp'!I21","v":0}]
[{"$f":"RANK(E143,$E$126:$E245,0)","v":1},{"$f":"'w-E_Sp'!B22","v":"W3/06-Sport"},{"$f":"'w-E_Sp'!D22","v":0},{"$f":"'w-E_Sp'!H22","v":0},{"$f":"'w-E_Sp'!I22","v":0},null,{"$f":"RANK(K143,$K$126:$K245,0)","v":1},{"$f":"'m-E_Sp'!B22","v":"M3/06-Sport"},{"$f":"'m-E_Sp'!D22","v":0},{"$f":"'m-E_Sp'!H22","v":0},{"$f":"'m-E_Sp'!I22","v":0}]
[{"$f":"RANK(E144,$E$126:$E245,0)","v":1},{"$f":"'w-E_Sp'!B24","v":"W4/01-Sport"},{"$f":"'w-E_Sp'!D24","v":0},{"$f":"'w-E_Sp'!H24","v":0},{"$f":"'w-E_Sp'!I24","v":0},null,{"$f":"RANK(K144,$K$126:$K245,0)","v":1},{"$f":"'m-E_Sp'!B24","v":"M4/01-Sport"},{"$f":"'m-E_Sp'!D24","v":0},{"$f":"'m-E_Sp'!H24","v":0},{"$f":"'m-E_Sp'!I24","v":0}]
[{"$f":"RANK(E145,$E$126:$E245,0)","v":1},{"$f":"'w-E_Sp'!B25","v":"W4/02-Sport"},{"$f":"'w-E_Sp'!D25","v":0},{"$f":"'w-E_Sp'!H25","v":0},{"$f":"'w-E_Sp'!I25","v":0},null,{"$f":"RANK(K145,$K$126:$K245,0)","v":1},{"$f":"'m-E_Sp'!B25","v":"M4/02-Sport"},{"$f":"'m-E_Sp'!D25","v":0},{"$f":"'m-E_Sp'!H25","v":0},{"$f":"'m-E_Sp'!I25","v":0}]
[{"$f":"RANK(E146,$E$126:$E245,0)","v":1},{"$f":"'w-E_Sp'!B26","v":"W4/03-Sport"},{"$f":"'w-E_Sp'!D26","v":0},{"$f":"'w-E_Sp'!H26","v":0},{"$f":"'w-E_Sp'!I26","v":0},null,{"$f":"RANK(K146,$K$126:$K245,0)","v":1},{"$f":"'m-E_Sp'!B26","v":"M4/03-Sport"},{"$f":"'m-E_Sp'!D26","v":0},{"$f":"'m-E_Sp'!H26","v":0},{"$f":"'m-E_Sp'!I26","v":0}]
[{"$f":"RANK(E147,$E$126:$E245,0)","v":1},{"$f":"'w-E_Sp'!B27","v":"W4/04-Sport"},{"$f":"'w-E_Sp'!D27","v":0},{"$f":"'w-E_Sp'!H27","v":0},{"$f":"'w-E_Sp'!I27","v":0},null,{"$f":"RANK(K147,$K$126:$K245,0)","v":1},{"$f":"'m-E_Sp'!B27","v":"M4/04-Sport"},{"$f":"'m-E_Sp'!D27","v":0},{"$f":"'m-E_Sp'!H27","v":0},{"$f":"'m-E_Sp'!I27","v":0}]
[{"$f":"RANK(E148,$E$126:$E245,0)","v":1},{"$f":"'w-E_Sp'!B28","v":"W4/05-Sport"},{"$f":"'w-E_Sp'!D28","v":0},{"$f":"'w-E_Sp'!H28","v":0},{"$f":"'w-E_Sp'!I28","v":0},null,{"$f":"RANK(K148,$K$126:$K245,0)","v":1},{"$f":"'m-E_Sp'!B28","v":"M4/05-Sport"},{"$f":"'m-E_Sp'!D28","v":0},{"$f":"'m-E_Sp'!H28","v":0},{"$f":"'m-E_Sp'!I28","v":0}]
[{"$f":"RANK(E149,$E$126:$E245,0)","v":1},{"$f":"'w-E_Sp'!B29","v":"W4/06-Sport"},{"$f":"'w-E_Sp'!D29","v":0},{"$f":"'w-E_Sp'!H29","v":0},{"$f":"'w-E_Sp'!I29","v":0},null,{"$f":"RANK(K149,$K$126:$K245,0)","v":1},{"$f":"'m-E_Sp'!B29","v":"M4/06-Sport"},{"$f":"'m-E_Sp'!D29","v":0},{"$f":"'m-E_Sp'!H29","v":0},{"$f":"'m-E_Sp'!I29","v":0}]
[{"$f":"RANK(E150,$E$126:$E245,0)","v":1},{"$f":"'w-E_Sp'!B31","v":"W5/01-Sport"},{"$f":"'w-E_Sp'!D31","v":0},{"$f":"'w-E_Sp'!H31","v":0},{"$f":"'w-E_Sp'!I31","v":0},null,{"$f":"RANK(K150,$K$126:$K245,0)","v":1},{"$f":"'m-E_Sp'!B31","v":"M5/01-Sport"},{"$f":"'m-E_Sp'!D31","v":0},{"$f":"'m-E_Sp'!H31","v":0},{"$f":"'m-E_Sp'!I31","v":0}]
[{"$f":"RANK(E151,$E$126:$E245,0)","v":1},{"$f":"'w-E_Sp'!B32","v":"W5/02-Sport"},{"$f":"'w-E_Sp'!D32","v":0},{"$f":"'w-E_Sp'!H32","v":0},{"$f":"'w-E_Sp'!I32","v":0},null,{"$f":"RANK(K151,$K$126:$K245,0)","v":1},{"$f":"'m-E_Sp'!B32","v":"M5/02-Sport"},{"$f":"'m-E_Sp'!D32","v":0},{"$f":"'m-E_Sp'!H32","v":0},{"$f":"'m-E_Sp'!I32","v":0}]
[{"$f":"RANK(E152,$E$126:$E245,0)","v":1},{"$f":"'w-E_Sp'!B33","v":"W5/03-Sport"},{"$f":"'w-E_Sp'!D33","v":0},{"$f":"'w-E_Sp'!H33","v":0},{"$f":"'w-E_Sp'!I33","v":0},null,{"$f":"RANK(K152,$K$126:$K245,0)","v":1},{"$f":"'m-E_Sp'!B33","v":"M5/03-Sport"},{"$f":"'m-E_Sp'!D33","v":0},{"$f":"'m-E_Sp'!H33","v":0},{"$f":"'m-E_Sp'!I33","v":0}]
[{"$f":"RANK(E153,$E$126:$E245,0)","v":1},{"$f":"'w-E_Sp'!B34","v":"W5/04-Sport"},{"$f":"'w-E_Sp'!D34","v":0},{"$f":"'w-E_Sp'!H34","v":0},{"$f":"'w-E_Sp'!I34","v":0},null,{"$f":"RANK(K153,$K$126:$K245,0)","v":1},{"$f":"'m-E_Sp'!B34","v":"M5/04-Sport"},{"$f":"'m-E_Sp'!D34","v":0},{"$f":"'m-E_Sp'!H34","v":0},{"$f":"'m-E_Sp'!I34","v":0}]
[{"$f":"RANK(E154,$E$126:$E245,0)","v":1},{"$f":"'w-E_Sp'!B35","v":"W5/05-Sport"},{"$f":"'w-E_Sp'!D35","v":0},{"$f":"'w-E_Sp'!H35","v":0},{"$f":"'w-E_Sp'!I35","v":0},null,{"$f":"RANK(K154,$K$126:$K245,0)","v":1},{"$f":"'m-E_Sp'!B35","v":"M5/05-Sport"},{"$f":"'m-E_Sp'!D35","v":0},{"$f":"'m-E_Sp'!H35","v":0},{"$f":"'m-E_Sp'!I35","v":0}]
[{"$f":"RANK(E155,$E$126:$E245,0)","v":1},{"$f":"'w-E_Sp'!B36","v":"W5/06-Sport"},{"$f":"'w-E_Sp'!D36","v":0},{"$f":"'w-E_Sp'!H36","v":0},{"$f":"'w-E_Sp'!I36","v":0},null,{"$f":"RANK(K155,$K$126:$K245,0)","v":1},{"$f":"'m-E_Sp'!B36","v":"M5/06-Sport"},{"$f":"'m-E_Sp'!D36","v":0},{"$f":"'m-E_Sp'!H36","v":0},{"$f":"'m-E_Sp'!I36","v":0}]
[{"$f":"RANK(E156,$E$126:$E245,0)","v":1},{"$f":"'w-E_Sp'!B38","v":"W6/01-Sport"},{"$f":"'w-E_Sp'!D38","v":0},{"$f":"'w-E_Sp'!H38","v":0},{"$f":"'w-E_Sp'!I38","v":0},null,{"$f":"RANK(K156,$K$126:$K245,0)","v":1},{"$f":"'m-E_Sp'!B38","v":"M6/01-Sport"},{"$f":"'m-E_Sp'!D38","v":0},{"$f":"'m-E_Sp'!H38","v":0},{"$f":"'m-E_Sp'!I38","v":0}]
[{"$f":"RANK(E157,$E$126:$E245,0)","v":1},{"$f":"'w-E_Sp'!B39","v":"W6/02-Sport"},{"$f":"'w-E_Sp'!D39","v":0},{"$f":"'w-E_Sp'!H39","v":0},{"$f":"'w-E_Sp'!I39","v":0},null,{"$f":"RANK(K157,$K$126:$K245,0)","v":1},{"$f":"'m-E_Sp'!B39","v":"M6/02-Sport"},{"$f":"'m-E_Sp'!D39","v":0},{"$f":"'m-E_Sp'!H39","v":0},{"$f":"'m-E_Sp'!I39","v":0}]
[{"$f":"RANK(E158,$E$126:$E245,0)","v":1},{"$f":"'w-E_Sp'!B40","v":"W6/03-Sport"},{"$f":"'w-E_Sp'!D40","v":0},{"$f":"'w-E_Sp'!H40","v":0},{"$f":"'w-E_Sp'!I40","v":0},null,{"$f":"RANK(K158,$K$126:$K245,0)","v":1},{"$f":"'m-E_Sp'!B40","v":"M6/03-Sport"},{"$f":"'m-E_Sp'!D40","v":0},{"$f":"'m-E_Sp'!H40","v":0},{"$f":"'m-E_Sp'!I40","v":0}]
[{"$f":"RANK(E159,$E$126:$E245,0)","v":1},{"$f":"'w-E_Sp'!B41","v":"W6/04-Sport"},{"$f":"'w-E_Sp'!D41","v":0},{"$f":"'w-E_Sp'!H41","v":0},{"$f":"'w-E_Sp'!I41","v":0},null,{"$f":"RANK(K159,$K$126:$K245,0)","v":1},{"$f":"'m-E_Sp'!B41","v":"M6/04-Sport"},{"$f":"'m-E_Sp'!D41","v":0},{"$f":"'m-E_Sp'!H41","v":0},{"$f":"'m-E_Sp'!I41","v":0}]
[{"$f":"RANK(E160,$E$126:$E245,0)","v":1},{"$f":"'w-E_Sp'!B42","v":"W6/05-Sport"},{"$f":"'w-E_Sp'!D42","v":0},{"$f":"'w-E_Sp'!H42","v":0},{"$f":"'w-E_Sp'!I42","v":0},null,{"$f":"RANK(K160,$K$126:$K245,0)","v":1},{"$f":"'m-E_Sp'!B42","v":"M6/05-Sport"},{"$f":"'m-E_Sp'!D42","v":0},{"$f":"'m-E_Sp'!H42","v":0},{"$f":"'m-E_Sp'!I42","v":0}]
[{"$f":"RANK(E161,$E$126:$E245,0)","v":1},{"$f":"'w-E_Sp'!B43","v":"W6/06-Sport"},{"$f":"'w-E_Sp'!D43","v":0},{"$f":"'w-E_Sp'!H43","v":0},{"$f":"'w-E_Sp'!I43","v":0},null,{"$f":"RANK(K161,$K$126:$K245,0)","v":1},{"$f":"'m-E_Sp'!B43","v":"M6/06-Sport"},{"$f":"'m-E_Sp'!D43","v":0},{"$f":"'m-E_Sp'!H43","v":0},{"$f":"'m-E_Sp'!I43","v":0}]
[{"$f":"RANK(E162,$E$126:$E245,0)","v":1},{"$f":"'w-E_Sp'!B45","v":"W7/01-Sport"},{"$f":"'w-E_Sp'!D45","v":0},{"$f":"'w-E_Sp'!H45","v":0},{"$f":"'w-E_Sp'!I45","v":0},null,{"$f":"RANK(K162,$K$126:$K245,0)","v":1},{"$f":"'m-E_Sp'!B45","v":"M7/01-Sport"},{"$f":"'m-E_Sp'!D45","v":0},{"$f":"'m-E_Sp'!H45","v":0},{"$f":"'m-E_Sp'!I45","v":0}]
[{"$f":"RANK(E163,$E$126:$E245,0)","v":1},{"$f":"'w-E_Sp'!B46","v":"W7/02-Sport"},{"$f":"'w-E_Sp'!D46","v":0},{"$f":"'w-E_Sp'!H46","v":0},{"$f":"'w-E_Sp'!I46","v":0},null,{"$f":"RANK(K163,$K$126:$K245,0)","v":1},{"$f":"'m-E_Sp'!B46","v":"M7/02-Sport"},{"$f":"'m-E_Sp'!D46","v":0},{"$f":"'m-E_Sp'!H46","v":0},{"$f":"'m-E_Sp'!I46","v":0}]
[{"$f":"RANK(E164,$E$126:$E245,0)","v":1},{"$f":"'w-E_Sp'!B47","v":"W7/03-Sport"},{"$f":"'w-E_Sp'!D47","v":0},{"$f":"'w-E_Sp'!H47","v":0},{"$f":"'w-E_Sp'!I47","v":0},null,{"$f":"RANK(K164,$K$126:$K245,0)","v":1},{"$f":"'m-E_Sp'!B47","v":"M7/03-Sport"},{"$f":"'m-E_Sp'!D47","v":0},{"$f":"'m-E_Sp'!H47","v":0},{"$f":"'m-E_Sp'!I47","v":0}]
[{"$f":"RANK(E165,$E$126:$E245,0)","v":1},{"$f":"'w-E_Sp'!B48","v":"W7/04-Sport"},{"$f":"'w-E_Sp'!D48","v":0},{"$f":"'w-E_Sp'!H48","v":0},{"$f":"'w-E_Sp'!I48","v":0},null,{"$f":"RANK(K165,$K$126:$K245,0)","v":1},{"$f":"'m-E_Sp'!B48","v":"M7/04-Sport"},{"$f":"'m-E_Sp'!D48","v":0},{"$f":"'m-E_Sp'!H48","v":0},{"$f":"'m-E_Sp'!I48","v":0}]
[{"$f":"RANK(E166,$E$126:$E245,0)","v":1},{"$f":"'w-E_Sp'!B49","v":"W7/05-Sport"},{"$f":"'w-E_Sp'!D49","v":0},{"$f":"'w-E_Sp'!H49","v":0},{"$f":"'w-E_Sp'!I49","v":0},null,{"$f":"RANK(K166,$K$126:$K245,0)","v":1},{"$f":"'m-E_Sp'!B49","v":"M7/05-Sport"},{"$f":"'m-E_Sp'!D49","v":0},{"$f":"'m-E_Sp'!H49","v":0},{"$f":"'m-E_Sp'!I49","v":0}]
[{"$f":"RANK(E167,$E$126:$E245,0)","v":1},{"$f":"'w-E_Sp'!B50","v":"W7/06-Sport"},{"$f":"'w-E_Sp'!D50","v":0},{"$f":"'w-E_Sp'!H50","v":0},{"$f":"'w-E_Sp'!I50","v":0},null,{"$f":"RANK(K167,$K$126:$K245,0)","v":1},{"$f":"'m-E_Sp'!B50","v":"M7/06-Sport"},{"$f":"'m-E_Sp'!D50","v":0},{"$f":"'m-E_Sp'!H50","v":0},{"$f":"'m-E_Sp'!I50","v":0}]
[{"$f":"RANK(E168,$E$126:$E245,0)","v":1},{"$f":"'w-E_Sp'!B52","v":"W8/01-Sport"},{"$f":"'w-E_Sp'!D52","v":0},{"$f":"'w-E_Sp'!H52","v":0},{"$f":"'w-E_Sp'!I52","v":0},null,{"$f":"RANK(K168,$K$126:$K245,0)","v":1},{"$f":"'m-E_Sp'!B52","v":"M8/01-Sport"},{"$f":"'m-E_Sp'!D52","v":0},{"$f":"'m-E_Sp'!H52","v":0},{"$f":"'m-E_Sp'!I52","v":0}]
[{"$f":"RANK(E169,$E$126:$E245,0)","v":1},{"$f":"'w-E_Sp'!B53","v":"W8/02-Sport"},{"$f":"'w-E_Sp'!D53","v":0},{"$f":"'w-E_Sp'!H53","v":0},{"$f":"'w-E_Sp'!I53","v":0},null,{"$f":"RANK(K169,$K$126:$K245,0)","v":1},{"$f":"'m-E_Sp'!B53","v":"M8/02-Sport"},{"$f":"'m-E_Sp'!D53","v":0},{"$f":"'m-E_Sp'!H53","v":0},{"$f":"'m-E_Sp'!I53","v":0}]
[{"$f":"RANK(E170,$E$126:$E245,0)","v":1},{"$f":"'w-E_Sp'!B54","v":"W8/03-Sport"},{"$f":"'w-E_Sp'!D54","v":0},{"$f":"'w-E_Sp'!H54","v":0},{"$f":"'w-E_Sp'!I54","v":0},null,{"$f":"RANK(K170,$K$126:$K245,0)","v":1},{"$f":"'m-E_Sp'!B54","v":"M8/03-Sport"},{"$f":"'m-E_Sp'!D54","v":0},{"$f":"'m-E_Sp'!H54","v":0},{"$f":"'m-E_Sp'!I54","v":0}]
[{"$f":"RANK(E171,$E$126:$E245,0)","v":1},{"$f":"'w-E_Sp'!B55","v":"W8/04-Sport"},{"$f":"'w-E_Sp'!D55","v":0},{"$f":"'w-E_Sp'!H55","v":0},{"$f":"'w-E_Sp'!I55","v":0},null,{"$f":"RANK(K171,$K$126:$K245,0)","v":1},{"$f":"'m-E_Sp'!B55","v":"M8/04-Sport"},{"$f":"'m-E_Sp'!D55","v":0},{"$f":"'m-E_Sp'!H55","v":0},{"$f":"'m-E_Sp'!I55","v":0}]
[{"$f":"RANK(E172,$E$126:$E245,0)","v":1},{"$f":"'w-E_Sp'!B56","v":"W8/05-Sport"},{"$f":"'w-E_Sp'!D56","v":0},{"$f":"'w-E_Sp'!H56","v":0},{"$f":"'w-E_Sp'!I56","v":0},null,{"$f":"RANK(K172,$K$126:$K245,0)","v":1},{"$f":"'m-E_Sp'!B56","v":"M8/05-Sport"},{"$f":"'m-E_Sp'!D56","v":0},{"$f":"'m-E_Sp'!H56","v":0},{"$f":"'m-E_Sp'!I56","v":0}]
[{"$f":"RANK(E173,$E$126:$E245,0)","v":1},{"$f":"'w-E_Sp'!B57","v":"W8/06-Sport"},{"$f":"'w-E_Sp'!D57","v":0},{"$f":"'w-E_Sp'!H57","v":0},{"$f":"'w-E_Sp'!I57","v":0},null,{"$f":"RANK(K173,$K$126:$K245,0)","v":1},{"$f":"'m-E_Sp'!B57","v":"M8/06-Sport"},{"$f":"'m-E_Sp'!D57","v":0},{"$f":"'m-E_Sp'!H57","v":0},{"$f":"'m-E_Sp'!I57","v":0}]
[{"$f":"RANK(E174,$E$126:$E245,0)","v":1},{"$f":"'w-E_Sp'!B59","v":"W9/01-Sport"},{"$f":"'w-E_Sp'!D59","v":0},{"$f":"'w-E_Sp'!H59","v":0},{"$f":"'w-E_Sp'!I59","v":0},null,{"$f":"RANK(K174,$K$126:$K245,0)","v":1},{"$f":"'m-E_Sp'!B59","v":"M9/01-Sport"},{"$f":"'m-E_Sp'!D59","v":0},{"$f":"'m-E_Sp'!H59","v":0},{"$f":"'m-E_Sp'!I59","v":0}]
[{"$f":"RANK(E175,$E$126:$E245,0)","v":1},{"$f":"'w-E_Sp'!B60","v":"W9/02-Sport"},{"$f":"'w-E_Sp'!D60","v":0},{"$f":"'w-E_Sp'!H60","v":0},{"$f":"'w-E_Sp'!I60","v":0},null,{"$f":"RANK(K175,$K$126:$K245,0)","v":1},{"$f":"'m-E_Sp'!B60","v":"M9/02-Sport"},{"$f":"'m-E_Sp'!D60","v":0},{"$f":"'m-E_Sp'!H60","v":0},{"$f":"'m-E_Sp'!I60","v":0}]
[{"$f":"RANK(E176,$E$126:$E245,0)","v":1},{"$f":"'w-E_Sp'!B61","v":"W9/03-Sport"},{"$f":"'w-E_Sp'!D61","v":0},{"$f":"'w-E_Sp'!H61","v":0},{"$f":"'w-E_Sp'!I61","v":0},null,{"$f":"RANK(K176,$K$126:$K245,0)","v":1},{"$f":"'m-E_Sp'!B61","v":"M9/03-Sport"},{"$f":"'m-E_Sp'!D61","v":0},{"$f":"'m-E_Sp'!H61","v":0},{"$f":"'m-E_Sp'!I61","v":0}]
[{"$f":"RANK(E177,$E$126:$E245,0)","v":1},{"$f":"'w-E_Sp'!B62","v":"W9/04-Sport"},{"$f":"'w-E_Sp'!D62","v":0},{"$f":"'w-E_Sp'!H62","v":0},{"$f":"'w-E_Sp'!I62","v":0},null,{"$f":"RANK(K177,$K$126:$K245,0)","v":1},{"$f":"'m-E_Sp'!B62","v":"M9/04-Sport"},{"$f":"'m-E_Sp'!D62","v":0},{"$f":"'m-E_Sp'!H62","v":0},{"$f":"'m-E_Sp'!I62","v":0}]
[{"$f":"RANK(E178,$E$126:$E245,0)","v":1},{"$f":"'w-E_Sp'!B63","v":"W9/05-Sport"},{"$f":"'w-E_Sp'!D63","v":0},{"$f":"'w-E_Sp'!H63","v":0},{"$f":"'w-E_Sp'!I63","v":0},null,{"$f":"RANK(K178,$K$126:$K245,0)","v":1},{"$f":"'m-E_Sp'!B63","v":"M9/05-Sport"},{"$f":"'m-E_Sp'!D63","v":0},{"$f":"'m-E_Sp'!H63","v":0},{"$f":"'m-E_Sp'!I63","v":0}]
[{"$f":"RANK(E179,$E$126:$E245,0)","v":1},{"$f":"'w-E_Sp'!B64","v":"W9/06-Sport"},{"$f":"'w-E_Sp'!D64","v":0},{"$f":"'w-E_Sp'!H64","v":0},{"$f":"'w-E_Sp'!I64","v":0},null,{"$f":"RANK(K179,$K$126:$K245,0)","v":1},{"$f":"'m-E_Sp'!B64","v":"M9/06-Sport"},{"$f":"'m-E_Sp'!D64","v":0},{"$f":"'m-E_Sp'!H64","v":0},{"$f":"'m-E_Sp'!I64","v":0}]
[{"$f":"RANK(E180,$E$126:$E245,0)","v":1},{"$f":"'w-E_Sp'!B66","v":"W10/01-Sport"},{"$f":"'w-E_Sp'!D66","v":0},{"$f":"'w-E_Sp'!H66","v":0},{"$f":"'w-E_Sp'!I66","v":0},null,{"$f":"RANK(K180,$K$126:$K245,0)","v":1},{"$f":"'m-E_Sp'!B66","v":"M10/01-Sport"},{"$f":"'m-E_Sp'!D66","v":0},{"$f":"'m-E_Sp'!H66","v":0},{"$f":"'m-E_Sp'!I66","v":0}]
[{"$f":"RANK(E181,$E$126:$E245,0)","v":1},{"$f":"'w-E_Sp'!B67","v":"W10/02-Sport"},{"$f":"'w-E_Sp'!D67","v":0},{"$f":"'w-E_Sp'!H67","v":0},{"$f":"'w-E_Sp'!I67","v":0},null,{"$f":"RANK(K181,$K$126:$K245,0)","v":1},{"$f":"'m-E_Sp'!B67","v":"M10/02-Sport"},{"$f":"'m-E_Sp'!D67","v":0},{"$f":"'m-E_Sp'!H67","v":0},{"$f":"'m-E_Sp'!I67","v":0}]
[{"$f":"RANK(E182,$E$126:$E245,0)","v":1},{"$f":"'w-E_Sp'!B68","v":"W10/03-Sport"},{"$f":"'w-E_Sp'!D68","v":0},{"$f":"'w-E_Sp'!H68","v":0},{"$f":"'w-E_Sp'!I68","v":0},null,{"$f":"RANK(K182,$K$126:$K245,0)","v":1},{"$f":"'m-E_Sp'!B68","v":"M10/03-Sport"},{"$f":"'m-E_Sp'!D68","v":0},{"$f":"'m-E_Sp'!H68","v":0},{"$f":"'m-E_Sp'!I68","v":0}]
[{"$f":"RANK(E183,$E$126:$E245,0)","v":1},{"$f":"'w-E_Sp'!B69","v":"W10/04-Sport"},{"$f":"'w-E_Sp'!D69","v":0},{"$f":"'w-E_Sp'!H69","v":0},{"$f":"'w-E_Sp'!I69","v":0},null,{"$f":"RANK(K183,$K$126:$K245,0)","v":1},{"$f":"'m-E_Sp'!B69","v":"M10/04-Sport"},{"$f":"'m-E_Sp'!D69","v":0},{"$f":"'m-E_Sp'!H69","v":0},{"$f":"'m-E_Sp'!I69","v":0}]
[{"$f":"RANK(E184,$E$126:$E245,0)","v":1},{"$f":"'w-E_Sp'!B70","v":"W10/05-Sport"},{"$f":"'w-E_Sp'!D70","v":0},{"$f":"'w-E_Sp'!H70","v":0},{"$f":"'w-E_Sp'!I70","v":0},null,{"$f":"RANK(K184,$K$126:$K245,0)","v":1},{"$f":"'m-E_Sp'!B70","v":"M10/05-Sport"},{"$f":"'m-E_Sp'!D70","v":0},{"$f":"'m-E_Sp'!H70","v":0},{"$f":"'m-E_Sp'!I70","v":0}]
[{"$f":"RANK(E185,$E$126:$E245,0)","v":1},{"$f":"'w-E_Sp'!B71","v":"W10/06-Sport"},{"$f":"'w-E_Sp'!D71","v":0},{"$f":"'w-E_Sp'!H71","v":0},{"$f":"'w-E_Sp'!I71","v":0},null,{"$f":"RANK(K185,$K$126:$K245,0)","v":1},{"$f":"'m-E_Sp'!B71","v":"M10/06-Sport"},{"$f":"'m-E_Sp'!D71","v":0},{"$f":"'m-E_Sp'!H71","v":0},{"$f":"'m-E_Sp'!I71","v":0}]
[{"$f":"RANK(E186,$E$126:$E245,0)","v":1},{"$f":"'w-E_Sp'!B73","v":"W11/01-Sport"},{"$f":"'w-E_Sp'!D73","v":0},{"$f":"'w-E_Sp'!H73","v":0},{"$f":"'w-E_Sp'!I73","v":0},null,{"$f":"RANK(K186,$K$126:$K245,0)","v":1},{"$f":"'m-E_Sp'!B73","v":"M11/01-Sport"},{"$f":"'m-E_Sp'!D73","v":0},{"$f":"'m-E_Sp'!H73","v":0},{"$f":"'m-E_Sp'!I73","v":0}]
[{"$f":"RANK(E187,$E$126:$E245,0)","v":1},{"$f":"'w-E_Sp'!B74","v":"W11/02-Sport"},{"$f":"'w-E_Sp'!D74","v":0},{"$f":"'w-E_Sp'!H74","v":0},{"$f":"'w-E_Sp'!I74","v":0},null,{"$f":"RANK(K187,$K$126:$K245,0)","v":1},{"$f":"'m-E_Sp'!B74","v":"M11/02-Sport"},{"$f":"'m-E_Sp'!D74","v":0},{"$f":"'m-E_Sp'!H74","v":0},{"$f":"'m-E_Sp'!I74","v":0}]
[{"$f":"RANK(E188,$E$126:$E245,0)","v":1},{"$f":"'w-E_Sp'!B75","v":"W11/03-Sport"},{"$f":"'w-E_Sp'!D75","v":0},{"$f":"'w-E_Sp'!H75","v":0},{"$f":"'w-E_Sp'!I75","v":0},null,{"$f":"RANK(K188,$K$126:$K245,0)","v":1},{"$f":"'m-E_Sp'!B75","v":"M11/03-Sport"},{"$f":"'m-E_Sp'!D75","v":0},{"$f":"'m-E_Sp'!H75","v":0},{"$f":"'m-E_Sp'!I75","v":0}]
[{"$f":"RANK(E189,$E$126:$E245,0)","v":1},{"$f":"'w-E_Sp'!B76","v":"W11/04-Sport"},{"$f":"'w-E_Sp'!D76","v":0},{"$f":"'w-E_Sp'!H76","v":0},{"$f":"'w-E_Sp'!I76","v":0},null,{"$f":"RANK(K189,$K$126:$K245,0)","v":1},{"$f":"'m-E_Sp'!B76","v":"M11/04-Sport"},{"$f":"'m-E_Sp'!D76","v":0},{"$f":"'m-E_Sp'!H76","v":0},{"$f":"'m-E_Sp'!I76","v":0}]
[{"$f":"RANK(E190,$E$126:$E245,0)","v":1},{"$f":"'w-E_Sp'!B77","v":"W11/05-Sport"},{"$f":"'w-E_Sp'!D77","v":0},{"$f":"'w-E_Sp'!H77","v":0},{"$f":"'w-E_Sp'!I77","v":0},null,{"$f":"RANK(K190,$K$126:$K245,0)","v":1},{"$f":"'m-E_Sp'!B77","v":"M11/05-Sport"},{"$f":"'m-E_Sp'!D77","v":0},{"$f":"'m-E_Sp'!H77","v":0},{"$f":"'m-E_Sp'!I77","v":0}]
[{"$f":"RANK(E191,$E$126:$E245,0)","v":1},{"$f":"'w-E_Sp'!B78","v":"W11/06-Sport"},{"$f":"'w-E_Sp'!D78","v":0},{"$f":"'w-E_Sp'!H78","v":0},{"$f":"'w-E_Sp'!I78","v":0},null,{"$f":"RANK(K191,$K$126:$K245,0)","v":1},{"$f":"'m-E_Sp'!B78","v":"M11/06-Sport"},{"$f":"'m-E_Sp'!D78","v":0},{"$f":"'m-E_Sp'!H78","v":0},{"$f":"'m-E_Sp'!I78","v":0}]
[{"$f":"RANK(E192,$E$126:$E245,0)","v":1},{"$f":"'w-E_Sp'!B80","v":"W12/01-Sport"},{"$f":"'w-E_Sp'!D80","v":0},{"$f":"'w-E_Sp'!H80","v":0},{"$f":"'w-E_Sp'!I80","v":0},null,{"$f":"RANK(K192,$K$126:$K245,0)","v":1},{"$f":"'m-E_Sp'!B80","v":"M12/01-Sport"},{"$f":"'m-E_Sp'!D80","v":0},{"$f":"'m-E_Sp'!H80","v":0},{"$f":"'m-E_Sp'!I80","v":0}]
[{"$f":"RANK(E193,$E$126:$E245,0)","v":1},{"$f":"'w-E_Sp'!B81","v":"W12/02-Sport"},{"$f":"'w-E_Sp'!D81","v":0},{"$f":"'w-E_Sp'!H81","v":0},{"$f":"'w-E_Sp'!I81","v":0},null,{"$f":"RANK(K193,$K$126:$K245,0)","v":1},{"$f":"'m-E_Sp'!B81","v":"M12/02-Sport"},{"$f":"'m-E_Sp'!D81","v":0},{"$f":"'m-E_Sp'!H81","v":0},{"$f":"'m-E_Sp'!I81","v":0}]
[{"$f":"RANK(E194,$E$126:$E245,0)","v":1},{"$f":"'w-E_Sp'!B82","v":"W12/03-Sport"},{"$f":"'w-E_Sp'!D82","v":0},{"$f":"'w-E_Sp'!H82","v":0},{"$f":"'w-E_Sp'!I82","v":0},null,{"$f":"RANK(K194,$K$126:$K245,0)","v":1},{"$f":"'m-E_Sp'!B82","v":"M12/03-Sport"},{"$f":"'m-E_Sp'!D82","v":0},{"$f":"'m-E_Sp'!H82","v":0},{"$f":"'m-E_Sp'!I82","v":0}]
[{"$f":"RANK(E195,$E$126:$E245,0)","v":1},{"$f":"'w-E_Sp'!B83","v":"W12/04-Sport"},{"$f":"'w-E_Sp'!D83","v":0},{"$f":"'w-E_Sp'!H83","v":0},{"$f":"'w-E_Sp'!I83","v":0},null,{"$f":"RANK(K195,$K$126:$K245,0)","v":1},{"$f":"'m-E_Sp'!B83","v":"M12/04-Sport"},{"$f":"'m-E_Sp'!D83","v":0},{"$f":"'m-E_Sp'!H83","v":0},{"$f":"'m-E_Sp'!I83","v":0}]
[{"$f":"RANK(E196,$E$126:$E245,0)","v":1},{"$f":"'w-E_Sp'!B84","v":"W12/05-Sport"},{"$f":"'w-E_Sp'!D84","v":0},{"$f":"'w-E_Sp'!H84","v":0},{"$f":"'w-E_Sp'!I84","v":0},null,{"$f":"RANK(K196,$K$126:$K245,0)","v":1},{"$f":"'m-E_Sp'!B84","v":"M12/05-Sport"},{"$f":"'m-E_Sp'!D84","v":0},{"$f":"'m-E_Sp'!H84","v":0},{"$f":"'m-E_Sp'!I84","v":0}]
[{"$f":"RANK(E197,$E$126:$E245,0)","v":1},{"$f":"'w-E_Sp'!B85","v":"W12/06-Sport"},{"$f":"'w-E_Sp'!D85","v":0},{"$f":"'w-E_Sp'!H85","v":0},{"$f":"'w-E_Sp'!I85","v":0},null,{"$f":"RANK(K197,$K$126:$K245,0)","v":1},{"$f":"'m-E_Sp'!B85","v":"M12/06-Sport"},{"$f":"'m-E_Sp'!D85","v":0},{"$f":"'m-E_Sp'!H85","v":0},{"$f":"'m-E_Sp'!I85","v":0}]
[{"$f":"RANK(E198,$E$126:$E245,0)","v":1},{"$f":"'w-E_Sp'!B87","v":"W13/01-Sport"},{"$f":"'w-E_Sp'!D87","v":0},{"$f":"'w-E_Sp'!H87","v":0},{"$f":"'w-E_Sp'!I87","v":0},null,{"$f":"RANK(K198,$K$126:$K245,0)","v":1},{"$f":"'m-E_Sp'!B87","v":"M13/01-Sport"},{"$f":"'m-E_Sp'!D87","v":0},{"$f":"'m-E_Sp'!H87","v":0},{"$f":"'m-E_Sp'!I87","v":0}]
[{"$f":"RANK(E199,$E$126:$E245,0)","v":1},{"$f":"'w-E_Sp'!B88","v":"W13/02-Sport"},{"$f":"'w-E_Sp'!D88","v":0},{"$f":"'w-E_Sp'!H88","v":0},{"$f":"'w-E_Sp'!I88","v":0},null,{"$f":"RANK(K199,$K$126:$K245,0)","v":1},{"$f":"'m-E_Sp'!B88","v":"M13/02-Sport"},{"$f":"'m-E_Sp'!D88","v":0},{"$f":"'m-E_Sp'!H88","v":0},{"$f":"'m-E_Sp'!I88","v":0}]
[{"$f":"RANK(E200,$E$126:$E245,0)","v":1},{"$f":"'w-E_Sp'!B89","v":"W13/03-Sport"},{"$f":"'w-E_Sp'!D89","v":0},{"$f":"'w-E_Sp'!H89","v":0},{"$f":"'w-E_Sp'!I89","v":0},null,{"$f":"RANK(K200,$K$126:$K245,0)","v":1},{"$f":"'m-E_Sp'!B89","v":"M13/03-Sport"},{"$f":"'m-E_Sp'!D89","v":0},{"$f":"'m-E_Sp'!H89","v":0},{"$f":"'m-E_Sp'!I89","v":0}]
[{"$f":"RANK(E201,$E$126:$E245,0)","v":1},{"$f":"'w-E_Sp'!B90","v":"W13/04-Sport"},{"$f":"'w-E_Sp'!D90","v":0},{"$f":"'w-E_Sp'!H90","v":0},{"$f":"'w-E_Sp'!I90","v":0},null,{"$f":"RANK(K201,$K$126:$K245,0)","v":1},{"$f":"'m-E_Sp'!B90","v":"M13/04-Sport"},{"$f":"'m-E_Sp'!D90","v":0},{"$f":"'m-E_Sp'!H90","v":0},{"$f":"'m-E_Sp'!I90","v":0}]
[{"$f":"RANK(E202,$E$126:$E245,0)","v":1},{"$f":"'w-E_Sp'!B91","v":"W13/05-Sport"},{"$f":"'w-E_Sp'!D91","v":0},{"$f":"'w-E_Sp'!H91","v":0},{"$f":"'w-E_Sp'!I91","v":0},null,{"$f":"RANK(K202,$K$126:$K245,0)","v":1},{"$f":"'m-E_Sp'!B91","v":"M13/05-Sport"},{"$f":"'m-E_Sp'!D91","v":0},{"$f":"'m-E_Sp'!H91","v":0},{"$f":"'m-E_Sp'!I91","v":0}]
[{"$f":"RANK(E203,$E$126:$E245,0)","v":1},{"$f":"'w-E_Sp'!B92","v":"W13/06-Sport"},{"$f":"'w-E_Sp'!D92","v":0},{"$f":"'w-E_Sp'!H92","v":0},{"$f":"'w-E_Sp'!I92","v":0},null,{"$f":"RANK(K203,$K$126:$K245,0)","v":1},{"$f":"'m-E_Sp'!B92","v":"M13/06-Sport"},{"$f":"'m-E_Sp'!D92","v":0},{"$f":"'m-E_Sp'!H92","v":0},{"$f":"'m-E_Sp'!I92","v":0}]
[{"$f":"RANK(E204,$E$126:$E245,0)","v":1},{"$f":"'w-E_Sp'!B94","v":"W14/01-Sport"},{"$f":"'w-E_Sp'!D94","v":0},{"$f":"'w-E_Sp'!H94","v":0},{"$f":"'w-E_Sp'!I94","v":0},null,{"$f":"RANK(K204,$K$126:$K245,0)","v":1},{"$f":"'m-E_Sp'!B94","v":"M14/01-Sport"},{"$f":"'m-E_Sp'!D94","v":0},{"$f":"'m-E_Sp'!H94","v":0},{"$f":"'m-E_Sp'!I94","v":0}]
[{"$f":"RANK(E205,$E$126:$E245,0)","v":1},{"$f":"'w-E_Sp'!B95","v":"W14/02-Sport"},{"$f":"'w-E_Sp'!D95","v":0},{"$f":"'w-E_Sp'!H95","v":0},{"$f":"'w-E_Sp'!I95","v":0},null,{"$f":"RANK(K205,$K$126:$K245,0)","v":1},{"$f":"'m-E_Sp'!B95","v":"M14/02-Sport"},{"$f":"'m-E_Sp'!D95","v":0},{"$f":"'m-E_Sp'!H95","v":0},{"$f":"'m-E_Sp'!I95","v":0}]
[{"$f":"RANK(E206,$E$126:$E245,0)","v":1},{"$f":"'w-E_Sp'!B96","v":"W14/03-Sport"},{"$f":"'w-E_Sp'!D96","v":0},{"$f":"'w-E_Sp'!H96","v":0},{"$f":"'w-E_Sp'!I96","v":0},null,{"$f":"RANK(K206,$K$126:$K245,0)","v":1},{"$f":"'m-E_Sp'!B96","v":"M14/03-Sport"},{"$f":"'m-E_Sp'!D96","v":0},{"$f":"'m-E_Sp'!H96","v":0},{"$f":"'m-E_Sp'!I96","v":0}]
[{"$f":"RANK(E207,$E$126:$E245,0)","v":1},{"$f":"'w-E_Sp'!B97","v":"W14/04-Sport"},{"$f":"'w-E_Sp'!D97","v":0},{"$f":"'w-E_Sp'!H97","v":0},{"$f":"'w-E_Sp'!I97","v":0},null,{"$f":"RANK(K207,$K$126:$K245,0)","v":1},{"$f":"'m-E_Sp'!B97","v":"M14/04-Sport"},{"$f":"'m-E_Sp'!D97","v":0},{"$f":"'m-E_Sp'!H97","v":0},{"$f":"'m-E_Sp'!I97","v":0}]
[{"$f":"RANK(E208,$E$126:$E245,0)","v":1},{"$f":"'w-E_Sp'!B98","v":"W14/05-Sport"},{"$f":"'w-E_Sp'!D98","v":0},{"$f":"'w-E_Sp'!H98","v":0},{"$f":"'w-E_Sp'!I98","v":0},null,{"$f":"RANK(K208,$K$126:$K245,0)","v":1},{"$f":"'m-E_Sp'!B98","v":"M14/05-Sport"},{"$f":"'m-E_Sp'!D98","v":0},{"$f":"'m-E_Sp'!H98","v":0},{"$f":"'m-E_Sp'!I98","v":0}]
[{"$f":"RANK(E209,$E$126:$E245,0)","v":1},{"$f":"'w-E_Sp'!B99","v":"W14/06-Sport"},{"$f":"'w-E_Sp'!D99","v":0},{"$f":"'w-E_Sp'!H99","v":0},{"$f":"'w-E_Sp'!I99","v":0},null,{"$f":"RANK(K209,$K$126:$K245,0)","v":1},{"$f":"'m-E_Sp'!B99","v":"M14/06-Sport"},{"$f":"'m-E_Sp'!D99","v":0},{"$f":"'m-E_Sp'!H99","v":0},{"$f":"'m-E_Sp'!I99","v":0}]
[{"$f":"RANK(E210,$E$126:$E245,0)","v":1},{"$f":"'w-E_Sp'!B101","v":"W15/01-Sport"},{"$f":"'w-E_Sp'!D101","v":0},{"$f":"'w-E_Sp'!H101","v":0},{"$f":"'w-E_Sp'!I101","v":0},null,{"$f":"RANK(K210,$K$126:$K245,0)","v":1},{"$f":"'m-E_Sp'!B101","v":"M15/01-Sport"},{"$f":"'m-E_Sp'!D101","v":0},{"$f":"'m-E_Sp'!H101","v":0},{"$f":"'m-E_Sp'!I101","v":0}]
[{"$f":"RANK(E211,$E$126:$E245,0)","v":1},{"$f":"'w-E_Sp'!B102","v":"W15/02-Sport"},{"$f":"'w-E_Sp'!D102","v":0},{"$f":"'w-E_Sp'!H102","v":0},{"$f":"'w-E_Sp'!I102","v":0},null,{"$f":"RANK(K211,$K$126:$K245,0)","v":1},{"$f":"'m-E_Sp'!B102","v":"M15/02-Sport"},{"$f":"'m-E_Sp'!D102","v":0},{"$f":"'m-E_Sp'!H102","v":0},{"$f":"'m-E_Sp'!I102","v":0}]
[{"$f":"RANK(E212,$E$126:$E245,0)","v":1},{"$f":"'w-E_Sp'!B103","v":"W15/03-Sport"},{"$f":"'w-E_Sp'!D103","v":0},{"$f":"'w-E_Sp'!H103","v":0},{"$f":"'w-E_Sp'!I103","v":0},null,{"$f":"RANK(K212,$K$126:$K245,0)","v":1},{"$f":"'m-E_Sp'!B103","v":"M15/03-Sport"},{"$f":"'m-E_Sp'!D103","v":0},{"$f":"'m-E_Sp'!H103","v":0},{"$f":"'m-E_Sp'!I103","v":0}]
[{"$f":"RANK(E213,$E$126:$E245,0)","v":1},{"$f":"'w-E_Sp'!B104","v":"W15/04-Sport"},{"$f":"'w-E_Sp'!D104","v":0},{"$f":"'w-E_Sp'!H104","v":0},{"$f":"'w-E_Sp'!I104","v":0},null,{"$f":"RANK(K213,$K$126:$K245,0)","v":1},{"$f":"'m-E_Sp'!B104","v":"M15/04-Sport"},{"$f":"'m-E_Sp'!D104","v":0},{"$f":"'m-E_Sp'!H104","v":0},{"$f":"'m-E_Sp'!I104","v":0}]
[{"$f":"RANK(E214,$E$126:$E245,0)","v":1},{"$f":"'w-E_Sp'!B105","v":"W15/05-Sport"},{"$f":"'w-E_Sp'!D105","v":0},{"$f":"'w-E_Sp'!H105","v":0},{"$f":"'w-E_Sp'!I105","v":0},null,{"$f":"RANK(K214,$K$126:$K245,0)","v":1},{"$f":"'m-E_Sp'!B105","v":"M15/05-Sport"},{"$f":"'m-E_Sp'!D105","v":0},{"$f":"'m-E_Sp'!H105","v":0},{"$f":"'m-E_Sp'!I105","v":0}]
[{"$f":"RANK(E215,$E$126:$E245,0)","v":1},{"$f":"'w-E_Sp'!B106","v":"W15/06-Sport"},{"$f":"'w-E_Sp'!D106","v":0},{"$f":"'w-E_Sp'!H106","v":0},{"$f":"'w-E_Sp'!I106","v":0},null,{"$f":"RANK(K215,$K$126:$K245,0)","v":1},{"$f":"'m-E_Sp'!B106","v":"M15/06-Sport"},{"$f":"'m-E_Sp'!D106","v":0},{"$f":"'m-E_Sp'!H106","v":0},{"$f":"'m-E_Sp'!I106","v":0}]
[{"$f":"RANK(E216,$E$126:$E245,0)","v":1},{"$f":"'w-E_Sp'!B108","v":"W16/01-Sport"},{"$f":"'w-E_Sp'!D108","v":0},{"$f":"'w-E_Sp'!H108","v":0},{"$f":"'w-E_Sp'!I108","v":0},null,{"$f":"RANK(K216,$K$126:$K245,0)","v":1},{"$f":"'m-E_Sp'!B108","v":"M16/01-Sport"},{"$f":"'m-E_Sp'!D108","v":0},{"$f":"'m-E_Sp'!H108","v":0},{"$f":"'m-E_Sp'!I108","v":0}]
[{"$f":"RANK(E217,$E$126:$E245,0)","v":1},{"$f":"'w-E_Sp'!B109","v":"W16/02-Sport"},{"$f":"'w-E_Sp'!D109","v":0},{"$f":"'w-E_Sp'!H109","v":0},{"$f":"'w-E_Sp'!I109","v":0},null,{"$f":"RANK(K217,$K$126:$K245,0)","v":1},{"$f":"'m-E_Sp'!B109","v":"M16/02-Sport"},{"$f":"'m-E_Sp'!D109","v":0},{"$f":"'m-E_Sp'!H109","v":0},{"$f":"'m-E_Sp'!I109","v":0}]
[{"$f":"RANK(E218,$E$126:$E245,0)","v":1},{"$f":"'w-E_Sp'!B110","v":"W16/03-Sport"},{"$f":"'w-E_Sp'!D110","v":0},{"$f":"'w-E_Sp'!H110","v":0},{"$f":"'w-E_Sp'!I110","v":0},null,{"$f":"RANK(K218,$K$126:$K245,0)","v":1},{"$f":"'m-E_Sp'!B110","v":"M16/03-Sport"},{"$f":"'m-E_Sp'!D110","v":0},{"$f":"'m-E_Sp'!H110","v":0},{"$f":"'m-E_Sp'!I110","v":0}]
[{"$f":"RANK(E219,$E$126:$E245,0)","v":1},{"$f":"'w-E_Sp'!B111","v":"W16/04-Sport"},{"$f":"'w-E_Sp'!D111","v":0},{"$f":"'w-E_Sp'!H111","v":0},{"$f":"'w-E_Sp'!I111","v":0},null,{"$f":"RANK(K219,$K$126:$K245,0)","v":1},{"$f":"'m-E_Sp'!B111","v":"M16/04-Sport"},{"$f":"'m-E_Sp'!D111","v":0},{"$f":"'m-E_Sp'!H111","v":0},{"$f":"'m-E_Sp'!I111","v":0}]
[{"$f":"RANK(E220,$E$126:$E245,0)","v":1},{"$f":"'w-E_Sp'!B112","v":"W16/05-Sport"},{"$f":"'w-E_Sp'!D112","v":0},{"$f":"'w-E_Sp'!H112","v":0},{"$f":"'w-E_Sp'!I112","v":0},null,{"$f":"RANK(K220,$K$126:$K245,0)","v":1},{"$f":"'m-E_Sp'!B112","v":"M16/05-Sport"},{"$f":"'m-E_Sp'!D112","v":0},{"$f":"'m-E_Sp'!H112","v":0},{"$f":"'m-E_Sp'!I112","v":0}]
[{"$f":"RANK(E221,$E$126:$E245,0)","v":1},{"$f":"'w-E_Sp'!B113","v":"W16/06-Sport"},{"$f":"'w-E_Sp'!D113","v":0},{"$f":"'w-E_Sp'!H113","v":0},{"$f":"'w-E_Sp'!I113","v":0},null,{"$f":"RANK(K221,$K$126:$K245,0)","v":1},{"$f":"'m-E_Sp'!B113","v":"M16/06-Sport"},{"$f":"'m-E_Sp'!D113","v":0},{"$f":"'m-E_Sp'!H113","v":0},{"$f":"'m-E_Sp'!I113","v":0}]
[{"$f":"RANK(E222,$E$126:$E245,0)","v":1},{"$f":"'w-E_Sp'!B115","v":"W17/01-Sport"},{"$f":"'w-E_Sp'!D115","v":0},{"$f":"'w-E_Sp'!H115","v":0},{"$f":"'w-E_Sp'!I115","v":0},null,{"$f":"RANK(K222,$K$126:$K245,0)","v":1},{"$f":"'m-E_Sp'!B115","v":"M17/01-Sport"},{"$f":"'m-E_Sp'!D115","v":0},{"$f":"'m-E_Sp'!H115","v":0},{"$f":"'m-E_Sp'!I115","v":0}]
[{"$f":"RANK(E223,$E$126:$E245,0)","v":1},{"$f":"'w-E_Sp'!B116","v":"W17/02-Sport"},{"$f":"'w-E_Sp'!D116","v":0},{"$f":"'w-E_Sp'!H116","v":0},{"$f":"'w-E_Sp'!I116","v":0},null,{"$f":"RANK(K223,$K$126:$K245,0)","v":1},{"$f":"'m-E_Sp'!B116","v":"M17/02-Sport"},{"$f":"'m-E_Sp'!D116","v":0},{"$f":"'m-E_Sp'!H116","v":0},{"$f":"'m-E_Sp'!I116","v":0}]
[{"$f":"RANK(E224,$E$126:$E245,0)","v":1},{"$f":"'w-E_Sp'!B117","v":"W17/03-Sport"},{"$f":"'w-E_Sp'!D117","v":0},{"$f":"'w-E_Sp'!H117","v":0},{"$f":"'w-E_Sp'!I117","v":0},null,{"$f":"RANK(K224,$K$126:$K245,0)","v":1},{"$f":"'m-E_Sp'!B117","v":"M17/03-Sport"},{"$f":"'m-E_Sp'!D117","v":0},{"$f":"'m-E_Sp'!H117","v":0},{"$f":"'m-E_Sp'!I117","v":0}]
[{"$f":"RANK(E225,$E$126:$E245,0)","v":1},{"$f":"'w-E_Sp'!B118","v":"W17/04-Sport"},{"$f":"'w-E_Sp'!D118","v":0},{"$f":"'w-E_Sp'!H118","v":0},{"$f":"'w-E_Sp'!I118","v":0},null,{"$f":"RANK(K225,$K$126:$K245,0)","v":1},{"$f":"'m-E_Sp'!B118","v":"M17/04-Sport"},{"$f":"'m-E_Sp'!D118","v":0},{"$f":"'m-E_Sp'!H118","v":0},{"$f":"'m-E_Sp'!I118","v":0}]
[{"$f":"RANK(E226,$E$126:$E245,0)","v":1},{"$f":"'w-E_Sp'!B119","v":"W17/05-Sport"},{"$f":"'w-E_Sp'!D119","v":0},{"$f":"'w-E_Sp'!H119","v":0},{"$f":"'w-E_Sp'!I119","v":0},null,{"$f":"RANK(K226,$K$126:$K245,0)","v":1},{"$f":"'m-E_Sp'!B119","v":"M17/05-Sport"},{"$f":"'m-E_Sp'!D119","v":0},{"$f":"'m-E_Sp'!H119","v":0},{"$f":"'m-E_Sp'!I119","v":0}]
[{"$f":"RANK(E227,$E$126:$E245,0)","v":1},{"$f":"'w-E_Sp'!B120","v":"W17/06-Sport"},{"$f":"'w-E_Sp'!D120","v":0},{"$f":"'w-E_Sp'!H120","v":0},{"$f":"'w-E_Sp'!I120","v":0},null,{"$f":"RANK(K227,$K$126:$K245,0)","v":1},{"$f":"'m-E_Sp'!B120","v":"M17/06-Sport"},{"$f":"'m-E_Sp'!D120","v":0},{"$f":"'m-E_Sp'!H120","v":0},{"$f":"'m-E_Sp'!I120","v":0}]
[{"$f":"RANK(E228,$E$126:$E245,0)","v":1},{"$f":"'w-E_Sp'!B122","v":"W18/01-Sport"},{"$f":"'w-E_Sp'!D122","v":0},{"$f":"'w-E_Sp'!H122","v":0},{"$f":"'w-E_Sp'!I122","v":0},null,{"$f":"RANK(K228,$K$126:$K245,0)","v":1},{"$f":"'m-E_Sp'!B122","v":"M18/01-Sport"},{"$f":"'m-E_Sp'!D122","v":0},{"$f":"'m-E_Sp'!H122","v":0},{"$f":"'m-E_Sp'!I122","v":0}]
[{"$f":"RANK(E229,$E$126:$E245,0)","v":1},{"$f":"'w-E_Sp'!B123","v":"W18/02-Sport"},{"$f":"'w-E_Sp'!D123","v":0},{"$f":"'w-E_Sp'!H123","v":0},{"$f":"'w-E_Sp'!I123","v":0},null,{"$f":"RANK(K229,$K$126:$K245,0)","v":1},{"$f":"'m-E_Sp'!B123","v":"M18/02-Sport"},{"$f":"'m-E_Sp'!D123","v":0},{"$f":"'m-E_Sp'!H123","v":0},{"$f":"'m-E_Sp'!I123","v":0}]
[{"$f":"RANK(E230,$E$126:$E245,0)","v":1},{"$f":"'w-E_Sp'!B124","v":"W18/03-Sport"},{"$f":"'w-E_Sp'!D124","v":0},{"$f":"'w-E_Sp'!H124","v":0},{"$f":"'w-E_Sp'!I124","v":0},null,{"$f":"RANK(K230,$K$126:$K245,0)","v":1},{"$f":"'m-E_Sp'!B124","v":"M18/03-Sport"},{"$f":"'m-E_Sp'!D124","v":0},{"$f":"'m-E_Sp'!H124","v":0},{"$f":"'m-E_Sp'!I124","v":0}]
[{"$f":"RANK(E231,$E$126:$E245,0)","v":1},{"$f":"'w-E_Sp'!B125","v":"W18/04-Sport"},{"$f":"'w-E_Sp'!D125","v":0},{"$f":"'w-E_Sp'!H125","v":0},{"$f":"'w-E_Sp'!I125","v":0},null,{"$f":"RANK(K231,$K$126:$K245,0)","v":1},{"$f":"'m-E_Sp'!B125","v":"M18/04-Sport"},{"$f":"'m-E_Sp'!D125","v":0},{"$f":"'m-E_Sp'!H125","v":0},{"$f":"'m-E_Sp'!I125","v":0}]
[{"$f":"RANK(E232,$E$126:$E245,0)","v":1},{"$f":"'w-E_Sp'!B126","v":"W18/05-Sport"},{"$f":"'w-E_Sp'!D126","v":0},{"$f":"'w-E_Sp'!H126","v":0},{"$f":"'w-E_Sp'!I126","v":0},null,{"$f":"RANK(K232,$K$126:$K245,0)","v":1},{"$f":"'m-E_Sp'!B126","v":"M18/05-Sport"},{"$f":"'m-E_Sp'!D126","v":0},{"$f":"'m-E_Sp'!H126","v":0},{"$f":"'m-E_Sp'!I126","v":0}]
[{"$f":"RANK(E233,$E$126:$E245,0)","v":1},{"$f":"'w-E_Sp'!B127","v":"W18/06-Sport"},{"$f":"'w-E_Sp'!D127","v":0},{"$f":"'w-E_Sp'!H127","v":0},{"$f":"'w-E_Sp'!I127","v":0},null,{"$f":"RANK(K233,$K$126:$K245,0)","v":1},{"$f":"'m-E_Sp'!B127","v":"M18/06-Sport"},{"$f":"'m-E_Sp'!D127","v":0},{"$f":"'m-E_Sp'!H127","v":0},{"$f":"'m-E_Sp'!I127","v":0}]
[{"$f":"RANK(E234,$E$126:$E245,0)","v":1},{"$f":"'w-E_Sp'!B129","v":"W19/01-Sport"},{"$f":"'w-E_Sp'!D129","v":0},{"$f":"'w-E_Sp'!H129","v":0},{"$f":"'w-E_Sp'!I129","v":0},null,{"$f":"RANK(K234,$K$126:$K245,0)","v":1},{"$f":"'m-E_Sp'!B129","v":"M19/01-Sport"},{"$f":"'m-E_Sp'!D129","v":0},{"$f":"'m-E_Sp'!H129","v":0},{"$f":"'m-E_Sp'!I129","v":0}]
[{"$f":"RANK(E235,$E$126:$E245,0)","v":1},{"$f":"'w-E_Sp'!B130","v":"W19/02-Sport"},{"$f":"'w-E_Sp'!D130","v":0},{"$f":"'w-E_Sp'!H130","v":0},{"$f":"'w-E_Sp'!I130","v":0},null,{"$f":"RANK(K235,$K$126:$K245,0)","v":1},{"$f":"'m-E_Sp'!B130","v":"M19/02-Sport"},{"$f":"'m-E_Sp'!D130","v":0},{"$f":"'m-E_Sp'!H130","v":0},{"$f":"'m-E_Sp'!I130","v":0}]
[{"$f":"RANK(E236,$E$126:$E245,0)","v":1},{"$f":"'w-E_Sp'!B131","v":"W19/03-Sport"},{"$f":"'w-E_Sp'!D131","v":0},{"$f":"'w-E_Sp'!H131","v":0},{"$f":"'w-E_Sp'!I131","v":0},null,{"$f":"RANK(K236,$K$126:$K245,0)","v":1},{"$f":"'m-E_Sp'!B131","v":"M19/03-Sport"},{"$f":"'m-E_Sp'!D131","v":0},{"$f":"'m-E_Sp'!H131","v":0},{"$f":"'m-E_Sp'!I131","v":0}]
[{"$f":"RANK(E237,$E$126:$E245,0)","v":1},{"$f":"'w-E_Sp'!B132","v":"W19/04-Sport"},{"$f":"'w-E_Sp'!D132","v":0},{"$f":"'w-E_Sp'!H132","v":0},{"$f":"'w-E_Sp'!I132","v":0},null,{"$f":"RANK(K237,$K$126:$K245,0)","v":1},{"$f":"'m-E_Sp'!B132","v":"M19/04-Sport"},{"$f":"'m-E_Sp'!D132","v":0},{"$f":"'m-E_Sp'!H132","v":0},{"$f":"'m-E_Sp'!I132","v":0}]
[{"$f":"RANK(E238,$E$126:$E245,0)","v":1},{"$f":"'w-E_Sp'!B133","v":"W19/05-Sport"},{"$f":"'w-E_Sp'!D133","v":0},{"$f":"'w-E_Sp'!H133","v":0},{"$f":"'w-E_Sp'!I133","v":0},null,{"$f":"RANK(K238,$K$126:$K245,0)","v":1},{"$f":"'m-E_Sp'!B133","v":"M19/05-Sport"},{"$f":"'m-E_Sp'!D133","v":0},{"$f":"'m-E_Sp'!H133","v":0},{"$f":"'m-E_Sp'!I133","v":0}]
[{"$f":"RANK(E239,$E$126:$E245,0)","v":1},{"$f":"'w-E_Sp'!B134","v":"W19/06-Sport"},{"$f":"'w-E_Sp'!D134","v":0},{"$f":"'w-E_Sp'!H134","v":0},{"$f":"'w-E_Sp'!I134","v":0},null,{"$f":"RANK(K239,$K$126:$K245,0)","v":1},{"$f":"'m-E_Sp'!B134","v":"M19/06-Sport"},{"$f":"'m-E_Sp'!D134","v":0},{"$f":"'m-E_Sp'!H134","v":0},{"$f":"'m-E_Sp'!I134","v":0}]
[{"$f":"RANK(E240,$E$126:$E245,0)","v":1},{"$f":"'w-E_Sp'!B136","v":"W20/01-Sport"},{"$f":"'w-E_Sp'!D136","v":0},{"$f":"'w-E_Sp'!H136","v":0},{"$f":"'w-E_Sp'!I136","v":0},null,{"$f":"RANK(K240,$K$126:$K245,0)","v":1},{"$f":"'m-E_Sp'!B136","v":"M20/01-Sport"},{"$f":"'m-E_Sp'!D136","v":0},{"$f":"'m-E_Sp'!H136","v":0},{"$f":"'m-E_Sp'!I136","v":0}]
[{"$f":"RANK(E241,$E$126:$E245,0)","v":1},{"$f":"'w-E_Sp'!B137","v":"W20/02-Sport"},{"$f":"'w-E_Sp'!D137","v":0},{"$f":"'w-E_Sp'!H137","v":0},{"$f":"'w-E_Sp'!I137","v":0},null,{"$f":"RANK(K241,$K$126:$K245,0)","v":1},{"$f":"'m-E_Sp'!B137","v":"M20/02-Sport"},{"$f":"'m-E_Sp'!D137","v":0},{"$f":"'m-E_Sp'!H137","v":0},{"$f":"'m-E_Sp'!I137","v":0}]
[{"$f":"RANK(E242,$E$126:$E245,0)","v":1},{"$f":"'w-E_Sp'!B138","v":"W20/03-Sport"},{"$f":"'w-E_Sp'!D138","v":0},{"$f":"'w-E_Sp'!H138","v":0},{"$f":"'w-E_Sp'!I138","v":0},null,{"$f":"RANK(K242,$K$126:$K245,0)","v":1},{"$f":"'m-E_Sp'!B138","v":"M20/03-Sport"},{"$f":"'m-E_Sp'!D138","v":0},{"$f":"'m-E_Sp'!H138","v":0},{"$f":"'m-E_Sp'!I138","v":0}]
[{"$f":"RANK(E243,$E$126:$E245,0)","v":1},{"$f":"'w-E_Sp'!B139","v":"W20/04-Sport"},{"$f":"'w-E_Sp'!D139","v":0},{"$f":"'w-E_Sp'!H139","v":0},{"$f":"'w-E_Sp'!I139","v":0},null,{"$f":"RANK(K243,$K$126:$K245,0)","v":1},{"$f":"'m-E_Sp'!B139","v":"M20/04-Sport"},{"$f":"'m-E_Sp'!D139","v":0},{"$f":"'m-E_Sp'!H139","v":0},{"$f":"'m-E_Sp'!I139","v":0}]
[{"$f":"RANK(E244,$E$126:$E245,0)","v":1},{"$f":"'w-E_Sp'!B140","v":"W20/05-Sport"},{"$f":"'w-E_Sp'!D140","v":0},{"$f":"'w-E_Sp'!H140","v":0},{"$f":"'w-E_Sp'!I140","v":0},null,{"$f":"RANK(K244,$K$126:$K245,0)","v":1},{"$f":"'m-E_Sp'!B140","v":"M20/05-Sport"},{"$f":"'m-E_Sp'!D140","v":0},{"$f":"'m-E_Sp'!H140","v":0},{"$f":"'m-E_Sp'!I140","v":0}]
[{"$f":"RANK(E245,$E$126:$E245,0)","v":1},{"$f":"'w-E_Sp'!B141","v":"W20/06-Sport"},{"$f":"'w-E_Sp'!D141","v":0},{"$f":"'w-E_Sp'!H141","v":0},{"$f":"'w-E_Sp'!I141","v":0},null,{"$f":"RANK(K245,$K$126:$K245,0)","v":1},{"$f":"'m-E_Sp'!B141","v":"M20/06-Sport"},{"$f":"'m-E_Sp'!D141","v":0},{"$f":"'m-E_Sp'!H141","v":0},{"$f":"'m-E_Sp'!I141","v":0}]
["Einzelwertung Schlagball Weiblich",null,{"$f":"'w-E_Sp'!C1","v":"D-C/Sport-Schwerpunkt"},{"$f":"'w-E_Sp'!E1","v":"Ortsangabe,Datum"},null,null,"Einzelwertung Schlagball Männlich",null,{"$f":"'m-E_Sp'!C1","v":"D-C/Sport-Schwerpunkt"},{"$f":"'m-E_Sp'!E1","v":"Ortsangabe,Datum"}]

{"sheet":"Ez-Kugel","index":22,"n_rows":246,"n_cols":11,"rows_kept":246,"cut":false,"hidden":false,"merged":[[0,9,0,10],[123,0,123,1],[123,3,123,4],[123,6,123,7],[245,0,245,1],[122,0,122,1],[122,6,122,7],[245,6,245,7],[0,0,0,1],[0,3,0,4],[0,6,0,7],[245,3,245,4],[122,3,122,4],[123,9,123,10],[245,9,245,10],[122,9,122,10]]}
["Einzelwertung Kugel",null,{"$f":"'w-E_R'!C1","v":"D-C/Regel-Schulen"},{"$f":"'w-E_R'!E1","v":"Ortsangabe,Datum"},null,null,"Einzelwertung Kugel",null,{"$f":"'m-E_R'!C1","v":"D-C/Regel-Schulen"},{"$f":"'m-E_R'!E1","v":"Ortsangabe,Datum"}]
["Rang","WEIBLICH","Schule:","Leistung","Punkte",null,"Rang","MÄNNLICH","Schule:","Leistung","Punkte"]
[{"$f":"RANK(E3,$E$3:$E$122,0)","v":1},{"$f":"'w-E_R'!B3","v":"W1/01-Regel"},{"$f":"'w-E_R'!D3","v":0},{"$f":"'w-E_R'!J3","v":0},{"$f":"'w-E_R'!K3","v":0},null,{"$f":"RANK(K3,$K$3:$K$122,0)","v":1},{"$f":"'m-E_R'!B3","v":"M1/01-Regel"},{"$f":"'m-E_R'!D3","v":0},{"$f":"'m-E_R'!J3","v":0},{"$f":"'m-E_R'!K3","v":0}]
[1,{"$f":"'w-E_R'!B4","v":"W1/02-Regel"},{"$f":"'w-E_R'!D4","v":0},{"$f":"'w-E_R'!J4","v":0},{"$f":"'w-E_R'!K4","v":0},null,1,{"$f":"'m-E_R'!B4","v":"M1/02-Regel"},{"$f":"'m-E_R'!D4","v":0},{"$f":"'m-E_R'!J4","v":0},{"$f":"'m-E_R'!K4","v":0}]
[1,{"$f":"'w-E_R'!B5","v":"W1/03-Regel"},{"$f":"'w-E_R'!D5","v":0},{"$f":"'w-E_R'!J5","v":0},{"$f":"'w-E_R'!K5","v":0},null,1,{"$f":"'m-E_R'!B5","v":"M1/03-Regel"},{"$f":"'m-E_R'!D5","v":0},{"$f":"'m-E_R'!J5","v":0},{"$f":"'m-E_R'!K5","v":0}]
[1,{"$f":"'w-E_R'!B6","v":"W1/04-Regel"},{"$f":"'w-E_R'!D6","v":0},{"$f":"'w-E_R'!J6","v":0},{"$f":"'w-E_R'!K6","v":0},null,1,{"$f":"'m-E_R'!B6","v":"M1/04-Regel"},{"$f":"'m-E_R'!D6","v":0},{"$f":"'m-E_R'!J6","v":0},{"$f":"'m-E_R'!K6","v":0}]
[1,{"$f":"'w-E_R'!B7","v":"W1/05-Regel"},{"$f":"'w-E_R'!D7","v":0},{"$f":"'w-E_R'!J7","v":0},{"$f":"'w-E_R'!K7","v":0},null,1,{"$f":"'m-E_R'!B7","v":"M1/05-Regel"},{"$f":"'m-E_R'!D7","v":0},{"$f":"'m-E_R'!J7","v":0},{"$f":"'m-E_R'!K7","v":0}]
[1,{"$f":"'w-E_R'!B8","v":"W1/06-Regel"},{"$f":"'w-E_R'!D8","v":0},{"$f":"'w-E_R'!J8","v":0},{"$f":"'w-E_R'!K8","v":0},null,1,{"$f":"'m-E_R'!B8","v":"M1/06-Regel"},{"$f":"'m-E_R'!D8","v":0},{"$f":"'m-E_R'!J8","v":0},{"$f":"'m-E_R'!K8","v":0}]
[1,{"$f":"'w-E_R'!B10","v":"W2/01-Regel"},{"$f":"'w-E_R'!D10","v":0},{"$f":"'w-E_R'!J10","v":0},{"$f":"'w-E_R'!K10","v":0},null,1,{"$f":"'m-E_R'!B10","v":"M2/01-Regel"},{"$f":"'m-E_R'!D10","v":0},{"$f":"'m-E_R'!J10","v":0},{"$f":"'m-E_R'!K10","v":0}]
[1,{"$f":"'w-E_R'!B11","v":"W2/02-Regel"},{"$f":"'w-E_R'!D11","v":0},{"$f":"'w-E_R'!J11","v":0},{"$f":"'w-E_R'!K11","v":0},null,1,{"$f":"'m-E_R'!B11","v":"M2/02-Regel"},{"$f":"'m-E_R'!D11","v":0},{"$f":"'m-E_R'!J11","v":0},{"$f":"'m-E_R'!K11","v":0}]
[1,{"$f":"'w-E_R'!B12","v":"W2/03-Regel"},{"$f":"'w-E_R'!D12","v":0},{"$f":"'w-E_R'!J12","v":0},{"$f":"'w-E_R'!K12","v":0},null,1,{"$f":"'m-E_R'!B12","v":"M2/03-Regel"},{"$f":"'m-E_R'!D12","v":0},{"$f":"'m-E_R'!J12","v":0},{"$f":"'m-E_R'!K12","v":0}]
[1,{"$f":"'w-E_R'!B13","v":"W2/04-Regel"},{"$f":"'w-E_R'!D13","v":0},{"$f":"'w-E_R'!J13","v":0},{"$f":"'w-E_R'!K13","v":0},null,1,{"$f":"'m-E_R'!B13","v":"M2/04-Regel"},{"$f":"'m-E_R'!D13","v":0},{"$f":"'m-E_R'!J13","v":0},{"$f":"'m-E_R'!K13","v":0}]
[1,{"$f":"'w-E_R'!B14","v":"W2/05-Regel"},{"$f":"'w-E_R'!D14","v":0},{"$f":"'w-E_R'!J14","v":0},{"$f":"'w-E_R'!K14","v":0},null,1,{"$f":"'m-E_R'!B14","v":"M2/05-Regel"},{"$f":"'m-E_R'!D14","v":0},{"$f":"'m-E_R'!J14","v":0},{"$f":"'m-E_R'!K14","v":0}]
[1,{"$f":"'w-E_R'!B15","v":"W2/06-Regel"},{"$f":"'w-E_R'!D15","v":0},{"$f":"'w-E_R'!J15","v":0},{"$f":"'w-E_R'!K15","v":0},null,1,{"$f":"'m-E_R'!B15","v":"M2/06-Regel"},{"$f":"'m-E_R'!D15","v":0},{"$f":"'m-E_R'!J15","v":0},{"$f":"'m-E_R'!K15","v":0}]
[1,{"$f":"'w-E_R'!B17","v":"W3/01-Regel"},{"$f":"'w-E_R'!D17","v":0},{"$f":"'w-E_R'!J17","v":0},{"$f":"'w-E_R'!K17","v":0},null,1,{"$f":"'m-E_R'!B17","v":"M3/01-Regel"},{"$f":"'m-E_R'!D17","v":0},{"$f":"'m-E_R'!J17","v":0},{"$f":"'m-E_R'!K17","v":0}]
[1,{"$f":"'w-E_R'!B18","v":"W3/02-Regel"},{"$f":"'w-E_R'!D18","v":0},{"$f":"'w-E_R'!J18","v":0},{"$f":"'w-E_R'!K18","v":0},null,1,{"$f":"'m-E_R'!B18","v":"M3/02-Regel"},{"$f":"'m-E_R'!D18","v":0},{"$f":"'m-E_R'!J18","v":0},{"$f":"'m-E_R'!K18","v":0}]
[1,{"$f":"'w-E_R'!B19","v":"W3/03-Regel"},{"$f":"'w-E_R'!D19","v":0},{"$f":"'w-E_R'!J19","v":0},{"$f":"'w-E_R'!K19","v":0},null,1,{"$f":"'m-E_R'!B19","v":"M3/03-Regel"},{"$f":"'m-E_R'!D19","v":0},{"$f":"'m-E_R'!J19","v":0},{"$f":"'m-E_R'!K19","v":0}]
[1,{"$f":"'w-E_R'!B20","v":"W3/04-Regel"},{"$f":"'w-E_R'!D20","v":0},{"$f":"'w-E_R'!J20","v":0},{"$f":"'w-E_R'!K20","v":0},null,1,{"$f":"'m-E_R'!B20","v":"M3/04-Regel"},{"$f":"'m-E_R'!D20","v":0},{"$f":"'m-E_R'!J20","v":0},{"$f":"'m-E_R'!K20","v":0}]
[1,{"$f":"'w-E_R'!B21","v":"W3/05-Regel"},{"$f":"'w-E_R'!D21","v":0},{"$f":"'w-E_R'!J21","v":0},{"$f":"'w-E_R'!K21","v":0},null,1,{"$f":"'m-E_R'!B21","v":"M3/05-Regel"},{"$f":"'m-E_R'!D21","v":0},{"$f":"'m-E_R'!J21","v":0},{"$f":"'m-E_R'!K21","v":0}]
[1,{"$f":"'w-E_R'!B22","v":"W3/06-Regel"},{"$f":"'w-E_R'!D22","v":0},{"$f":"'w-E_R'!J22","v":0},{"$f":"'w-E_R'!K22","v":0},null,1,{"$f":"'m-E_R'!B22","v":"M3/06-Regel"},{"$f":"'m-E_R'!D22","v":0},{"$f":"'m-E_R'!J22","v":0},{"$f":"'m-E_R'!K22","v":0}]
[1,{"$f":"'w-E_R'!B24","v":"W4/01-Regel"},{"$f":"'w-E_R'!D24","v":0},{"$f":"'w-E_R'!J24","v":0},{"$f":"'w-E_R'!K24","v":0},null,1,{"$f":"'m-E_R'!B24","v":"M4/01-Regel"},{"$f":"'m-E_R'!D24","v":0},{"$f":"'m-E_R'!J24","v":0},{"$f":"'m-E_R'!K24","v":0}]
[1,{"$f":"'w-E_R'!B25","v":"W4/02-Regel"},{"$f":"'w-E_R'!D25","v":0},{"$f":"'w-E_R'!J25","v":0},{"$f":"'w-E_R'!K25","v":0},null,1,{"$f":"'m-E_R'!B25","v":"M4/02-Regel"},{"$f":"'m-E_R'!D25","v":0},{"$f":"'m-E_R'!J25","v":0},{"$f":"'m-E_R'!K25","v":0}]
[1,{"$f":"'w-E_R'!B26","v":"W4/03-Regel"},{"$f":"'w-E_R'!D26","v":0},{"$f":"'w-E_R'!J26","v":0},{"$f":"'w-E_R'!K26","v":0},null,1,{"$f":"'m-E_R'!B26","v":"M4/03-Regel"},{"$f":"'m-E_R'!D26","v":0},{"$f":"'m-E_R'!J26","v":0},{"$f":"'m-E_R'!K26","v":0}]
[1,{"$f":"'w-E_R'!B27","v":"W4/04-Regel"},{"$f":"'w-E_R'!D27","v":0},{"$f":"'w-E_R'!J27","v":0},{"$f":"'w-E_R'!K27","v":0},null,1,{"$f":"'m-E_R'!B27","v":"M4/04-Regel"},{"$f":"'m-E_R'!D27","v":0},{"$f":"'m-E_R'!J27","v":0},{"$f":"'m-E_R'!K27","v":0}]
[1,{"$f":"'w-E_R'!B28","v":"W4/05-Regel"},{"$f":"'w-E_R'!D28","v":0},{"$f":"'w-E_R'!J28","v":0},{"$f":"'w-E_R'!K28","v":0},null,1,{"$f":"'m-E_R'!B28","v":"M4/05-Regel"},{"$f":"'m-E_R'!D28","v":0},{"$f":"'m-E_R'!J28","v":0},{"$f":"'m-E_R'!K28","v":0}]
[1,{"$f":"'w-E_R'!B29","v":"W4/06-Regel"},{"$f":"'w-E_R'!D29","v":0},{"$f":"'w-E_R'!J29","v":0},{"$f":"'w-E_R'!K29","v":0},null,1,{"$f":"'m-E_R'!B29","v":"M4/06-Regel"},{"$f":"'m-E_R'!D29","v":0},{"$f":"'m-E_R'!J29","v":0},{"$f":"'m-E_R'!K29","v":0}]
[1,{"$f":"'w-E_R'!B31","v":"W5/01-Regel"},{"$f":"'w-E_R'!D31","v":0},{"$f":"'w-E_R'!J31","v":0},{"$f":"'w-E_R'!K31","v":0},null,1,{"$f":"'m-E_R'!B31","v":"M5/01-Regel"},{"$f":"'m-E_R'!D31","v":0},{"$f":"'m-E_R'!J31","v":0},{"$f":"'m-E_R'!K31","v":0}]
[1,{"$f":"'w-E_R'!B32","v":"W5/02-Regel"},{"$f":"'w-E_R'!D32","v":0},{"$f":"'w-E_R'!J32","v":0},{"$f":"'w-E_R'!K32","v":0},null,1,{"$f":"'m-E_R'!B32","v":"M5/02-Regel"},{"$f":"'m-E_R'!D32","v":0},{"$f":"'m-E_R'!J32","v":0},{"$f":"'m-E_R'!K32","v":0}]
[1,{"$f":"'w-E_R'!B33","v":"W5/03-Regel"},{"$f":"'w-E_R'!D33","v":0},{"$f":"'w-E_R'!J33","v":0},{"$f":"'w-E_R'!K33","v":0},null,1,{"$f":"'m-E_R'!B33","v":"M5/03-Regel"},{"$f":"'m-E_R'!D33","v":0},{"$f":"'m-E_R'!J33","v":0},{"$f":"'m-E_R'!K33","v":0}]
[1,{"$f":"'w-E_R'!B34","v":"W5/04-Regel"},{"$f":"'w-E_R'!D34","v":0},{"$f":"'w-E_R'!J34","v":0},{"$f":"'w-E_R'!K34","v":0},null,1,{"$f":"'m-E_R'!B34","v":"M5/04-Regel"},{"$f":"'m-E_R'!D34","v":0},{"$f":"'m-E_R'!J34","v":0},{"$f":"'m-E_R'!K34","v":0}]
[1,{"$f":"'w-E_R'!B35","v":"W5/05-Regel"},{"$f":"'w-E_R'!D35","v":0},{"$f":"'w-E_R'!J35","v":0},{"$f":"'w-E_R'!K35","v":0},null,1,{"$f":"'m-E_R'!B35","v":"M5/05-Regel"},{"$f":"'m-E_R'!D35","v":0},{"$f":"'m-E_R'!J35","v":0},{"$f":"'m-E_R'!K35","v":0}]
[1,{"$f":"'w-E_R'!B36","v":"W5/06-Regel"},{"$f":"'w-E_R'!D36","v":0},{"$f":"'w-E_R'!J36","v":0},{"$f":"'w-E_R'!K36","v":0},null,1,{"$f":"'m-E_R'!B36","v":"M5/06-Regel"},{"$f":"'m-E_R'!D36","v":0},{"$f":"'m-E_R'!J36","v":0},{"$f":"'m-E_R'!K36","v":0}]
[1,{"$f":"'w-E_R'!B38","v":"W6/01-Regel"},{"$f":"'w-E_R'!D38","v":0},{"$f":"'w-E_R'!J38","v":0},{"$f":"'w-E_R'!K38","v":0},null,1,{"$f":"'m-E_R'!B38","v":"M6/01-Regel"},{"$f":"'m-E_R'!D38","v":0},{"$f":"'m-E_R'!J38","v":0},{"$f":"'m-E_R'!K38","v":0}]
[1,{"$f":"'w-E_R'!B39","v":"W6/02-Regel"},{"$f":"'w-E_R'!D39","v":0},{"$f":"'w-E_R'!J39","v":0},{"$f":"'w-E_R'!K39","v":0},null,1,{"$f":"'m-E_R'!B39","v":"M6/02-Regel"},{"$f":"'m-E_R'!D39","v":0},{"$f":"'m-E_R'!J39","v":0},{"$f":"'m-E_R'!K39","v":0}]
[{"$f":"RANK(E35,$E$3:$E$122,0)","v":1},{"$f":"'w-E_R'!B40","v":"W6/03-Regel"},{"$f":"'w-E_R'!D40","v":0},{"$f":"'w-E_R'!J40","v":0},{"$f":"'w-E_R'!K40","v":0},null,{"$f":"RANK(K35,$K$3:$K$122,0)","v":1},{"$f":"'m-E_R'!B40","v":"M6/03-Regel"},{"$f":"'m-E_R'!D40","v":0},{"$f":"'m-E_R'!J40","v":0},{"$f":"'m-E_R'!K40","v":0}]
[1,{"$f":"'w-E_R'!B41","v":"W6/04-Regel"},{"$f":"'w-E_R'!D41","v":0},{"$f":"'w-E_R'!J41","v":0},{"$f":"'w-E_R'!K41","v":0},null,1,{"$f":"'m-E_R'!B41","v":"M6/04-Regel"},{"$f":"'m-E_R'!D41","v":0},{"$f":"'m-E_R'!J41","v":0},{"$f":"'m-E_R'!K41","v":0}]
[1,{"$f":"'w-E_R'!B42","v":"W6/05-Regel"},{"$f":"'w-E_R'!D42","v":0},{"$f":"'w-E_R'!J42","v":0},{"$f":"'w-E_R'!K42","v":0},null,1,{"$f":"'m-E_R'!B42","v":"M6/05-Regel"},{"$f":"'m-E_R'!D42","v":0},{"$f":"'m-E_R'!J42","v":0},{"$f":"'m-E_R'!K42","v":0}]
[1,{"$f":"'w-E_R'!B43","v":"W6/06-Regel"},{"$f":"'w-E_R'!D43","v":0},{"$f":"'w-E_R'!J43","v":0},{"$f":"'w-E_R'!K43","v":0},null,1,{"$f":"'m-E_R'!B43","v":"M6/06-Regel"},{"$f":"'m-E_R'!D43","v":0},{"$f":"'m-E_R'!J43","v":0},{"$f":"'m-E_R'!K43","v":0}]
[1,{"$f":"'w-E_R'!B45","v":"W7/01-Regel"},{"$f":"'w-E_R'!D45","v":0},{"$f":"'w-E_R'!J45","v":0},{"$f":"'w-E_R'!K45","v":0},null,1,{"$f":"'m-E_R'!B45","v":"M7/01-Regel"},{"$f":"'m-E_R'!D45","v":0},{"$f":"'m-E_R'!J45","v":0},{"$f":"'m-E_R'!K45","v":0}]
[1,{"$f":"'w-E_R'!B46","v":"W7/02-Regel"},{"$f":"'w-E_R'!D46","v":0},{"$f":"'w-E_R'!J46","v":0},{"$f":"'w-E_R'!K46","v":0},null,1,{"$f":"'m-E_R'!B46","v":"M7/02-Regel"},{"$f":"'m-E_R'!D46","v":0},{"$f":"'m-E_R'!J46","v":0},{"$f":"'m-E_R'!K46","v":0}]
[1,{"$f":"'w-E_R'!B47","v":"W7/03-Regel"},{"$f":"'w-E_R'!D47","v":0},{"$f":"'w-E_R'!J47","v":0},{"$f":"'w-E_R'!K47","v":0},null,1,{"$f":"'m-E_R'!B47","v":"M7/03-Regel"},{"$f":"'m-E_R'!D47","v":0},{"$f":"'m-E_R'!J47","v":0},{"$f":"'m-E_R'!K47","v":0}]
[1,{"$f":"'w-E_R'!B48","v":"W7/04-Regel"},{"$f":"'w-E_R'!D48","v":0},{"$f":"'w-E_R'!J48","v":0},{"$f":"'w-E_R'!K48","v":0},null,1,{"$f":"'m-E_R'!B48","v":"M7/04-Regel"},{"$f":"'m-E_R'!D48","v":0},{"$f":"'m-E_R'!J48","v":0},{"$f":"'m-E_R'!K48","v":0}]
[1,{"$f":"'w-E_R'!B49","v":"W7/05-Regel"},{"$f":"'w-E_R'!D49","v":0},{"$f":"'w-E_R'!J49","v":0},{"$f":"'w-E_R'!K49","v":0},null,1,{"$f":"'m-E_R'!B49","v":"M7/05-Regel"},{"$f":"'m-E_R'!D49","v":0},{"$f":"'m-E_R'!J49","v":0},{"$f":"'m-E_R'!K49","v":0}]
[1,{"$f":"'w-E_R'!B50","v":"W7/06-Regel"},{"$f":"'w-E_R'!D50","v":0},{"$f":"'w-E_R'!J50","v":0},{"$f":"'w-E_R'!K50","v":0},null,1,{"$f":"'m-E_R'!B50","v":"M7/06-Regel"},{"$f":"'m-E_R'!D50","v":0},{"$f":"'m-E_R'!J50","v":0},{"$f":"'m-E_R'!K50","v":0}]
[1,{"$f":"'w-E_R'!B52","v":"W8/01-Regel"},{"$f":"'w-E_R'!D52","v":0},{"$f":"'w-E_R'!J52","v":0},{"$f":"'w-E_R'!K52","v":0},null,1,{"$f":"'m-E_R'!B52","v":"M8/01-Regel"},{"$f":"'m-E_R'!D52","v":0},{"$f":"'m-E_R'!J52","v":0},{"$f":"'m-E_R'!K52","v":0}]
[1,{"$f":"'w-E_R'!B53","v":"W8/02-Regel"},{"$f":"'w-E_R'!D53","v":0},{"$f":"'w-E_R'!J53","v":0},{"$f":"'w-E_R'!K53","v":0},null,1,{"$f":"'m-E_R'!B53","v":"M8/02-Regel"},{"$f":"'m-E_R'!D53","v":0},{"$f":"'m-E_R'!J53","v":0},{"$f":"'m-E_R'!K53","v":0}]
[1,{"$f":"'w-E_R'!B54","v":"W8/03-Regel"},{"$f":"'w-E_R'!D54","v":0},{"$f":"'w-E_R'!J54","v":0},{"$f":"'w-E_R'!K54","v":0},null,1,{"$f":"'m-E_R'!B54","v":"M8/03-Regel"},{"$f":"'m-E_R'!D54","v":0},{"$f":"'m-E_R'!J54","v":0},{"$f":"'m-E_R'!K54","v":0}]
[1,{"$f":"'w-E_R'!B55","v":"W8/04-Regel"},{"$f":"'w-E_R'!D55","v":0},{"$f":"'w-E_R'!J55","v":0},{"$f":"'w-E_R'!K55","v":0},null,1,{"$f":"'m-E_R'!B55","v":"M8/04-Regel"},{"$f":"'m-E_R'!D55","v":0},{"$f":"'m-E_R'!J55","v":0},{"$f":"'m-E_R'!K55","v":0}]
[1,{"$f":"'w-E_R'!B56","v":"W8/05-Regel"},{"$f":"'w-E_R'!D56","v":0},{"$f":"'w-E_R'!J56","v":0},{"$f":"'w-E_R'!K56","v":0},null,1,{"$f":"'m-E_R'!B56","v":"M8/05-Regel"},{"$f":"'m-E_R'!D56","v":0},{"$f":"'m-E_R'!J56","v":0},{"$f":"'m-E_R'!K56","v":0}]
[1,{"$f":"'w-E_R'!B57","v":"W8/06-Regel"},{"$f":"'w-E_R'!D57","v":0},{"$f":"'w-E_R'!J57","v":0},{"$f":"'w-E_R'!K57","v":0},null,1,{"$f":"'m-E_R'!B57","v":"M8/06-Regel"},{"$f":"'m-E_R'!D57","v":0},{"$f":"'m-E_R'!J57","v":0},{"$f":"'m-E_R'!K57","v":0}]
[1,{"$f":"'w-E_R'!B59","v":"W9/01-Regel"},{"$f":"'w-E_R'!D59","v":0},{"$f":"'w-E_R'!J59","v":0},{"$f":"'w-E_R'!K59","v":0},null,1,{"$f":"'m-E_R'!B59","v":"M9/01-Regel"},{"$f":"'m-E_R'!D59","v":0},{"$f":"'m-E_R'!J59","v":0},{"$f":"'m-E_R'!K59","v":0}]
[1,{"$f":"'w-E_R'!B60","v":"W9/02-Regel"},{"$f":"'w-E_R'!D60","v":0},{"$f":"'w-E_R'!J60","v":0},{"$f":"'w-E_R'!K60","v":0},null,1,{"$f":"'m-E_R'!B60","v":"M9/02-Regel"},{"$f":"'m-E_R'!D60","v":0},{"$f":"'m-E_R'!J60","v":0},{"$f":"'m-E_R'!K60","v":0}]
[1,{"$f":"'w-E_R'!B61","v":"W9/03-Regel"},{"$f":"'w-E_R'!D61","v":0},{"$f":"'w-E_R'!J61","v":0},{"$f":"'w-E_R'!K61","v":0},null,1,{"$f":"'m-E_R'!B61","v":"M9/03-Regel"},{"$f":"'m-E_R'!D61","v":0},{"$f":"'m-E_R'!J61","v":0},{"$f":"'m-E_R'!K61","v":0}]
[1,{"$f":"'w-E_R'!B62","v":"W9/04-Regel"},{"$f":"'w-E_R'!D62","v":0},{"$f":"'w-E_R'!J62","v":0},{"$f":"'w-E_R'!K62","v":0},null,1,{"$f":"'m-E_R'!B62","v":"M9/04-Regel"},{"$f":"'m-E_R'!D62","v":0},{"$f":"'m-E_R'!J62","v":0},{"$f":"'m-E_R'!K62","v":0}]
[1,{"$f":"'w-E_R'!B63","v":"W9/05-Regel"},{"$f":"'w-E_R'!D63","v":0},{"$f":"'w-E_R'!J63","v":0},{"$f":"'w-E_R'!K63","v":0},null,1,{"$f":"'m-E_R'!B63","v":"M9/05-Regel"},{"$f":"'m-E_R'!D63","v":0},{"$f":"'m-E_R'!J63","v":0},{"$f":"'m-E_R'!K63","v":0}]
[1,{"$f":"'w-E_R'!B64","v":"W9/06-Regel"},{"$f":"'w-E_R'!D64","v":0},{"$f":"'w-E_R'!J64","v":0},{"$f":"'w-E_R'!K64","v":0},null,1,{"$f":"'m-E_R'!B64","v":"M9/06-Regel"},{"$f":"'m-E_R'!D64","v":0},{"$f":"'m-E_R'!J64","v":0},{"$f":"'m-E_R'!K64","v":0}]
[1,{"$f":"'w-E_R'!B66","v":"W10/01-Regel"},{"$f":"'w-E_R'!D66","v":0},{"$f":"'w-E_R'!J66","v":0},{"$f":"'w-E_R'!K66","v":0},null,1,{"$f":"'m-E_R'!B66","v":"M10/01-Regel"},{"$f":"'m-E_R'!D66","v":0},{"$f":"'m-E_R'!J66","v":0},{"$f":"'m-E_R'!K66","v":0}]
[1,{"$f":"'w-E_R'!B67","v":"W10/02-Regel"},{"$f":"'w-E_R'!D67","v":0},{"$f":"'w-E_R'!J67","v":0},{"$f":"'w-E_R'!K67","v":0},null,1,{"$f":"'m-E_R'!B67","v":"M10/02-Regel"},{"$f":"'m-E_R'!D67","v":0},{"$f":"'m-E_R'!J67","v":0},{"$f":"'m-E_R'!K67","v":0}]
[1,{"$f":"'w-E_R'!B68","v":"W10/03-Regel"},{"$f":"'w-E_R'!D68","v":0},{"$f":"'w-E_R'!J68","v":0},{"$f":"'w-E_R'!K68","v":0},null,1,{"$f":"'m-E_R'!B68","v":"M10/03-Regel"},{"$f":"'m-E_R'!D68","v":0},{"$f":"'m-E_R'!J68","v":0},{"$f":"'m-E_R'!K68","v":0}]
[1,{"$f":"'w-E_R'!B69","v":"W10/04-Regel"},{"$f":"'w-E_R'!D69","v":0},{"$f":"'w-E_R'!J69","v":0},{"$f":"'w-E_R'!K69","v":0},null,1,{"$f":"'m-E_R'!B69","v":"M10/04-Regel"},{"$f":"'m-E_R'!D69","v":0},{"$f":"'m-E_R'!J69","v":0},{"$f":"'m-E_R'!K69","v":0}]
[1,{"$f":"'w-E_R'!B70","v":"W10/05-Regel"},{"$f":"'w-E_R'!D70","v":0},{"$f":"'w-E_R'!J70","v":0},{"$f":"'w-E_R'!K70","v":0},null,1,{"$f":"'m-E_R'!B70","v":"M10/05-Regel"},{"$f":"'m-E_R'!D70","v":0},{"$f":"'m-E_R'!J70","v":0},{"$f":"'m-E_R'!K70","v":0}]
[1,{"$f":"'w-E_R'!B71","v":"W10/06-Regel"},{"$f":"'w-E_R'!D71","v":0},{"$f":"'w-E_R'!J71","v":0},{"$f":"'w-E_R'!K71","v":0},null,1,{"$f":"'m-E_R'!B71","v":"M10/06-Regel"},{"$f":"'m-E_R'!D71","v":0},{"$f":"'m-E_R'!J71","v":0},{"$f":"'m-E_R'!K71","v":0}]
[1,{"$f":"'w-E_R'!B73","v":"W11/01-Regel"},{"$f":"'w-E_R'!D73","v":0},{"$f":"'w-E_R'!J73","v":0},{"$f":"'w-E_R'!K73","v":0},null,1,{"$f":"'m-E_R'!B73","v":"M11/01-Regel"},{"$f":"'m-E_R'!D73","v":0},{"$f":"'m-E_R'!J73","v":0},{"$f":"'m-E_R'!K73","v":0}]
[1,{"$f":"'w-E_R'!B74","v":"W11/02-Regel"},{"$f":"'w-E_R'!D74","v":0},{"$f":"'w-E_R'!J74","v":0},{"$f":"'w-E_R'!K74","v":0},null,1,{"$f":"'m-E_R'!B74","v":"M11/02-Regel"},{"$f":"'m-E_R'!D74","v":0},{"$f":"'m-E_R'!J74","v":0},{"$f":"'m-E_R'!K74","v":0}]
[1,{"$f":"'w-E_R'!B75","v":"W11/03-Regel"},{"$f":"'w-E_R'!D75","v":0},{"$f":"'w-E_R'!J75","v":0},{"$f":"'w-E_R'!K75","v":0},null,1,{"$f":"'m-E_R'!B75","v":"M11/03-Regel"},{"$f":"'m-E_R'!D75","v":0},{"$f":"'m-E_R'!J75","v":0},{"$f":"'m-E_R'!K75","v":0}]
[1,{"$f":"'w-E_R'!B76","v":"W11/04-Regel"},{"$f":"'w-E_R'!D76","v":0},{"$f":"'w-E_R'!J76","v":0},{"$f":"'w-E_R'!K76","v":0},null,1,{"$f":"'m-E_R'!B76","v":"M11/04-Regel"},{"$f":"'m-E_R'!D76","v":0},{"$f":"'m-E_R'!J76","v":0},{"$f":"'m-E_R'!K76","v":0}]
[{"$f":"RANK(E67,$E$3:$E$122,0)","v":1},{"$f":"'w-E_R'!B77","v":"W11/05-Regel"},{"$f":"'w-E_R'!D77","v":0},{"$f":"'w-E_R'!J77","v":0},{"$f":"'w-E_R'!K77","v":0},null,{"$f":"RANK(K67,$K$3:$K$122,0)","v":1},{"$f":"'m-E_R'!B77","v":"M11/05-Regel"},{"$f":"'m-E_R'!D77","v":0},{"$f":"'m-E_R'!J77","v":0},{"$f":"'m-E_R'!K77","v":0}]
[1,{"$f":"'w-E_R'!B78","v":"W11/06-Regel"},{"$f":"'w-E_R'!D78","v":0},{"$f":"'w-E_R'!J78","v":0},{"$f":"'w-E_R'!K78","v":0},null,1,{"$f":"'m-E_R'!B78","v":"M11/06-Regel"},{"$f":"'m-E_R'!D78","v":0},{"$f":"'m-E_R'!J78","v":0},{"$f":"'m-E_R'!K78","v":0}]
[1,{"$f":"'w-E_R'!B80","v":"W12/01-Regel"},{"$f":"'w-E_R'!D80","v":0},{"$f":"'w-E_R'!J80","v":0},{"$f":"'w-E_R'!K80","v":0},null,1,{"$f":"'m-E_R'!B80","v":"M12/01-Regel"},{"$f":"'m-E_R'!D80","v":0},{"$f":"'m-E_R'!J80","v":0},{"$f":"'m-E_R'!K80","v":0}]
[1,{"$f":"'w-E_R'!B81","v":"W12/02-Regel"},{"$f":"'w-E_R'!D81","v":0},{"$f":"'w-E_R'!J81","v":0},{"$f":"'w-E_R'!K81","v":0},null,1,{"$f":"'m-E_R'!B81","v":"M12/02-Regel"},{"$f":"'m-E_R'!D81","v":0},{"$f":"'m-E_R'!J81","v":0},{"$f":"'m-E_R'!K81","v":0}]
[1,{"$f":"'w-E_R'!B82","v":"W12/03-Regel"},{"$f":"'w-E_R'!D82","v":0},{"$f":"'w-E_R'!J82","v":0},{"$f":"'w-E_R'!K82","v":0},null,1,{"$f":"'m-E_R'!B82","v":"M12/03-Regel"},{"$f":"'m-E_R'!D82","v":0},{"$f":"'m-E_R'!J82","v":0},{"$f":"'m-E_R'!K82","v":0}]
[1,{"$f":"'w-E_R'!B83","v":"W12/04-Regel"},{"$f":"'w-E_R'!D83","v":0},{"$f":"'w-E_R'!J83","v":0},{"$f":"'w-E_R'!K83","v":0},null,1,{"$f":"'m-E_R'!B83","v":"M12/04-Regel"},{"$f":"'m-E_R'!D83","v":0},{"$f":"'m-E_R'!J83","v":0},{"$f":"'m-E_R'!K83","v":0}]
[1,{"$f":"'w-E_R'!B84","v":"W12/05-Regel"},{"$f":"'w-E_R'!D84","v":0},{"$f":"'w-E_R'!J84","v":0},{"$f":"'w-E_R'!K84","v":0},null,1,{"$f":"'m-E_R'!B84","v":"M12/05-Regel"},{"$f":"'m-E_R'!D84","v":0},{"$f":"'m-E_R'!J84","v":0},{"$f":"'m-E_R'!K84","v":0}]
[1,{"$f":"'w-E_R'!B85","v":"W12/06-Regel"},{"$f":"'w-E_R'!D85","v":0},{"$f":"'w-E_R'!J85","v":0},{"$f":"'w-E_R'!K85","v":0},null,1,{"$f":"'m-E_R'!B85","v":"M12/06-Regel"},{"$f":"'m-E_R'!D85","v":0},{"$f":"'m-E_R'!J85","v":0},{"$f":"'m-E_R'!K85","v":0}]
[1,{"$f":"'w-E_R'!B87","v":"W13/01-Regel"},{"$f":"'w-E_R'!D87","v":0},{"$f":"'w-E_R'!J87","v":0},{"$f":"'w-E_R'!K87","v":0},null,1,{"$f":"'m-E_R'!B87","v":"M13/01-Regel"},{"$f":"'m-E_R'!D87","v":0},{"$f":"'m-E_R'!J87","v":0},{"$f":"'m-E_R'!K87","v":0}]
[1,{"$f":"'w-E_R'!B88","v":"W13/02-Regel"},{"$f":"'w-E_R'!D88","v":0},{"$f":"'w-E_R'!J88","v":0},{"$f":"'w-E_R'!K88","v":0},null,1,{"$f":"'m-E_R'!B88","v":"M13/02-Regel"},{"$f":"'m-E_R'!D88","v":0},{"$f":"'m-E_R'!J88","v":0},{"$f":"'m-E_R'!K88","v":0}]
[1,{"$f":"'w-E_R'!B89","v":"W13/03-Regel"},{"$f":"'w-E_R'!D89","v":0},{"$f":"'w-E_R'!J89","v":0},{"$f":"'w-E_R'!K89","v":0},null,1,{"$f":"'m-E_R'!B89","v":"M13/03-Regel"},{"$f":"'m-E_R'!D89","v":0},{"$f":"'m-E_R'!J89","v":0},{"$f":"'m-E_R'!K89","v":0}]
[1,{"$f":"'w-E_R'!B90","v":"W13/04-Regel"},{"$f":"'w-E_R'!D90","v":0},{"$f":"'w-E_R'!J90","v":0},{"$f":"'w-E_R'!K90","v":0},null,1,{"$f":"'m-E_R'!B90","v":"M13/04-Regel"},{"$f":"'m-E_R'!D90","v":0},{"$f":"'m-E_R'!J90","v":0},{"$f":"'m-E_R'!K90","v":0}]
[1,{"$f":"'w-E_R'!B91","v":"W13/05-Regel"},{"$f":"'w-E_R'!D91","v":0},{"$f":"'w-E_R'!J91","v":0},{"$f":"'w-E_R'!K91","v":0},null,1,{"$f":"'m-E_R'!B91","v":"M13/05-Regel"},{"$f":"'m-E_R'!D91","v":0},{"$f":"'m-E_R'!J91","v":0},{"$f":"'m-E_R'!K91","v":0}]
[1,{"$f":"'w-E_R'!B92","v":"W13/06-Regel"},{"$f":"'w-E_R'!D92","v":0},{"$f":"'w-E_R'!J92","v":0},{"$f":"'w-E_R'!K92","v":0},null,1,{"$f":"'m-E_R'!B92","v":"M13/06-Regel"},{"$f":"'m-E_R'!D92","v":0},{"$f":"'m-E_R'!J92","v":0},{"$f":"'m-E_R'!K92","v":0}]
[1,{"$f":"'w-E_R'!B94","v":"W14/01-Regel"},{"$f":"'w-E_R'!D94","v":0},{"$f":"'w-E_R'!J94","v":0},{"$f":"'w-E_R'!K94","v":0},null,1,{"$f":"'m-E_R'!B94","v":"M14/01-Regel"},{"$f":"'m-E_R'!D94","v":0},{"$f":"'m-E_R'!J94","v":0},{"$f":"'m-E_R'!K94","v":0}]
[1,{"$f":"'w-E_R'!B95","v":"W14/02-Regel"},{"$f":"'w-E_R'!D95","v":0},{"$f":"'w-E_R'!J95","v":0},{"$f":"'w-E_R'!K95","v":0},null,1,{"$f":"'m-E_R'!B95","v":"M14/02-Regel"},{"$f":"'m-E_R'!D95","v":0},{"$f":"'m-E_R'!J95","v":0},{"$f":"'m-E_R'!K95","v":0}]
[1,{"$f":"'w-E_R'!B96","v":"W14/03-Regel"},{"$f":"'w-E_R'!D96","v":0},{"$f":"'w-E_R'!J96","v":0},{"$f":"'w-E_R'!K96","v":0},null,1,{"$f":"'m-E_R'!B96","v":"M14/03-Regel"},{"$f":"'m-E_R'!D96","v":0},{"$f":"'m-E_R'!J96","v":0},{"$f":"'m-E_R'!K96","v":0}]
[1,{"$f":"'w-E_R'!B97","v":"W14/04-Regel"},{"$f":"'w-E_R'!D97","v":0},{"$f":"'w-E_R'!J97","v":0},{"$f":"'w-E_R'!K97","v":0},null,1,{"$f":"'m-E_R'!B97","v":"M14/04-Regel"},{"$f":"'m-E_R'!D97","v":0},{"$f":"'m-E_R'!J97","v":0},{"$f":"'m-E_R'!K97","v":0}]
[1,{"$f":"'w-E_R'!B98","v":"W14/05-Regel"},{"$f":"'w-E_R'!D98","v":0},{"$f":"'w-E_R'!J98","v":0},{"$f":"'w-E_R'!K98","v":0},null,1,{"$f":"'m-E_R'!B98","v":"M14/05-Regel"},{"$f":"'m-E_R'!D98","v":0},{"$f":"'m-E_R'!J98","v":0},{"$f":"'m-E_R'!K98","v":0}]
[1,{"$f":"'w-E_R'!B99","v":"W14/06-Regel"},{"$f":"'w-E_R'!D99","v":0},{"$f":"'w-E_R'!J99","v":0},{"$f":"'w-E_R'!K99","v":0},null,1,{"$f":"'m-E_R'!B99","v":"M14/06-Regel"},{"$f":"'m-E_R'!D99","v":0},{"$f":"'m-E_R'!J99","v":0},{"$f":"'m-E_R'!K99","v":0}]
[1,{"$f":"'w-E_R'!B101","v":"W15/01-Regel"},{"$f":"'w-E_R'!D101","v":0},{"$f":"'w-E_R'!J101","v":0},{"$f":"'w-E_R'!K101","v":0},null,1,{"$f":"'m-E_R'!B101","v":"M15/01-Regel"},{"$f":"'m-E_R'!D101","v":0},{"$f":"'m-E_R'!J101","v":0},{"$f":"'m-E_R'!K101","v":0}]
[1,{"$f":"'w-E_R'!B102","v":"W15/02-Regel"},{"$f":"'w-E_R'!D102","v":0},{"$f":"'w-E_R'!J102","v":0},{"$f":"'w-E_R'!K102","v":0},null,1,{"$f":"'m-E_R'!B102","v":"M15/02-Regel"},{"$f":"'m-E_R'!D102","v":0},{"$f":"'m-E_R'!J102","v":0},{"$f":"'m-E_R'!K102","v":0}]
[1,{"$f":"'w-E_R'!B103","v":"W15/03-Regel"},{"$f":"'w-E_R'!D103","v":0},{"$f":"'w-E_R'!J103","v":0},{"$f":"'w-E_R'!K103","v":0},null,1,{"$f":"'m-E_R'!B103","v":"M15/03-Regel"},{"$f":"'m-E_R'!D103","v":0},{"$f":"'m-E_R'!J103","v":0},{"$f":"'m-E_R'!K103","v":0}]
[1,{"$f":"'w-E_R'!B104","v":"W15/04-Regel"},{"$f":"'w-E_R'!D104","v":0},{"$f":"'w-E_R'!J104","v":0},{"$f":"'w-E_R'!K104","v":0},null,1,{"$f":"'m-E_R'!B104","v":"M15/04-Regel"},{"$f":"'m-E_R'!D104","v":0},{"$f":"'m-E_R'!J104","v":0},{"$f":"'m-E_R'!K104","v":0}]
[1,{"$f":"'w-E_R'!B105","v":"W15/05-Regel"},{"$f":"'w-E_R'!D105","v":0},{"$f":"'w-E_R'!J105","v":0},{"$f":"'w-E_R'!K105","v":0},null,1,{"$f":"'m-E_R'!B105","v":"M15/05-Regel"},{"$f":"'m-E_R'!D105","v":0},{"$f":"'m-E_R'!J105","v":0},{"$f":"'m-E_R'!K105","v":0}]
[1,{"$f":"'w-E_R'!B106","v":"W15/06-Regel"},{"$f":"'w-E_R'!D106","v":0},{"$f":"'w-E_R'!J106","v":0},{"$f":"'w-E_R'!K106","v":0},null,1,{"$f":"'m-E_R'!B106","v":"M15/06-Regel"},{"$f":"'m-E_R'!D106","v":0},{"$f":"'m-E_R'!J106","v":0},{"$f":"'m-E_R'!K106","v":0}]
[1,{"$f":"'w-E_R'!B108","v":"W16/01-Regel"},{"$f":"'w-E_R'!D108","v":0},{"$f":"'w-E_R'!J108","v":0},{"$f":"'w-E_R'!K108","v":0},null,1,{"$f":"'m-E_R'!B108","v":"M16/01-Regel"},{"$f":"'m-E_R'!D108","v":0},{"$f":"'m-E_R'!J108","v":0},{"$f":"'m-E_R'!K108","v":0}]
[1,{"$f":"'w-E_R'!B109","v":"W16/02-Regel"},{"$f":"'w-E_R'!D109","v":0},{"$f":"'w-E_R'!J109","v":0},{"$f":"'w-E_R'!K109","v":0},null,1,{"$f":"'m-E_R'!B109","v":"M16/02-Regel"},{"$f":"'m-E_R'!D109","v":0},{"$f":"'m-E_R'!J109","v":0},{"$f":"'m-E_R'!K109","v":0}]
[1,{"$f":"'w-E_R'!B110","v":"W16/03-Regel"},{"$f":"'w-E_R'!D110","v":0},{"$f":"'w-E_R'!J110","v":0},{"$f":"'w-E_R'!K110","v":0},null,1,{"$f":"'m-E_R'!B110","v":"M16/03-Regel"},{"$f":"'m-E_R'!D110","v":0},{"$f":"'m-E_R'!J110","v":0},{"$f":"'m-E_R'!K110","v":0}]
[1,{"$f":"'w-E_R'!B111","v":"W16/04-Regel"},{"$f":"'w-E_R'!D111","v":0},{"$f":"'w-E_R'!J111","v":0},{"$f":"'w-E_R'!K111","v":0},null,1,{"$f":"'m-E_R'!B111","v":"M16/04-Regel"},{"$f":"'m-E_R'!D111","v":0},{"$f":"'m-E_R'!J111","v":0},{"$f":"'m-E_R'!K111","v":0}]
[1,{"$f":"'w-E_R'!B112","v":"W16/05-Regel"},{"$f":"'w-E_R'!D112","v":0},{"$f":"'w-E_R'!J112","v":0},{"$f":"'w-E_R'!K112","v":0},null,1,{"$f":"'m-E_R'!B112","v":"M16/05-Regel"},{"$f":"'m-E_R'!D112","v":0},{"$f":"'m-E_R'!J112","v":0},{"$f":"'m-E_R'!K112","v":0}]
[1,{"$f":"'w-E_R'!B113","v":"W16/06-Regel"},{"$f":"'w-E_R'!D113","v":0},{"$f":"'w-E_R'!J113","v":0},{"$f":"'w-E_R'!K113","v":0},null,1,{"$f":"'m-E_R'!B113","v":"M16/06-Regel"},{"$f":"'m-E_R'!D113","v":0},{"$f":"'m-E_R'!J113","v":0},{"$f":"'m-E_R'!K113","v":0}]
[{"$f":"RANK(E99,$E$3:$E$122,0)","v":1},{"$f":"'w-E_R'!B115","v":"W17/01-Regel"},{"$f":"'w-E_R'!D115","v":0},{"$f":"'w-E_R'!J115","v":0},{"$f":"'w-E_R'!K115","v":0},null,{"$f":"RANK(K99,$K$3:$K$122,0)","v":1},{"$f":"'m-E_R'!B115","v":"M17/01-Regel"},{"$f":"'m-E_R'!D115","v":0},{"$f":"'m-E_R'!J115","v":0},{"$f":"'m-E_R'!K115","v":0}]
[1,{"$f":"'w-E_R'!B116","v":"W17/02-Regel"},{"$f":"'w-E_R'!D116","v":0},{"$f":"'w-E_R'!J116","v":0},{"$f":"'w-E_R'!K116","v":0},null,1,{"$f":"'m-E_R'!B116","v":"M17/02-Regel"},{"$f":"'m-E_R'!D116","v":0},{"$f":"'m-E_R'!J116","v":0},{"$f":"'m-E_R'!K116","v":0}]
[1,{"$f":"'w-E_R'!B117","v":"W17/03-Regel"},{"$f":"'w-E_R'!D117","v":0},{"$f":"'w-E_R'!J117","v":0},{"$f":"'w-E_R'!K117","v":0},null,1,{"$f":"'m-E_R'!B117","v":"M17/03-Regel"},{"$f":"'m-E_R'!D117","v":0},{"$f":"'m-E_R'!J117","v":0},{"$f":"'m-E_R'!K117","v":0}]
[1,{"$f":"'w-E_R'!B118","v":"W17/04-Regel"},{"$f":"'w-E_R'!D118","v":0},{"$f":"'w-E_R'!J118","v":0},{"$f":"'w-E_R'!K118","v":0},null,1,{"$f":"'m-E_R'!B118","v":"M17/04-Regel"},{"$f":"'m-E_R'!D118","v":0},{"$f":"'m-E_R'!J118","v":0},{"$f":"'m-E_R'!K118","v":0}]
[1,{"$f":"'w-E_R'!B119","v":"W17/05-Regel"},{"$f":"'w-E_R'!D119","v":0},{"$f":"'w-E_R'!J119","v":0},{"$f":"'w-E_R'!K119","v":0},null,1,{"$f":"'m-E_R'!B119","v":"M17/05-Regel"},{"$f":"'m-E_R'!D119","v":0},{"$f":"'m-E_R'!J119","v":0},{"$f":"'m-E_R'!K119","v":0}]
[1,{"$f":"'w-E_R'!B120","v":"W17/06-Regel"},{"$f":"'w-E_R'!D120","v":0},{"$f":"'w-E_R'!J120","v":0},{"$f":"'w-E_R'!K120","v":0},null,1,{"$f":"'m-E_R'!B120","v":"M17/06-Regel"},{"$f":"'m-E_R'!D120","v":0},{"$f":"'m-E_R'!J120","v":0},{"$f":"'m-E_R'!K120","v":0}]
[1,{"$f":"'w-E_R'!B122","v":"W18/01-Regel"},{"$f":"'w-E_R'!D122","v":0},{"$f":"'w-E_R'!J122","v":0},{"$f":"'w-E_R'!K122","v":0},null,1,{"$f":"'m-E_R'!B122","v":"M18/01-Regel"},{"$f":"'m-E_R'!D122","v":0},{"$f":"'m-E_R'!J122","v":0},{"$f":"'m-E_R'!K122","v":0}]
[1,{"$f":"'w-E_R'!B123","v":"W18/02-Regel"},{"$f":"'w-E_R'!D123","v":0},{"$f":"'w-E_R'!J123","v":0},{"$f":"'w-E_R'!K123","v":0},null,1,{"$f":"'m-E_R'!B123","v":"M18/02-Regel"},{"$f":"'m-E_R'!D123","v":0},{"$f":"'m-E_R'!J123","v":0},{"$f":"'m-E_R'!K123","v":0}]
[1,{"$f":"'w-E_R'!B124","v":"W18/03-Regel"},{"$f":"'w-E_R'!D124","v":0},{"$f":"'w-E_R'!J124","v":0},{"$f":"'w-E_R'!K124","v":0},null,1,{"$f":"'m-E_R'!B124","v":"M18/03-Regel"},{"$f":"'m-E_R'!D124","v":0},{"$f":"'m-E_R'!J124","v":0},{"$f":"'m-E_R'!K124","v":0}]
[1,{"$f":"'w-E_R'!B125","v":"W18/04-Regel"},{"$f":"'w-E_R'!D125","v":0},{"$f":"'w-E_R'!J125","v":0},{"$f":"'w-E_R'!K125","v":0},null,1,{"$f":"'m-E_R'!B125","v":"M18/04-Regel"},{"$f":"'m-E_R'!D125","v":0},{"$f":"'m-E_R'!J125","v":0},{"$f":"'m-E_R'!K125","v":0}]
[1,{"$f":"'w-E_R'!B126","v":"W18/05-Regel"},{"$f":"'w-E_R'!D126","v":0},{"$f":"'w-E_R'!J126","v":0},{"$f":"'w-E_R'!K126","v":0},null,1,{"$f":"'m-E_R'!B126","v":"M18/05-Regel"},{"$f":"'m-E_R'!D126","v":0},{"$f":"'m-E_R'!J126","v":0},{"$f":"'m-E_R'!K126","v":0}]
[1,{"$f":"'w-E_R'!B127","v":"W18/06-Regel"},{"$f":"'w-E_R'!D127","v":0},{"$f":"'w-E_R'!J127","v":0},{"$f":"'w-E_R'!K127","v":0},null,1,{"$f":"'m-E_R'!B127","v":"M18/06-Regel"},{"$f":"'m-E_R'!D127","v":0},{"$f":"'m-E_R'!J127","v":0},{"$f":"'m-E_R'!K127","v":0}]
[1,{"$f":"'w-E_R'!B129","v":"W19/01-Regel"},{"$f":"'w-E_R'!D129","v":0},{"$f":"'w-E_R'!J129","v":0},{"$f":"'w-E_R'!K129","v":0},null,1,{"$f":"'m-E_R'!B129","v":"M19/01-Regel"},{"$f":"'m-E_R'!D129","v":0},{"$f":"'m-E_R'!J129","v":0},{"$f":"'m-E_R'!K129","v":0}]
[1,{"$f":"'w-E_R'!B130","v":"W19/02-Regel"},{"$f":"'w-E_R'!D130","v":0},{"$f":"'w-E_R'!J130","v":0},{"$f":"'w-E_R'!K130","v":0},null,1,{"$f":"'m-E_R'!B130","v":"M19/02-Regel"},{"$f":"'m-E_R'!D130","v":0},{"$f":"'m-E_R'!J130","v":0},{"$f":"'m-E_R'!K130","v":0}]
[1,{"$f":"'w-E_R'!B131","v":"W19/03-Regel"},{"$f":"'w-E_R'!D131","v":0},{"$f":"'w-E_R'!J131","v":0},{"$f":"'w-E_R'!K131","v":0},null,1,{"$f":"'m-E_R'!B131","v":"M19/03-Regel"},{"$f":"'m-E_R'!D131","v":0},{"$f":"'m-E_R'!J131","v":0},{"$f":"'m-E_R'!K131","v":0}]
[1,{"$f":"'w-E_R'!B132","v":"W19/04-Regel"},{"$f":"'w-E_R'!D132","v":0},{"$f":"'w-E_R'!J132","v":0},{"$f":"'w-E_R'!K132","v":0},null,1,{"$f":"'m-E_R'!B132","v":"M19/04-Regel"},{"$f":"'m-E_R'!D132","v":0},{"$f":"'m-E_R'!J132","v":0},{"$f":"'m-E_R'!K132","v":0}]
[1,{"$f":"'w-E_R'!B133","v":"W19/05-Regel"},{"$f":"'w-E_R'!D133","v":0},{"$f":"'w-E_R'!J133","v":0},{"$f":"'w-E_R'!K133","v":0},null,1,{"$f":"'m-E_R'!B133","v":"M19/05-Regel"},{"$f":"'m-E_R'!D133","v":0},{"$f":"'m-E_R'!J133","v":0},{"$f":"'m-E_R'!K133","v":0}]
[1,{"$f":"'w-E_R'!B134","v":"W19/06-Regel"},{"$f":"'w-E_R'!D134","v":0},{"$f":"'w-E_R'!J134","v":0},{"$f":"'w-E_R'!K134","v":0},null,1,{"$f":"'m-E_R'!B134","v":"M19/06-Regel"},{"$f":"'m-E_R'!D134","v":0},{"$f":"'m-E_R'!J134","v":0},{"$f":"'m-E_R'!K134","v":0}]
[1,{"$f":"'w-E_R'!B136","v":"W20/01-Regel"},{"$f":"'w-E_R'!D136","v":0},{"$f":"'w-E_R'!J136","v":0},{"$f":"'w-E_R'!K136","v":0},null,1,{"$f":"'m-E_R'!B136","v":"M20/01-Regel"},{"$f":"'m-E_R'!D136","v":0},{"$f":"'m-E_R'!J136","v":0},{"$f":"'m-E_R'!K136","v":0}]
[1,{"$f":"'w-E_R'!B137","v":"W20/02-Regel"},{"$f":"'w-E_R'!D137","v":0},{"$f":"'w-E_R'!J137","v":0},{"$f":"'w-E_R'!K137","v":0},null,1,{"$f":"'m-E_R'!B137","v":"M20/02-Regel"},{"$f":"'m-E_R'!D137","v":0},{"$f":"'m-E_R'!J137","v":0},{"$f":"'m-E_R'!K137","v":0}]
[1,{"$f":"'w-E_R'!B138","v":"W20/03-Regel"},{"$f":"'w-E_R'!D138","v":0},{"$f":"'w-E_R'!J138","v":0},{"$f":"'w-E_R'!K138","v":0},null,1,{"$f":"'m-E_R'!B138","v":"M20/03-Regel"},{"$f":"'m-E_R'!D138","v":0},{"$f":"'m-E_R'!J138","v":0},{"$f":"'m-E_R'!K138","v":0}]
[1,{"$f":"'w-E_R'!B139","v":"W20/04-Regel"},{"$f":"'w-E_R'!D139","v":0},{"$f":"'w-E_R'!J139","v":0},{"$f":"'w-E_R'!K139","v":0},null,1,{"$f":"'m-E_R'!B139","v":"M20/04-Regel"},{"$f":"'m-E_R'!D139","v":0},{"$f":"'m-E_R'!J139","v":0},{"$f":"'m-E_R'!K139","v":0}]
[1,{"$f":"'w-E_R'!B140","v":"W20/05-Regel"},{"$f":"'w-E_R'!D140","v":0},{"$f":"'w-E_R'!J140","v":0},{"$f":"'w-E_R'!K140","v":0},null,1,{"$f":"'m-E_R'!B140","v":"M20/05-Regel"},{"$f":"'m-E_R'!D140","v":0},{"$f":"'m-E_R'!J140","v":0},{"$f":"'m-E_R'!K140","v":0}]
[1,{"$f":"'w-E_R'!B141","v":"W20/06-Regel"},{"$f":"'w-E_R'!D141","v":0},{"$f":"'w-E_R'!J141","v":0},{"$f":"'w-E_R'!K141","v":0},null,1,{"$f":"'m-E_R'!B141","v":"M20/06-Regel"},{"$f":"'m-E_R'!D141","v":0},{"$f":"'m-E_R'!J141","v":0},{"$f":"'m-E_R'!K141","v":0}]
["Einzelwertung Kugel Weiblich",null,{"$f":"'w-E_R'!C1","v":"D-C/Regel-Schulen"},{"$f":"'w-E_R'!E1","v":"Ortsangabe,Datum"},null,null,"Einzelwertung Kugel Männlich",null,{"$f":"'m-E_R'!C1","v":"D-C/Regel-Schulen"},{"$f":"'m-E_R'!E1","v":"Ortsangabe,Datum"}]
["Einzelwertung Kugel",null,{"$f":"'w-E_Sp'!C1","v":"D-C/Sport-Schwerpunkt"},{"$f":"'w-E_Sp'!E1","v":"Ortsangabe,Datum"},null,null,"Einzelwertung Kugel",null,{"$f":"'m-E_Sp'!C1","v":"D-C/Sport-Schwerpunkt"},{"$f":"'m-E_Sp'!E1","v":"Ortsangabe,Datum"}]
["Rang","WEIBLICH","Schule:","Leistung","Punkte",null,"Rang","MÄNNLICH","Schule:","Leistung","Punkte"]
[{"$f":"RANK(E126,$E$126:$E245,0)","v":1},{"$f":"'w-E_Sp'!B3","v":"W1/01-Sport"},{"$f":"'w-E_Sp'!D3","v":0},{"$f":"'w-E_Sp'!J3","v":0},{"$f":"'w-E_Sp'!K3","v":0},null,{"$f":"RANK(K126,$K$126:$K245,0)","v":1},{"$f":"'m-E_Sp'!B3","v":"M1/01-Sport"},{"$f":"'m-E_Sp'!D3","v":0},{"$f":"'m-E_Sp'!J3","v":0},{"$f":"'m-E_Sp'!K3","v":0}]
[{"$f":"RANK(E127,$E$126:$E245,0)","v":1},{"$f":"'w-E_Sp'!B4","v":"W1/02-Sport"},{"$f":"'w-E_Sp'!D4","v":0},{"$f":"'w-E_Sp'!J4","v":0},{"$f":"'w-E_Sp'!K4","v":0},null,{"$f":"RANK(K127,$K$126:$K245,0)","v":1},{"$f":"'m-E_Sp'!B4","v":"M1/02-Sport"},{"$f":"'m-E_Sp'!D4","v":0},{"$f":"'m-E_Sp'!J4","v":0},{"$f":"'m-E_Sp'!K4","v":0}]
[{"$f":"RANK(E128,$E$126:$E245,0)","v":1},{"$f":"'w-E_Sp'!B5","v":"W1/03-Sport"},{"$f":"'w-E_Sp'!D5","v":0},{"$f":"'w-E_Sp'!J5","v":0},{"$f":"'w-E_Sp'!K5","v":0},null,{"$f":"RANK(K128,$K$126:$K245,0)","v":1},{"$f":"'m-E_Sp'!B5","v":"M1/03-Sport"},{"$f":"'m-E_Sp'!D5","v":0},{"$f":"'m-E_Sp'!J5","v":0},{"$f":"'m-E_Sp'!K5","v":0}]
[{"$f":"RANK(E129,$E$126:$E245,0)","v":1},{"$f":"'w-E_Sp'!B6","v":"W1/04-Sport"},{"$f":"'w-E_Sp'!D6","v":0},{"$f":"'w-E_Sp'!J6","v":0},{"$f":"'w-E_Sp'!K6","v":0},null,{"$f":"RANK(K129,$K$126:$K245,0)","v":1},{"$f":"'m-E_Sp'!B6","v":"M1/04-Sport"},{"$f":"'m-E_Sp'!D6","v":0},{"$f":"'m-E_Sp'!J6","v":0},{"$f":"'m-E_Sp'!K6","v":0}]
[{"$f":"RANK(E130,$E$126:$E245,0)","v":1},{"$f":"'w-E_Sp'!B7","v":"W1/05-Sport"},{"$f":"'w-E_Sp'!D7","v":0},{"$f":"'w-E_Sp'!J7","v":0},{"$f":"'w-E_Sp'!K7","v":0},null,{"$f":"RANK(K130,$K$126:$K245,0)","v":1},{"$f":"'m-E_Sp'!B7","v":"M1/05-Sport"},{"$f":"'m-E_Sp'!D7","v":0},{"$f":"'m-E_Sp'!J7","v":0},{"$f":"'m-E_Sp'!K7","v":0}]
[{"$f":"RANK(E131,$E$126:$E245,0)","v":1},{"$f":"'w-E_Sp'!B8","v":"W1/06-Sport"},{"$f":"'w-E_Sp'!D8","v":0},{"$f":"'w-E_Sp'!J8","v":0},{"$f":"'w-E_Sp'!K8","v":0},null,{"$f":"RANK(K131,$K$126:$K245,0)","v":1},{"$f":"'m-E_Sp'!B8","v":"M1/06-Sport"},{"$f":"'m-E_Sp'!D8","v":0},{"$f":"'m-E_Sp'!J8","v":0},{"$f":"'m-E_Sp'!K8","v":0}]
[{"$f":"RANK(E132,$E$126:$E245,0)","v":1},{"$f":"'w-E_Sp'!B10","v":"W2/01-Sport"},{"$f":"'w-E_Sp'!D10","v":0},{"$f":"'w-E_Sp'!J10","v":0},{"$f":"'w-E_Sp'!K10","v":0},null,{"$f":"RANK(K132,$K$126:$K245,0)","v":1},{"$f":"'m-E_Sp'!B10","v":"M2/01-Sport"},{"$f":"'m-E_Sp'!D10","v":0},{"$f":"'m-E_Sp'!J10","v":0},{"$f":"'m-E_Sp'!K10","v":0}]
[{"$f":"RANK(E133,$E$126:$E245,0)","v":1},{"$f":"'w-E_Sp'!B11","v":"W2/02-Sport"},{"$f":"'w-E_Sp'!D11","v":0},{"$f":"'w-E_Sp'!J11","v":0},{"$f":"'w-E_Sp'!K11","v":0},null,{"$f":"RANK(K133,$K$126:$K245,0)","v":1},{"$f":"'m-E_Sp'!B11","v":"M2/02-Sport"},{"$f":"'m-E_Sp'!D11","v":0},{"$f":"'m-E_Sp'!J11","v":0},{"$f":"'m-E_Sp'!K11","v":0}]
[{"$f":"RANK(E134,$E$126:$E245,0)","v":1},{"$f":"'w-E_Sp'!B12","v":"W2/03-Sport"},{"$f":"'w-E_Sp'!D12","v":0},{"$f":"'w-E_Sp'!J12","v":0},{"$f":"'w-E_Sp'!K12","v":0},null,{"$f":"RANK(K134,$K$126:$K245,0)","v":1},{"$f":"'m-E_Sp'!B12","v":"M2/03-Sport"},{"$f":"'m-E_Sp'!D12","v":0},{"$f":"'m-E_Sp'!J12","v":0},{"$f":"'m-E_Sp'!K12","v":0}]
[{"$f":"RANK(E135,$E$126:$E245,0)","v":1},{"$f":"'w-E_Sp'!B13","v":"W2/04-Sport"},{"$f":"'w-E_Sp'!D13","v":0},{"$f":"'w-E_Sp'!J13","v":0},{"$f":"'w-E_Sp'!K13","v":0},null,{"$f":"RANK(K135,$K$126:$K245,0)","v":1},{"$f":"'m-E_Sp'!B13","v":"M2/04-Sport"},{"$f":"'m-E_Sp'!D13","v":0},{"$f":"'m-E_Sp'!J13","v":0},{"$f":"'m-E_Sp'!K13","v":0}]
[{"$f":"RANK(E136,$E$126:$E245,0)","v":1},{"$f":"'w-E_Sp'!B14","v":"W2/05-Sport"},{"$f":"'w-E_Sp'!D14","v":0},{"$f":"'w-E_Sp'!J14","v":0},{"$f":"'w-E_Sp'!K14","v":0},null,{"$f":"RANK(K136,$K$126:$K245,0)","v":1},{"$f":"'m-E_Sp'!B14","v":"M2/05-Sport"},{"$f":"'m-E_Sp'!D14","v":0},{"$f":"'m-E_Sp'!J14","v":0},{"$f":"'m-E_Sp'!K14","v":0}]
[{"$f":"RANK(E137,$E$126:$E245,0)","v":1},{"$f":"'w-E_Sp'!B15","v":"W2/06-Sport"},{"$f":"'w-E_Sp'!D15","v":0},{"$f":"'w-E_Sp'!J15","v":0},{"$f":"'w-E_Sp'!K15","v":0},null,{"$f":"RANK(K137,$K$126:$K245,0)","v":1},{"$f":"'m-E_Sp'!B15","v":"M2/06-Sport"},{"$f":"'m-E_Sp'!D15","v":0},{"$f":"'m-E_Sp'!J15","v":0},{"$f":"'m-E_Sp'!K15","v":0}]
[{"$f":"RANK(E138,$E$126:$E245,0)","v":1},{"$f":"'w-E_Sp'!B17","v":"W3/01-Sport"},{"$f":"'w-E_Sp'!D17","v":0},{"$f":"'w-E_Sp'!J17","v":0},{"$f":"'w-E_Sp'!K17","v":0},null,{"$f":"RANK(K138,$K$126:$K245,0)","v":1},{"$f":"'m-E_Sp'!B17","v":"M3/01-Sport"},{"$f":"'m-E_Sp'!D17","v":0},{"$f":"'m-E_Sp'!J17","v":0},{"$f":"'m-E_Sp'!K17","v":0}]
[{"$f":"RANK(E139,$E$126:$E245,0)","v":1},{"$f":"'w-E_Sp'!B18","v":"W3/02-Sport"},{"$f":"'w-E_Sp'!D18","v":0},{"$f":"'w-E_Sp'!J18","v":0},{"$f":"'w-E_Sp'!K18","v":0},null,{"$f":"RANK(K139,$K$126:$K245,0)","v":1},{"$f":"'m-E_Sp'!B18","v":"M3/02-Sport"},{"$f":"'m-E_Sp'!D18","v":0},{"$f":"'m-E_Sp'!J18","v":0},{"$f":"'m-E_Sp'!K18","v":0}]
[{"$f":"RANK(E140,$E$126:$E245,0)","v":1},{"$f":"'w-E_Sp'!B19","v":"W3/03-Sport"},{"$f":"'w-E_Sp'!D19","v":0},{"$f":"'w-E_Sp'!J19","v":0},{"$f":"'w-E_Sp'!K19","v":0},null,{"$f":"RANK(K140,$K$126:$K245,0)","v":1},{"$f":"'m-E_Sp'!B19","v":"M3/03-Sport"},{"$f":"'m-E_Sp'!D19","v":0},{"$f":"'m-E_Sp'!J19","v":0},{"$f":"'m-E_Sp'!K19","v":0}]
[{"$f":"RANK(E141,$E$126:$E245,0)","v":1},{"$f":"'w-E_Sp'!B20","v":"W3/04-Sport"},{"$f":"'w-E_Sp'!D20","v":0},{"$f":"'w-E_Sp'!J20","v":0},{"$f":"'w-E_Sp'!K20","v":0},null,{"$f":"RANK(K141,$K$126:$K245,0)","v":1},{"$f":"'m-E_Sp'!B20","v":"M3/04-Sport"},{"$f":"'m-E_Sp'!D20","v":0},{"$f":"'m-E_Sp'!J20","v":0},{"$f":"'m-E_Sp'!K20","v":0}]
[{"$f":"RANK(E142,$E$126:$E245,0)","v":1},{"$f":"'w-E_Sp'!B21","v":"W3/05-Sport"},{"$f":"'w-E_Sp'!D21","v":0},{"$f":"'w-E_Sp'!J21","v":0},{"$f":"'w-E_Sp'!K21","v":0},null,{"$f":"RANK(K142,$K$126:$K245,0)","v":1},{"$f":"'m-E_Sp'!B21","v":"M3/05-Sport"},{"$f":"'m-E_Sp'!D21","v":0},{"$f":"'m-E_Sp'!J21","v":0},{"$f":"'m-E_Sp'!K21","v":0}]
[{"$f":"RANK(E143,$E$126:$E245,0)","v":1},{"$f":"'w-E_Sp'!B22","v":"W3/06-Sport"},{"$f":"'w-E_Sp'!D22","v":0},{"$f":"'w-E_Sp'!J22","v":0},{"$f":"'w-E_Sp'!K22","v":0},null,{"$f":"RANK(K143,$K$126:$K245,0)","v":1},{"$f":"'m-E_Sp'!B22","v":"M3/06-Sport"},{"$f":"'m-E_Sp'!D22","v":0},{"$f":"'m-E_Sp'!J22","v":0},{"$f":"'m-E_Sp'!K22","v":0}]
[{"$f":"RANK(E144,$E$126:$E245,0)","v":1},{"$f":"'w-E_Sp'!B24","v":"W4/01-Sport"},{"$f":"'w-E_Sp'!D24","v":0},{"$f":"'w-E_Sp'!J24","v":0},{"$f":"'w-E_Sp'!K24","v":0},null,{"$f":"RANK(K144,$K$126:$K245,0)","v":1},{"$f":"'m-E_Sp'!B24","v":"M4/01-Sport"},{"$f":"'m-E_Sp'!D24","v":0},{"$f":"'m-E_Sp'!J24","v":0},{"$f":"'m-E_Sp'!K24","v":0}]
[{"$f":"RANK(E145,$E$126:$E245,0)","v":1},{"$f":"'w-E_Sp'!B25","v":"W4/02-Sport"},{"$f":"'w-E_Sp'!D25","v":0},{"$f":"'w-E_Sp'!J25","v":0},{"$f":"'w-E_Sp'!K25","v":0},null,{"$f":"RANK(K145,$K$126:$K245,0)","v":1},{"$f":"'m-E_Sp'!B25","v":"M4/02-Sport"},{"$f":"'m-E_Sp'!D25","v":0},{"$f":"'m-E_Sp'!J25","v":0},{"$f":"'m-E_Sp'!K25","v":0}]
[{"$f":"RANK(E146,$E$126:$E245,0)","v":1},{"$f":"'w-E_Sp'!B26","v":"W4/03-Sport"},{"$f":"'w-E_Sp'!D26","v":0},{"$f":"'w-E_Sp'!J26","v":0},{"$f":"'w-E_Sp'!K26","v":0},null,{"$f":"RANK(K146,$K$126:$K245,0)","v":1},{"$f":"'m-E_Sp'!B26","v":"M4/03-Sport"},{"$f":"'m-E_Sp'!D26","v":0},{"$f":"'m-E_Sp'!J26","v":0},{"$f":"'m-E_Sp'!K26","v":0}]
[{"$f":"RANK(E147,$E$126:$E245,0)","v":1},{"$f":"'w-E_Sp'!B27","v":"W4/04-Sport"},{"$f":"'w-E_Sp'!D27","v":0},{"$f":"'w-E_Sp'!J27","v":0},{"$f":"'w-E_Sp'!K27","v":0},null,{"$f":"RANK(K147,$K$126:$K245,0)","v":1},{"$f":"'m-E_Sp'!B27","v":"M4/04-Sport"},{"$f":"'m-E_Sp'!D27","v":0},{"$f":"'m-E_Sp'!J27","v":0},{"$f":"'m-E_Sp'!K27","v":0}]
[{"$f":"RANK(E148,$E$126:$E245,0)","v":1},{"$f":"'w-E_Sp'!B28","v":"W4/05-Sport"},{"$f":"'w-E_Sp'!D28","v":0},{"$f":"'w-E_Sp'!J28","v":0},{"$f":"'w-E_Sp'!K28","v":0},null,{"$f":"RANK(K148,$K$126:$K245,0)","v":1},{"$f":"'m-E_Sp'!B28","v":"M4/05-Sport"},{"$f":"'m-E_Sp'!D28","v":0},{"$f":"'m-E_Sp'!J28","v":0},{"$f":"'m-E_Sp'!K28","v":0}]
[{"$f":"RANK(E149,$E$126:$E245,0)","v":1},{"$f":"'w-E_Sp'!B29","v":"W4/06-Sport"},{"$f":"'w-E_Sp'!D29","v":0},{"$f":"'w-E_Sp'!J29","v":0},{"$f":"'w-E_Sp'!K29","v":0},null,{"$f":"RANK(K149,$K$126:$K245,0)","v":1},{"$f":"'m-E_Sp'!B29","v":"M4/06-Sport"},{"$f":"'m-E_Sp'!D29","v":0},{"$f":"'m-E_Sp'!J29","v":0},{"$f":"'m-E_Sp'!K29","v":0}]
[{"$f":"RANK(E150,$E$126:$E245,0)","v":1},{"$f":"'w-E_Sp'!B31","v":"W5/01-Sport"},{"$f":"'w-E_Sp'!D31","v":0},{"$f":"'w-E_Sp'!J31","v":0},{"$f":"'w-E_Sp'!K31","v":0},null,{"$f":"RANK(K150,$K$126:$K245,0)","v":1},{"$f":"'m-E_Sp'!B31","v":"M5/01-Sport"},{"$f":"'m-E_Sp'!D31","v":0},{"$f":"'m-E_Sp'!J31","v":0},{"$f":"'m-E_Sp'!K31","v":0}]
[{"$f":"RANK(E151,$E$126:$E245,0)","v":1},{"$f":"'w-E_Sp'!B32","v":"W5/02-Sport"},{"$f":"'w-E_Sp'!D32","v":0},{"$f":"'w-E_Sp'!J32","v":0},{"$f":"'w-E_Sp'!K32","v":0},null,{"$f":"RANK(K151,$K$126:$K245,0)","v":1},{"$f":"'m-E_Sp'!B32","v":"M5/02-Sport"},{"$f":"'m-E_Sp'!D32","v":0},{"$f":"'m-E_Sp'!J32","v":0},{"$f":"'m-E_Sp'!K32","v":0}]
[{"$f":"RANK(E152,$E$126:$E245,0)","v":1},{"$f":"'w-E_Sp'!B33","v":"W5/03-Sport"},{"$f":"'w-E_Sp'!D33","v":0},{"$f":"'w-E_Sp'!J33","v":0},{"$f":"'w-E_Sp'!K33","v":0},null,{"$f":"RANK(K152,$K$126:$K245,0)","v":1},{"$f":"'m-E_Sp'!B33","v":"M5/03-Sport"},{"$f":"'m-E_Sp'!D33","v":0},{"$f":"'m-E_Sp'!J33","v":0},{"$f":"'m-E_Sp'!K33","v":0}]
[{"$f":"RANK(E153,$E$126:$E245,0)","v":1},{"$f":"'w-E_Sp'!B34","v":"W5/04-Sport"},{"$f":"'w-E_Sp'!D34","v":0},{"$f":"'w-E_Sp'!J34","v":0},{"$f":"'w-E_Sp'!K34","v":0},null,{"$f":"RANK(K153,$K$126:$K245,0)","v":1},{"$f":"'m-E_Sp'!B34","v":"M5/04-Sport"},{"$f":"'m-E_Sp'!D34","v":0},{"$f":"'m-E_Sp'!J34","v":0},{"$f":"'m-E_Sp'!K34","v":0}]
[{"$f":"RANK(E154,$E$126:$E245,0)","v":1},{"$f":"'w-E_Sp'!B35","v":"W5/05-Sport"},{"$f":"'w-E_Sp'!D35","v":0},{"$f":"'w-E_Sp'!J35","v":0},{"$f":"'w-E_Sp'!K35","v":0},null,{"$f":"RANK(K154,$K$126:$K245,0)","v":1},{"$f":"'m-E_Sp'!B35","v":"M5/05-Sport"},{"$f":"'m-E_Sp'!D35","v":0},{"$f":"'m-E_Sp'!J35","v":0},{"$f":"'m-E_Sp'!K35","v":0}]
[{"$f":"RANK(E155,$E$126:$E245,0)","v":1},{"$f":"'w-E_Sp'!B36","v":"W5/06-Sport"},{"$f":"'w-E_Sp'!D36","v":0},{"$f":"'w-E_Sp'!J36","v":0},{"$f":"'w-E_Sp'!K36","v":0},null,{"$f":"RANK(K155,$K$126:$K245,0)","v":1},{"$f":"'m-E_Sp'!B36","v":"M5/06-Sport"},{"$f":"'m-E_Sp'!D36","v":0},{"$f":"'m-E_Sp'!J36","v":0},{"$f":"'m-E_Sp'!K36","v":0}]
[{"$f":"RANK(E156,$E$126:$E245,0)","v":1},{"$f":"'w-E_Sp'!B38","v":"W6/01-Sport"},{"$f":"'w-E_Sp'!D38","v":0},{"$f":"'w-E_Sp'!J38","v":0},{"$f":"'w-E_Sp'!K38","v":0},null,{"$f":"RANK(K156,$K$126:$K245,0)","v":1},{"$f":"'m-E_Sp'!B38","v":"M6/01-Sport"},{"$f":"'m-E_Sp'!D38","v":0},{"$f":"'m-E_Sp'!J38","v":0},{"$f":"'m-E_Sp'!K38","v":0}]
[{"$f":"RANK(E157,$E$126:$E245,0)","v":1},{"$f":"'w-E_Sp'!B39","v":"W6/02-Sport"},{"$f":"'w-E_Sp'!D39","v":0},{"$f":"'w-E_Sp'!J39","v":0},{"$f":"'w-E_Sp'!K39","v":0},null,{"$f":"RANK(K157,$K$126:$K245,0)","v":1},{"$f":"'m-E_Sp'!B39","v":"M6/02-Sport"},{"$f":"'m-E_Sp'!D39","v":0},{"$f":"'m-E_Sp'!J39","v":0},{"$f":"'m-E_Sp'!K39","v":0}]
[{"$f":"RANK(E158,$E$126:$E245,0)","v":1},{"$f":"'w-E_Sp'!B40","v":"W6/03-Sport"},{"$f":"'w-E_Sp'!D40","v":0},{"$f":"'w-E_Sp'!J40","v":0},{"$f":"'w-E_Sp'!K40","v":0},null,{"$f":"RANK(K158,$K$126:$K245,0)","v":1},{"$f":"'m-E_Sp'!B40","v":"M6/03-Sport"},{"$f":"'m-E_Sp'!D40","v":0},{"$f":"'m-E_Sp'!J40","v":0},{"$f":"'m-E_Sp'!K40","v":0}]
[{"$f":"RANK(E159,$E$126:$E245,0)","v":1},{"$f":"'w-E_Sp'!B41","v":"W6/04-Sport"},{"$f":"'w-E_Sp'!D41","v":0},{"$f":"'w-E_Sp'!J41","v":0},{"$f":"'w-E_Sp'!K41","v":0},null,{"$f":"RANK(K159,$K$126:$K245,0)","v":1},{"$f":"'m-E_Sp'!B41","v":"M6/04-Sport"},{"$f":"'m-E_Sp'!D41","v":0},{"$f":"'m-E_Sp'!J41","v":0},{"$f":"'m-E_Sp'!K41","v":0}]
[{"$f":"RANK(E160,$E$126:$E245,0)","v":1},{"$f":"'w-E_Sp'!B42","v":"W6/05-Sport"},{"$f":"'w-E_Sp'!D42","v":0},{"$f":"'w-E_Sp'!J42","v":0},{"$f":"'w-E_Sp'!K42","v":0},null,{"$f":"RANK(K160,$K$126:$K245,0)","v":1},{"$f":"'m-E_Sp'!B42","v":"M6/05-Sport"},{"$f":"'m-E_Sp'!D42","v":0},{"$f":"'m-E_Sp'!J42","v":0},{"$f":"'m-E_Sp'!K42","v":0}]
[{"$f":"RANK(E161,$E$126:$E245,0)","v":1},{"$f":"'w-E_Sp'!B43","v":"W6/06-Sport"},{"$f":"'w-E_Sp'!D43","v":0},{"$f":"'w-E_Sp'!J43","v":0},{"$f":"'w-E_Sp'!K43","v":0},null,{"$f":"RANK(K161,$K$126:$K245,0)","v":1},{"$f":"'m-E_Sp'!B43","v":"M6/06-Sport"},{"$f":"'m-E_Sp'!D43","v":0},{"$f":"'m-E_Sp'!J43","v":0},{"$f":"'m-E_Sp'!K43","v":0}]
[{"$f":"RANK(E162,$E$126:$E245,0)","v":1},{"$f":"'w-E_Sp'!B45","v":"W7/01-Sport"},{"$f":"'w-E_Sp'!D45","v":0},{"$f":"'w-E_Sp'!J45","v":0},{"$f":"'w-E_Sp'!K45","v":0},null,{"$f":"RANK(K162,$K$126:$K245,0)","v":1},{"$f":"'m-E_Sp'!B45","v":"M7/01-Sport"},{"$f":"'m-E_Sp'!D45","v":0},{"$f":"'m-E_Sp'!J45","v":0},{"$f":"'m-E_Sp'!K45","v":0}]
[{"$f":"RANK(E163,$E$126:$E245,0)","v":1},{"$f":"'w-E_Sp'!B46","v":"W7/02-Sport"},{"$f":"'w-E_Sp'!D46","v":0},{"$f":"'w-E_Sp'!J46","v":0},{"$f":"'w-E_Sp'!K46","v":0},null,{"$f":"RANK(K163,$K$126:$K245,0)","v":1},{"$f":"'m-E_Sp'!B46","v":"M7/02-Sport"},{"$f":"'m-E_Sp'!D46","v":0},{"$f":"'m-E_Sp'!J46","v":0},{"$f":"'m-E_Sp'!K46","v":0}]
[{"$f":"RANK(E164,$E$126:$E245,0)","v":1},{"$f":"'w-E_Sp'!B47","v":"W7/03-Sport"},{"$f":"'w-E_Sp'!D47","v":0},{"$f":"'w-E_Sp'!J47","v":0},{"$f":"'w-E_Sp'!K47","v":0},null,{"$f":"RANK(K164,$K$126:$K245,0)","v":1},{"$f":"'m-E_Sp'!B47","v":"M7/03-Sport"},{"$f":"'m-E_Sp'!D47","v":0},{"$f":"'m-E_Sp'!J47","v":0},{"$f":"'m-E_Sp'!K47","v":0}]
[{"$f":"RANK(E165,$E$126:$E245,0)","v":1},{"$f":"'w-E_Sp'!B48","v":"W7/04-Sport"},{"$f":"'w-E_Sp'!D48","v":0},{"$f":"'w-E_Sp'!J48","v":0},{"$f":"'w-E_Sp'!K48","v":0},null,{"$f":"RANK(K165,$K$126:$K245,0)","v":1},{"$f":"'m-E_Sp'!B48","v":"M7/04-Sport"},{"$f":"'m-E_Sp'!D48","v":0},{"$f":"'m-E_Sp'!J48","v":0},{"$f":"'m-E_Sp'!K48","v":0}]
[{"$f":"RANK(E166,$E$126:$E245,0)","v":1},{"$f":"'w-E_Sp'!B49","v":"W7/05-Sport"},{"$f":"'w-E_Sp'!D49","v":0},{"$f":"'w-E_Sp'!J49","v":0},{"$f":"'w-E_Sp'!K49","v":0},null,{"$f":"RANK(K166,$K$126:$K245,0)","v":1},{"$f":"'m-E_Sp'!B49","v":"M7/05-Sport"},{"$f":"'m-E_Sp'!D49","v":0},{"$f":"'m-E_Sp'!J49","v":0},{"$f":"'m-E_Sp'!K49","v":0}]
[{"$f":"RANK(E167,$E$126:$E245,0)","v":1},{"$f":"'w-E_Sp'!B50","v":"W7/06-Sport"},{"$f":"'w-E_Sp'!D50","v":0},{"$f":"'w-E_Sp'!J50","v":0},{"$f":"'w-E_Sp'!K50","v":0},null,{"$f":"RANK(K167,$K$126:$K245,0)","v":1},{"$f":"'m-E_Sp'!B50","v":"M7/06-Sport"},{"$f":"'m-E_Sp'!D50","v":0},{"$f":"'m-E_Sp'!J50","v":0},{"$f":"'m-E_Sp'!K50","v":0}]
[{"$f":"RANK(E168,$E$126:$E245,0)","v":1},{"$f":"'w-E_Sp'!B52","v":"W8/01-Sport"},{"$f":"'w-E_Sp'!D52","v":0},{"$f":"'w-E_Sp'!J52","v":0},{"$f":"'w-E_Sp'!K52","v":0},null,{"$f":"RANK(K168,$K$126:$K245,0)","v":1},{"$f":"'m-E_Sp'!B52","v":"M8/01-Sport"},{"$f":"'m-E_Sp'!D52","v":0},{"$f":"'m-E_Sp'!J52","v":0},{"$f":"'m-E_Sp'!K52","v":0}]
[{"$f":"RANK(E169,$E$126:$E245,0)","v":1},{"$f":"'w-E_Sp'!B53","v":"W8/02-Sport"},{"$f":"'w-E_Sp'!D53","v":0},{"$f":"'w-E_Sp'!J53","v":0},{"$f":"'w-E_Sp'!K53","v":0},null,{"$f":"RANK(K169,$K$126:$K245,0)","v":1},{"$f":"'m-E_Sp'!B53","v":"M8/02-Sport"},{"$f":"'m-E_Sp'!D53","v":0},{"$f":"'m-E_Sp'!J53","v":0},{"$f":"'m-E_Sp'!K53","v":0}]
[{"$f":"RANK(E170,$E$126:$E245,0)","v":1},{"$f":"'w-E_Sp'!B54","v":"W8/03-Sport"},{"$f":"'w-E_Sp'!D54","v":0},{"$f":"'w-E_Sp'!J54","v":0},{"$f":"'w-E_Sp'!K54","v":0},null,{"$f":"RANK(K170,$K$126:$K245,0)","v":1},{"$f":"'m-E_Sp'!B54","v":"M8/03-Sport"},{"$f":"'m-E_Sp'!D54","v":0},{"$f":"'m-E_Sp'!J54","v":0},{"$f":"'m-E_Sp'!K54","v":0}]
[{"$f":"RANK(E171,$E$126:$E245,0)","v":1},{"$f":"'w-E_Sp'!B55","v":"W8/04-Sport"},{"$f":"'w-E_Sp'!D55","v":0},{"$f":"'w-E_Sp'!J55","v":0},{"$f":"'w-E_Sp'!K55","v":0},null,{"$f":"RANK(K171,$K$126:$K245,0)","v":1},{"$f":"'m-E_Sp'!B55","v":"M8/04-Sport"},{"$f":"'m-E_Sp'!D55","v":0},{"$f":"'m-E_Sp'!J55","v":0},{"$f":"'m-E_Sp'!K55","v":0}]
[{"$f":"RANK(E172,$E$126:$E245,0)","v":1},{"$f":"'w-E_Sp'!B56","v":"W8/05-Sport"},{"$f":"'w-E_Sp'!D56","v":0},{"$f":"'w-E_Sp'!J56","v":0},{"$f":"'w-E_Sp'!K56","v":0},null,{"$f":"RANK(K172,$K$126:$K245,0)","v":1},{"$f":"'m-E_Sp'!B56","v":"M8/05-Sport"},{"$f":"'m-E_Sp'!D56","v":0},{"$f":"'m-E_Sp'!J56","v":0},{"$f":"'m-E_Sp'!K56","v":0}]
[{"$f":"RANK(E173,$E$126:$E245,0)","v":1},{"$f":"'w-E_Sp'!B57","v":"W8/06-Sport"},{"$f":"'w-E_Sp'!D57","v":0},{"$f":"'w-E_Sp'!J57","v":0},{"$f":"'w-E_Sp'!K57","v":0},null,{"$f":"RANK(K173,$K$126:$K245,0)","v":1},{"$f":"'m-E_Sp'!B57","v":"M8/06-Sport"},{"$f":"'m-E_Sp'!D57","v":0},{"$f":"'m-E_Sp'!J57","v":0},{"$f":"'m-E_Sp'!K57","v":0}]
[{"$f":"RANK(E174,$E$126:$E245,0)","v":1},{"$f":"'w-E_Sp'!B59","v":"W9/01-Sport"},{"$f":"'w-E_Sp'!D59","v":0},{"$f":"'w-E_Sp'!J59","v":0},{"$f":"'w-E_Sp'!K59","v":0},null,{"$f":"RANK(K174,$K$126:$K245,0)","v":1},{"$f":"'m-E_Sp'!B59","v":"M9/01-Sport"},{"$f":"'m-E_Sp'!D59","v":0},{"$f":"'m-E_Sp'!J59","v":0},{"$f":"'m-E_Sp'!K59","v":0}]
[{"$f":"RANK(E175,$E$126:$E245,0)","v":1},{"$f":"'w-E_Sp'!B60","v":"W9/02-Sport"},{"$f":"'w-E_Sp'!D60","v":0},{"$f":"'w-E_Sp'!J60","v":0},{"$f":"'w-E_Sp'!K60","v":0},null,{"$f":"RANK(K175,$K$126:$K245,0)","v":1},{"$f":"'m-E_Sp'!B60","v":"M9/02-Sport"},{"$f":"'m-E_Sp'!D60","v":0},{"$f":"'m-E_Sp'!J60","v":0},{"$f":"'m-E_Sp'!K60","v":0}]
[{"$f":"RANK(E176,$E$126:$E245,0)","v":1},{"$f":"'w-E_Sp'!B61","v":"W9/03-Sport"},{"$f":"'w-E_Sp'!D61","v":0},{"$f":"'w-E_Sp'!J61","v":0},{"$f":"'w-E_Sp'!K61","v":0},null,{"$f":"RANK(K176,$K$126:$K245,0)","v":1},{"$f":"'m-E_Sp'!B61","v":"M9/03-Sport"},{"$f":"'m-E_Sp'!D61","v":0},{"$f":"'m-E_Sp'!J61","v":0},{"$f":"'m-E_Sp'!K61","v":0}]
[{"$f":"RANK(E177,$E$126:$E245,0)","v":1},{"$f":"'w-E_Sp'!B62","v":"W9/04-Sport"},{"$f":"'w-E_Sp'!D62","v":0},{"$f":"'w-E_Sp'!J62","v":0},{"$f":"'w-E_Sp'!K62","v":0},null,{"$f":"RANK(K177,$K$126:$K245,0)","v":1},{"$f":"'m-E_Sp'!B62","v":"M9/04-Sport"},{"$f":"'m-E_Sp'!D62","v":0},{"$f":"'m-E_Sp'!J62","v":0},{"$f":"'m-E_Sp'!K62","v":0}]
[{"$f":"RANK(E178,$E$126:$E245,0)","v":1},{"$f":"'w-E_Sp'!B63","v":"W9/05-Sport"},{"$f":"'w-E_Sp'!D63","v":0},{"$f":"'w-E_Sp'!J63","v":0},{"$f":"'w-E_Sp'!K63","v":0},null,{"$f":"RANK(K178,$K$126:$K245,0)","v":1},{"$f":"'m-E_Sp'!B63","v":"M9/05-Sport"},{"$f":"'m-E_Sp'!D63","v":0},{"$f":"'m-E_Sp'!J63","v":0},{"$f":"'m-E_Sp'!K63","v":0}]
[{"$f":"RANK(E179,$E$126:$E245,0)","v":1},{"$f":"'w-E_Sp'!B64","v":"W9/06-Sport"},{"$f":"'w-E_Sp'!D64","v":0},{"$f":"'w-E_Sp'!J64","v":0},{"$f":"'w-E_Sp'!K64","v":0},null,{"$f":"RANK(K179,$K$126:$K245,0)","v":1},{"$f":"'m-E_Sp'!B64","v":"M9/06-Sport"},{"$f":"'m-E_Sp'!D64","v":0},{"$f":"'m-E_Sp'!J64","v":0},{"$f":"'m-E_Sp'!K64","v":0}]
[{"$f":"RANK(E180,$E$126:$E245,0)","v":1},{"$f":"'w-E_Sp'!B66","v":"W10/01-Sport"},{"$f":"'w-E_Sp'!D66","v":0},{"$f":"'w-E_Sp'!J66","v":0},{"$f":"'w-E_Sp'!K66","v":0},null,{"$f":"RANK(K180,$K$126:$K245,0)","v":1},{"$f":"'m-E_Sp'!B66","v":"M10/01-Sport"},{"$f":"'m-E_Sp'!D66","v":0},{"$f":"'m-E_Sp'!J66","v":0},{"$f":"'m-E_Sp'!K66","v":0}]
[{"$f":"RANK(E181,$E$126:$E245,0)","v":1},{"$f":"'w-E_Sp'!B67","v":"W10/02-Sport"},{"$f":"'w-E_Sp'!D67","v":0},{"$f":"'w-E_Sp'!J67","v":0},{"$f":"'w-E_Sp'!K67","v":0},null,{"$f":"RANK(K181,$K$126:$K245,0)","v":1},{"$f":"'m-E_Sp'!B67","v":"M10/02-Sport"},{"$f":"'m-E_Sp'!D67","v":0},{"$f":"'m-E_Sp'!J67","v":0},{"$f":"'m-E_Sp'!K67","v":0}]
[{"$f":"RANK(E182,$E$126:$E245,0)","v":1},{"$f":"'w-E_Sp'!B68","v":"W10/03-Sport"},{"$f":"'w-E_Sp'!D68","v":0},{"$f":"'w-E_Sp'!J68","v":0},{"$f":"'w-E_Sp'!K68","v":0},null,{"$f":"RANK(K182,$K$126:$K245,0)","v":1},{"$f":"'m-E_Sp'!B68","v":"M10/03-Sport"},{"$f":"'m-E_Sp'!D68","v":0},{"$f":"'m-E_Sp'!J68","v":0},{"$f":"'m-E_Sp'!K68","v":0}]
[{"$f":"RANK(E183,$E$126:$E245,0)","v":1},{"$f":"'w-E_Sp'!B69","v":"W10/04-Sport"},{"$f":"'w-E_Sp'!D69","v":0},{"$f":"'w-E_Sp'!J69","v":0},{"$f":"'w-E_Sp'!K69","v":0},null,{"$f":"RANK(K183,$K$126:$K245,0)","v":1},{"$f":"'m-E_Sp'!B69","v":"M10/04-Sport"},{"$f":"'m-E_Sp'!D69","v":0},{"$f":"'m-E_Sp'!J69","v":0},{"$f":"'m-E_Sp'!K69","v":0}]
[{"$f":"RANK(E184,$E$126:$E245,0)","v":1},{"$f":"'w-E_Sp'!B70","v":"W10/05-Sport"},{"$f":"'w-E_Sp'!D70","v":0},{"$f":"'w-E_Sp'!J70","v":0},{"$f":"'w-E_Sp'!K70","v":0},null,{"$f":"RANK(K184,$K$126:$K245,0)","v":1},{"$f":"'m-E_Sp'!B70","v":"M10/05-Sport"},{"$f":"'m-E_Sp'!D70","v":0},{"$f":"'m-E_Sp'!J70","v":0},{"$f":"'m-E_Sp'!K70","v":0}]
[{"$f":"RANK(E185,$E$126:$E245,0)","v":1},{"$f":"'w-E_Sp'!B71","v":"W10/06-Sport"},{"$f":"'w-E_Sp'!D71","v":0},{"$f":"'w-E_Sp'!J71","v":0},{"$f":"'w-E_Sp'!K71","v":0},null,{"$f":"RANK(K185,$K$126:$K245,0)","v":1},{"$f":"'m-E_Sp'!B71","v":"M10/06-Sport"},{"$f":"'m-E_Sp'!D71","v":0},{"$f":"'m-E_Sp'!J71","v":0},{"$f":"'m-E_Sp'!K71","v":0}]
[{"$f":"RANK(E186,$E$126:$E245,0)","v":1},{"$f":"'w-E_Sp'!B73","v":"W11/01-Sport"},{"$f":"'w-E_Sp'!D73","v":0},{"$f":"'w-E_Sp'!J73","v":0},{"$f":"'w-E_Sp'!K73","v":0},null,{"$f":"RANK(K186,$K$126:$K245,0)","v":1},{"$f":"'m-E_Sp'!B73","v":"M11/01-Sport"},{"$f":"'m-E_Sp'!D73","v":0},{"$f":"'m-E_Sp'!J73","v":0},{"$f":"'m-E_Sp'!K73","v":0}]
[{"$f":"RANK(E187,$E$126:$E245,0)","v":1},{"$f":"'w-E_Sp'!B74","v":"W11/02-Sport"},{"$f":"'w-E_Sp'!D74","v":0},{"$f":"'w-E_Sp'!J74","v":0},{"$f":"'w-E_Sp'!K74","v":0},null,{"$f":"RANK(K187,$K$126:$K245,0)","v":1},{"$f":"'m-E_Sp'!B74","v":"M11/02-Sport"},{"$f":"'m-E_Sp'!D74","v":0},{"$f":"'m-E_Sp'!J74","v":0},{"$f":"'m-E_Sp'!K74","v":0}]
[{"$f":"RANK(E188,$E$126:$E245,0)","v":1},{"$f":"'w-E_Sp'!B75","v":"W11/03-Sport"},{"$f":"'w-E_Sp'!D75","v":0},{"$f":"'w-E_Sp'!J75","v":0},{"$f":"'w-E_Sp'!K75","v":0},null,{"$f":"RANK(K188,$K$126:$K245,0)","v":1},{"$f":"'m-E_Sp'!B75","v":"M11/03-Sport"},{"$f":"'m-E_Sp'!D75","v":0},{"$f":"'m-E_Sp'!J75","v":0},{"$f":"'m-E_Sp'!K75","v":0}]
[{"$f":"RANK(E189,$E$126:$E245,0)","v":1},{"$f":"'w-E_Sp'!B76","v":"W11/04-Sport"},{"$f":"'w-E_Sp'!D76","v":0},{"$f":"'w-E_Sp'!J76","v":0},{"$f":"'w-E_Sp'!K76","v":0},null,{"$f":"RANK(K189,$K$126:$K245,0)","v":1},{"$f":"'m-E_Sp'!B76","v":"M11/04-Sport"},{"$f":"'m-E_Sp'!D76","v":0},{"$f":"'m-E_Sp'!J76","v":0},{"$f":"'m-E_Sp'!K76","v":0}]
[{"$f":"RANK(E190,$E$126:$E245,0)","v":1},{"$f":"'w-E_Sp'!B77","v":"W11/05-Sport"},{"$f":"'w-E_Sp'!D77","v":0},{"$f":"'w-E_Sp'!J77","v":0},{"$f":"'w-E_Sp'!K77","v":0},null,{"$f":"RANK(K190,$K$126:$K245,0)","v":1},{"$f":"'m-E_Sp'!B77","v":"M11/05-Sport"},{"$f":"'m-E_Sp'!D77","v":0},{"$f":"'m-E_Sp'!J77","v":0},{"$f":"'m-E_Sp'!K77","v":0}]
[{"$f":"RANK(E191,$E$126:$E245,0)","v":1},{"$f":"'w-E_Sp'!B78","v":"W11/06-Sport"},{"$f":"'w-E_Sp'!D78","v":0},{"$f":"'w-E_Sp'!J78","v":0},{"$f":"'w-E_Sp'!K78","v":0},null,{"$f":"RANK(K191,$K$126:$K245,0)","v":1},{"$f":"'m-E_Sp'!B78","v":"M11/06-Sport"},{"$f":"'m-E_Sp'!D78","v":0},{"$f":"'m-E_Sp'!J78","v":0},{"$f":"'m-E_Sp'!K78","v":0}]
[{"$f":"RANK(E192,$E$126:$E245,0)","v":1},{"$f":"'w-E_Sp'!B80","v":"W12/01-Sport"},{"$f":"'w-E_Sp'!D80","v":0},{"$f":"'w-E_Sp'!J80","v":0},{"$f":"'w-E_Sp'!K80","v":0},null,{"$f":"RANK(K192,$K$126:$K245,0)","v":1},{"$f":"'m-E_Sp'!B80","v":"M12/01-Sport"},{"$f":"'m-E_Sp'!D80","v":0},{"$f":"'m-E_Sp'!J80","v":0},{"$f":"'m-E_Sp'!K80","v":0}]
[{"$f":"RANK(E193,$E$126:$E245,0)","v":1},{"$f":"'w-E_Sp'!B81","v":"W12/02-Sport"},{"$f":"'w-E_Sp'!D81","v":0},{"$f":"'w-E_Sp'!J81","v":0},{"$f":"'w-E_Sp'!K81","v":0},null,{"$f":"RANK(K193,$K$126:$K245,0)","v":1},{"$f":"'m-E_Sp'!B81","v":"M12/02-Sport"},{"$f":"'m-E_Sp'!D81","v":0},{"$f":"'m-E_Sp'!J81","v":0},{"$f":"'m-E_Sp'!K81","v":0}]
[{"$f":"RANK(E194,$E$126:$E245,0)","v":1},{"$f":"'w-E_Sp'!B82","v":"W12/03-Sport"},{"$f":"'w-E_Sp'!D82","v":0},{"$f":"'w-E_Sp'!J82","v":0},{"$f":"'w-E_Sp'!K82","v":0},null,{"$f":"RANK(K194,$K$126:$K245,0)","v":1},{"$f":"'m-E_Sp'!B82","v":"M12/03-Sport"},{"$f":"'m-E_Sp'!D82","v":0},{"$f":"'m-E_Sp'!J82","v":0},{"$f":"'m-E_Sp'!K82","v":0}]
[{"$f":"RANK(E195,$E$126:$E245,0)","v":1},{"$f":"'w-E_Sp'!B83","v":"W12/04-Sport"},{"$f":"'w-E_Sp'!D83","v":0},{"$f":"'w-E_Sp'!J83","v":0},{"$f":"'w-E_Sp'!K83","v":0},null,{"$f":"RANK(K195,$K$126:$K245,0)","v":1},{"$f":"'m-E_Sp'!B83","v":"M12/04-Sport"},{"$f":"'m-E_Sp'!D83","v":0},{"$f":"'m-E_Sp'!J83","v":0},{"$f":"'m-E_Sp'!K83","v":0}]
[{"$f":"RANK(E196,$E$126:$E245,0)","v":1},{"$f":"'w-E_Sp'!B84","v":"W12/05-Sport"},{"$f":"'w-E_Sp'!D84","v":0},{"$f":"'w-E_Sp'!J84","v":0},{"$f":"'w-E_Sp'!K84","v":0},null,{"$f":"RANK(K196,$K$126:$K245,0)","v":1},{"$f":"'m-E_Sp'!B84","v":"M12/05-Sport"},{"$f":"'m-E_Sp'!D84","v":0},{"$f":"'m-E_Sp'!J84","v":0},{"$f":"'m-E_Sp'!K84","v":0}]
[{"$f":"RANK(E197,$E$126:$E245,0)","v":1},{"$f":"'w-E_Sp'!B85","v":"W12/06-Sport"},{"$f":"'w-E_Sp'!D85","v":0},{"$f":"'w-E_Sp'!J85","v":0},{"$f":"'w-E_Sp'!K85","v":0},null,{"$f":"RANK(K197,$K$126:$K245,0)","v":1},{"$f":"'m-E_Sp'!B85","v":"M12/06-Sport"},{"$f":"'m-E_Sp'!D85","v":0},{"$f":"'m-E_Sp'!J85","v":0},{"$f":"'m-E_Sp'!K85","v":0}]
[{"$f":"RANK(E198,$E$126:$E245,0)","v":1},{"$f":"'w-E_Sp'!B87","v":"W13/01-Sport"},{"$f":"'w-E_Sp'!D87","v":0},{"$f":"'w-E_Sp'!J87","v":0},{"$f":"'w-E_Sp'!K87","v":0},null,{"$f":"RANK(K198,$K$126:$K245,0)","v":1},{"$f":"'m-E_Sp'!B87","v":"M13/01-Sport"},{"$f":"'m-E_Sp'!D87","v":0},{"$f":"'m-E_Sp'!J87","v":0},{"$f":"'m-E_Sp'!K87","v":0}]
[{"$f":"RANK(E199,$E$126:$E245,0)","v":1},{"$f":"'w-E_Sp'!B88","v":"W13/02-Sport"},{"$f":"'w-E_Sp'!D88","v":0},{"$f":"'w-E_Sp'!J88","v":0},{"$f":"'w-E_Sp'!K88","v":0},null,{"$f":"RANK(K199,$K$126:$K245,0)","v":1},{"$f":"'m-E_Sp'!B88","v":"M13/02-Sport"},{"$f":"'m-E_Sp'!D88","v":0},{"$f":"'m-E_Sp'!J88","v":0},{"$f":"'m-E_Sp'!K88","v":0}]
[{"$f":"RANK(E200,$E$126:$E245,0)","v":1},{"$f":"'w-E_Sp'!B89","v":"W13/03-Sport"},{"$f":"'w-E_Sp'!D89","v":0},{"$f":"'w-E_Sp'!J89","v":0},{"$f":"'w-E_Sp'!K89","v":0},null,{"$f":"RANK(K200,$K$126:$K245,0)","v":1},{"$f":"'m-E_Sp'!B89","v":"M13/03-Sport"},{"$f":"'m-E_Sp'!D89","v":0},{"$f":"'m-E_Sp'!J89","v":0},{"$f":"'m-E_Sp'!K89","v":0}]
[{"$f":"RANK(E201,$E$126:$E245,0)","v":1},{"$f":"'w-E_Sp'!B90","v":"W13/04-Sport"},{"$f":"'w-E_Sp'!D90","v":0},{"$f":"'w-E_Sp'!J90","v":0},{"$f":"'w-E_Sp'!K90","v":0},null,{"$f":"RANK(K201,$K$126:$K245,0)","v":1},{"$f":"'m-E_Sp'!B90","v":"M13/04-Sport"},{"$f":"'m-E_Sp'!D90","v":0},{"$f":"'m-E_Sp'!J90","v":0},{"$f":"'m-E_Sp'!K90","v":0}]
[{"$f":"RANK(E202,$E$126:$E245,0)","v":1},{"$f":"'w-E_Sp'!B91","v":"W13/05-Sport"},{"$f":"'w-E_Sp'!D91","v":0},{"$f":"'w-E_Sp'!J91","v":0},{"$f":"'w-E_Sp'!K91","v":0},null,{"$f":"RANK(K202,$K$126:$K245,0)","v":1},{"$f":"'m-E_Sp'!B91","v":"M13/05-Sport"},{"$f":"'m-E_Sp'!D91","v":0},{"$f":"'m-E_Sp'!J91","v":0},{"$f":"'m-E_Sp'!K91","v":0}]
[{"$f":"RANK(E203,$E$126:$E245,0)","v":1},{"$f":"'w-E_Sp'!B92","v":"W13/06-Sport"},{"$f":"'w-E_Sp'!D92","v":0},{"$f":"'w-E_Sp'!J92","v":0},{"$f":"'w-E_Sp'!K92","v":0},null,{"$f":"RANK(K203,$K$126:$K245,0)","v":1},{"$f":"'m-E_Sp'!B92","v":"M13/06-Sport"},{"$f":"'m-E_Sp'!D92","v":0},{"$f":"'m-E_Sp'!J92","v":0},{"$f":"'m-E_Sp'!K92","v":0}]
[{"$f":"RANK(E204,$E$126:$E245,0)","v":1},{"$f":"'w-E_Sp'!B94","v":"W14/01-Sport"},{"$f":"'w-E_Sp'!D94","v":0},{"$f":"'w-E_Sp'!J94","v":0},{"$f":"'w-E_Sp'!K94","v":0},null,{"$f":"RANK(K204,$K$126:$K245,0)","v":1},{"$f":"'m-E_Sp'!B94","v":"M14/01-Sport"},{"$f":"'m-E_Sp'!D94","v":0},{"$f":"'m-E_Sp'!J94","v":0},{"$f":"'m-E_Sp'!K94","v":0}]
[{"$f":"RANK(E205,$E$126:$E245,0)","v":1},{"$f":"'w-E_Sp'!B95","v":"W14/02-Sport"},{"$f":"'w-E_Sp'!D95","v":0},{"$f":"'w-E_Sp'!J95","v":0},{"$f":"'w-E_Sp'!K95","v":0},null,{"$f":"RANK(K205,$K$126:$K245,0)","v":1},{"$f":"'m-E_Sp'!B95","v":"M14/02-Sport"},{"$f":"'m-E_Sp'!D95","v":0},{"$f":"'m-E_Sp'!J95","v":0},{"$f":"'m-E_Sp'!K95","v":0}]
[{"$f":"RANK(E206,$E$126:$E245,0)","v":1},{"$f":"'w-E_Sp'!B96","v":"W14/03-Sport"},{"$f":"'w-E_Sp'!D96","v":0},{"$f":"'w-E_Sp'!J96","v":0},{"$f":"'w-E_Sp'!K96","v":0},null,{"$f":"RANK(K206,$K$126:$K245,0)","v":1},{"$f":"'m-E_Sp'!B96","v":"M14/03-Sport"},{"$f":"'m-E_Sp'!D96","v":0},{"$f":"'m-E_Sp'!J96","v":0},{"$f":"'m-E_Sp'!K96","v":0}]
[{"$f":"RANK(E207,$E$126:$E245,0)","v":1},{"$f":"'w-E_Sp'!B97","v":"W14/04-Sport"},{"$f":"'w-E_Sp'!D97","v":0},{"$f":"'w-E_Sp'!J97","v":0},{"$f":"'w-E_Sp'!K97","v":0},null,{"$f":"RANK(K207,$K$126:$K245,0)","v":1},{"$f":"'m-E_Sp'!B97","v":"M14/04-Sport"},{"$f":"'m-E_Sp'!D97","v":0},{"$f":"'m-E_Sp'!J97","v":0},{"$f":"'m-E_Sp'!K97","v":0}]
[{"$f":"RANK(E208,$E$126:$E245,0)","v":1},{"$f":"'w-E_Sp'!B98","v":"W14/05-Sport"},{"$f":"'w-E_Sp'!D98","v":0},{"$f":"'w-E_Sp'!J98","v":0},{"$f":"'w-E_Sp'!K98","v":0},null,{"$f":"RANK(K208,$K$126:$K245,0)","v":1},{"$f":"'m-E_Sp'!B98","v":"M14/05-Sport"},{"$f":"'m-E_Sp'!D98","v":0},{"$f":"'m-E_Sp'!J98","v":0},{"$f":"'m-E_Sp'!K98","v":0}]
[{"$f":"RANK(E209,$E$126:$E245,0)","v":1},{"$f":"'w-E_Sp'!B99","v":"W14/06-Sport"},{"$f":"'w-E_Sp'!D99","v":0},{"$f":"'w-E_Sp'!J99","v":0},{"$f":"'w-E_Sp'!K99","v":0},null,{"$f":"RANK(K209,$K$126:$K245,0)","v":1},{"$f":"'m-E_Sp'!B99","v":"M14/06-Sport"},{"$f":"'m-E_Sp'!D99","v":0},{"$f":"'m-E_Sp'!J99","v":0},{"$f":"'m-E_Sp'!K99","v":0}]
[{"$f":"RANK(E210,$E$126:$E245,0)","v":1},{"$f":"'w-E_Sp'!B101","v":"W15/01-Sport"},{"$f":"'w-E_Sp'!D101","v":0},{"$f":"'w-E_Sp'!J101","v":0},{"$f":"'w-E_Sp'!K101","v":0},null,{"$f":"RANK(K210,$K$126:$K245,0)","v":1},{"$f":"'m-E_Sp'!B101","v":"M15/01-Sport"},{"$f":"'m-E_Sp'!D101","v":0},{"$f":"'m-E_Sp'!J101","v":0},{"$f":"'m-E_Sp'!K101","v":0}]
[{"$f":"RANK(E211,$E$126:$E245,0)","v":1},{"$f":"'w-E_Sp'!B102","v":"W15/02-Sport"},{"$f":"'w-E_Sp'!D102","v":0},{"$f":"'w-E_Sp'!J102","v":0},{"$f":"'w-E_Sp'!K102","v":0},null,{"$f":"RANK(K211,$K$126:$K245,0)","v":1},{"$f":"'m-E_Sp'!B102","v":"M15/02-Sport"},{"$f":"'m-E_Sp'!D102","v":0},{"$f":"'m-E_Sp'!J102","v":0},{"$f":"'m-E_Sp'!K102","v":0}]
[{"$f":"RANK(E212,$E$126:$E245,0)","v":1},{"$f":"'w-E_Sp'!B103","v":"W15/03-Sport"},{"$f":"'w-E_Sp'!D103","v":0},{"$f":"'w-E_Sp'!J103","v":0},{"$f":"'w-E_Sp'!K103","v":0},null,{"$f":"RANK(K212,$K$126:$K245,0)","v":1},{"$f":"'m-E_Sp'!B103","v":"M15/03-Sport"},{"$f":"'m-E_Sp'!D103","v":0},{"$f":"'m-E_Sp'!J103","v":0},{"$f":"'m-E_Sp'!K103","v":0}]
[{"$f":"RANK(E213,$E$126:$E245,0)","v":1},{"$f":"'w-E_Sp'!B104","v":"W15/04-Sport"},{"$f":"'w-E_Sp'!D104","v":0},{"$f":"'w-E_Sp'!J104","v":0},{"$f":"'w-E_Sp'!K104","v":0},null,{"$f":"RANK(K213,$K$126:$K245,0)","v":1},{"$f":"'m-E_Sp'!B104","v":"M15/04-Sport"},{"$f":"'m-E_Sp'!D104","v":0},{"$f":"'m-E_Sp'!J104","v":0},{"$f":"'m-E_Sp'!K104","v":0}]
[{"$f":"RANK(E214,$E$126:$E245,0)","v":1},{"$f":"'w-E_Sp'!B105","v":"W15/05-Sport"},{"$f":"'w-E_Sp'!D105","v":0},{"$f":"'w-E_Sp'!J105","v":0},{"$f":"'w-E_Sp'!K105","v":0},null,{"$f":"RANK(K214,$K$126:$K245,0)","v":1},{"$f":"'m-E_Sp'!B105","v":"M15/05-Sport"},{"$f":"'m-E_Sp'!D105","v":0},{"$f":"'m-E_Sp'!J105","v":0},{"$f":"'m-E_Sp'!K105","v":0}]
[{"$f":"RANK(E215,$E$126:$E245,0)","v":1},{"$f":"'w-E_Sp'!B106","v":"W15/06-Sport"},{"$f":"'w-E_Sp'!D106","v":0},{"$f":"'w-E_Sp'!J106","v":0},{"$f":"'w-E_Sp'!K106","v":0},null,{"$f":"RANK(K215,$K$126:$K245,0)","v":1},{"$f":"'m-E_Sp'!B106","v":"M15/06-Sport"},{"$f":"'m-E_Sp'!D106","v":0},{"$f":"'m-E_Sp'!J106","v":0},{"$f":"'m-E_Sp'!K106","v":0}]
[{"$f":"RANK(E216,$E$126:$E245,0)","v":1},{"$f":"'w-E_Sp'!B108","v":"W16/01-Sport"},{"$f":"'w-E_Sp'!D108","v":0},{"$f":"'w-E_Sp'!J108","v":0},{"$f":"'w-E_Sp'!K108","v":0},null,{"$f":"RANK(K216,$K$126:$K245,0)","v":1},{"$f":"'m-E_Sp'!B108","v":"M16/01-Sport"},{"$f":"'m-E_Sp'!D108","v":0},{"$f":"'m-E_Sp'!J108","v":0},{"$f":"'m-E_Sp'!K108","v":0}]
[{"$f":"RANK(E217,$E$126:$E245,0)","v":1},{"$f":"'w-E_Sp'!B109","v":"W16/02-Sport"},{"$f":"'w-E_Sp'!D109","v":0},{"$f":"'w-E_Sp'!J109","v":0},{"$f":"'w-E_Sp'!K109","v":0},null,{"$f":"RANK(K217,$K$126:$K245,0)","v":1},{"$f":"'m-E_Sp'!B109","v":"M16/02-Sport"},{"$f":"'m-E_Sp'!D109","v":0},{"$f":"'m-E_Sp'!J109","v":0},{"$f":"'m-E_Sp'!K109","v":0}]
[{"$f":"RANK(E218,$E$126:$E245,0)","v":1},{"$f":"'w-E_Sp'!B110","v":"W16/03-Sport"},{"$f":"'w-E_Sp'!D110","v":0},{"$f":"'w-E_Sp'!J110","v":0},{"$f":"'w-E_Sp'!K110","v":0},null,{"$f":"RANK(K218,$K$126:$K245,0)","v":1},{"$f":"'m-E_Sp'!B110","v":"M16/03-Sport"},{"$f":"'m-E_Sp'!D110","v":0},{"$f":"'m-E_Sp'!J110","v":0},{"$f":"'m-E_Sp'!K110","v":0}]
[{"$f":"RANK(E219,$E$126:$E245,0)","v":1},{"$f":"'w-E_Sp'!B111","v":"W16/04-Sport"},{"$f":"'w-E_Sp'!D111","v":0},{"$f":"'w-E_Sp'!J111","v":0},{"$f":"'w-E_Sp'!K111","v":0},null,{"$f":"RANK(K219,$K$126:$K245,0)","v":1},{"$f":"'m-E_Sp'!B111","v":"M16/04-Sport"},{"$f":"'m-E_Sp'!D111","v":0},{"$f":"'m-E_Sp'!J111","v":0},{"$f":"'m-E_Sp'!K111","v":0}]
[{"$f":"RANK(E220,$E$126:$E245,0)","v":1},{"$f":"'w-E_Sp'!B112","v":"W16/05-Sport"},{"$f":"'w-E_Sp'!D112","v":0},{"$f":"'w-E_Sp'!J112","v":0},{"$f":"'w-E_Sp'!K112","v":0},null,{"$f":"RANK(K220,$K$126:$K245,0)","v":1},{"$f":"'m-E_Sp'!B112","v":"M16/05-Sport"},{"$f":"'m-E_Sp'!D112","v":0},{"$f":"'m-E_Sp'!J112","v":0},{"$f":"'m-E_Sp'!K112","v":0}]
[{"$f":"RANK(E221,$E$126:$E245,0)","v":1},{"$f":"'w-E_Sp'!B113","v":"W16/06-Sport"},{"$f":"'w-E_Sp'!D113","v":0},{"$f":"'w-E_Sp'!J113","v":0},{"$f":"'w-E_Sp'!K113","v":0},null,{"$f":"RANK(K221,$K$126:$K245,0)","v":1},{"$f":"'m-E_Sp'!B113","v":"M16/06-Sport"},{"$f":"'m-E_Sp'!D113","v":0},{"$f":"'m-E_Sp'!J113","v":0},{"$f":"'m-E_Sp'!K113","v":0}]
[{"$f":"RANK(E222,$E$126:$E245,0)","v":1},{"$f":"'w-E_Sp'!B115","v":"W17/01-Sport"},{"$f":"'w-E_Sp'!D115","v":0},{"$f":"'w-E_Sp'!J115","v":0},{"$f":"'w-E_Sp'!K115","v":0},null,{"$f":"RANK(K222,$K$126:$K245,0)","v":1},{"$f":"'m-E_Sp'!B115","v":"M17/01-Sport"},{"$f":"'m-E_Sp'!D115","v":0},{"$f":"'m-E_Sp'!J115","v":0},{"$f":"'m-E_Sp'!K115","v":0}]
[{"$f":"RANK(E223,$E$126:$E245,0)","v":1},{"$f":"'w-E_Sp'!B116","v":"W17/02-Sport"},{"$f":"'w-E_Sp'!D116","v":0},{"$f":"'w-E_Sp'!J116","v":0},{"$f":"'w-E_Sp'!K116","v":0},null,{"$f":"RANK(K223,$K$126:$K245,0)","v":1},{"$f":"'m-E_Sp'!B116","v":"M17/02-Sport"},{"$f":"'m-E_Sp'!D116","v":0},{"$f":"'m-E_Sp'!J116","v":0},{"$f":"'m-E_Sp'!K116","v":0}]
[{"$f":"RANK(E224,$E$126:$E245,0)","v":1},{"$f":"'w-E_Sp'!B117","v":"W17/03-Sport"},{"$f":"'w-E_Sp'!D117","v":0},{"$f":"'w-E_Sp'!J117","v":0},{"$f":"'w-E_Sp'!K117","v":0},null,{"$f":"RANK(K224,$K$126:$K245,0)","v":1},{"$f":"'m-E_Sp'!B117","v":"M17/03-Sport"},{"$f":"'m-E_Sp'!D117","v":0},{"$f":"'m-E_Sp'!J117","v":0},{"$f":"'m-E_Sp'!K117","v":0}]
[{"$f":"RANK(E225,$E$126:$E245,0)","v":1},{"$f":"'w-E_Sp'!B118","v":"W17/04-Sport"},{"$f":"'w-E_Sp'!D118","v":0},{"$f":"'w-E_Sp'!J118","v":0},{"$f":"'w-E_Sp'!K118","v":0},null,{"$f":"RANK(K225,$K$126:$K245,0)","v":1},{"$f":"'m-E_Sp'!B118","v":"M17/04-Sport"},{"$f":"'m-E_Sp'!D118","v":0},{"$f":"'m-E_Sp'!J118","v":0},{"$f":"'m-E_Sp'!K118","v":0}]
[{"$f":"RANK(E226,$E$126:$E245,0)","v":1},{"$f":"'w-E_Sp'!B119","v":"W17/05-Sport"},{"$f":"'w-E_Sp'!D119","v":0},{"$f":"'w-E_Sp'!J119","v":0},{"$f":"'w-E_Sp'!K119","v":0},null,{"$f":"RANK(K226,$K$126:$K245,0)","v":1},{"$f":"'m-E_Sp'!B119","v":"M17/05-Sport"},{"$f":"'m-E_Sp'!D119","v":0},{"$f":"'m-E_Sp'!J119","v":0},{"$f":"'m-E_Sp'!K119","v":0}]
[{"$f":"RANK(E227,$E$126:$E245,0)","v":1},{"$f":"'w-E_Sp'!B120","v":"W17/06-Sport"},{"$f":"'w-E_Sp'!D120","v":0},{"$f":"'w-E_Sp'!J120","v":0},{"$f":"'w-E_Sp'!K120","v":0},null,{"$f":"RANK(K227,$K$126:$K245,0)","v":1},{"$f":"'m-E_Sp'!B120","v":"M17/06-Sport"},{"$f":"'m-E_Sp'!D120","v":0},{"$f":"'m-E_Sp'!J120","v":0},{"$f":"'m-E_Sp'!K120","v":0}]
[{"$f":"RANK(E228,$E$126:$E245,0)","v":1},{"$f":"'w-E_Sp'!B122","v":"W18/01-Sport"},{"$f":"'w-E_Sp'!D122","v":0},{"$f":"'w-E_Sp'!J122","v":0},{"$f":"'w-E_Sp'!K122","v":0},null,{"$f":"RANK(K228,$K$126:$K245,0)","v":1},{"$f":"'m-E_Sp'!B122","v":"M18/01-Sport"},{"$f":"'m-E_Sp'!D122","v":0},{"$f":"'m-E_Sp'!J122","v":0},{"$f":"'m-E_Sp'!K122","v":0}]
[{"$f":"RANK(E229,$E$126:$E245,0)","v":1},{"$f":"'w-E_Sp'!B123","v":"W18/02-Sport"},{"$f":"'w-E_Sp'!D123","v":0},{"$f":"'w-E_Sp'!J123","v":0},{"$f":"'w-E_Sp'!K123","v":0},null,{"$f":"RANK(K229,$K$126:$K245,0)","v":1},{"$f":"'m-E_Sp'!B123","v":"M18/02-Sport"},{"$f":"'m-E_Sp'!D123","v":0},{"$f":"'m-E_Sp'!J123","v":0},{"$f":"'m-E_Sp'!K123","v":0}]
[{"$f":"RANK(E230,$E$126:$E245,0)","v":1},{"$f":"'w-E_Sp'!B124","v":"W18/03-Sport"},{"$f":"'w-E_Sp'!D124","v":0},{"$f":"'w-E_Sp'!J124","v":0},{"$f":"'w-E_Sp'!K124","v":0},null,{"$f":"RANK(K230,$K$126:$K245,0)","v":1},{"$f":"'m-E_Sp'!B124","v":"M18/03-Sport"},{"$f":"'m-E_Sp'!D124","v":0},{"$f":"'m-E_Sp'!J124","v":0},{"$f":"'m-E_Sp'!K124","v":0}]
[{"$f":"RANK(E231,$E$126:$E245,0)","v":1},{"$f":"'w-E_Sp'!B125","v":"W18/04-Sport"},{"$f":"'w-E_Sp'!D125","v":0},{"$f":"'w-E_Sp'!J125","v":0},{"$f":"'w-E_Sp'!K125","v":0},null,{"$f":"RANK(K231,$K$126:$K245,0)","v":1},{"$f":"'m-E_Sp'!B125","v":"M18/04-Sport"},{"$f":"'m-E_Sp'!D125","v":0},{"$f":"'m-E_Sp'!J125","v":0},{"$f":"'m-E_Sp'!K125","v":0}]
[{"$f":"RANK(E232,$E$126:$E245,0)","v":1},{"$f":"'w-E_Sp'!B126","v":"W18/05-Sport"},{"$f":"'w-E_Sp'!D126","v":0},{"$f":"'w-E_Sp'!J126","v":0},{"$f":"'w-E_Sp'!K126","v":0},null,{"$f":"RANK(K232,$K$126:$K245,0)","v":1},{"$f":"'m-E_Sp'!B126","v":"M18/05-Sport"},{"$f":"'m-E_Sp'!D126","v":0},{"$f":"'m-E_Sp'!J126","v":0},{"$f":"'m-E_Sp'!K126","v":0}]
[{"$f":"RANK(E233,$E$126:$E245,0)","v":1},{"$f":"'w-E_Sp'!B127","v":"W18/06-Sport"},{"$f":"'w-E_Sp'!D127","v":0},{"$f":"'w-E_Sp'!J127","v":0},{"$f":"'w-E_Sp'!K127","v":0},null,{"$f":"RANK(K233,$K$126:$K245,0)","v":1},{"$f":"'m-E_Sp'!B127","v":"M18/06-Sport"},{"$f":"'m-E_Sp'!D127","v":0},{"$f":"'m-E_Sp'!J127","v":0},{"$f":"'m-E_Sp'!K127","v":0}]
[{"$f":"RANK(E234,$E$126:$E245,0)","v":1},{"$f":"'w-E_Sp'!B129","v":"W19/01-Sport"},{"$f":"'w-E_Sp'!D129","v":0},{"$f":"'w-E_Sp'!J129","v":0},{"$f":"'w-E_Sp'!K129","v":0},null,{"$f":"RANK(K234,$K$126:$K245,0)","v":1},{"$f":"'m-E_Sp'!B129","v":"M19/01-Sport"},{"$f":"'m-E_Sp'!D129","v":0},{"$f":"'m-E_Sp'!J129","v":0},{"$f":"'m-E_Sp'!K129","v":0}]
[{"$f":"RANK(E235,$E$126:$E245,0)","v":1},{"$f":"'w-E_Sp'!B130","v":"W19/02-Sport"},{"$f":"'w-E_Sp'!D130","v":0},{"$f":"'w-E_Sp'!J130","v":0},{"$f":"'w-E_Sp'!K130","v":0},null,{"$f":"RANK(K235,$K$126:$K245,0)","v":1},{"$f":"'m-E_Sp'!B130","v":"M19/02-Sport"},{"$f":"'m-E_Sp'!D130","v":0},{"$f":"'m-E_Sp'!J130","v":0},{"$f":"'m-E_Sp'!K130","v":0}]
[{"$f":"RANK(E236,$E$126:$E245,0)","v":1},{"$f":"'w-E_Sp'!B131","v":"W19/03-Sport"},{"$f":"'w-E_Sp'!D131","v":0},{"$f":"'w-E_Sp'!J131","v":0},{"$f":"'w-E_Sp'!K131","v":0},null,{"$f":"RANK(K236,$K$126:$K245,0)","v":1},{"$f":"'m-E_Sp'!B131","v":"M19/03-Sport"},{"$f":"'m-E_Sp'!D131","v":0},{"$f":"'m-E_Sp'!J131","v":0},{"$f":"'m-E_Sp'!K131","v":0}]
[{"$f":"RANK(E237,$E$126:$E245,0)","v":1},{"$f":"'w-E_Sp'!B132","v":"W19/04-Sport"},{"$f":"'w-E_Sp'!D132","v":0},{"$f":"'w-E_Sp'!J132","v":0},{"$f":"'w-E_Sp'!K132","v":0},null,{"$f":"RANK(K237,$K$126:$K245,0)","v":1},{"$f":"'m-E_Sp'!B132","v":"M19/04-Sport"},{"$f":"'m-E_Sp'!D132","v":0},{"$f":"'m-E_Sp'!J132","v":0},{"$f":"'m-E_Sp'!K132","v":0}]
[{"$f":"RANK(E238,$E$126:$E245,0)","v":1},{"$f":"'w-E_Sp'!B133","v":"W19/05-Sport"},{"$f":"'w-E_Sp'!D133","v":0},{"$f":"'w-E_Sp'!J133","v":0},{"$f":"'w-E_Sp'!K133","v":0},null,{"$f":"RANK(K238,$K$126:$K245,0)","v":1},{"$f":"'m-E_Sp'!B133","v":"M19/05-Sport"},{"$f":"'m-E_Sp'!D133","v":0},{"$f":"'m-E_Sp'!J133","v":0},{"$f":"'m-E_Sp'!K133","v":0}]
[{"$f":"RANK(E239,$E$126:$E245,0)","v":1},{"$f":"'w-E_Sp'!B134","v":"W19/06-Sport"},{"$f":"'w-E_Sp'!D134","v":0},{"$f":"'w-E_Sp'!J134","v":0},{"$f":"'w-E_Sp'!K134","v":0},null,{"$f":"RANK(K239,$K$126:$K245,0)","v":1},{"$f":"'m-E_Sp'!B134","v":"M19/06-Sport"},{"$f":"'m-E_Sp'!D134","v":0},{"$f":"'m-E_Sp'!J134","v":0},{"$f":"'m-E_Sp'!K134","v":0}]
[{"$f":"RANK(E240,$E$126:$E245,0)","v":1},{"$f":"'w-E_Sp'!B136","v":"W20/01-Sport"},{"$f":"'w-E_Sp'!D136","v":0},{"$f":"'w-E_Sp'!J136","v":0},{"$f":"'w-E_Sp'!K136","v":0},null,{"$f":"RANK(K240,$K$126:$K245,0)","v":1},{"$f":"'m-E_Sp'!B136","v":"M20/01-Sport"},{"$f":"'m-E_Sp'!D136","v":0},{"$f":"'m-E_Sp'!J136","v":0},{"$f":"'m-E_Sp'!K136","v":0}]
[{"$f":"RANK(E241,$E$126:$E245,0)","v":1},{"$f":"'w-E_Sp'!B137","v":"W20/02-Sport"},{"$f":"'w-E_Sp'!D137","v":0},{"$f":"'w-E_Sp'!J137","v":0},{"$f":"'w-E_Sp'!K137","v":0},null,{"$f":"RANK(K241,$K$126:$K245,0)","v":1},{"$f":"'m-E_Sp'!B137","v":"M20/02-Sport"},{"$f":"'m-E_Sp'!D137","v":0},{"$f":"'m-E_Sp'!J137","v":0},{"$f":"'m-E_Sp'!K137","v":0}]
[{"$f":"RANK(E242,$E$126:$E245,0)","v":1},{"$f":"'w-E_Sp'!B138","v":"W20/03-Sport"},{"$f":"'w-E_Sp'!D138","v":0},{"$f":"'w-E_Sp'!J138","v":0},{"$f":"'w-E_Sp'!K138","v":0},null,{"$f":"RANK(K242,$K$126:$K245,0)","v":1},{"$f":"'m-E_Sp'!B138","v":"M20/03-Sport"},{"$f":"'m-E_Sp'!D138","v":0},{"$f":"'m-E_Sp'!J138","v":0},{"$f":"'m-E_Sp'!K138","v":0}]
[{"$f":"RANK(E243,$E$126:$E245,0)","v":1},{"$f":"'w-E_Sp'!B139","v":"W20/04-Sport"},{"$f":"'w-E_Sp'!D139","v":0},{"$f":"'w-E_Sp'!J139","v":0},{"$f":"'w-E_Sp'!K139","v":0},null,{"$f":"RANK(K243,$K$126:$K245,0)","v":1},{"$f":"'m-E_Sp'!B139","v":"M20/04-Sport"},{"$f":"'m-E_Sp'!D139","v":0},{"$f":"'m-E_Sp'!J139","v":0},{"$f":"'m-E_Sp'!K139","v":0}]
[{"$f":"RANK(E244,$E$126:$E245,0)","v":1},{"$f":"'w-E_Sp'!B140","v":"W20/05-Sport"},{"$f":"'w-E_Sp'!D140","v":0},{"$f":"'w-E_Sp'!J140","v":0},{"$f":"'w-E_Sp'!K140","v":0},null,{"$f":"RANK(K244,$K$126:$K245,0)","v":1},{"$f":"'m-E_Sp'!B140","v":"M20/05-Sport"},{"$f":"'m-E_Sp'!D140","v":0},{"$f":"'m-E_Sp'!J140","v":0},{"$f":"'m-E_Sp'!K140","v":0}]
[{"$f":"RANK(E245,$E$126:$E245,0)","v":1},{"$f":"'w-E_Sp'!B141","v":"W20/06-Sport"},{"$f":"'w-E_Sp'!D141","v":0},{"$f":"'w-E_Sp'!J141","v":0},{"$f":"'w-E_Sp'!K141","v":0},null,{"$f":"RANK(K245,$K$126:$K245,0)","v":1},{"$f":"'m-E_Sp'!B141","v":"M20/06-Sport"},{"$f":"'m-E_Sp'!D141","v":0},{"$f":"'m-E_Sp'!J141","v":0},{"$f":"'m-E_Sp'!K141","v":0}]
["Einzelwertung Kugel Weiblich",null,{"$f":"'w-E_Sp'!C1","v":"D-C/Sport-Schwerpunkt"},{"$f":"'w-E_Sp'!E1","v":"Ortsangabe,Datum"},null,null,"Einzelwertung Kugel Männlich",null,{"$f":"'m-E_Sp'!C1","v":"D-C/Sport-Schwerpunkt"},{"$f":"'m-E_Sp'!E1","v":"Ortsangabe,Datum"}]

{"sheet":"Ez-Weit","index":23,"n_rows":246,"n_cols":11,"rows_kept":246,"cut":false,"hidden":false,"merged":[[245,3,245,4],[122,3,122,4],[245,9,245,10],[122,9,122,10],[245,0,245,1],[245,6,245,7],[122,6,122,7],[0,9,0,10],[123,0,123,1],[123,3,123,4],[123,6,123,7],[123,9,123,10],[122,0,122,1],[0,0,0,1],[0,3,0,4],[0,6,0,7]]}
["Einzelwertung Weit",null,{"$f":"'w-E_R'!C1","v":"D-C/Regel-Schulen"},{"$f":"'w-E_R'!E1","v":"Ortsangabe,Datum"},null,null,"Einzelwertung Weit",null,{"$f":"'m-E_R'!C1","v":"D-C/Regel-Schulen"},{"$f":"'m-E_R'!E1","v":"Ortsangabe,Datum"}]
["Rang","WEIBLICH","Schule:","Leistung","Punkte",null,"Rang","MÄNNLICH","Schule:","Leistung","Punkte"]
[{"$f":"RANK(E3,$E$3:$E$122,0)","v":1},{"$f":"'w-E_R'!B3","v":"W1/01-Regel"},{"$f":"'w-E_R'!D3","v":0},{"$f":"'w-E_R'!L3","v":0},{"$f":"'w-E_R'!M3","v":0},null,{"$f":"RANK(K3,$K$3:$K$122,0)","v":1},{"$f":"'m-E_R'!B3","v":"M1/01-Regel"},{"$f":"'m-E_R'!D3","v":0},{"$f":"'m-E_R'!L3","v":0},{"$f":"'m-E_R'!M3","v":0}]
[1,{"$f":"'w-E_R'!B4","v":"W1/02-Regel"},{"$f":"'w-E_R'!D4","v":0},{"$f":"'w-E_R'!L4","v":0},{"$f":"'w-E_R'!M4","v":0},null,1,{"$f":"'m-E_R'!B4","v":"M1/02-Regel"},{"$f":"'m-E_R'!D4","v":0},{"$f":"'m-E_R'!L4","v":0},{"$f":"'m-E_R'!M4","v":0}]
[1,{"$f":"'w-E_R'!B5","v":"W1/03-Regel"},{"$f":"'w-E_R'!D5","v":0},{"$f":"'w-E_R'!L5","v":0},{"$f":"'w-E_R'!M5","v":0},null,1,{"$f":"'m-E_R'!B5","v":"M1/03-Regel"},{"$f":"'m-E_R'!D5","v":0},{"$f":"'m-E_R'!L5","v":0},{"$f":"'m-E_R'!M5","v":0}]
[1,{"$f":"'w-E_R'!B6","v":"W1/04-Regel"},{"$f":"'w-E_R'!D6","v":0},{"$f":"'w-E_R'!L6","v":0},{"$f":"'w-E_R'!M6","v":0},null,1,{"$f":"'m-E_R'!B6","v":"M1/04-Regel"},{"$f":"'m-E_R'!D6","v":0},{"$f":"'m-E_R'!L6","v":0},{"$f":"'m-E_R'!M6","v":0}]
[1,{"$f":"'w-E_R'!B7","v":"W1/05-Regel"},{"$f":"'w-E_R'!D7","v":0},{"$f":"'w-E_R'!L7","v":0},{"$f":"'w-E_R'!M7","v":0},null,1,{"$f":"'m-E_R'!B7","v":"M1/05-Regel"},{"$f":"'m-E_R'!D7","v":0},{"$f":"'m-E_R'!L7","v":0},{"$f":"'m-E_R'!M7","v":0}]
[1,{"$f":"'w-E_R'!B8","v":"W1/06-Regel"},{"$f":"'w-E_R'!D8","v":0},{"$f":"'w-E_R'!L8","v":0},{"$f":"'w-E_R'!M8","v":0},null,1,{"$f":"'m-E_R'!B8","v":"M1/06-Regel"},{"$f":"'m-E_R'!D8","v":0},{"$f":"'m-E_R'!L8","v":0},{"$f":"'m-E_R'!M8","v":0}]
[1,{"$f":"'w-E_R'!B10","v":"W2/01-Regel"},{"$f":"'w-E_R'!D10","v":0},{"$f":"'w-E_R'!L10","v":0},{"$f":"'w-E_R'!M10","v":0},null,1,{"$f":"'m-E_R'!B10","v":"M2/01-Regel"},{"$f":"'m-E_R'!D10","v":0},{"$f":"'m-E_R'!L10","v":0},{"$f":"'m-E_R'!M10","v":0}]
[1,{"$f":"'w-E_R'!B11","v":"W2/02-Regel"},{"$f":"'w-E_R'!D11","v":0},{"$f":"'w-E_R'!L11","v":0},{"$f":"'w-E_R'!M11","v":0},null,1,{"$f":"'m-E_R'!B11","v":"M2/02-Regel"},{"$f":"'m-E_R'!D11","v":0},{"$f":"'m-E_R'!L11","v":0},{"$f":"'m-E_R'!M11","v":0}]
[1,{"$f":"'w-E_R'!B12","v":"W2/03-Regel"},{"$f":"'w-E_R'!D12","v":0},{"$f":"'w-E_R'!L12","v":0},{"$f":"'w-E_R'!M12","v":0},null,1,{"$f":"'m-E_R'!B12","v":"M2/03-Regel"},{"$f":"'m-E_R'!D12","v":0},{"$f":"'m-E_R'!L12","v":0},{"$f":"'m-E_R'!M12","v":0}]
[1,{"$f":"'w-E_R'!B13","v":"W2/04-Regel"},{"$f":"'w-E_R'!D13","v":0},{"$f":"'w-E_R'!L13","v":0},{"$f":"'w-E_R'!M13","v":0},null,1,{"$f":"'m-E_R'!B13","v":"M2/04-Regel"},{"$f":"'m-E_R'!D13","v":0},{"$f":"'m-E_R'!L13","v":0},{"$f":"'m-E_R'!M13","v":0}]
[1,{"$f":"'w-E_R'!B14","v":"W2/05-Regel"},{"$f":"'w-E_R'!D14","v":0},{"$f":"'w-E_R'!L14","v":0},{"$f":"'w-E_R'!M14","v":0},null,1,{"$f":"'m-E_R'!B14","v":"M2/05-Regel"},{"$f":"'m-E_R'!D14","v":0},{"$f":"'m-E_R'!L14","v":0},{"$f":"'m-E_R'!M14","v":0}]
[1,{"$f":"'w-E_R'!B15","v":"W2/06-Regel"},{"$f":"'w-E_R'!D15","v":0},{"$f":"'w-E_R'!L15","v":0},{"$f":"'w-E_R'!M15","v":0},null,1,{"$f":"'m-E_R'!B15","v":"M2/06-Regel"},{"$f":"'m-E_R'!D15","v":0},{"$f":"'m-E_R'!L15","v":0},{"$f":"'m-E_R'!M15","v":0}]
[1,{"$f":"'w-E_R'!B17","v":"W3/01-Regel"},{"$f":"'w-E_R'!D17","v":0},{"$f":"'w-E_R'!L17","v":0},{"$f":"'w-E_R'!M17","v":0},null,1,{"$f":"'m-E_R'!B17","v":"M3/01-Regel"},{"$f":"'m-E_R'!D17","v":0},{"$f":"'m-E_R'!L17","v":0},{"$f":"'m-E_R'!M17","v":0}]
[1,{"$f":"'w-E_R'!B18","v":"W3/02-Regel"},{"$f":"'w-E_R'!D18","v":0},{"$f":"'w-E_R'!L18","v":0},{"$f":"'w-E_R'!M18","v":0},null,1,{"$f":"'m-E_R'!B18","v":"M3/02-Regel"},{"$f":"'m-E_R'!D18","v":0},{"$f":"'m-E_R'!L18","v":0},{"$f":"'m-E_R'!M18","v":0}]
[1,{"$f":"'w-E_R'!B19","v":"W3/03-Regel"},{"$f":"'w-E_R'!D19","v":0},{"$f":"'w-E_R'!L19","v":0},{"$f":"'w-E_R'!M19","v":0},null,1,{"$f":"'m-E_R'!B19","v":"M3/03-Regel"},{"$f":"'m-E_R'!D19","v":0},{"$f":"'m-E_R'!L19","v":0},{"$f":"'m-E_R'!M19","v":0}]
[1,{"$f":"'w-E_R'!B20","v":"W3/04-Regel"},{"$f":"'w-E_R'!D20","v":0},{"$f":"'w-E_R'!L20","v":0},{"$f":"'w-E_R'!M20","v":0},null,1,{"$f":"'m-E_R'!B20","v":"M3/04-Regel"},{"$f":"'m-E_R'!D20","v":0},{"$f":"'m-E_R'!L20","v":0},{"$f":"'m-E_R'!M20","v":0}]
[1,{"$f":"'w-E_R'!B21","v":"W3/05-Regel"},{"$f":"'w-E_R'!D21","v":0},{"$f":"'w-E_R'!L21","v":0},{"$f":"'w-E_R'!M21","v":0},null,1,{"$f":"'m-E_R'!B21","v":"M3/05-Regel"},{"$f":"'m-E_R'!D21","v":0},{"$f":"'m-E_R'!L21","v":0},{"$f":"'m-E_R'!M21","v":0}]
[1,{"$f":"'w-E_R'!B22","v":"W3/06-Regel"},{"$f":"'w-E_R'!D22","v":0},{"$f":"'w-E_R'!L22","v":0},{"$f":"'w-E_R'!M22","v":0},null,1,{"$f":"'m-E_R'!B22","v":"M3/06-Regel"},{"$f":"'m-E_R'!D22","v":0},{"$f":"'m-E_R'!L22","v":0},{"$f":"'m-E_R'!M22","v":0}]
[1,{"$f":"'w-E_R'!B24","v":"W4/01-Regel"},{"$f":"'w-E_R'!D24","v":0},{"$f":"'w-E_R'!L24","v":0},{"$f":"'w-E_R'!M24","v":0},null,1,{"$f":"'m-E_R'!B24","v":"M4/01-Regel"},{"$f":"'m-E_R'!D24","v":0},{"$f":"'m-E_R'!L24","v":0},{"$f":"'m-E_R'!M24","v":0}]
[1,{"$f":"'w-E_R'!B25","v":"W4/02-Regel"},{"$f":"'w-E_R'!D25","v":0},{"$f":"'w-E_R'!L25","v":0},{"$f":"'w-E_R'!M25","v":0},null,1,{"$f":"'m-E_R'!B25","v":"M4/02-Regel"},{"$f":"'m-E_R'!D25","v":0},{"$f":"'m-E_R'!L25","v":0},{"$f":"'m-E_R'!M25","v":0}]
[1,{"$f":"'w-E_R'!B26","v":"W4/03-Regel"},{"$f":"'w-E_R'!D26","v":0},{"$f":"'w-E_R'!L26","v":0},{"$f":"'w-E_R'!M26","v":0},null,1,{"$f":"'m-E_R'!B26","v":"M4/03-Regel"},{"$f":"'m-E_R'!D26","v":0},{"$f":"'m-E_R'!L26","v":0},{"$f":"'m-E_R'!M26","v":0}]
[1,{"$f":"'w-E_R'!B27","v":"W4/04-Regel"},{"$f":"'w-E_R'!D27","v":0},{"$f":"'w-E_R'!L27","v":0},{"$f":"'w-E_R'!M27","v":0},null,1,{"$f":"'m-E_R'!B27","v":"M4/04-Regel"},{"$f":"'m-E_R'!D27","v":0},{"$f":"'m-E_R'!L27","v":0},{"$f":"'m-E_R'!M27","v":0}]
[1,{"$f":"'w-E_R'!B28","v":"W4/05-Regel"},{"$f":"'w-E_R'!D28","v":0},{"$f":"'w-E_R'!L28","v":0},{"$f":"'w-E_R'!M28","v":0},null,1,{"$f":"'m-E_R'!B28","v":"M4/05-Regel"},{"$f":"'m-E_R'!D28","v":0},{"$f":"'m-E_R'!L28","v":0},{"$f":"'m-E_R'!M28","v":0}]
[1,{"$f":"'w-E_R'!B29","v":"W4/06-Regel"},{"$f":"'w-E_R'!D29","v":0},{"$f":"'w-E_R'!L29","v":0},{"$f":"'w-E_R'!M29","v":0},null,1,{"$f":"'m-E_R'!B29","v":"M4/06-Regel"},{"$f":"'m-E_R'!D29","v":0},{"$f":"'m-E_R'!L29","v":0},{"$f":"'m-E_R'!M29","v":0}]
[1,{"$f":"'w-E_R'!B31","v":"W5/01-Regel"},{"$f":"'w-E_R'!D31","v":0},{"$f":"'w-E_R'!L31","v":0},{"$f":"'w-E_R'!M31","v":0},null,1,{"$f":"'m-E_R'!B31","v":"M5/01-Regel"},{"$f":"'m-E_R'!D31","v":0},{"$f":"'m-E_R'!L31","v":0},{"$f":"'m-E_R'!M31","v":0}]
[1,{"$f":"'w-E_R'!B32","v":"W5/02-Regel"},{"$f":"'w-E_R'!D32","v":0},{"$f":"'w-E_R'!L32","v":0},{"$f":"'w-E_R'!M32","v":0},null,1,{"$f":"'m-E_R'!B32","v":"M5/02-Regel"},{"$f":"'m-E_R'!D32","v":0},{"$f":"'m-E_R'!L32","v":0},{"$f":"'m-E_R'!M32","v":0}]
[1,{"$f":"'w-E_R'!B33","v":"W5/03-Regel"},{"$f":"'w-E_R'!D33","v":0},{"$f":"'w-E_R'!L33","v":0},{"$f":"'w-E_R'!M33","v":0},null,1,{"$f":"'m-E_R'!B33","v":"M5/03-Regel"},{"$f":"'m-E_R'!D33","v":0},{"$f":"'m-E_R'!L33","v":0},{"$f":"'m-E_R'!M33","v":0}]
[1,{"$f":"'w-E_R'!B34","v":"W5/04-Regel"},{"$f":"'w-E_R'!D34","v":0},{"$f":"'w-E_R'!L34","v":0},{"$f":"'w-E_R'!M34","v":0},null,1,{"$f":"'m-E_R'!B34","v":"M5/04-Regel"},{"$f":"'m-E_R'!D34","v":0},{"$f":"'m-E_R'!L34","v":0},{"$f":"'m-E_R'!M34","v":0}]
[1,{"$f":"'w-E_R'!B35","v":"W5/05-Regel"},{"$f":"'w-E_R'!D35","v":0},{"$f":"'w-E_R'!L35","v":0},{"$f":"'w-E_R'!M35","v":0},null,1,{"$f":"'m-E_R'!B35","v":"M5/05-Regel"},{"$f":"'m-E_R'!D35","v":0},{"$f":"'m-E_R'!L35","v":0},{"$f":"'m-E_R'!M35","v":0}]
[1,{"$f":"'w-E_R'!B36","v":"W5/06-Regel"},{"$f":"'w-E_R'!D36","v":0},{"$f":"'w-E_R'!L36","v":0},{"$f":"'w-E_R'!M36","v":0},null,1,{"$f":"'m-E_R'!B36","v":"M5/06-Regel"},{"$f":"'m-E_R'!D36","v":0},{"$f":"'m-E_R'!L36","v":0},{"$f":"'m-E_R'!M36","v":0}]
[1,{"$f":"'w-E_R'!B38","v":"W6/01-Regel"},{"$f":"'w-E_R'!D38","v":0},{"$f":"'w-E_R'!L38","v":0},{"$f":"'w-E_R'!M38","v":0},null,1,{"$f":"'m-E_R'!B38","v":"M6/01-Regel"},{"$f":"'m-E_R'!D38","v":0},{"$f":"'m-E_R'!L38","v":0},{"$f":"'m-E_R'!M38","v":0}]
[1,{"$f":"'w-E_R'!B39","v":"W6/02-Regel"},{"$f":"'w-E_R'!D39","v":0},{"$f":"'w-E_R'!L39","v":0},{"$f":"'w-E_R'!M39","v":0},null,1,{"$f":"'m-E_R'!B39","v":"M6/02-Regel"},{"$f":"'m-E_R'!D39","v":0},{"$f":"'m-E_R'!L39","v":0},{"$f":"'m-E_R'!M39","v":0}]
[{"$f":"RANK(E35,$E$3:$E$122,0)","v":1},{"$f":"'w-E_R'!B40","v":"W6/03-Regel"},{"$f":"'w-E_R'!D40","v":0},{"$f":"'w-E_R'!L40","v":0},{"$f":"'w-E_R'!M40","v":0},null,{"$f":"RANK(K35,$K$3:$K$122,0)","v":1},{"$f":"'m-E_R'!B40","v":"M6/03-Regel"},{"$f":"'m-E_R'!D40","v":0},{"$f":"'m-E_R'!L40","v":0},{"$f":"'m-E_R'!M40","v":0}]
[1,{"$f":"'w-E_R'!B41","v":"W6/04-Regel"},{"$f":"'w-E_R'!D41","v":0},{"$f":"'w-E_R'!L41","v":0},{"$f":"'w-E_R'!M41","v":0},null,1,{"$f":"'m-E_R'!B41","v":"M6/04-Regel"},{"$f":"'m-E_R'!D41","v":0},{"$f":"'m-E_R'!L41","v":0},{"$f":"'m-E_R'!M41","v":0}]
[1,{"$f":"'w-E_R'!B42","v":"W6/05-Regel"},{"$f":"'w-E_R'!D42","v":0},{"$f":"'w-E_R'!L42","v":0},{"$f":"'w-E_R'!M42","v":0},null,1,{"$f":"'m-E_R'!B42","v":"M6/05-Regel"},{"$f":"'m-E_R'!D42","v":0},{"$f":"'m-E_R'!L42","v":0},{"$f":"'m-E_R'!M42","v":0}]
[1,{"$f":"'w-E_R'!B43","v":"W6/06-Regel"},{"$f":"'w-E_R'!D43","v":0},{"$f":"'w-E_R'!L43","v":0},{"$f":"'w-E_R'!M43","v":0},null,1,{"$f":"'m-E_R'!B43","v":"M6/06-Regel"},{"$f":"'m-E_R'!D43","v":0},{"$f":"'m-E_R'!L43","v":0},{"$f":"'m-E_R'!M43","v":0}]
[1,{"$f":"'w-E_R'!B45","v":"W7/01-Regel"},{"$f":"'w-E_R'!D45","v":0},{"$f":"'w-E_R'!L45","v":0},{"$f":"'w-E_R'!M45","v":0},null,1,{"$f":"'m-E_R'!B45","v":"M7/01-Regel"},{"$f":"'m-E_R'!D45","v":0},{"$f":"'m-E_R'!L45","v":0},{"$f":"'m-E_R'!M45","v":0}]
[1,{"$f":"'w-E_R'!B46","v":"W7/02-Regel"},{"$f":"'w-E_R'!D46","v":0},{"$f":"'w-E_R'!L46","v":0},{"$f":"'w-E_R'!M46","v":0},null,1,{"$f":"'m-E_R'!B46","v":"M7/02-Regel"},{"$f":"'m-E_R'!D46","v":0},{"$f":"'m-E_R'!L46","v":0},{"$f":"'m-E_R'!M46","v":0}]
[1,{"$f":"'w-E_R'!B47","v":"W7/03-Regel"},{"$f":"'w-E_R'!D47","v":0},{"$f":"'w-E_R'!L47","v":0},{"$f":"'w-E_R'!M47","v":0},null,1,{"$f":"'m-E_R'!B47","v":"M7/03-Regel"},{"$f":"'m-E_R'!D47","v":0},{"$f":"'m-E_R'!L47","v":0},{"$f":"'m-E_R'!M47","v":0}]
[1,{"$f":"'w-E_R'!B48","v":"W7/04-Regel"},{"$f":"'w-E_R'!D48","v":0},{"$f":"'w-E_R'!L48","v":0},{"$f":"'w-E_R'!M48","v":0},null,1,{"$f":"'m-E_R'!B48","v":"M7/04-Regel"},{"$f":"'m-E_R'!D48","v":0},{"$f":"'m-E_R'!L48","v":0},{"$f":"'m-E_R'!M48","v":0}]
[1,{"$f":"'w-E_R'!B49","v":"W7/05-Regel"},{"$f":"'w-E_R'!D49","v":0},{"$f":"'w-E_R'!L49","v":0},{"$f":"'w-E_R'!M49","v":0},null,1,{"$f":"'m-E_R'!B49","v":"M7/05-Regel"},{"$f":"'m-E_R'!D49","v":0},{"$f":"'m-E_R'!L49","v":0},{"$f":"'m-E_R'!M49","v":0}]
[1,{"$f":"'w-E_R'!B50","v":"W7/06-Regel"},{"$f":"'w-E_R'!D50","v":0},{"$f":"'w-E_R'!L50","v":0},{"$f":"'w-E_R'!M50","v":0},null,1,{"$f":"'m-E_R'!B50","v":"M7/06-Regel"},{"$f":"'m-E_R'!D50","v":0},{"$f":"'m-E_R'!L50","v":0},{"$f":"'m-E_R'!M50","v":0}]
[1,{"$f":"'w-E_R'!B52","v":"W8/01-Regel"},{"$f":"'w-E_R'!D52","v":0},{"$f":"'w-E_R'!L52","v":0},{"$f":"'w-E_R'!M52","v":0},null,1,{"$f":"'m-E_R'!B52","v":"M8/01-Regel"},{"$f":"'m-E_R'!D52","v":0},{"$f":"'m-E_R'!L52","v":0},{"$f":"'m-E_R'!M52","v":0}]
[1,{"$f":"'w-E_R'!B53","v":"W8/02-Regel"},{"$f":"'w-E_R'!D53","v":0},{"$f":"'w-E_R'!L53","v":0},{"$f":"'w-E_R'!M53","v":0},null,1,{"$f":"'m-E_R'!B53","v":"M8/02-Regel"},{"$f":"'m-E_R'!D53","v":0},{"$f":"'m-E_R'!L53","v":0},{"$f":"'m-E_R'!M53","v":0}]
[1,{"$f":"'w-E_R'!B54","v":"W8/03-Regel"},{"$f":"'w-E_R'!D54","v":0},{"$f":"'w-E_R'!L54","v":0},{"$f":"'w-E_R'!M54","v":0},null,1,{"$f":"'m-E_R'!B54","v":"M8/03-Regel"},{"$f":"'m-E_R'!D54","v":0},{"$f":"'m-E_R'!L54","v":0},{"$f":"'m-E_R'!M54","v":0}]
[1,{"$f":"'w-E_R'!B55","v":"W8/04-Regel"},{"$f":"'w-E_R'!D55","v":0},{"$f":"'w-E_R'!L55","v":0},{"$f":"'w-E_R'!M55","v":0},null,1,{"$f":"'m-E_R'!B55","v":"M8/04-Regel"},{"$f":"'m-E_R'!D55","v":0},{"$f":"'m-E_R'!L55","v":0},{"$f":"'m-E_R'!M55","v":0}]
[1,{"$f":"'w-E_R'!B56","v":"W8/05-Regel"},{"$f":"'w-E_R'!D56","v":0},{"$f":"'w-E_R'!L56","v":0},{"$f":"'w-E_R'!M56","v":0},null,1,{"$f":"'m-E_R'!B56","v":"M8/05-Regel"},{"$f":"'m-E_R'!D56","v":0},{"$f":"'m-E_R'!L56","v":0},{"$f":"'m-E_R'!M56","v":0}]
[1,{"$f":"'w-E_R'!B57","v":"W8/06-Regel"},{"$f":"'w-E_R'!D57","v":0},{"$f":"'w-E_R'!L57","v":0},{"$f":"'w-E_R'!M57","v":0},null,1,{"$f":"'m-E_R'!B57","v":"M8/06-Regel"},{"$f":"'m-E_R'!D57","v":0},{"$f":"'m-E_R'!L57","v":0},{"$f":"'m-E_R'!M57","v":0}]
[1,{"$f":"'w-E_R'!B59","v":"W9/01-Regel"},{"$f":"'w-E_R'!D59","v":0},{"$f":"'w-E_R'!L59","v":0},{"$f":"'w-E_R'!M59","v":0},null,1,{"$f":"'m-E_R'!B59","v":"M9/01-Regel"},{"$f":"'m-E_R'!D59","v":0},{"$f":"'m-E_R'!L59","v":0},{"$f":"'m-E_R'!M59","v":0}]
[1,{"$f":"'w-E_R'!B60","v":"W9/02-Regel"},{"$f":"'w-E_R'!D60","v":0},{"$f":"'w-E_R'!L60","v":0},{"$f":"'w-E_R'!M60","v":0},null,1,{"$f":"'m-E_R'!B60","v":"M9/02-Regel"},{"$f":"'m-E_R'!D60","v":0},{"$f":"'m-E_R'!L60","v":0},{"$f":"'m-E_R'!M60","v":0}]
[1,{"$f":"'w-E_R'!B61","v":"W9/03-Regel"},{"$f":"'w-E_R'!D61","v":0},{"$f":"'w-E_R'!L61","v":0},{"$f":"'w-E_R'!M61","v":0},null,1,{"$f":"'m-E_R'!B61","v":"M9/03-Regel"},{"$f":"'m-E_R'!D61","v":0},{"$f":"'m-E_R'!L61","v":0},{"$f":"'m-E_R'!M61","v":0}]
[1,{"$f":"'w-E_R'!B62","v":"W9/04-Regel"},{"$f":"'w-E_R'!D62","v":0},{"$f":"'w-E_R'!L62","v":0},{"$f":"'w-E_R'!M62","v":0},null,1,{"$f":"'m-E_R'!B62","v":"M9/04-Regel"},{"$f":"'m-E_R'!D62","v":0},{"$f":"'m-E_R'!L62","v":0},{"$f":"'m-E_R'!M62","v":0}]
[1,{"$f":"'w-E_R'!B63","v":"W9/05-Regel"},{"$f":"'w-E_R'!D63","v":0},{"$f":"'w-E_R'!L63","v":0},{"$f":"'w-E_R'!M63","v":0},null,1,{"$f":"'m-E_R'!B63","v":"M9/05-Regel"},{"$f":"'m-E_R'!D63","v":0},{"$f":"'m-E_R'!L63","v":0},{"$f":"'m-E_R'!M63","v":0}]
[1,{"$f":"'w-E_R'!B64","v":"W9/06-Regel"},{"$f":"'w-E_R'!D64","v":0},{"$f":"'w-E_R'!L64","v":0},{"$f":"'w-E_R'!M64","v":0},null,1,{"$f":"'m-E_R'!B64","v":"M9/06-Regel"},{"$f":"'m-E_R'!D64","v":0},{"$f":"'m-E_R'!L64","v":0},{"$f":"'m-E_R'!M64","v":0}]
[1,{"$f":"'w-E_R'!B66","v":"W10/01-Regel"},{"$f":"'w-E_R'!D66","v":0},{"$f":"'w-E_R'!L66","v":0},{"$f":"'w-E_R'!M66","v":0},null,1,{"$f":"'m-E_R'!B66","v":"M10/01-Regel"},{"$f":"'m-E_R'!D66","v":0},{"$f":"'m-E_R'!L66","v":0},{"$f":"'m-E_R'!M66","v":0}]
[1,{"$f":"'w-E_R'!B67","v":"W10/02-Regel"},{"$f":"'w-E_R'!D67","v":0},{"$f":"'w-E_R'!L67","v":0},{"$f":"'w-E_R'!M67","v":0},null,1,{"$f":"'m-E_R'!B67","v":"M10/02-Regel"},{"$f":"'m-E_R'!D67","v":0},{"$f":"'m-E_R'!L67","v":0},{"$f":"'m-E_R'!M67","v":0}]
[1,{"$f":"'w-E_R'!B68","v":"W10/03-Regel"},{"$f":"'w-E_R'!D68","v":0},{"$f":"'w-E_R'!L68","v":0},{"$f":"'w-E_R'!M68","v":0},null,1,{"$f":"'m-E_R'!B68","v":"M10/03-Regel"},{"$f":"'m-E_R'!D68","v":0},{"$f":"'m-E_R'!L68","v":0},{"$f":"'m-E_R'!M68","v":0}]
[1,{"$f":"'w-E_R'!B69","v":"W10/04-Regel"},{"$f":"'w-E_R'!D69","v":0},{"$f":"'w-E_R'!L69","v":0},{"$f":"'w-E_R'!M69","v":0},null,1,{"$f":"'m-E_R'!B69","v":"M10/04-Regel"},{"$f":"'m-E_R'!D69","v":0},{"$f":"'m-E_R'!L69","v":0},{"$f":"'m-E_R'!M69","v":0}]
[1,{"$f":"'w-E_R'!B70","v":"W10/05-Regel"},{"$f":"'w-E_R'!D70","v":0},{"$f":"'w-E_R'!L70","v":0},{"$f":"'w-E_R'!M70","v":0},null,1,{"$f":"'m-E_R'!B70","v":"M10/05-Regel"},{"$f":"'m-E_R'!D70","v":0},{"$f":"'m-E_R'!L70","v":0},{"$f":"'m-E_R'!M70","v":0}]
[1,{"$f":"'w-E_R'!B71","v":"W10/06-Regel"},{"$f":"'w-E_R'!D71","v":0},{"$f":"'w-E_R'!L71","v":0},{"$f":"'w-E_R'!M71","v":0},null,1,{"$f":"'m-E_R'!B71","v":"M10/06-Regel"},{"$f":"'m-E_R'!D71","v":0},{"$f":"'m-E_R'!L71","v":0},{"$f":"'m-E_R'!M71","v":0}]
[1,{"$f":"'w-E_R'!B73","v":"W11/01-Regel"},{"$f":"'w-E_R'!D73","v":0},{"$f":"'w-E_R'!L73","v":0},{"$f":"'w-E_R'!M73","v":0},null,1,{"$f":"'m-E_R'!B73","v":"M11/01-Regel"},{"$f":"'m-E_R'!D73","v":0},{"$f":"'m-E_R'!L73","v":0},{"$f":"'m-E_R'!M73","v":0}]
[1,{"$f":"'w-E_R'!B74","v":"W11/02-Regel"},{"$f":"'w-E_R'!D74","v":0},{"$f":"'w-E_R'!L74","v":0},{"$f":"'w-E_R'!M74","v":0},null,1,{"$f":"'m-E_R'!B74","v":"M11/02-Regel"},{"$f":"'m-E_R'!D74","v":0},{"$f":"'m-E_R'!L74","v":0},{"$f":"'m-E_R'!M74","v":0}]
[1,{"$f":"'w-E_R'!B75","v":"W11/03-Regel"},{"$f":"'w-E_R'!D75","v":0},{"$f":"'w-E_R'!L75","v":0},{"$f":"'w-E_R'!M75","v":0},null,1,{"$f":"'m-E_R'!B75","v":"M11/03-Regel"},{"$f":"'m-E_R'!D75","v":0},{"$f":"'m-E_R'!L75","v":0},{"$f":"'m-E_R'!M75","v":0}]
[1,{"$f":"'w-E_R'!B76","v":"W11/04-Regel"},{"$f":"'w-E_R'!D76","v":0},{"$f":"'w-E_R'!L76","v":0},{"$f":"'w-E_R'!M76","v":0},null,1,{"$f":"'m-E_R'!B76","v":"M11/04-Regel"},{"$f":"'m-E_R'!D76","v":0},{"$f":"'m-E_R'!L76","v":0},{"$f":"'m-E_R'!M76","v":0}]
[{"$f":"RANK(E67,$E$3:$E$122,0)","v":1},{"$f":"'w-E_R'!B77","v":"W11/05-Regel"},{"$f":"'w-E_R'!D77","v":0},{"$f":"'w-E_R'!L77","v":0},{"$f":"'w-E_R'!M77","v":0},null,{"$f":"RANK(K67,$K$3:$K$122,0)","v":1},{"$f":"'m-E_R'!B77","v":"M11/05-Regel"},{"$f":"'m-E_R'!D77","v":0},{"$f":"'m-E_R'!L77","v":0},{"$f":"'m-E_R'!M77","v":0}]
[1,{"$f":"'w-E_R'!B78","v":"W11/06-Regel"},{"$f":"'w-E_R'!D78","v":0},{"$f":"'w-E_R'!L78","v":0},{"$f":"'w-E_R'!M78","v":0},null,1,{"$f":"'m-E_R'!B78","v":"M11/06-Regel"},{"$f":"'m-E_R'!D78","v":0},{"$f":"'m-E_R'!L78","v":0},{"$f":"'m-E_R'!M78","v":0}]
[1,{"$f":"'w-E_R'!B80","v":"W12/01-Regel"},{"$f":"'w-E_R'!D80","v":0},{"$f":"'w-E_R'!L80","v":0},{"$f":"'w-E_R'!M80","v":0},null,1,{"$f":"'m-E_R'!B80","v":"M12/01-Regel"},{"$f":"'m-E_R'!D80","v":0},{"$f":"'m-E_R'!L80","v":0},{"$f":"'m-E_R'!M80","v":0}]
[1,{"$f":"'w-E_R'!B81","v":"W12/02-Regel"},{"$f":"'w-E_R'!D81","v":0},{"$f":"'w-E_R'!L81","v":0},{"$f":"'w-E_R'!M81","v":0},null,1,{"$f":"'m-E_R'!B81","v":"M12/02-Regel"},{"$f":"'m-E_R'!D81","v":0},{"$f":"'m-E_R'!L81","v":0},{"$f":"'m-E_R'!M81","v":0}]
[1,{"$f":"'w-E_R'!B82","v":"W12/03-Regel"},{"$f":"'w-E_R'!D82","v":0},{"$f":"'w-E_R'!L82","v":0},{"$f":"'w-E_R'!M82","v":0},null,1,{"$f":"'m-E_R'!B82","v":"M12/03-Regel"},{"$f":"'m-E_R'!D82","v":0},{"$f":"'m-E_R'!L82","v":0},{"$f":"'m-E_R'!M82","v":0}]
[1,{"$f":"'w-E_R'!B83","v":"W12/04-Regel"},{"$f":"'w-E_R'!D83","v":0},{"$f":"'w-E_R'!L83","v":0},{"$f":"'w-E_R'!M83","v":0},null,1,{"$f":"'m-E_R'!B83","v":"M12/04-Regel"},{"$f":"'m-E_R'!D83","v":0},{"$f":"'m-E_R'!L83","v":0},{"$f":"'m-E_R'!M83","v":0}]
[1,{"$f":"'w-E_R'!B84","v":"W12/05-Regel"},{"$f":"'w-E_R'!D84","v":0},{"$f":"'w-E_R'!L84","v":0},{"$f":"'w-E_R'!M84","v":0},null,1,{"$f":"'m-E_R'!B84","v":"M12/05-Regel"},{"$f":"'m-E_R'!D84","v":0},{"$f":"'m-E_R'!L84","v":0},{"$f":"'m-E_R'!M84","v":0}]
[1,{"$f":"'w-E_R'!B85","v":"W12/06-Regel"},{"$f":"'w-E_R'!D85","v":0},{"$f":"'w-E_R'!L85","v":0},{"$f":"'w-E_R'!M85","v":0},null,1,{"$f":"'m-E_R'!B85","v":"M12/06-Regel"},{"$f":"'m-E_R'!D85","v":0},{"$f":"'m-E_R'!L85","v":0},{"$f":"'m-E_R'!M85","v":0}]
[1,{"$f":"'w-E_R'!B87","v":"W13/01-Regel"},{"$f":"'w-E_R'!D87","v":0},{"$f":"'w-E_R'!L87","v":0},{"$f":"'w-E_R'!M87","v":0},null,1,{"$f":"'m-E_R'!B87","v":"M13/01-Regel"},{"$f":"'m-E_R'!D87","v":0},{"$f":"'m-E_R'!L87","v":0},{"$f":"'m-E_R'!M87","v":0}]
[1,{"$f":"'w-E_R'!B88","v":"W13/02-Regel"},{"$f":"'w-E_R'!D88","v":0},{"$f":"'w-E_R'!L88","v":0},{"$f":"'w-E_R'!M88","v":0},null,1,{"$f":"'m-E_R'!B88","v":"M13/02-Regel"},{"$f":"'m-E_R'!D88","v":0},{"$f":"'m-E_R'!L88","v":0},{"$f":"'m-E_R'!M88","v":0}]
[1,{"$f":"'w-E_R'!B89","v":"W13/03-Regel"},{"$f":"'w-E_R'!D89","v":0},{"$f":"'w-E_R'!L89","v":0},{"$f":"'w-E_R'!M89","v":0},null,1,{"$f":"'m-E_R'!B89","v":"M13/03-Regel"},{"$f":"'m-E_R'!D89","v":0},{"$f":"'m-E_R'!L89","v":0},{"$f":"'m-E_R'!M89","v":0}]
[1,{"$f":"'w-E_R'!B90","v":"W13/04-Regel"},{"$f":"'w-E_R'!D90","v":0},{"$f":"'w-E_R'!L90","v":0},{"$f":"'w-E_R'!M90","v":0},null,1,{"$f":"'m-E_R'!B90","v":"M13/04-Regel"},{"$f":"'m-E_R'!D90","v":0},{"$f":"'m-E_R'!L90","v":0},{"$f":"'m-E_R'!M90","v":0}]
[1,{"$f":"'w-E_R'!B91","v":"W13/05-Regel"},{"$f":"'w-E_R'!D91","v":0},{"$f":"'w-E_R'!L91","v":0},{"$f":"'w-E_R'!M91","v":0},null,1,{"$f":"'m-E_R'!B91","v":"M13/05-Regel"},{"$f":"'m-E_R'!D91","v":0},{"$f":"'m-E_R'!L91","v":0},{"$f":"'m-E_R'!M91","v":0}]
[1,{"$f":"'w-E_R'!B92","v":"W13/06-Regel"},{"$f":"'w-E_R'!D92","v":0},{"$f":"'w-E_R'!L92","v":0},{"$f":"'w-E_R'!M92","v":0},null,1,{"$f":"'m-E_R'!B92","v":"M13/06-Regel"},{"$f":"'m-E_R'!D92","v":0},{"$f":"'m-E_R'!L92","v":0},{"$f":"'m-E_R'!M92","v":0}]
[1,{"$f":"'w-E_R'!B94","v":"W14/01-Regel"},{"$f":"'w-E_R'!D94","v":0},{"$f":"'w-E_R'!L94","v":0},{"$f":"'w-E_R'!M94","v":0},null,1,{"$f":"'m-E_R'!B94","v":"M14/01-Regel"},{"$f":"'m-E_R'!D94","v":0},{"$f":"'m-E_R'!L94","v":0},{"$f":"'m-E_R'!M94","v":0}]
[1,{"$f":"'w-E_R'!B95","v":"W14/02-Regel"},{"$f":"'w-E_R'!D95","v":0},{"$f":"'w-E_R'!L95","v":0},{"$f":"'w-E_R'!M95","v":0},null,1,{"$f":"'m-E_R'!B95","v":"M14/02-Regel"},{"$f":"'m-E_R'!D95","v":0},{"$f":"'m-E_R'!L95","v":0},{"$f":"'m-E_R'!M95","v":0}]
[1,{"$f":"'w-E_R'!B96","v":"W14/03-Regel"},{"$f":"'w-E_R'!D96","v":0},{"$f":"'w-E_R'!L96","v":0},{"$f":"'w-E_R'!M96","v":0},null,1,{"$f":"'m-E_R'!B96","v":"M14/03-Regel"},{"$f":"'m-E_R'!D96","v":0},{"$f":"'m-E_R'!L96","v":0},{"$f":"'m-E_R'!M96","v":0}]
[1,{"$f":"'w-E_R'!B97","v":"W14/04-Regel"},{"$f":"'w-E_R'!D97","v":0},{"$f":"'w-E_R'!L97","v":0},{"$f":"'w-E_R'!M97","v":0},null,1,{"$f":"'m-E_R'!B97","v":"M14/04-Regel"},{"$f":"'m-E_R'!D97","v":0},{"$f":"'m-E_R'!L97","v":0},{"$f":"'m-E_R'!M97","v":0}]
[1,{"$f":"'w-E_R'!B98","v":"W14/05-Regel"},{"$f":"'w-E_R'!D98","v":0},{"$f":"'w-E_R'!L98","v":0},{"$f":"'w-E_R'!M98","v":0},null,1,{"$f":"'m-E_R'!B98","v":"M14/05-Regel"},{"$f":"'m-E_R'!D98","v":0},{"$f":"'m-E_R'!L98","v":0},{"$f":"'m-E_R'!M98","v":0}]
[1,{"$f":"'w-E_R'!B99","v":"W14/06-Regel"},{"$f":"'w-E_R'!D99","v":0},{"$f":"'w-E_R'!L99","v":0},{"$f":"'w-E_R'!M99","v":0},null,1,{"$f":"'m-E_R'!B99","v":"M14/06-Regel"},{"$f":"'m-E_R'!D99","v":0},{"$f":"'m-E_R'!L99","v":0},{"$f":"'m-E_R'!M99","v":0}]
[1,{"$f":"'w-E_R'!B101","v":"W15/01-Regel"},{"$f":"'w-E_R'!D101","v":0},{"$f":"'w-E_R'!L101","v":0},{"$f":"'w-E_R'!M101","v":0},null,1,{"$f":"'m-E_R'!B101","v":"M15/01-Regel"},{"$f":"'m-E_R'!D101","v":0},{"$f":"'m-E_R'!L101","v":0},{"$f":"'m-E_R'!M101","v":0}]
[1,{"$f":"'w-E_R'!B102","v":"W15/02-Regel"},{"$f":"'w-E_R'!D102","v":0},{"$f":"'w-E_R'!L102","v":0},{"$f":"'w-E_R'!M102","v":0},null,1,{"$f":"'m-E_R'!B102","v":"M15/02-Regel"},{"$f":"'m-E_R'!D102","v":0},{"$f":"'m-E_R'!L102","v":0},{"$f":"'m-E_R'!M102","v":0}]
[1,{"$f":"'w-E_R'!B103","v":"W15/03-Regel"},{"$f":"'w-E_R'!D103","v":0},{"$f":"'w-E_R'!L103","v":0},{"$f":"'w-E_R'!M103","v":0},null,1,{"$f":"'m-E_R'!B103","v":"M15/03-Regel"},{"$f":"'m-E_R'!D103","v":0},{"$f":"'m-E_R'!L103","v":0},{"$f":"'m-E_R'!M103","v":0}]
[1,{"$f":"'w-E_R'!B104","v":"W15/04-Regel"},{"$f":"'w-E_R'!D104","v":0},{"$f":"'w-E_R'!L104","v":0},{"$f":"'w-E_R'!M104","v":0},null,1,{"$f":"'m-E_R'!B104","v":"M15/04-Regel"},{"$f":"'m-E_R'!D104","v":0},{"$f":"'m-E_R'!L104","v":0},{"$f":"'m-E_R'!M104","v":0}]
[1,{"$f":"'w-E_R'!B105","v":"W15/05-Regel"},{"$f":"'w-E_R'!D105","v":0},{"$f":"'w-E_R'!L105","v":0},{"$f":"'w-E_R'!M105","v":0},null,1,{"$f":"'m-E_R'!B105","v":"M15/05-Regel"},{"$f":"'m-E_R'!D105","v":0},{"$f":"'m-E_R'!L105","v":0},{"$f":"'m-E_R'!M105","v":0}]
[1,{"$f":"'w-E_R'!B106","v":"W15/06-Regel"},{"$f":"'w-E_R'!D106","v":0},{"$f":"'w-E_R'!L106","v":0},{"$f":"'w-E_R'!M106","v":0},null,1,{"$f":"'m-E_R'!B106","v":"M15/06-Regel"},{"$f":"'m-E_R'!D106","v":0},{"$f":"'m-E_R'!L106","v":0},{"$f":"'m-E_R'!M106","v":0}]
[1,{"$f":"'w-E_R'!B108","v":"W16/01-Regel"},{"$f":"'w-E_R'!D108","v":0},{"$f":"'w-E_R'!L108","v":0},{"$f":"'w-E_R'!M108","v":0},null,1,{"$f":"'m-E_R'!B108","v":"M16/01-Regel"},{"$f":"'m-E_R'!D108","v":0},{"$f":"'m-E_R'!L108","v":0},{"$f":"'m-E_R'!M108","v":0}]
[1,{"$f":"'w-E_R'!B109","v":"W16/02-Regel"},{"$f":"'w-E_R'!D109","v":0},{"$f":"'w-E_R'!L109","v":0},{"$f":"'w-E_R'!M109","v":0},null,1,{"$f":"'m-E_R'!B109","v":"M16/02-Regel"},{"$f":"'m-E_R'!D109","v":0},{"$f":"'m-E_R'!L109","v":0},{"$f":"'m-E_R'!M109","v":0}]
[1,{"$f":"'w-E_R'!B110","v":"W16/03-Regel"},{"$f":"'w-E_R'!D110","v":0},{"$f":"'w-E_R'!L110","v":0},{"$f":"'w-E_R'!M110","v":0},null,1,{"$f":"'m-E_R'!B110","v":"M16/03-Regel"},{"$f":"'m-E_R'!D110","v":0},{"$f":"'m-E_R'!L110","v":0},{"$f":"'m-E_R'!M110","v":0}]
[1,{"$f":"'w-E_R'!B111","v":"W16/04-Regel"},{"$f":"'w-E_R'!D111","v":0},{"$f":"'w-E_R'!L111","v":0},{"$f":"'w-E_R'!M111","v":0},null,1,{"$f":"'m-E_R'!B111","v":"M16/04-Regel"},{"$f":"'m-E_R'!D111","v":0},{"$f":"'m-E_R'!L111","v":0},{"$f":"'m-E_R'!M111","v":0}]
[1,{"$f":"'w-E_R'!B112","v":"W16/05-Regel"},{"$f":"'w-E_R'!D112","v":0},{"$f":"'w-E_R'!L112","v":0},{"$f":"'w-E_R'!M112","v":0},null,1,{"$f":"'m-E_R'!B112","v":"M16/05-Regel"},{"$f":"'m-E_R'!D112","v":0},{"$f":"'m-E_R'!L112","v":0},{"$f":"'m-E_R'!M112","v":0}]
[1,{"$f":"'w-E_R'!B113","v":"W16/06-Regel"},{"$f":"'w-E_R'!D113","v":0},{"$f":"'w-E_R'!L113","v":0},{"$f":"'w-E_R'!M113","v":0},null,1,{"$f":"'m-E_R'!B113","v":"M16/06-Regel"},{"$f":"'m-E_R'!D113","v":0},{"$f":"'m-E_R'!L113","v":0},{"$f":"'m-E_R'!M113","v":0}]
[{"$f":"RANK(E99,$E$3:$E$122,0)","v":1},{"$f":"'w-E_R'!B115","v":"W17/01-Regel"},{"$f":"'w-E_R'!D115","v":0},{"$f":"'w-E_R'!L115","v":0},{"$f":"'w-E_R'!M115","v":0},null,{"$f":"RANK(K99,$K$3:$K$122,0)","v":1},{"$f":"'m-E_R'!B115","v":"M17/01-Regel"},{"$f":"'m-E_R'!D115","v":0},{"$f":"'m-E_R'!L115","v":0},{"$f":"'m-E_R'!M115","v":0}]
[1,{"$f":"'w-E_R'!B116","v":"W17/02-Regel"},{"$f":"'w-E_R'!D116","v":0},{"$f":"'w-E_R'!L116","v":0},{"$f":"'w-E_R'!M116","v":0},null,1,{"$f":"'m-E_R'!B116","v":"M17/02-Regel"},{"$f":"'m-E_R'!D116","v":0},{"$f":"'m-E_R'!L116","v":0},{"$f":"'m-E_R'!M116","v":0}]
[1,{"$f":"'w-E_R'!B117","v":"W17/03-Regel"},{"$f":"'w-E_R'!D117","v":0},{"$f":"'w-E_R'!L117","v":0},{"$f":"'w-E_R'!M117","v":0},null,1,{"$f":"'m-E_R'!B117","v":"M17/03-Regel"},{"$f":"'m-E_R'!D117","v":0},{"$f":"'m-E_R'!L117","v":0},{"$f":"'m-E_R'!M117","v":0}]
[1,{"$f":"'w-E_R'!B118","v":"W17/04-Regel"},{"$f":"'w-E_R'!D118","v":0},{"$f":"'w-E_R'!L118","v":0},{"$f":"'w-E_R'!M118","v":0},null,1,{"$f":"'m-E_R'!B118","v":"M17/04-Regel"},{"$f":"'m-E_R'!D118","v":0},{"$f":"'m-E_R'!L118","v":0},{"$f":"'m-E_R'!M118","v":0}]
[1,{"$f":"'w-E_R'!B119","v":"W17/05-Regel"},{"$f":"'w-E_R'!D119","v":0},{"$f":"'w-E_R'!L119","v":0},{"$f":"'w-E_R'!M119","v":0},null,1,{"$f":"'m-E_R'!B119","v":"M17/05-Regel"},{"$f":"'m-E_R'!D119","v":0},{"$f":"'m-E_R'!L119","v":0},{"$f":"'m-E_R'!M119","v":0}]
[1,{"$f":"'w-E_R'!B120","v":"W17/06-Regel"},{"$f":"'w-E_R'!D120","v":0},{"$f":"'w-E_R'!L120","v":0},{"$f":"'w-E_R'!M120","v":0},null,1,{"$f":"'m-E_R'!B120","v":"M17/06-Regel"},{"$f":"'m-E_R'!D120","v":0},{"$f":"'m-E_R'!L120","v":0},{"$f":"'m-E_R'!M120","v":0}]
[1,{"$f":"'w-E_R'!B122","v":"W18/01-Regel"},{"$f":"'w-E_R'!D122","v":0},{"$f":"'w-E_R'!L122","v":0},{"$f":"'w-E_R'!M122","v":0},null,1,{"$f":"'m-E_R'!B122","v":"M18/01-Regel"},{"$f":"'m-E_R'!D122","v":0},{"$f":"'m-E_R'!L122","v":0},{"$f":"'m-E_R'!M122","v":0}]
[1,{"$f":"'w-E_R'!B123","v":"W18/02-Regel"},{"$f":"'w-E_R'!D123","v":0},{"$f":"'w-E_R'!L123","v":0},{"$f":"'w-E_R'!M123","v":0},null,1,{"$f":"'m-E_R'!B123","v":"M18/02-Regel"},{"$f":"'m-E_R'!D123","v":0},{"$f":"'m-E_R'!L123","v":0},{"$f":"'m-E_R'!M123","v":0}]
[1,{"$f":"'w-E_R'!B124","v":"W18/03-Regel"},{"$f":"'w-E_R'!D124","v":0},{"$f":"'w-E_R'!L124","v":0},{"$f":"'w-E_R'!M124","v":0},null,1,{"$f":"'m-E_R'!B124","v":"M18/03-Regel"},{"$f":"'m-E_R'!D124","v":0},{"$f":"'m-E_R'!L124","v":0},{"$f":"'m-E_R'!M124","v":0}]
[1,{"$f":"'w-E_R'!B125","v":"W18/04-Regel"},{"$f":"'w-E_R'!D125","v":0},{"$f":"'w-E_R'!L125","v":0},{"$f":"'w-E_R'!M125","v":0},null,1,{"$f":"'m-E_R'!B125","v":"M18/04-Regel"},{"$f":"'m-E_R'!D125","v":0},{"$f":"'m-E_R'!L125","v":0},{"$f":"'m-E_R'!M125","v":0}]
[1,{"$f":"'w-E_R'!B126","v":"W18/05-Regel"},{"$f":"'w-E_R'!D126","v":0},{"$f":"'w-E_R'!L126","v":0},{"$f":"'w-E_R'!M126","v":0},null,1,{"$f":"'m-E_R'!B126","v":"M18/05-Regel"},{"$f":"'m-E_R'!D126","v":0},{"$f":"'m-E_R'!L126","v":0},{"$f":"'m-E_R'!M126","v":0}]
[1,{"$f":"'w-E_R'!B127","v":"W18/06-Regel"},{"$f":"'w-E_R'!D127","v":0},{"$f":"'w-E_R'!L127","v":0},{"$f":"'w-E_R'!M127","v":0},null,1,{"$f":"'m-E_R'!B127","v":"M18/06-Regel"},{"$f":"'m-E_R'!D127","v":0},{"$f":"'m-E_R'!L127","v":0},{"$f":"'m-E_R'!M127","v":0}]
[1,{"$f":"'w-E_R'!B129","v":"W19/01-Regel"},{"$f":"'w-E_R'!D129","v":0},{"$f":"'w-E_R'!L129","v":0},{"$f":"'w-E_R'!M129","v":0},null,1,{"$f":"'m-E_R'!B129","v":"M19/01-Regel"},{"$f":"'m-E_R'!D129","v":0},{"$f":"'m-E_R'!L129","v":0},{"$f":"'m-E_R'!M129","v":0}]
[1,{"$f":"'w-E_R'!B130","v":"W19/02-Regel"},{"$f":"'w-E_R'!D130","v":0},{"$f":"'w-E_R'!L130","v":0},{"$f":"'w-E_R'!M130","v":0},null,1,{"$f":"'m-E_R'!B130","v":"M19/02-Regel"},{"$f":"'m-E_R'!D130","v":0},{"$f":"'m-E_R'!L130","v":0},{"$f":"'m-E_R'!M130","v":0}]
[1,{"$f":"'w-E_R'!B131","v":"W19/03-Regel"},{"$f":"'w-E_R'!D131","v":0},{"$f":"'w-E_R'!L131","v":0},{"$f":"'w-E_R'!M131","v":0},null,1,{"$f":"'m-E_R'!B131","v":"M19/03-Regel"},{"$f":"'m-E_R'!D131","v":0},{"$f":"'m-E_R'!L131","v":0},{"$f":"'m-E_R'!M131","v":0}]
[1,{"$f":"'w-E_R'!B132","v":"W19/04-Regel"},{"$f":"'w-E_R'!D132","v":0},{"$f":"'w-E_R'!L132","v":0},{"$f":"'w-E_R'!M132","v":0},null,1,{"$f":"'m-E_R'!B132","v":"M19/04-Regel"},{"$f":"'m-E_R'!D132","v":0},{"$f":"'m-E_R'!L132","v":0},{"$f":"'m-E_R'!M132","v":0}]
[1,{"$f":"'w-E_R'!B133","v":"W19/05-Regel"},{"$f":"'w-E_R'!D133","v":0},{"$f":"'w-E_R'!L133","v":0},{"$f":"'w-E_R'!M133","v":0},null,1,{"$f":"'m-E_R'!B133","v":"M19/05-Regel"},{"$f":"'m-E_R'!D133","v":0},{"$f":"'m-E_R'!L133","v":0},{"$f":"'m-E_R'!M133","v":0}]
[1,{"$f":"'w-E_R'!B134","v":"W19/06-Regel"},{"$f":"'w-E_R'!D134","v":0},{"$f":"'w-E_R'!L134","v":0},{"$f":"'w-E_R'!M134","v":0},null,1,{"$f":"'m-E_R'!B134","v":"M19/06-Regel"},{"$f":"'m-E_R'!D134","v":0},{"$f":"'m-E_R'!L134","v":0},{"$f":"'m-E_R'!M134","v":0}]
[1,{"$f":"'w-E_R'!B136","v":"W20/01-Regel"},{"$f":"'w-E_R'!D136","v":0},{"$f":"'w-E_R'!L136","v":0},{"$f":"'w-E_R'!M136","v":0},null,1,{"$f":"'m-E_R'!B136","v":"M20/01-Regel"},{"$f":"'m-E_R'!D136","v":0},{"$f":"'m-E_R'!L136","v":0},{"$f":"'m-E_R'!M136","v":0}]
[1,{"$f":"'w-E_R'!B137","v":"W20/02-Regel"},{"$f":"'w-E_R'!D137","v":0},{"$f":"'w-E_R'!L137","v":0},{"$f":"'w-E_R'!M137","v":0},null,1,{"$f":"'m-E_R'!B137","v":"M20/02-Regel"},{"$f":"'m-E_R'!D137","v":0},{"$f":"'m-E_R'!L137","v":0},{"$f":"'m-E_R'!M137","v":0}]
[1,{"$f":"'w-E_R'!B138","v":"W20/03-Regel"},{"$f":"'w-E_R'!D138","v":0},{"$f":"'w-E_R'!L138","v":0},{"$f":"'w-E_R'!M138","v":0},null,1,{"$f":"'m-E_R'!B138","v":"M20/03-Regel"},{"$f":"'m-E_R'!D138","v":0},{"$f":"'m-E_R'!L138","v":0},{"$f":"'m-E_R'!M138","v":0}]
[1,{"$f":"'w-E_R'!B139","v":"W20/04-Regel"},{"$f":"'w-E_R'!D139","v":0},{"$f":"'w-E_R'!L139","v":0},{"$f":"'w-E_R'!M139","v":0},null,1,{"$f":"'m-E_R'!B139","v":"M20/04-Regel"},{"$f":"'m-E_R'!D139","v":0},{"$f":"'m-E_R'!L139","v":0},{"$f":"'m-E_R'!M139","v":0}]
[1,{"$f":"'w-E_R'!B140","v":"W20/05-Regel"},{"$f":"'w-E_R'!D140","v":0},{"$f":"'w-E_R'!L140","v":0},{"$f":"'w-E_R'!M140","v":0},null,1,{"$f":"'m-E_R'!B140","v":"M20/05-Regel"},{"$f":"'m-E_R'!D140","v":0},{"$f":"'m-E_R'!L140","v":0},{"$f":"'m-E_R'!M140","v":0}]
[1,{"$f":"'w-E_R'!B141","v":"W20/06-Regel"},{"$f":"'w-E_R'!D141","v":0},{"$f":"'w-E_R'!L141","v":0},{"$f":"'w-E_R'!M141","v":0},null,1,{"$f":"'m-E_R'!B141","v":"M20/06-Regel"},{"$f":"'m-E_R'!D141","v":0},{"$f":"'m-E_R'!L141","v":0},{"$f":"'m-E_R'!M141","v":0}]
["Einzelwertung Weit Weiblich",null,{"$f":"'w-E_R'!C1","v":"D-C/Regel-Schulen"},{"$f":"'w-E_R'!E1","v":"Ortsangabe,Datum"},null,null,"Einzelwertung Weit Männlich",null,{"$f":"'m-E_R'!C1","v":"D-C/Regel-Schulen"},{"$f":"'m-E_R'!E1","v":"Ortsangabe,Datum"}]
["Einzelwertung Weit",null,{"$f":"'w-E_Sp'!C1","v":"D-C/Sport-Schwerpunkt"},{"$f":"'w-E_Sp'!E1","v":"Ortsangabe,Datum"},null,null,"Einzelwertung Weit",null,{"$f":"'m-E_Sp'!C1","v":"D-C/Sport-Schwerpunkt"},{"$f":"'m-E_Sp'!E1","v":"Ortsangabe,Datum"}]
["Rang","WEIBLICH","Schule:","Leistung","Punkte",null,"Rang","MÄNNLICH","Schule:","Leistung","Punkte"]
[{"$f":"RANK(E126,$E$126:$E245,0)","v":1},{"$f":"'w-E_Sp'!B3","v":"W1/01-Sport"},{"$f":"'w-E_Sp'!D3","v":0},{"$f":"'w-E_Sp'!L3","v":0},{"$f":"'w-E_Sp'!M3","v":0},null,{"$f":"RANK(K126,$K$126:$K245,0)","v":1},{"$f":"'m-E_Sp'!B3","v":"M1/01-Sport"},{"$f":"'m-E_Sp'!D3","v":0},{"$f":"'m-E_Sp'!L3","v":0},{"$f":"'m-E_Sp'!M3","v":0}]
[{"$f":"RANK(E127,$E$126:$E245,0)","v":1},{"$f":"'w-E_Sp'!B4","v":"W1/02-Sport"},{"$f":"'w-E_Sp'!D4","v":0},{"$f":"'w-E_Sp'!L4","v":0},{"$f":"'w-E_Sp'!M4","v":0},null,{"$f":"RANK(K127,$K$126:$K245,0)","v":1},{"$f":"'m-E_Sp'!B4","v":"M1/02-Sport"},{"$f":"'m-E_Sp'!D4","v":0},{"$f":"'m-E_Sp'!L4","v":0},{"$f":"'m-E_Sp'!M4","v":0}]
[{"$f":"RANK(E128,$E$126:$E245,0)","v":1},{"$f":"'w-E_Sp'!B5","v":"W1/03-Sport"},{"$f":"'w-E_Sp'!D5","v":0},{"$f":"'w-E_Sp'!L5","v":0},{"$f":"'w-E_Sp'!M5","v":0},null,{"$f":"RANK(K128,$K$126:$K245,0)","v":1},{"$f":"'m-E_Sp'!B5","v":"M1/03-Sport"},{"$f":"'m-E_Sp'!D5","v":0},{"$f":"'m-E_Sp'!L5","v":0},{"$f":"'m-E_Sp'!M5","v":0}]
[{"$f":"RANK(E129,$E$126:$E245,0)","v":1},{"$f":"'w-E_Sp'!B6","v":"W1/04-Sport"},{"$f":"'w-E_Sp'!D6","v":0},{"$f":"'w-E_Sp'!L6","v":0},{"$f":"'w-E_Sp'!M6","v":0},null,{"$f":"RANK(K129,$K$126:$K245,0)","v":1},{"$f":"'m-E_Sp'!B6","v":"M1/04-Sport"},{"$f":"'m-E_Sp'!D6","v":0},{"$f":"'m-E_Sp'!L6","v":0},{"$f":"'m-E_Sp'!M6","v":0}]
[{"$f":"RANK(E130,$E$126:$E245,0)","v":1},{"$f":"'w-E_Sp'!B7","v":"W1/05-Sport"},{"$f":"'w-E_Sp'!D7","v":0},{"$f":"'w-E_Sp'!L7","v":0},{"$f":"'w-E_Sp'!M7","v":0},null,{"$f":"RANK(K130,$K$126:$K245,0)","v":1},{"$f":"'m-E_Sp'!B7","v":"M1/05-Sport"},{"$f":"'m-E_Sp'!D7","v":0},{"$f":"'m-E_Sp'!L7","v":0},{"$f":"'m-E_Sp'!M7","v":0}]
[{"$f":"RANK(E131,$E$126:$E245,0)","v":1},{"$f":"'w-E_Sp'!B8","v":"W1/06-Sport"},{"$f":"'w-E_Sp'!D8","v":0},{"$f":"'w-E_Sp'!L8","v":0},{"$f":"'w-E_Sp'!M8","v":0},null,{"$f":"RANK(K131,$K$126:$K245,0)","v":1},{"$f":"'m-E_Sp'!B8","v":"M1/06-Sport"},{"$f":"'m-E_Sp'!D8","v":0},{"$f":"'m-E_Sp'!L8","v":0},{"$f":"'m-E_Sp'!M8","v":0}]
[{"$f":"RANK(E132,$E$126:$E245,0)","v":1},{"$f":"'w-E_Sp'!B10","v":"W2/01-Sport"},{"$f":"'w-E_Sp'!D10","v":0},{"$f":"'w-E_Sp'!L10","v":0},{"$f":"'w-E_Sp'!M10","v":0},null,{"$f":"RANK(K132,$K$126:$K245,0)","v":1},{"$f":"'m-E_Sp'!B10","v":"M2/01-Sport"},{"$f":"'m-E_Sp'!D10","v":0},{"$f":"'m-E_Sp'!L10","v":0},{"$f":"'m-E_Sp'!M10","v":0}]
[{"$f":"RANK(E133,$E$126:$E245,0)","v":1},{"$f":"'w-E_Sp'!B11","v":"W2/02-Sport"},{"$f":"'w-E_Sp'!D11","v":0},{"$f":"'w-E_Sp'!L11","v":0},{"$f":"'w-E_Sp'!M11","v":0},null,{"$f":"RANK(K133,$K$126:$K245,0)","v":1},{"$f":"'m-E_Sp'!B11","v":"M2/02-Sport"},{"$f":"'m-E_Sp'!D11","v":0},{"$f":"'m-E_Sp'!L11","v":0},{"$f":"'m-E_Sp'!M11","v":0}]
[{"$f":"RANK(E134,$E$126:$E245,0)","v":1},{"$f":"'w-E_Sp'!B12","v":"W2/03-Sport"},{"$f":"'w-E_Sp'!D12","v":0},{"$f":"'w-E_Sp'!L12","v":0},{"$f":"'w-E_Sp'!M12","v":0},null,{"$f":"RANK(K134,$K$126:$K245,0)","v":1},{"$f":"'m-E_Sp'!B12","v":"M2/03-Sport"},{"$f":"'m-E_Sp'!D12","v":0},{"$f":"'m-E_Sp'!L12","v":0},{"$f":"'m-E_Sp'!M12","v":0}]
[{"$f":"RANK(E135,$E$126:$E245,0)","v":1},{"$f":"'w-E_Sp'!B13","v":"W2/04-Sport"},{"$f":"'w-E_Sp'!D13","v":0},{"$f":"'w-E_Sp'!L13","v":0},{"$f":"'w-E_Sp'!M13","v":0},null,{"$f":"RANK(K135,$K$126:$K245,0)","v":1},{"$f":"'m-E_Sp'!B13","v":"M2/04-Sport"},{"$f":"'m-E_Sp'!D13","v":0},{"$f":"'m-E_Sp'!L13","v":0},{"$f":"'m-E_Sp'!M13","v":0}]
[{"$f":"RANK(E136,$E$126:$E245,0)","v":1},{"$f":"'w-E_Sp'!B14","v":"W2/05-Sport"},{"$f":"'w-E_Sp'!D14","v":0},{"$f":"'w-E_Sp'!L14","v":0},{"$f":"'w-E_Sp'!M14","v":0},null,{"$f":"RANK(K136,$K$126:$K245,0)","v":1},{"$f":"'m-E_Sp'!B14","v":"M2/05-Sport"},{"$f":"'m-E_Sp'!D14","v":0},{"$f":"'m-E_Sp'!L14","v":0},{"$f":"'m-E_Sp'!M14","v":0}]
[{"$f":"RANK(E137,$E$126:$E245,0)","v":1},{"$f":"'w-E_Sp'!B15","v":"W2/06-Sport"},{"$f":"'w-E_Sp'!D15","v":0},{"$f":"'w-E_Sp'!L15","v":0},{"$f":"'w-E_Sp'!M15","v":0},null,{"$f":"RANK(K137,$K$126:$K245,0)","v":1},{"$f":"'m-E_Sp'!B15","v":"M2/06-Sport"},{"$f":"'m-E_Sp'!D15","v":0},{"$f":"'m-E_Sp'!L15","v":0},{"$f":"'m-E_Sp'!M15","v":0}]
[{"$f":"RANK(E138,$E$126:$E245,0)","v":1},{"$f":"'w-E_Sp'!B17","v":"W3/01-Sport"},{"$f":"'w-E_Sp'!D17","v":0},{"$f":"'w-E_Sp'!L17","v":0},{"$f":"'w-E_Sp'!M17","v":0},null,{"$f":"RANK(K138,$K$126:$K245,0)","v":1},{"$f":"'m-E_Sp'!B17","v":"M3/01-Sport"},{"$f":"'m-E_Sp'!D17","v":0},{"$f":"'m-E_Sp'!L17","v":0},{"$f":"'m-E_Sp'!M17","v":0}]
[{"$f":"RANK(E139,$E$126:$E245,0)","v":1},{"$f":"'w-E_Sp'!B18","v":"W3/02-Sport"},{"$f":"'w-E_Sp'!D18","v":0},{"$f":"'w-E_Sp'!L18","v":0},{"$f":"'w-E_Sp'!M18","v":0},null,{"$f":"RANK(K139,$K$126:$K245,0)","v":1},{"$f":"'m-E_Sp'!B18","v":"M3/02-Sport"},{"$f":"'m-E_Sp'!D18","v":0},{"$f":"'m-E_Sp'!L18","v":0},{"$f":"'m-E_Sp'!M18","v":0}]
[{"$f":"RANK(E140,$E$126:$E245,0)","v":1},{"$f":"'w-E_Sp'!B19","v":"W3/03-Sport"},{"$f":"'w-E_Sp'!D19","v":0},{"$f":"'w-E_Sp'!L19","v":0},{"$f":"'w-E_Sp'!M19","v":0},null,{"$f":"RANK(K140,$K$126:$K245,0)","v":1},{"$f":"'m-E_Sp'!B19","v":"M3/03-Sport"},{"$f":"'m-E_Sp'!D19","v":0},{"$f":"'m-E_Sp'!L19","v":0},{"$f":"'m-E_Sp'!M19","v":0}]
[{"$f":"RANK(E141,$E$126:$E245,0)","v":1},{"$f":"'w-E_Sp'!B20","v":"W3/04-Sport"},{"$f":"'w-E_Sp'!D20","v":0},{"$f":"'w-E_Sp'!L20","v":0},{"$f":"'w-E_Sp'!M20","v":0},null,{"$f":"RANK(K141,$K$126:$K245,0)","v":1},{"$f":"'m-E_Sp'!B20","v":"M3/04-Sport"},{"$f":"'m-E_Sp'!D20","v":0},{"$f":"'m-E_Sp'!L20","v":0},{"$f":"'m-E_Sp'!M20","v":0}]
[{"$f":"RANK(E142,$E$126:$E245,0)","v":1},{"$f":"'w-E_Sp'!B21","v":"W3/05-Sport"},{"$f":"'w-E_Sp'!D21","v":0},{"$f":"'w-E_Sp'!L21","v":0},{"$f":"'w-E_Sp'!M21","v":0},null,{"$f":"RANK(K142,$K$126:$K245,0)","v":1},{"$f":"'m-E_Sp'!B21","v":"M3/05-Sport"},{"$f":"'m-E_Sp'!D21","v":0},{"$f":"'m-E_Sp'!L21","v":0},{"$f":"'m-E_Sp'!M21","v":0}]
[{"$f":"RANK(E143,$E$126:$E245,0)","v":1},{"$f":"'w-E_Sp'!B22","v":"W3/06-Sport"},{"$f":"'w-E_Sp'!D22","v":0},{"$f":"'w-E_Sp'!L22","v":0},{"$f":"'w-E_Sp'!M22","v":0},null,{"$f":"RANK(K143,$K$126:$K245,0)","v":1},{"$f":"'m-E_Sp'!B22","v":"M3/06-Sport"},{"$f":"'m-E_Sp'!D22","v":0},{"$f":"'m-E_Sp'!L22","v":0},{"$f":"'m-E_Sp'!M22","v":0}]
[{"$f":"RANK(E144,$E$126:$E245,0)","v":1},{"$f":"'w-E_Sp'!B24","v":"W4/01-Sport"},{"$f":"'w-E_Sp'!D24","v":0},{"$f":"'w-E_Sp'!L24","v":0},{"$f":"'w-E_Sp'!M24","v":0},null,{"$f":"RANK(K144,$K$126:$K245,0)","v":1},{"$f":"'m-E_Sp'!B24","v":"M4/01-Sport"},{"$f":"'m-E_Sp'!D24","v":0},{"$f":"'m-E_Sp'!L24","v":0},{"$f":"'m-E_Sp'!M24","v":0}]
[{"$f":"RANK(E145,$E$126:$E245,0)","v":1},{"$f":"'w-E_Sp'!B25","v":"W4/02-Sport"},{"$f":"'w-E_Sp'!D25","v":0},{"$f":"'w-E_Sp'!L25","v":0},{"$f":"'w-E_Sp'!M25","v":0},null,{"$f":"RANK(K145,$K$126:$K245,0)","v":1},{"$f":"'m-E_Sp'!B25","v":"M4/02-Sport"},{"$f":"'m-E_Sp'!D25","v":0},{"$f":"'m-E_Sp'!L25","v":0},{"$f":"'m-E_Sp'!M25","v":0}]
[{"$f":"RANK(E146,$E$126:$E245,0)","v":1},{"$f":"'w-E_Sp'!B26","v":"W4/03-Sport"},{"$f":"'w-E_Sp'!D26","v":0},{"$f":"'w-E_Sp'!L26","v":0},{"$f":"'w-E_Sp'!M26","v":0},null,{"$f":"RANK(K146,$K$126:$K245,0)","v":1},{"$f":"'m-E_Sp'!B26","v":"M4/03-Sport"},{"$f":"'m-E_Sp'!D26","v":0},{"$f":"'m-E_Sp'!L26","v":0},{"$f":"'m-E_Sp'!M26","v":0}]
[{"$f":"RANK(E147,$E$126:$E245,0)","v":1},{"$f":"'w-E_Sp'!B27","v":"W4/04-Sport"},{"$f":"'w-E_Sp'!D27","v":0},{"$f":"'w-E_Sp'!L27","v":0},{"$f":"'w-E_Sp'!M27","v":0},null,{"$f":"RANK(K147,$K$126:$K245,0)","v":1},{"$f":"'m-E_Sp'!B27","v":"M4/04-Sport"},{"$f":"'m-E_Sp'!D27","v":0},{"$f":"'m-E_Sp'!L27","v":0},{"$f":"'m-E_Sp'!M27","v":0}]
[{"$f":"RANK(E148,$E$126:$E245,0)","v":1},{"$f":"'w-E_Sp'!B28","v":"W4/05-Sport"},{"$f":"'w-E_Sp'!D28","v":0},{"$f":"'w-E_Sp'!L28","v":0},{"$f":"'w-E_Sp'!M28","v":0},null,{"$f":"RANK(K148,$K$126:$K245,0)","v":1},{"$f":"'m-E_Sp'!B28","v":"M4/05-Sport"},{"$f":"'m-E_Sp'!D28","v":0},{"$f":"'m-E_Sp'!L28","v":0},{"$f":"'m-E_Sp'!M28","v":0}]
[{"$f":"RANK(E149,$E$126:$E245,0)","v":1},{"$f":"'w-E_Sp'!B29","v":"W4/06-Sport"},{"$f":"'w-E_Sp'!D29","v":0},{"$f":"'w-E_Sp'!L29","v":0},{"$f":"'w-E_Sp'!M29","v":0},null,{"$f":"RANK(K149,$K$126:$K245,0)","v":1},{"$f":"'m-E_Sp'!B29","v":"M4/06-Sport"},{"$f":"'m-E_Sp'!D29","v":0},{"$f":"'m-E_Sp'!L29","v":0},{"$f":"'m-E_Sp'!M29","v":0}]
[{"$f":"RANK(E150,$E$126:$E245,0)","v":1},{"$f":"'w-E_Sp'!B31","v":"W5/01-Sport"},{"$f":"'w-E_Sp'!D31","v":0},{"$f":"'w-E_Sp'!L31","v":0},{"$f":"'w-E_Sp'!M31","v":0},null,{"$f":"RANK(K150,$K$126:$K245,0)","v":1},{"$f":"'m-E_Sp'!B31","v":"M5/01-Sport"},{"$f":"'m-E_Sp'!D31","v":0},{"$f":"'m-E_Sp'!L31","v":0},{"$f":"'m-E_Sp'!M31","v":0}]
[{"$f":"RANK(E151,$E$126:$E245,0)","v":1},{"$f":"'w-E_Sp'!B32","v":"W5/02-Sport"},{"$f":"'w-E_Sp'!D32","v":0},{"$f":"'w-E_Sp'!L32","v":0},{"$f":"'w-E_Sp'!M32","v":0},null,{"$f":"RANK(K151,$K$126:$K245,0)","v":1},{"$f":"'m-E_Sp'!B32","v":"M5/02-Sport"},{"$f":"'m-E_Sp'!D32","v":0},{"$f":"'m-E_Sp'!L32","v":0},{"$f":"'m-E_Sp'!M32","v":0}]
[{"$f":"RANK(E152,$E$126:$E245,0)","v":1},{"$f":"'w-E_Sp'!B33","v":"W5/03-Sport"},{"$f":"'w-E_Sp'!D33","v":0},{"$f":"'w-E_Sp'!L33","v":0},{"$f":"'w-E_Sp'!M33","v":0},null,{"$f":"RANK(K152,$K$126:$K245,0)","v":1},{"$f":"'m-E_Sp'!B33","v":"M5/03-Sport"},{"$f":"'m-E_Sp'!D33","v":0},{"$f":"'m-E_Sp'!L33","v":0},{"$f":"'m-E_Sp'!M33","v":0}]
[{"$f":"RANK(E153,$E$126:$E245,0)","v":1},{"$f":"'w-E_Sp'!B34","v":"W5/04-Sport"},{"$f":"'w-E_Sp'!D34","v":0},{"$f":"'w-E_Sp'!L34","v":0},{"$f":"'w-E_Sp'!M34","v":0},null,{"$f":"RANK(K153,$K$126:$K245,0)","v":1},{"$f":"'m-E_Sp'!B34","v":"M5/04-Sport"},{"$f":"'m-E_Sp'!D34","v":0},{"$f":"'m-E_Sp'!L34","v":0},{"$f":"'m-E_Sp'!M34","v":0}]
[{"$f":"RANK(E154,$E$126:$E245,0)","v":1},{"$f":"'w-E_Sp'!B35","v":"W5/05-Sport"},{"$f":"'w-E_Sp'!D35","v":0},{"$f":"'w-E_Sp'!L35","v":0},{"$f":"'w-E_Sp'!M35","v":0},null,{"$f":"RANK(K154,$K$126:$K245,0)","v":1},{"$f":"'m-E_Sp'!B35","v":"M5/05-Sport"},{"$f":"'m-E_Sp'!D35","v":0},{"$f":"'m-E_Sp'!L35","v":0},{"$f":"'m-E_Sp'!M35","v":0}]
[{"$f":"RANK(E155,$E$126:$E245,0)","v":1},{"$f":"'w-E_Sp'!B36","v":"W5/06-Sport"},{"$f":"'w-E_Sp'!D36","v":0},{"$f":"'w-E_Sp'!L36","v":0},{"$f":"'w-E_Sp'!M36","v":0},null,{"$f":"RANK(K155,$K$126:$K245,0)","v":1},{"$f":"'m-E_Sp'!B36","v":"M5/06-Sport"},{"$f":"'m-E_Sp'!D36","v":0},{"$f":"'m-E_Sp'!L36","v":0},{"$f":"'m-E_Sp'!M36","v":0}]
[{"$f":"RANK(E156,$E$126:$E245,0)","v":1},{"$f":"'w-E_Sp'!B38","v":"W6/01-Sport"},{"$f":"'w-E_Sp'!D38","v":0},{"$f":"'w-E_Sp'!L38","v":0},{"$f":"'w-E_Sp'!M38","v":0},null,{"$f":"RANK(K156,$K$126:$K245,0)","v":1},{"$f":"'m-E_Sp'!B38","v":"M6/01-Sport"},{"$f":"'m-E_Sp'!D38","v":0},{"$f":"'m-E_Sp'!L38","v":0},{"$f":"'m-E_Sp'!M38","v":0}]
[{"$f":"RANK(E157,$E$126:$E245,0)","v":1},{"$f":"'w-E_Sp'!B39","v":"W6/02-Sport"},{"$f":"'w-E_Sp'!D39","v":0},{"$f":"'w-E_Sp'!L39","v":0},{"$f":"'w-E_Sp'!M39","v":0},null,{"$f":"RANK(K157,$K$126:$K245,0)","v":1},{"$f":"'m-E_Sp'!B39","v":"M6/02-Sport"},{"$f":"'m-E_Sp'!D39","v":0},{"$f":"'m-E_Sp'!L39","v":0},{"$f":"'m-E_Sp'!M39","v":0}]
[{"$f":"RANK(E158,$E$126:$E245,0)","v":1},{"$f":"'w-E_Sp'!B40","v":"W6/03-Sport"},{"$f":"'w-E_Sp'!D40","v":0},{"$f":"'w-E_Sp'!L40","v":0},{"$f":"'w-E_Sp'!M40","v":0},null,{"$f":"RANK(K158,$K$126:$K245,0)","v":1},{"$f":"'m-E_Sp'!B40","v":"M6/03-Sport"},{"$f":"'m-E_Sp'!D40","v":0},{"$f":"'m-E_Sp'!L40","v":0},{"$f":"'m-E_Sp'!M40","v":0}]
[{"$f":"RANK(E159,$E$126:$E245,0)","v":1},{"$f":"'w-E_Sp'!B41","v":"W6/04-Sport"},{"$f":"'w-E_Sp'!D41","v":0},{"$f":"'w-E_Sp'!L41","v":0},{"$f":"'w-E_Sp'!M41","v":0},null,{"$f":"RANK(K159,$K$126:$K245,0)","v":1},{"$f":"'m-E_Sp'!B41","v":"M6/04-Sport"},{"$f":"'m-E_Sp'!D41","v":0},{"$f":"'m-E_Sp'!L41","v":0},{"$f":"'m-E_Sp'!M41","v":0}]
[{"$f":"RANK(E160,$E$126:$E245,0)","v":1},{"$f":"'w-E_Sp'!B42","v":"W6/05-Sport"},{"$f":"'w-E_Sp'!D42","v":0},{"$f":"'w-E_Sp'!L42","v":0},{"$f":"'w-E_Sp'!M42","v":0},null,{"$f":"RANK(K160,$K$126:$K245,0)","v":1},{"$f":"'m-E_Sp'!B42","v":"M6/05-Sport"},{"$f":"'m-E_Sp'!D42","v":0},{"$f":"'m-E_Sp'!L42","v":0},{"$f":"'m-E_Sp'!M42","v":0}]
[{"$f":"RANK(E161,$E$126:$E245,0)","v":1},{"$f":"'w-E_Sp'!B43","v":"W6/06-Sport"},{"$f":"'w-E_Sp'!D43","v":0},{"$f":"'w-E_Sp'!L43","v":0},{"$f":"'w-E_Sp'!M43","v":0},null,{"$f":"RANK(K161,$K$126:$K245,0)","v":1},{"$f":"'m-E_Sp'!B43","v":"M6/06-Sport"},{"$f":"'m-E_Sp'!D43","v":0},{"$f":"'m-E_Sp'!L43","v":0},{"$f":"'m-E_Sp'!M43","v":0}]
[{"$f":"RANK(E162,$E$126:$E245,0)","v":1},{"$f":"'w-E_Sp'!B45","v":"W7/01-Sport"},{"$f":"'w-E_Sp'!D45","v":0},{"$f":"'w-E_Sp'!L45","v":0},{"$f":"'w-E_Sp'!M45","v":0},null,{"$f":"RANK(K162,$K$126:$K245,0)","v":1},{"$f":"'m-E_Sp'!B45","v":"M7/01-Sport"},{"$f":"'m-E_Sp'!D45","v":0},{"$f":"'m-E_Sp'!L45","v":0},{"$f":"'m-E_Sp'!M45","v":0}]
[{"$f":"RANK(E163,$E$126:$E245,0)","v":1},{"$f":"'w-E_Sp'!B46","v":"W7/02-Sport"},{"$f":"'w-E_Sp'!D46","v":0},{"$f":"'w-E_Sp'!L46","v":0},{"$f":"'w-E_Sp'!M46","v":0},null,{"$f":"RANK(K163,$K$126:$K245,0)","v":1},{"$f":"'m-E_Sp'!B46","v":"M7/02-Sport"},{"$f":"'m-E_Sp'!D46","v":0},{"$f":"'m-E_Sp'!L46","v":0},{"$f":"'m-E_Sp'!M46","v":0}]
[{"$f":"RANK(E164,$E$126:$E245,0)","v":1},{"$f":"'w-E_Sp'!B47","v":"W7/03-Sport"},{"$f":"'w-E_Sp'!D47","v":0},{"$f":"'w-E_Sp'!L47","v":0},{"$f":"'w-E_Sp'!M47","v":0},null,{"$f":"RANK(K164,$K$126:$K245,0)","v":1},{"$f":"'m-E_Sp'!B47","v":"M7/03-Sport"},{"$f":"'m-E_Sp'!D47","v":0},{"$f":"'m-E_Sp'!L47","v":0},{"$f":"'m-E_Sp'!M47","v":0}]
[{"$f":"RANK(E165,$E$126:$E245,0)","v":1},{"$f":"'w-E_Sp'!B48","v":"W7/04-Sport"},{"$f":"'w-E_Sp'!D48","v":0},{"$f":"'w-E_Sp'!L48","v":0},{"$f":"'w-E_Sp'!M48","v":0},null,{"$f":"RANK(K165,$K$126:$K245,0)","v":1},{"$f":"'m-E_Sp'!B48","v":"M7/04-Sport"},{"$f":"'m-E_Sp'!D48","v":0},{"$f":"'m-E_Sp'!L48","v":0},{"$f":"'m-E_Sp'!M48","v":0}]
[{"$f":"RANK(E166,$E$126:$E245,0)","v":1},{"$f":"'w-E_Sp'!B49","v":"W7/05-Sport"},{"$f":"'w-E_Sp'!D49","v":0},{"$f":"'w-E_Sp'!L49","v":0},{"$f":"'w-E_Sp'!M49","v":0},null,{"$f":"RANK(K166,$K$126:$K245,0)","v":1},{"$f":"'m-E_Sp'!B49","v":"M7/05-Sport"},{"$f":"'m-E_Sp'!D49","v":0},{"$f":"'m-E_Sp'!L49","v":0},{"$f":"'m-E_Sp'!M49","v":0}]
[{"$f":"RANK(E167,$E$126:$E245,0)","v":1},{"$f":"'w-E_Sp'!B50","v":"W7/06-Sport"},{"$f":"'w-E_Sp'!D50","v":0},{"$f":"'w-E_Sp'!L50","v":0},{"$f":"'w-E_Sp'!M50","v":0},null,{"$f":"RANK(K167,$K$126:$K245,0)","v":1},{"$f":"'m-E_Sp'!B50","v":"M7/06-Sport"},{"$f":"'m-E_Sp'!D50","v":0},{"$f":"'m-E_Sp'!L50","v":0},{"$f":"'m-E_Sp'!M50","v":0}]
[{"$f":"RANK(E168,$E$126:$E245,0)","v":1},{"$f":"'w-E_Sp'!B52","v":"W8/01-Sport"},{"$f":"'w-E_Sp'!D52","v":0},{"$f":"'w-E_Sp'!L52","v":0},{"$f":"'w-E_Sp'!M52","v":0},null,{"$f":"RANK(K168,$K$126:$K245,0)","v":1},{"$f":"'m-E_Sp'!B52","v":"M8/01-Sport"},{"$f":"'m-E_Sp'!D52","v":0},{"$f":"'m-E_Sp'!L52","v":0},{"$f":"'m-E_Sp'!M52","v":0}]
[{"$f":"RANK(E169,$E$126:$E245,0)","v":1},{"$f":"'w-E_Sp'!B53","v":"W8/02-Sport"},{"$f":"'w-E_Sp'!D53","v":0},{"$f":"'w-E_Sp'!L53","v":0},{"$f":"'w-E_Sp'!M53","v":0},null,{"$f":"RANK(K169,$K$126:$K245,0)","v":1},{"$f":"'m-E_Sp'!B53","v":"M8/02-Sport"},{"$f":"'m-E_Sp'!D53","v":0},{"$f":"'m-E_Sp'!L53","v":0},{"$f":"'m-E_Sp'!M53","v":0}]
[{"$f":"RANK(E170,$E$126:$E245,0)","v":1},{"$f":"'w-E_Sp'!B54","v":"W8/03-Sport"},{"$f":"'w-E_Sp'!D54","v":0},{"$f":"'w-E_Sp'!L54","v":0},{"$f":"'w-E_Sp'!M54","v":0},null,{"$f":"RANK(K170,$K$126:$K245,0)","v":1},{"$f":"'m-E_Sp'!B54","v":"M8/03-Sport"},{"$f":"'m-E_Sp'!D54","v":0},{"$f":"'m-E_Sp'!L54","v":0},{"$f":"'m-E_Sp'!M54","v":0}]
[{"$f":"RANK(E171,$E$126:$E245,0)","v":1},{"$f":"'w-E_Sp'!B55","v":"W8/04-Sport"},{"$f":"'w-E_Sp'!D55","v":0},{"$f":"'w-E_Sp'!L55","v":0},{"$f":"'w-E_Sp'!M55","v":0},null,{"$f":"RANK(K171,$K$126:$K245,0)","v":1},{"$f":"'m-E_Sp'!B55","v":"M8/04-Sport"},{"$f":"'m-E_Sp'!D55","v":0},{"$f":"'m-E_Sp'!L55","v":0},{"$f":"'m-E_Sp'!M55","v":0}]
[{"$f":"RANK(E172,$E$126:$E245,0)","v":1},{"$f":"'w-E_Sp'!B56","v":"W8/05-Sport"},{"$f":"'w-E_Sp'!D56","v":0},{"$f":"'w-E_Sp'!L56","v":0},{"$f":"'w-E_Sp'!M56","v":0},null,{"$f":"RANK(K172,$K$126:$K245,0)","v":1},{"$f":"'m-E_Sp'!B56","v":"M8/05-Sport"},{"$f":"'m-E_Sp'!D56","v":0},{"$f":"'m-E_Sp'!L56","v":0},{"$f":"'m-E_Sp'!M56","v":0}]
[{"$f":"RANK(E173,$E$126:$E245,0)","v":1},{"$f":"'w-E_Sp'!B57","v":"W8/06-Sport"},{"$f":"'w-E_Sp'!D57","v":0},{"$f":"'w-E_Sp'!L57","v":0},{"$f":"'w-E_Sp'!M57","v":0},null,{"$f":"RANK(K173,$K$126:$K245,0)","v":1},{"$f":"'m-E_Sp'!B57","v":"M8/06-Sport"},{"$f":"'m-E_Sp'!D57","v":0},{"$f":"'m-E_Sp'!L57","v":0},{"$f":"'m-E_Sp'!M57","v":0}]
[{"$f":"RANK(E174,$E$126:$E245,0)","v":1},{"$f":"'w-E_Sp'!B59","v":"W9/01-Sport"},{"$f":"'w-E_Sp'!D59","v":0},{"$f":"'w-E_Sp'!L59","v":0},{"$f":"'w-E_Sp'!M59","v":0},null,{"$f":"RANK(K174,$K$126:$K245,0)","v":1},{"$f":"'m-E_Sp'!B59","v":"M9/01-Sport"},{"$f":"'m-E_Sp'!D59","v":0},{"$f":"'m-E_Sp'!L59","v":0},{"$f":"'m-E_Sp'!M59","v":0}]
[{"$f":"RANK(E175,$E$126:$E245,0)","v":1},{"$f":"'w-E_Sp'!B60","v":"W9/02-Sport"},{"$f":"'w-E_Sp'!D60","v":0},{"$f":"'w-E_Sp'!L60","v":0},{"$f":"'w-E_Sp'!M60","v":0},null,{"$f":"RANK(K175,$K$126:$K245,0)","v":1},{"$f":"'m-E_Sp'!B60","v":"M9/02-Sport"},{"$f":"'m-E_Sp'!D60","v":0},{"$f":"'m-E_Sp'!L60","v":0},{"$f":"'m-E_Sp'!M60","v":0}]
[{"$f":"RANK(E176,$E$126:$E245,0)","v":1},{"$f":"'w-E_Sp'!B61","v":"W9/03-Sport"},{"$f":"'w-E_Sp'!D61","v":0},{"$f":"'w-E_Sp'!L61","v":0},{"$f":"'w-E_Sp'!M61","v":0},null,{"$f":"RANK(K176,$K$126:$K245,0)","v":1},{"$f":"'m-E_Sp'!B61","v":"M9/03-Sport"},{"$f":"'m-E_Sp'!D61","v":0},{"$f":"'m-E_Sp'!L61","v":0},{"$f":"'m-E_Sp'!M61","v":0}]
[{"$f":"RANK(E177,$E$126:$E245,0)","v":1},{"$f":"'w-E_Sp'!B62","v":"W9/04-Sport"},{"$f":"'w-E_Sp'!D62","v":0},{"$f":"'w-E_Sp'!L62","v":0},{"$f":"'w-E_Sp'!M62","v":0},null,{"$f":"RANK(K177,$K$126:$K245,0)","v":1},{"$f":"'m-E_Sp'!B62","v":"M9/04-Sport"},{"$f":"'m-E_Sp'!D62","v":0},{"$f":"'m-E_Sp'!L62","v":0},{"$f":"'m-E_Sp'!M62","v":0}]
[{"$f":"RANK(E178,$E$126:$E245,0)","v":1},{"$f":"'w-E_Sp'!B63","v":"W9/05-Sport"},{"$f":"'w-E_Sp'!D63","v":0},{"$f":"'w-E_Sp'!L63","v":0},{"$f":"'w-E_Sp'!M63","v":0},null,{"$f":"RANK(K178,$K$126:$K245,0)","v":1},{"$f":"'m-E_Sp'!B63","v":"M9/05-Sport"},{"$f":"'m-E_Sp'!D63","v":0},{"$f":"'m-E_Sp'!L63","v":0},{"$f":"'m-E_Sp'!M63","v":0}]
[{"$f":"RANK(E179,$E$126:$E245,0)","v":1},{"$f":"'w-E_Sp'!B64","v":"W9/06-Sport"},{"$f":"'w-E_Sp'!D64","v":0},{"$f":"'w-E_Sp'!L64","v":0},{"$f":"'w-E_Sp'!M64","v":0},null,{"$f":"RANK(K179,$K$126:$K245,0)","v":1},{"$f":"'m-E_Sp'!B64","v":"M9/06-Sport"},{"$f":"'m-E_Sp'!D64","v":0},{"$f":"'m-E_Sp'!L64","v":0},{"$f":"'m-E_Sp'!M64","v":0}]
[{"$f":"RANK(E180,$E$126:$E245,0)","v":1},{"$f":"'w-E_Sp'!B66","v":"W10/01-Sport"},{"$f":"'w-E_Sp'!D66","v":0},{"$f":"'w-E_Sp'!L66","v":0},{"$f":"'w-E_Sp'!M66","v":0},null,{"$f":"RANK(K180,$K$126:$K245,0)","v":1},{"$f":"'m-E_Sp'!B66","v":"M10/01-Sport"},{"$f":"'m-E_Sp'!D66","v":0},{"$f":"'m-E_Sp'!L66","v":0},{"$f":"'m-E_Sp'!M66","v":0}]
[{"$f":"RANK(E181,$E$126:$E245,0)","v":1},{"$f":"'w-E_Sp'!B67","v":"W10/02-Sport"},{"$f":"'w-E_Sp'!D67","v":0},{"$f":"'w-E_Sp'!L67","v":0},{"$f":"'w-E_Sp'!M67","v":0},null,{"$f":"RANK(K181,$K$126:$K245,0)","v":1},{"$f":"'m-E_Sp'!B67","v":"M10/02-Sport"},{"$f":"'m-E_Sp'!D67","v":0},{"$f":"'m-E_Sp'!L67","v":0},{"$f":"'m-E_Sp'!M67","v":0}]
[{"$f":"RANK(E182,$E$126:$E245,0)","v":1},{"$f":"'w-E_Sp'!B68","v":"W10/03-Sport"},{"$f":"'w-E_Sp'!D68","v":0},{"$f":"'w-E_Sp'!L68","v":0},{"$f":"'w-E_Sp'!M68","v":0},null,{"$f":"RANK(K182,$K$126:$K245,0)","v":1},{"$f":"'m-E_Sp'!B68","v":"M10/03-Sport"},{"$f":"'m-E_Sp'!D68","v":0},{"$f":"'m-E_Sp'!L68","v":0},{"$f":"'m-E_Sp'!M68","v":0}]
[{"$f":"RANK(E183,$E$126:$E245,0)","v":1},{"$f":"'w-E_Sp'!B69","v":"W10/04-Sport"},{"$f":"'w-E_Sp'!D69","v":0},{"$f":"'w-E_Sp'!L69","v":0},{"$f":"'w-E_Sp'!M69","v":0},null,{"$f":"RANK(K183,$K$126:$K245,0)","v":1},{"$f":"'m-E_Sp'!B69","v":"M10/04-Sport"},{"$f":"'m-E_Sp'!D69","v":0},{"$f":"'m-E_Sp'!L69","v":0},{"$f":"'m-E_Sp'!M69","v":0}]
[{"$f":"RANK(E184,$E$126:$E245,0)","v":1},{"$f":"'w-E_Sp'!B70","v":"W10/05-Sport"},{"$f":"'w-E_Sp'!D70","v":0},{"$f":"'w-E_Sp'!L70","v":0},{"$f":"'w-E_Sp'!M70","v":0},null,{"$f":"RANK(K184,$K$126:$K245,0)","v":1},{"$f":"'m-E_Sp'!B70","v":"M10/05-Sport"},{"$f":"'m-E_Sp'!D70","v":0},{"$f":"'m-E_Sp'!L70","v":0},{"$f":"'m-E_Sp'!M70","v":0}]
[{"$f":"RANK(E185,$E$126:$E245,0)","v":1},{"$f":"'w-E_Sp'!B71","v":"W10/06-Sport"},{"$f":"'w-E_Sp'!D71","v":0},{"$f":"'w-E_Sp'!L71","v":0},{"$f":"'w-E_Sp'!M71","v":0},null,{"$f":"RANK(K185,$K$126:$K245,0)","v":1},{"$f":"'m-E_Sp'!B71","v":"M10/06-Sport"},{"$f":"'m-E_Sp'!D71","v":0},{"$f":"'m-E_Sp'!L71","v":0},{"$f":"'m-E_Sp'!M71","v":0}]
[{"$f":"RANK(E186,$E$126:$E245,0)","v":1},{"$f":"'w-E_Sp'!B73","v":"W11/01-Sport"},{"$f":"'w-E_Sp'!D73","v":0},{"$f":"'w-E_Sp'!L73","v":0},{"$f":"'w-E_Sp'!M73","v":0},null,{"$f":"RANK(K186,$K$126:$K245,0)","v":1},{"$f":"'m-E_Sp'!B73","v":"M11/01-Sport"},{"$f":"'m-E_Sp'!D73","v":0},{"$f":"'m-E_Sp'!L73","v":0},{"$f":"'m-E_Sp'!M73","v":0}]
[{"$f":"RANK(E187,$E$126:$E245,0)","v":1},{"$f":"'w-E_Sp'!B74","v":"W11/02-Sport"},{"$f":"'w-E_Sp'!D74","v":0},{"$f":"'w-E_Sp'!L74","v":0},{"$f":"'w-E_Sp'!M74","v":0},null,{"$f":"RANK(K187,$K$126:$K245,0)","v":1},{"$f":"'m-E_Sp'!B74","v":"M11/02-Sport"},{"$f":"'m-E_Sp'!D74","v":0},{"$f":"'m-E_Sp'!L74","v":0},{"$f":"'m-E_Sp'!M74","v":0}]
[{"$f":"RANK(E188,$E$126:$E245,0)","v":1},{"$f":"'w-E_Sp'!B75","v":"W11/03-Sport"},{"$f":"'w-E_Sp'!D75","v":0},{"$f":"'w-E_Sp'!L75","v":0},{"$f":"'w-E_Sp'!M75","v":0},null,{"$f":"RANK(K188,$K$126:$K245,0)","v":1},{"$f":"'m-E_Sp'!B75","v":"M11/03-Sport"},{"$f":"'m-E_Sp'!D75","v":0},{"$f":"'m-E_Sp'!L75","v":0},{"$f":"'m-E_Sp'!M75","v":0}]
[{"$f":"RANK(E189,$E$126:$E245,0)","v":1},{"$f":"'w-E_Sp'!B76","v":"W11/04-Sport"},{"$f":"'w-E_Sp'!D76","v":0},{"$f":"'w-E_Sp'!L76","v":0},{"$f":"'w-E_Sp'!M76","v":0},null,{"$f":"RANK(K189,$K$126:$K245,0)","v":1},{"$f":"'m-E_Sp'!B76","v":"M11/04-Sport"},{"$f":"'m-E_Sp'!D76","v":0},{"$f":"'m-E_Sp'!L76","v":0},{"$f":"'m-E_Sp'!M76","v":0}]
[{"$f":"RANK(E190,$E$126:$E245,0)","v":1},{"$f":"'w-E_Sp'!B77","v":"W11/05-Sport"},{"$f":"'w-E_Sp'!D77","v":0},{"$f":"'w-E_Sp'!L77","v":0},{"$f":"'w-E_Sp'!M77","v":0},null,{"$f":"RANK(K190,$K$126:$K245,0)","v":1},{"$f":"'m-E_Sp'!B77","v":"M11/05-Sport"},{"$f":"'m-E_Sp'!D77","v":0},{"$f":"'m-E_Sp'!L77","v":0},{"$f":"'m-E_Sp'!M77","v":0}]
[{"$f":"RANK(E191,$E$126:$E245,0)","v":1},{"$f":"'w-E_Sp'!B78","v":"W11/06-Sport"},{"$f":"'w-E_Sp'!D78","v":0},{"$f":"'w-E_Sp'!L78","v":0},{"$f":"'w-E_Sp'!M78","v":0},null,{"$f":"RANK(K191,$K$126:$K245,0)","v":1},{"$f":"'m-E_Sp'!B78","v":"M11/06-Sport"},{"$f":"'m-E_Sp'!D78","v":0},{"$f":"'m-E_Sp'!L78","v":0},{"$f":"'m-E_Sp'!M78","v":0}]
[{"$f":"RANK(E192,$E$126:$E245,0)","v":1},{"$f":"'w-E_Sp'!B80","v":"W12/01-Sport"},{"$f":"'w-E_Sp'!D80","v":0},{"$f":"'w-E_Sp'!L80","v":0},{"$f":"'w-E_Sp'!M80","v":0},null,{"$f":"RANK(K192,$K$126:$K245,0)","v":1},{"$f":"'m-E_Sp'!B80","v":"M12/01-Sport"},{"$f":"'m-E_Sp'!D80","v":0},{"$f":"'m-E_Sp'!L80","v":0},{"$f":"'m-E_Sp'!M80","v":0}]
[{"$f":"RANK(E193,$E$126:$E245,0)","v":1},{"$f":"'w-E_Sp'!B81","v":"W12/02-Sport"},{"$f":"'w-E_Sp'!D81","v":0},{"$f":"'w-E_Sp'!L81","v":0},{"$f":"'w-E_Sp'!M81","v":0},null,{"$f":"RANK(K193,$K$126:$K245,0)","v":1},{"$f":"'m-E_Sp'!B81","v":"M12/02-Sport"},{"$f":"'m-E_Sp'!D81","v":0},{"$f":"'m-E_Sp'!L81","v":0},{"$f":"'m-E_Sp'!M81","v":0}]
[{"$f":"RANK(E194,$E$126:$E245,0)","v":1},{"$f":"'w-E_Sp'!B82","v":"W12/03-Sport"},{"$f":"'w-E_Sp'!D82","v":0},{"$f":"'w-E_Sp'!L82","v":0},{"$f":"'w-E_Sp'!M82","v":0},null,{"$f":"RANK(K194,$K$126:$K245,0)","v":1},{"$f":"'m-E_Sp'!B82","v":"M12/03-Sport"},{"$f":"'m-E_Sp'!D82","v":0},{"$f":"'m-E_Sp'!L82","v":0},{"$f":"'m-E_Sp'!M82","v":0}]
[{"$f":"RANK(E195,$E$126:$E245,0)","v":1},{"$f":"'w-E_Sp'!B83","v":"W12/04-Sport"},{"$f":"'w-E_Sp'!D83","v":0},{"$f":"'w-E_Sp'!L83","v":0},{"$f":"'w-E_Sp'!M83","v":0},null,{"$f":"RANK(K195,$K$126:$K245,0)","v":1},{"$f":"'m-E_Sp'!B83","v":"M12/04-Sport"},{"$f":"'m-E_Sp'!D83","v":0},{"$f":"'m-E_Sp'!L83","v":0},{"$f":"'m-E_Sp'!M83","v":0}]
[{"$f":"RANK(E196,$E$126:$E245,0)","v":1},{"$f":"'w-E_Sp'!B84","v":"W12/05-Sport"},{"$f":"'w-E_Sp'!D84","v":0},{"$f":"'w-E_Sp'!L84","v":0},{"$f":"'w-E_Sp'!M84","v":0},null,{"$f":"RANK(K196,$K$126:$K245,0)","v":1},{"$f":"'m-E_Sp'!B84","v":"M12/05-Sport"},{"$f":"'m-E_Sp'!D84","v":0},{"$f":"'m-E_Sp'!L84","v":0},{"$f":"'m-E_Sp'!M84","v":0}]
[{"$f":"RANK(E197,$E$126:$E245,0)","v":1},{"$f":"'w-E_Sp'!B85","v":"W12/06-Sport"},{"$f":"'w-E_Sp'!D85","v":0},{"$f":"'w-E_Sp'!L85","v":0},{"$f":"'w-E_Sp'!M85","v":0},null,{"$f":"RANK(K197,$K$126:$K245,0)","v":1},{"$f":"'m-E_Sp'!B85","v":"M12/06-Sport"},{"$f":"'m-E_Sp'!D85","v":0},{"$f":"'m-E_Sp'!L85","v":0},{"$f":"'m-E_Sp'!M85","v":0}]
[{"$f":"RANK(E198,$E$126:$E245,0)","v":1},{"$f":"'w-E_Sp'!B87","v":"W13/01-Sport"},{"$f":"'w-E_Sp'!D87","v":0},{"$f":"'w-E_Sp'!L87","v":0},{"$f":"'w-E_Sp'!M87","v":0},null,{"$f":"RANK(K198,$K$126:$K245,0)","v":1},{"$f":"'m-E_Sp'!B87","v":"M13/01-Sport"},{"$f":"'m-E_Sp'!D87","v":0},{"$f":"'m-E_Sp'!L87","v":0},{"$f":"'m-E_Sp'!M87","v":0}]
[{"$f":"RANK(E199,$E$126:$E245,0)","v":1},{"$f":"'w-E_Sp'!B88","v":"W13/02-Sport"},{"$f":"'w-E_Sp'!D88","v":0},{"$f":"'w-E_Sp'!L88","v":0},{"$f":"'w-E_Sp'!M88","v":0},null,{"$f":"RANK(K199,$K$126:$K245,0)","v":1},{"$f":"'m-E_Sp'!B88","v":"M13/02-Sport"},{"$f":"'m-E_Sp'!D88","v":0},{"$f":"'m-E_Sp'!L88","v":0},{"$f":"'m-E_Sp'!M88","v":0}]
[{"$f":"RANK(E200,$E$126:$E245,0)","v":1},{"$f":"'w-E_Sp'!B89","v":"W13/03-Sport"},{"$f":"'w-E_Sp'!D89","v":0},{"$f":"'w-E_Sp'!L89","v":0},{"$f":"'w-E_Sp'!M89","v":0},null,{"$f":"RANK(K200,$K$126:$K245,0)","v":1},{"$f":"'m-E_Sp'!B89","v":"M13/03-Sport"},{"$f":"'m-E_Sp'!D89","v":0},{"$f":"'m-E_Sp'!L89","v":0},{"$f":"'m-E_Sp'!M89","v":0}]
[{"$f":"RANK(E201,$E$126:$E245,0)","v":1},{"$f":"'w-E_Sp'!B90","v":"W13/04-Sport"},{"$f":"'w-E_Sp'!D90","v":0},{"$f":"'w-E_Sp'!L90","v":0},{"$f":"'w-E_Sp'!M90","v":0},null,{"$f":"RANK(K201,$K$126:$K245,0)","v":1},{"$f":"'m-E_Sp'!B90","v":"M13/04-Sport"},{"$f":"'m-E_Sp'!D90","v":0},{"$f":"'m-E_Sp'!L90","v":0},{"$f":"'m-E_Sp'!M90","v":0}]
[{"$f":"RANK(E202,$E$126:$E245,0)","v":1},{"$f":"'w-E_Sp'!B91","v":"W13/05-Sport"},{"$f":"'w-E_Sp'!D91","v":0},{"$f":"'w-E_Sp'!L91","v":0},{"$f":"'w-E_Sp'!M91","v":0},null,{"$f":"RANK(K202,$K$126:$K245,0)","v":1},{"$f":"'m-E_Sp'!B91","v":"M13/05-Sport"},{"$f":"'m-E_Sp'!D91","v":0},{"$f":"'m-E_Sp'!L91","v":0},{"$f":"'m-E_Sp'!M91","v":0}]
[{"$f":"RANK(E203,$E$126:$E245,0)","v":1},{"$f":"'w-E_Sp'!B92","v":"W13/06-Sport"},{"$f":"'w-E_Sp'!D92","v":0},{"$f":"'w-E_Sp'!L92","v":0},{"$f":"'w-E_Sp'!M92","v":0},null,{"$f":"RANK(K203,$K$126:$K245,0)","v":1},{"$f":"'m-E_Sp'!B92","v":"M13/06-Sport"},{"$f":"'m-E_Sp'!D92","v":0},{"$f":"'m-E_Sp'!L92","v":0},{"$f":"'m-E_Sp'!M92","v":0}]
[{"$f":"RANK(E204,$E$126:$E245,0)","v":1},{"$f":"'w-E_Sp'!B94","v":"W14/01-Sport"},{"$f":"'w-E_Sp'!D94","v":0},{"$f":"'w-E_Sp'!L94","v":0},{"$f":"'w-E_Sp'!M94","v":0},null,{"$f":"RANK(K204,$K$126:$K245,0)","v":1},{"$f":"'m-E_Sp'!B94","v":"M14/01-Sport"},{"$f":"'m-E_Sp'!D94","v":0},{"$f":"'m-E_Sp'!L94","v":0},{"$f":"'m-E_Sp'!M94","v":0}]
[{"$f":"RANK(E205,$E$126:$E245,0)","v":1},{"$f":"'w-E_Sp'!B95","v":"W14/02-Sport"},{"$f":"'w-E_Sp'!D95","v":0},{"$f":"'w-E_Sp'!L95","v":0},{"$f":"'w-E_Sp'!M95","v":0},null,{"$f":"RANK(K205,$K$126:$K245,0)","v":1},{"$f":"'m-E_Sp'!B95","v":"M14/02-Sport"},{"$f":"'m-E_Sp'!D95","v":0},{"$f":"'m-E_Sp'!L95","v":0},{"$f":"'m-E_Sp'!M95","v":0}]
[{"$f":"RANK(E206,$E$126:$E245,0)","v":1},{"$f":"'w-E_Sp'!B96","v":"W14/03-Sport"},{"$f":"'w-E_Sp'!D96","v":0},{"$f":"'w-E_Sp'!L96","v":0},{"$f":"'w-E_Sp'!M96","v":0},null,{"$f":"RANK(K206,$K$126:$K245,0)","v":1},{"$f":"'m-E_Sp'!B96","v":"M14/03-Sport"},{"$f":"'m-E_Sp'!D96","v":0},{"$f":"'m-E_Sp'!L96","v":0},{"$f":"'m-E_Sp'!M96","v":0}]
[{"$f":"RANK(E207,$E$126:$E245,0)","v":1},{"$f":"'w-E_Sp'!B97","v":"W14/04-Sport"},{"$f":"'w-E_Sp'!D97","v":0},{"$f":"'w-E_Sp'!L97","v":0},{"$f":"'w-E_Sp'!M97","v":0},null,{"$f":"RANK(K207,$K$126:$K245,0)","v":1},{"$f":"'m-E_Sp'!B97","v":"M14/04-Sport"},{"$f":"'m-E_Sp'!D97","v":0},{"$f":"'m-E_Sp'!L97","v":0},{"$f":"'m-E_Sp'!M97","v":0}]
[{"$f":"RANK(E208,$E$126:$E245,0)","v":1},{"$f":"'w-E_Sp'!B98","v":"W14/05-Sport"},{"$f":"'w-E_Sp'!D98","v":0},{"$f":"'w-E_Sp'!L98","v":0},{"$f":"'w-E_Sp'!M98","v":0},null,{"$f":"RANK(K208,$K$126:$K245,0)","v":1},{"$f":"'m-E_Sp'!B98","v":"M14/05-Sport"},{"$f":"'m-E_Sp'!D98","v":0},{"$f":"'m-E_Sp'!L98","v":0},{"$f":"'m-E_Sp'!M98","v":0}]
[{"$f":"RANK(E209,$E$126:$E245,0)","v":1},{"$f":"'w-E_Sp'!B99","v":"W14/06-Sport"},{"$f":"'w-E_Sp'!D99","v":0},{"$f":"'w-E_Sp'!L99","v":0},{"$f":"'w-E_Sp'!M99","v":0},null,{"$f":"RANK(K209,$K$126:$K245,0)","v":1},{"$f":"'m-E_Sp'!B99","v":"M14/06-Sport"},{"$f":"'m-E_Sp'!D99","v":0},{"$f":"'m-E_Sp'!L99","v":0},{"$f":"'m-E_Sp'!M99","v":0}]
[{"$f":"RANK(E210,$E$126:$E245,0)","v":1},{"$f":"'w-E_Sp'!B101","v":"W15/01-Sport"},{"$f":"'w-E_Sp'!D101","v":0},{"$f":"'w-E_Sp'!L101","v":0},{"$f":"'w-E_Sp'!M101","v":0},null,{"$f":"RANK(K210,$K$126:$K245,0)","v":1},{"$f":"'m-E_Sp'!B101","v":"M15/01-Sport"},{"$f":"'m-E_Sp'!D101","v":0},{"$f":"'m-E_Sp'!L101","v":0},{"$f":"'m-E_Sp'!M101","v":0}]
[{"$f":"RANK(E211,$E$126:$E245,0)","v":1},{"$f":"'w-E_Sp'!B102","v":"W15/02-Sport"},{"$f":"'w-E_Sp'!D102","v":0},{"$f":"'w-E_Sp'!L102","v":0},{"$f":"'w-E_Sp'!M102","v":0},null,{"$f":"RANK(K211,$K$126:$K245,0)","v":1},{"$f":"'m-E_Sp'!B102","v":"M15/02-Sport"},{"$f":"'m-E_Sp'!D102","v":0},{"$f":"'m-E_Sp'!L102","v":0},{"$f":"'m-E_Sp'!M102","v":0}]
[{"$f":"RANK(E212,$E$126:$E245,0)","v":1},{"$f":"'w-E_Sp'!B103","v":"W15/03-Sport"},{"$f":"'w-E_Sp'!D103","v":0},{"$f":"'w-E_Sp'!L103","v":0},{"$f":"'w-E_Sp'!M103","v":0},null,{"$f":"RANK(K212,$K$126:$K245,0)","v":1},{"$f":"'m-E_Sp'!B103","v":"M15/03-Sport"},{"$f":"'m-E_Sp'!D103","v":0},{"$f":"'m-E_Sp'!L103","v":0},{"$f":"'m-E_Sp'!M103","v":0}]
[{"$f":"RANK(E213,$E$126:$E245,0)","v":1},{"$f":"'w-E_Sp'!B104","v":"W15/04-Sport"},{"$f":"'w-E_Sp'!D104","v":0},{"$f":"'w-E_Sp'!L104","v":0},{"$f":"'w-E_Sp'!M104","v":0},null,{"$f":"RANK(K213,$K$126:$K245,0)","v":1},{"$f":"'m-E_Sp'!B104","v":"M15/04-Sport"},{"$f":"'m-E_Sp'!D104","v":0},{"$f":"'m-E_Sp'!L104","v":0},{"$f":"'m-E_Sp'!M104","v":0}]
[{"$f":"RANK(E214,$E$126:$E245,0)","v":1},{"$f":"'w-E_Sp'!B105","v":"W15/05-Sport"},{"$f":"'w-E_Sp'!D105","v":0},{"$f":"'w-E_Sp'!L105","v":0},{"$f":"'w-E_Sp'!M105","v":0},null,{"$f":"RANK(K214,$K$126:$K245,0)","v":1},{"$f":"'m-E_Sp'!B105","v":"M15/05-Sport"},{"$f":"'m-E_Sp'!D105","v":0},{"$f":"'m-E_Sp'!L105","v":0},{"$f":"'m-E_Sp'!M105","v":0}]
[{"$f":"RANK(E215,$E$126:$E245,0)","v":1},{"$f":"'w-E_Sp'!B106","v":"W15/06-Sport"},{"$f":"'w-E_Sp'!D106","v":0},{"$f":"'w-E_Sp'!L106","v":0},{"$f":"'w-E_Sp'!M106","v":0},null,{"$f":"RANK(K215,$K$126:$K245,0)","v":1},{"$f":"'m-E_Sp'!B106","v":"M15/06-Sport"},{"$f":"'m-E_Sp'!D106","v":0},{"$f":"'m-E_Sp'!L106","v":0},{"$f":"'m-E_Sp'!M106","v":0}]
[{"$f":"RANK(E216,$E$126:$E245,0)","v":1},{"$f":"'w-E_Sp'!B108","v":"W16/01-Sport"},{"$f":"'w-E_Sp'!D108","v":0},{"$f":"'w-E_Sp'!L108","v":0},{"$f":"'w-E_Sp'!M108","v":0},null,{"$f":"RANK(K216,$K$126:$K245,0)","v":1},{"$f":"'m-E_Sp'!B108","v":"M16/01-Sport"},{"$f":"'m-E_Sp'!D108","v":0},{"$f":"'m-E_Sp'!L108","v":0},{"$f":"'m-E_Sp'!M108","v":0}]
[{"$f":"RANK(E217,$E$126:$E245,0)","v":1},{"$f":"'w-E_Sp'!B109","v":"W16/02-Sport"},{"$f":"'w-E_Sp'!D109","v":0},{"$f":"'w-E_Sp'!L109","v":0},{"$f":"'w-E_Sp'!M109","v":0},null,{"$f":"RANK(K217,$K$126:$K245,0)","v":1},{"$f":"'m-E_Sp'!B109","v":"M16/02-Sport"},{"$f":"'m-E_Sp'!D109","v":0},{"$f":"'m-E_Sp'!L109","v":0},{"$f":"'m-E_Sp'!M109","v":0}]
[{"$f":"RANK(E218,$E$126:$E245,0)","v":1},{"$f":"'w-E_Sp'!B110","v":"W16/03-Sport"},{"$f":"'w-E_Sp'!D110","v":0},{"$f":"'w-E_Sp'!L110","v":0},{"$f":"'w-E_Sp'!M110","v":0},null,{"$f":"RANK(K218,$K$126:$K245,0)","v":1},{"$f":"'m-E_Sp'!B110","v":"M16/03-Sport"},{"$f":"'m-E_Sp'!D110","v":0},{"$f":"'m-E_Sp'!L110","v":0},{"$f":"'m-E_Sp'!M110","v":0}]
[{"$f":"RANK(E219,$E$126:$E245,0)","v":1},{"$f":"'w-E_Sp'!B111","v":"W16/04-Sport"},{"$f":"'w-E_Sp'!D111","v":0},{"$f":"'w-E_Sp'!L111","v":0},{"$f":"'w-E_Sp'!M111","v":0},null,{"$f":"RANK(K219,$K$126:$K245,0)","v":1},{"$f":"'m-E_Sp'!B111","v":"M16/04-Sport"},{"$f":"'m-E_Sp'!D111","v":0},{"$f":"'m-E_Sp'!L111","v":0},{"$f":"'m-E_Sp'!M111","v":0}]
[{"$f":"RANK(E220,$E$126:$E245,0)","v":1},{"$f":"'w-E_Sp'!B112","v":"W16/05-Sport"},{"$f":"'w-E_Sp'!D112","v":0},{"$f":"'w-E_Sp'!L112","v":0},{"$f":"'w-E_Sp'!M112","v":0},null,{"$f":"RANK(K220,$K$126:$K245,0)","v":1},{"$f":"'m-E_Sp'!B112","v":"M16/05-Sport"},{"$f":"'m-E_Sp'!D112","v":0},{"$f":"'m-E_Sp'!L112","v":0},{"$f":"'m-E_Sp'!M112","v":0}]
[{"$f":"RANK(E221,$E$126:$E245,0)","v":1},{"$f":"'w-E_Sp'!B113","v":"W16/06-Sport"},{"$f":"'w-E_Sp'!D113","v":0},{"$f":"'w-E_Sp'!L113","v":0},{"$f":"'w-E_Sp'!M113","v":0},null,{"$f":"RANK(K221,$K$126:$K245,0)","v":1},{"$f":"'m-E_Sp'!B113","v":"M16/06-Sport"},{"$f":"'m-E_Sp'!D113","v":0},{"$f":"'m-E_Sp'!L113","v":0},{"$f":"'m-E_Sp'!M113","v":0}]
[{"$f":"RANK(E222,$E$126:$E245,0)","v":1},{"$f":"'w-E_Sp'!B115","v":"W17/01-Sport"},{"$f":"'w-E_Sp'!D115","v":0},{"$f":"'w-E_Sp'!L115","v":0},{"$f":"'w-E_Sp'!M115","v":0},null,{"$f":"RANK(K222,$K$126:$K245,0)","v":1},{"$f":"'m-E_Sp'!B115","v":"M17/01-Sport"},{"$f":"'m-E_Sp'!D115","v":0},{"$f":"'m-E_Sp'!L115","v":0},{"$f":"'m-E_Sp'!M115","v":0}]
[{"$f":"RANK(E223,$E$126:$E245,0)","v":1},{"$f":"'w-E_Sp'!B116","v":"W17/02-Sport"},{"$f":"'w-E_Sp'!D116","v":0},{"$f":"'w-E_Sp'!L116","v":0},{"$f":"'w-E_Sp'!M116","v":0},null,{"$f":"RANK(K223,$K$126:$K245,0)","v":1},{"$f":"'m-E_Sp'!B116","v":"M17/02-Sport"},{"$f":"'m-E_Sp'!D116","v":0},{"$f":"'m-E_Sp'!L116","v":0},{"$f":"'m-E_Sp'!M116","v":0}]
[{"$f":"RANK(E224,$E$126:$E245,0)","v":1},{"$f":"'w-E_Sp'!B117","v":"W17/03-Sport"},{"$f":"'w-E_Sp'!D117","v":0},{"$f":"'w-E_Sp'!L117","v":0},{"$f":"'w-E_Sp'!M117","v":0},null,{"$f":"RANK(K224,$K$126:$K245,0)","v":1},{"$f":"'m-E_Sp'!B117","v":"M17/03-Sport"},{"$f":"'m-E_Sp'!D117","v":0},{"$f":"'m-E_Sp'!L117","v":0},{"$f":"'m-E_Sp'!M117","v":0}]
[{"$f":"RANK(E225,$E$126:$E245,0)","v":1},{"$f":"'w-E_Sp'!B118","v":"W17/04-Sport"},{"$f":"'w-E_Sp'!D118","v":0},{"$f":"'w-E_Sp'!L118","v":0},{"$f":"'w-E_Sp'!M118","v":0},null,{"$f":"RANK(K225,$K$126:$K245,0)","v":1},{"$f":"'m-E_Sp'!B118","v":"M17/04-Sport"},{"$f":"'m-E_Sp'!D118","v":0},{"$f":"'m-E_Sp'!L118","v":0},{"$f":"'m-E_Sp'!M118","v":0}]
[{"$f":"RANK(E226,$E$126:$E245,0)","v":1},{"$f":"'w-E_Sp'!B119","v":"W17/05-Sport"},{"$f":"'w-E_Sp'!D119","v":0},{"$f":"'w-E_Sp'!L119","v":0},{"$f":"'w-E_Sp'!M119","v":0},null,{"$f":"RANK(K226,$K$126:$K245,0)","v":1},{"$f":"'m-E_Sp'!B119","v":"M17/05-Sport"},{"$f":"'m-E_Sp'!D119","v":0},{"$f":"'m-E_Sp'!L119","v":0},{"$f":"'m-E_Sp'!M119","v":0}]
[{"$f":"RANK(E227,$E$126:$E245,0)","v":1},{"$f":"'w-E_Sp'!B120","v":"W17/06-Sport"},{"$f":"'w-E_Sp'!D120","v":0},{"$f":"'w-E_Sp'!L120","v":0},{"$f":"'w-E_Sp'!M120","v":0},null,{"$f":"RANK(K227,$K$126:$K245,0)","v":1},{"$f":"'m-E_Sp'!B120","v":"M17/06-Sport"},{"$f":"'m-E_Sp'!D120","v":0},{"$f":"'m-E_Sp'!L120","v":0},{"$f":"'m-E_Sp'!M120","v":0}]
[{"$f":"RANK(E228,$E$126:$E245,0)","v":1},{"$f":"'w-E_Sp'!B122","v":"W18/01-Sport"},{"$f":"'w-E_Sp'!D122","v":0},{"$f":"'w-E_Sp'!L122","v":0},{"$f":"'w-E_Sp'!M122","v":0},null,{"$f":"RANK(K228,$K$126:$K245,0)","v":1},{"$f":"'m-E_Sp'!B122","v":"M18/01-Sport"},{"$f":"'m-E_Sp'!D122","v":0},{"$f":"'m-E_Sp'!L122","v":0},{"$f":"'m-E_Sp'!M122","v":0}]
[{"$f":"RANK(E229,$E$126:$E245,0)","v":1},{"$f":"'w-E_Sp'!B123","v":"W18/02-Sport"},{"$f":"'w-E_Sp'!D123","v":0},{"$f":"'w-E_Sp'!L123","v":0},{"$f":"'w-E_Sp'!M123","v":0},null,{"$f":"RANK(K229,$K$126:$K245,0)","v":1},{"$f":"'m-E_Sp'!B123","v":"M18/02-Sport"},{"$f":"'m-E_Sp'!D123","v":0},{"$f":"'m-E_Sp'!L123","v":0},{"$f":"'m-E_Sp'!M123","v":0}]
[{"$f":"RANK(E230,$E$126:$E245,0)","v":1},{"$f":"'w-E_Sp'!B124","v":"W18/03-Sport"},{"$f":"'w-E_Sp'!D124","v":0},{"$f":"'w-E_Sp'!L124","v":0},{"$f":"'w-E_Sp'!M124","v":0},null,{"$f":"RANK(K230,$K$126:$K245,0)","v":1},{"$f":"'m-E_Sp'!B124","v":"M18/03-Sport"},{"$f":"'m-E_Sp'!D124","v":0},{"$f":"'m-E_Sp'!L124","v":0},{"$f":"'m-E_Sp'!M124","v":0}]
[{"$f":"RANK(E231,$E$126:$E245,0)","v":1},{"$f":"'w-E_Sp'!B125","v":"W18/04-Sport"},{"$f":"'w-E_Sp'!D125","v":0},{"$f":"'w-E_Sp'!L125","v":0},{"$f":"'w-E_Sp'!M125","v":0},null,{"$f":"RANK(K231,$K$126:$K245,0)","v":1},{"$f":"'m-E_Sp'!B125","v":"M18/04-Sport"},{"$f":"'m-E_Sp'!D125","v":0},{"$f":"'m-E_Sp'!L125","v":0},{"$f":"'m-E_Sp'!M125","v":0}]
[{"$f":"RANK(E232,$E$126:$E245,0)","v":1},{"$f":"'w-E_Sp'!B126","v":"W18/05-Sport"},{"$f":"'w-E_Sp'!D126","v":0},{"$f":"'w-E_Sp'!L126","v":0},{"$f":"'w-E_Sp'!M126","v":0},null,{"$f":"RANK(K232,$K$126:$K245,0)","v":1},{"$f":"'m-E_Sp'!B126","v":"M18/05-Sport"},{"$f":"'m-E_Sp'!D126","v":0},{"$f":"'m-E_Sp'!L126","v":0},{"$f":"'m-E_Sp'!M126","v":0}]
[{"$f":"RANK(E233,$E$126:$E245,0)","v":1},{"$f":"'w-E_Sp'!B127","v":"W18/06-Sport"},{"$f":"'w-E_Sp'!D127","v":0},{"$f":"'w-E_Sp'!L127","v":0},{"$f":"'w-E_Sp'!M127","v":0},null,{"$f":"RANK(K233,$K$126:$K245,0)","v":1},{"$f":"'m-E_Sp'!B127","v":"M18/06-Sport"},{"$f":"'m-E_Sp'!D127","v":0},{"$f":"'m-E_Sp'!L127","v":0},{"$f":"'m-E_Sp'!M127","v":0}]
[{"$f":"RANK(E234,$E$126:$E245,0)","v":1},{"$f":"'w-E_Sp'!B129","v":"W19/01-Sport"},{"$f":"'w-E_Sp'!D129","v":0},{"$f":"'w-E_Sp'!L129","v":0},{"$f":"'w-E_Sp'!M129","v":0},null,{"$f":"RANK(K234,$K$126:$K245,0)","v":1},{"$f":"'m-E_Sp'!B129","v":"M19/01-Sport"},{"$f":"'m-E_Sp'!D129","v":0},{"$f":"'m-E_Sp'!L129","v":0},{"$f":"'m-E_Sp'!M129","v":0}]
[{"$f":"RANK(E235,$E$126:$E245,0)","v":1},{"$f":"'w-E_Sp'!B130","v":"W19/02-Sport"},{"$f":"'w-E_Sp'!D130","v":0},{"$f":"'w-E_Sp'!L130","v":0},{"$f":"'w-E_Sp'!M130","v":0},null,{"$f":"RANK(K235,$K$126:$K245,0)","v":1},{"$f":"'m-E_Sp'!B130","v":"M19/02-Sport"},{"$f":"'m-E_Sp'!D130","v":0},{"$f":"'m-E_Sp'!L130","v":0},{"$f":"'m-E_Sp'!M130","v":0}]
[{"$f":"RANK(E236,$E$126:$E245,0)","v":1},{"$f":"'w-E_Sp'!B131","v":"W19/03-Sport"},{"$f":"'w-E_Sp'!D131","v":0},{"$f":"'w-E_Sp'!L131","v":0},{"$f":"'w-E_Sp'!M131","v":0},null,{"$f":"RANK(K236,$K$126:$K245,0)","v":1},{"$f":"'m-E_Sp'!B131","v":"M19/03-Sport"},{"$f":"'m-E_Sp'!D131","v":0},{"$f":"'m-E_Sp'!L131","v":0},{"$f":"'m-E_Sp'!M131","v":0}]
[{"$f":"RANK(E237,$E$126:$E245,0)","v":1},{"$f":"'w-E_Sp'!B132","v":"W19/04-Sport"},{"$f":"'w-E_Sp'!D132","v":0},{"$f":"'w-E_Sp'!L132","v":0},{"$f":"'w-E_Sp'!M132","v":0},null,{"$f":"RANK(K237,$K$126:$K245,0)","v":1},{"$f":"'m-E_Sp'!B132","v":"M19/04-Sport"},{"$f":"'m-E_Sp'!D132","v":0},{"$f":"'m-E_Sp'!L132","v":0},{"$f":"'m-E_Sp'!M132","v":0}]
[{"$f":"RANK(E238,$E$126:$E245,0)","v":1},{"$f":"'w-E_Sp'!B133","v":"W19/05-Sport"},{"$f":"'w-E_Sp'!D133","v":0},{"$f":"'w-E_Sp'!L133","v":0},{"$f":"'w-E_Sp'!M133","v":0},null,{"$f":"RANK(K238,$K$126:$K245,0)","v":1},{"$f":"'m-E_Sp'!B133","v":"M19/05-Sport"},{"$f":"'m-E_Sp'!D133","v":0},{"$f":"'m-E_Sp'!L133","v":0},{"$f":"'m-E_Sp'!M133","v":0}]
[{"$f":"RANK(E239,$E$126:$E245,0)","v":1},{"$f":"'w-E_Sp'!B134","v":"W19/06-Sport"},{"$f":"'w-E_Sp'!D134","v":0},{"$f":"'w-E_Sp'!L134","v":0},{"$f":"'w-E_Sp'!M134","v":0},null,{"$f":"RANK(K239,$K$126:$K245,0)","v":1},{"$f":"'m-E_Sp'!B134","v":"M19/06-Sport"},{"$f":"'m-E_Sp'!D134","v":0},{"$f":"'m-E_Sp'!L134","v":0},{"$f":"'m-E_Sp'!M134","v":0}]
[{"$f":"RANK(E240,$E$126:$E245,0)","v":1},{"$f":"'w-E_Sp'!B136","v":"W20/01-Sport"},{"$f":"'w-E_Sp'!D136","v":0},{"$f":"'w-E_Sp'!L136","v":0},{"$f":"'w-E_Sp'!M136","v":0},null,{"$f":"RANK(K240,$K$126:$K245,0)","v":1},{"$f":"'m-E_Sp'!B136","v":"M20/01-Sport"},{"$f":"'m-E_Sp'!D136","v":0},{"$f":"'m-E_Sp'!L136","v":0},{"$f":"'m-E_Sp'!M136","v":0}]
[{"$f":"RANK(E241,$E$126:$E245,0)","v":1},{"$f":"'w-E_Sp'!B137","v":"W20/02-Sport"},{"$f":"'w-E_Sp'!D137","v":0},{"$f":"'w-E_Sp'!L137","v":0},{"$f":"'w-E_Sp'!M137","v":0},null,{"$f":"RANK(K241,$K$126:$K245,0)","v":1},{"$f":"'m-E_Sp'!B137","v":"M20/02-Sport"},{"$f":"'m-E_Sp'!D137","v":0},{"$f":"'m-E_Sp'!L137","v":0},{"$f":"'m-E_Sp'!M137","v":0}]
[{"$f":"RANK(E242,$E$126:$E245,0)","v":1},{"$f":"'w-E_Sp'!B138","v":"W20/03-Sport"},{"$f":"'w-E_Sp'!D138","v":0},{"$f":"'w-E_Sp'!L138","v":0},{"$f":"'w-E_Sp'!M138","v":0},null,{"$f":"RANK(K242,$K$126:$K245,0)","v":1},{"$f":"'m-E_Sp'!B138","v":"M20/03-Sport"},{"$f":"'m-E_Sp'!D138","v":0},{"$f":"'m-E_Sp'!L138","v":0},{"$f":"'m-E_Sp'!M138","v":0}]
[{"$f":"RANK(E243,$E$126:$E245,0)","v":1},{"$f":"'w-E_Sp'!B139","v":"W20/04-Sport"},{"$f":"'w-E_Sp'!D139","v":0},{"$f":"'w-E_Sp'!L139","v":0},{"$f":"'w-E_Sp'!M139","v":0},null,{"$f":"RANK(K243,$K$126:$K245,0)","v":1},{"$f":"'m-E_Sp'!B139","v":"M20/04-Sport"},{"$f":"'m-E_Sp'!D139","v":0},{"$f":"'m-E_Sp'!L139","v":0},{"$f":"'m-E_Sp'!M139","v":0}]
[{"$f":"RANK(E244,$E$126:$E245,0)","v":1},{"$f":"'w-E_Sp'!B140","v":"W20/05-Sport"},{"$f":"'w-E_Sp'!D140","v":0},{"$f":"'w-E_Sp'!L140","v":0},{"$f":"'w-E_Sp'!M140","v":0},null,{"$f":"RANK(K244,$K$126:$K245,0)","v":1},{"$f":"'m-E_Sp'!B140","v":"M20/05-Sport"},{"$f":"'m-E_Sp'!D140","v":0},{"$f":"'m-E_Sp'!L140","v":0},{"$f":"'m-E_Sp'!M140","v":0}]
[{"$f":"RANK(E245,$E$126:$E245,0)","v":1},{"$f":"'w-E_Sp'!B141","v":"W20/06-Sport"},{"$f":"'w-E_Sp'!D141","v":0},{"$f":"'w-E_Sp'!L141","v":0},{"$f":"'w-E_Sp'!M141","v":0},null,{"$f":"RANK(K245,$K$126:$K245,0)","v":1},{"$f":"'m-E_Sp'!B141","v":"M20/06-Sport"},{"$f":"'m-E_Sp'!D141","v":0},{"$f":"'m-E_Sp'!L141","v":0},{"$f":"'m-E_Sp'!M141","v":0}]
["Einzelwertung Weit Weiblich",null,{"$f":"'w-E_Sp'!C1","v":"D-C/Sport-Schwerpunkt"},{"$f":"'w-E_Sp'!E1","v":"Ortsangabe,Datum"},null,null,"Einzelwertung Weit Männlich",null,{"$f":"'m-E_Sp'!C1","v":"D-C/Sport-Schwerpunkt"},{"$f":"'m-E_Sp'!E1","v":"Ortsangabe,Datum"}]

{"sheet":"Ez-Staffel","index":24,"n_rows":47,"n_cols":9,"rows_kept":47,"cut":false,"hidden":false,"merged":[[25,2,25,3],[0,0,0,1],[0,2,0,3],[0,5,0,6],[0,7,0,8],[24,0,24,1],[24,2,24,3],[24,5,24,6],[24,7,24,8]]}
["Einzelwertung Staffel",null,{"$f":"'w-E_R'!E1","v":"Ortsangabe,Datum"},null,null,"Einzelwertung Staffel",null,{"$f":"'m-E_R'!E1","v":"Ortsangabe,Datum"}]
[null,{"$f":"'w-E_R'!C1","v":"D-C/Regel-Schulen"},null,null,null,null,{"$f":"'m-E_R'!C1","v":"D-C/Regel-Schulen"}]
["Rang","WEIBLICH - SCHULE","Leistung","Punkte",null,"Rang","MÄNNLICH - SCHULE","Leistung","Punkte"]
[{"$f":"RANK(D4,$D$4:$D$23,0)","v":1},{"$f":"'w-E_R'!D3","v":0},{"$f":"'w-E_R'!N3","v":0},{"$f":"'w-E_R'!O3","v":0},null,{"$f":"RANK(I4,$I$4:$I$23,0)","v":1},{"$f":"'m-E_R'!D3","v":0},{"$f":"'m-E_R'!N3","v":0},{"$f":"'m-E_R'!O3","v":0}]
[1,{"$f":"'w-E_R'!D10","v":0},{"$f":"'w-E_R'!N10","v":0},{"$f":"'w-E_R'!O10","v":0},null,1,{"$f":"'m-E_R'!D10","v":0},{"$f":"'m-E_R'!N10","v":0},{"$f":"'m-E_R'!O10","v":0}]
[1,{"$f":"'w-E_R'!D17","v":0},{"$f":"'w-E_R'!N17","v":0},{"$f":"'w-E_R'!O17","v":0},null,1,{"$f":"'m-E_R'!D17","v":0},{"$f":"'m-E_R'!N17","v":0},{"$f":"'m-E_R'!O17","v":0}]
[1,{"$f":"'w-E_R'!D24","v":0},{"$f":"'w-E_R'!N24","v":0},{"$f":"'w-E_R'!O24","v":0},null,1,{"$f":"'m-E_R'!D24","v":0},{"$f":"'m-E_R'!N24","v":0},{"$f":"'m-E_R'!O24","v":0}]
[1,{"$f":"'w-E_R'!D31","v":0},{"$f":"'w-E_R'!N31","v":0},{"$f":"'w-E_R'!O31","v":0},null,1,{"$f":"'m-E_R'!D31","v":0},{"$f":"'m-E_R'!N31","v":0},{"$f":"'m-E_R'!O31","v":0}]
[1,{"$f":"'w-E_R'!D38","v":0},{"$f":"'w-E_R'!N38","v":0},{"$f":"'w-E_R'!O38","v":0},null,1,{"$f":"'m-E_R'!D38","v":0},{"$f":"'m-E_R'!N38","v":0},{"$f":"'m-E_R'!O38","v":0}]
[1,{"$f":"'w-E_R'!D45","v":0},{"$f":"'w-E_R'!N45","v":0},{"$f":"'w-E_R'!O45","v":0},null,1,{"$f":"'m-E_R'!D45","v":0},{"$f":"'m-E_R'!N45","v":0},{"$f":"'m-E_R'!O45","v":0}]
[1,{"$f":"'w-E_R'!D52","v":0},{"$f":"'w-E_R'!N52","v":0},{"$f":"'w-E_R'!O52","v":0},null,1,{"$f":"'m-E_R'!D52","v":0},{"$f":"'m-E_R'!N52","v":0},{"$f":"'m-E_R'!O52","v":0}]
[1,{"$f":"'w-E_R'!D59","v":0},{"$f":"'w-E_R'!N59","v":0},{"$f":"'w-E_R'!O59","v":0},null,1,{"$f":"'m-E_R'!D59","v":0},{"$f":"'m-E_R'!N59","v":0},{"$f":"'m-E_R'!O59","v":0}]
[1,{"$f":"'w-E_R'!D66","v":0},{"$f":"'w-E_R'!N66","v":0},{"$f":"'w-E_R'!O66","v":0},null,1,{"$f":"'m-E_R'!D66","v":0},{"$f":"'m-E_R'!N66","v":0},{"$f":"'m-E_R'!O66","v":0}]
[1,{"$f":"'w-E_R'!D73","v":0},{"$f":"'w-E_R'!N73","v":0},{"$f":"'w-E_R'!O73","v":0},null,1,{"$f":"'m-E_R'!D73","v":0},{"$f":"'m-E_R'!N73","v":0},{"$f":"'m-E_R'!O73","v":0}]
[1,{"$f":"'w-E_R'!D80","v":0},{"$f":"'w-E_R'!N80","v":0},{"$f":"'w-E_R'!O80","v":0},null,1,{"$f":"'m-E_R'!D80","v":0},{"$f":"'m-E_R'!N80","v":0},{"$f":"'m-E_R'!O80","v":0}]
[1,{"$f":"'w-E_R'!D87","v":0},{"$f":"'w-E_R'!N87","v":0},{"$f":"'w-E_R'!O87","v":0},null,1,{"$f":"'m-E_R'!D87","v":0},{"$f":"'m-E_R'!N87","v":0},{"$f":"'m-E_R'!O87","v":0}]
[1,{"$f":"'w-E_R'!D94","v":0},{"$f":"'w-E_R'!N94","v":0},{"$f":"'w-E_R'!O94","v":0},null,1,{"$f":"'m-E_R'!D94","v":0},{"$f":"'m-E_R'!N94","v":0},{"$f":"'m-E_R'!O94","v":0}]
[1,{"$f":"'w-E_R'!D101","v":0},{"$f":"'w-E_R'!N101","v":0},{"$f":"'w-E_R'!O101","v":0},null,1,{"$f":"'m-E_R'!D101","v":0},{"$f":"'m-E_R'!N101","v":0},{"$f":"'m-E_R'!O101","v":0}]
[1,{"$f":"'w-E_R'!D108","v":0},{"$f":"'w-E_R'!N108","v":0},{"$f":"'w-E_R'!O108","v":0},null,1,{"$f":"'m-E_R'!D108","v":0},{"$f":"'m-E_R'!N108","v":0},{"$f":"'m-E_R'!O108","v":0}]
[1,{"$f":"'w-E_R'!D115","v":0},{"$f":"'w-E_R'!N115","v":0},{"$f":"'w-E_R'!O115","v":0},null,1,{"$f":"'m-E_R'!D115","v":0},{"$f":"'m-E_R'!N115","v":0},{"$f":"'m-E_R'!O115","v":0}]
[1,{"$f":"'w-E_R'!D122","v":0},{"$f":"'w-E_R'!N122","v":0},{"$f":"'w-E_R'!O122","v":0},null,1,{"$f":"'m-E_R'!D122","v":0},{"$f":"'m-E_R'!N122","v":0},{"$f":"'m-E_R'!O122","v":0}]
[1,{"$f":"'w-E_R'!D129","v":0},{"$f":"'w-E_R'!N129","v":0},{"$f":"'w-E_R'!O129","v":0},null,1,{"$f":"'m-E_R'!D129","v":0},{"$f":"'m-E_R'!N129","v":0},{"$f":"'m-E_R'!O129","v":0}]
[1,{"$f":"'w-E_R'!D136","v":0},{"$f":"'w-E_R'!N136","v":0},{"$f":"'w-E_R'!O136","v":0},null,1,{"$f":"'m-E_R'!D136","v":0},{"$f":"'m-E_R'!N136","v":0},{"$f":"'m-E_R'!O136","v":0}]
[]
["Einzelwertung Staffel",null,{"$f":"'w-E_Sp'!E1","v":"Ortsangabe,Datum"},null,null,"Einzelwertung Staffel",null,{"$f":"'m-E_Sp'!E1","v":"Ortsangabe,Datum"}]
[null,{"$f":"'w-E_Sp'!C1","v":"D-C/Sport-Schwerpunkt"},null,null,null,null,{"$f":"'m-E_Sp'!C1","v":"D-C/Sport-Schwerpunkt"}]
["Rang","WEIBLICH - SCHULE","Leistung","Punkte",null,"Rang","MÄNNLICH - SCHULE","Leistung","Punkte"]
[{"$f":"RANK(D28,$D$28:$D$47,0)","v":1},{"$f":"'w-E_Sp'!D3","v":0},{"$f":"'w-E_Sp'!N3","v":0},{"$f":"'w-E_Sp'!O3","v":0},null,{"$f":"RANK(I28,$I$28:$I$47,0)","v":1},{"$f":"'m-E_Sp'!D3","v":0},{"$f":"'m-E_Sp'!N3","v":0},{"$f":"'m-E_Sp'!O3","v":0}]
[1,{"$f":"'w-E_Sp'!D10","v":0},{"$f":"'w-E_Sp'!N10","v":0},{"$f":"'w-E_Sp'!O10","v":0},null,1,{"$f":"'m-E_Sp'!D10","v":0},{"$f":"'m-E_Sp'!N10","v":0},{"$f":"'m-E_Sp'!O10","v":0}]
[1,{"$f":"'w-E_Sp'!D17","v":0},{"$f":"'w-E_Sp'!N17","v":0},{"$f":"'w-E_Sp'!O17","v":0},null,1,{"$f":"'m-E_Sp'!D17","v":0},{"$f":"'m-E_Sp'!N17","v":0},{"$f":"'m-E_Sp'!O17","v":0}]
[1,{"$f":"'w-E_Sp'!D24","v":0},{"$f":"'w-E_Sp'!N24","v":0},{"$f":"'w-E_Sp'!O24","v":0},null,1,{"$f":"'m-E_Sp'!D24","v":0},{"$f":"'m-E_Sp'!N24","v":0},{"$f":"'m-E_Sp'!O24","v":0}]
[1,{"$f":"'w-E_Sp'!D31","v":0},{"$f":"'w-E_Sp'!N31","v":0},{"$f":"'w-E_Sp'!O31","v":0},null,1,{"$f":"'m-E_Sp'!D31","v":0},{"$f":"'m-E_Sp'!N31","v":0},{"$f":"'m-E_Sp'!O31","v":0}]
[1,{"$f":"'w-E_Sp'!D38","v":0},{"$f":"'w-E_Sp'!N38","v":0},{"$f":"'w-E_Sp'!O38","v":0},null,1,{"$f":"'m-E_Sp'!D38","v":0},{"$f":"'m-E_Sp'!N38","v":0},{"$f":"'m-E_Sp'!O38","v":0}]
[1,{"$f":"'w-E_Sp'!D45","v":0},{"$f":"'w-E_Sp'!N45","v":0},{"$f":"'w-E_Sp'!O45","v":0},null,1,{"$f":"'m-E_Sp'!D45","v":0},{"$f":"'m-E_Sp'!N45","v":0},{"$f":"'m-E_Sp'!O45","v":0}]
[1,{"$f":"'w-E_Sp'!D52","v":0},{"$f":"'w-E_Sp'!N52","v":0},{"$f":"'w-E_Sp'!O52","v":0},null,1,{"$f":"'m-E_Sp'!D52","v":0},{"$f":"'m-E_Sp'!N52","v":0},{"$f":"'m-E_Sp'!O52","v":0}]
[1,{"$f":"'w-E_Sp'!D59","v":0},{"$f":"'w-E_Sp'!N59","v":0},{"$f":"'w-E_Sp'!O59","v":0},null,1,{"$f":"'m-E_Sp'!D59","v":0},{"$f":"'m-E_Sp'!N59","v":0},{"$f":"'m-E_Sp'!O59","v":0}]
[1,{"$f":"'w-E_Sp'!D66","v":0},{"$f":"'w-E_Sp'!N66","v":0},{"$f":"'w-E_Sp'!O66","v":0},null,1,{"$f":"'m-E_Sp'!D66","v":0},{"$f":"'m-E_Sp'!N66","v":0},{"$f":"'m-E_Sp'!O66","v":0}]
[1,{"$f":"'w-E_Sp'!D73","v":0},{"$f":"'w-E_Sp'!N73","v":0},{"$f":"'w-E_Sp'!O73","v":0},null,1,{"$f":"'m-E_Sp'!D73","v":0},{"$f":"'m-E_Sp'!N73","v":0},{"$f":"'m-E_Sp'!O73","v":0}]
[1,{"$f":"'w-E_Sp'!D80","v":0},{"$f":"'w-E_Sp'!N80","v":0},{"$f":"'w-E_Sp'!O80","v":0},null,1,{"$f":"'m-E_Sp'!D80","v":0},{"$f":"'m-E_Sp'!N80","v":0},{"$f":"'m-E_Sp'!O80","v":0}]
[1,{"$f":"'w-E_Sp'!D87","v":0},{"$f":"'w-E_Sp'!N87","v":0},{"$f":"'w-E_Sp'!O87","v":0},null,1,{"$f":"'m-E_Sp'!D87","v":0},{"$f":"'m-E_Sp'!N87","v":0},{"$f":"'m-E_Sp'!O87","v":0}]
[1,{"$f":"'w-E_Sp'!D94","v":0},{"$f":"'w-E_Sp'!N94","v":0},{"$f":"'w-E_Sp'!O94","v":0},null,1,{"$f":"'m-E_Sp'!D94","v":0},{"$f":"'m-E_Sp'!N94","v":0},{"$f":"'m-E_Sp'!O94","v":0}]
[1,{"$f":"'w-E_Sp'!D101","v":0},{"$f":"'w-E_Sp'!N101","v":0},{"$f":"'w-E_Sp'!O101","v":0},null,1,{"$f":"'m-E_Sp'!D101","v":0},{"$f":"'m-E_Sp'!N101","v":0},{"$f":"'m-E_Sp'!O101","v":0}]
[1,{"$f":"'w-E_Sp'!D108","v":0},{"$f":"'w-E_Sp'!N108","v":0},{"$f":"'w-E_Sp'!O108","v":0},null,1,{"$f":"'m-E_Sp'!D108","v":0},{"$f":"'m-E_Sp'!N108","v":0},{"$f":"'m-E_Sp'!O108","v":0}]
[1,{"$f":"'w-E_Sp'!D115","v":0},{"$f":"'w-E_Sp'!N115","v":0},{"$f":"'w-E_Sp'!O115","v":0},null,1,{"$f":"'m-E_Sp'!D115","v":0},{"$f":"'m-E_Sp'!N115","v":0},{"$f":"'m-E_Sp'!O115","v":0}]
[1,{"$f":"'w-E_Sp'!D122","v":0},{"$f":"'w-E_Sp'!N122","v":0},{"$f":"'w-E_Sp'!O122","v":0},null,1,{"$f":"'m-E_Sp'!D122","v":0},{"$f":"'m-E_Sp'!N122","v":0},{"$f":"'m-E_Sp'!O122","v":0}]
[1,{"$f":"'w-E_Sp'!D129","v":0},{"$f":"'w-E_Sp'!N129","v":0},{"$f":"'w-E_Sp'!O129","v":0},null,1,{"$f":"'m-E_Sp'!D129","v":0},{"$f":"'m-E_Sp'!N129","v":0},{"$f":"'m-E_Sp'!O129","v":0}]
[1,{"$f":"'w-E_Sp'!D136","v":0},{"$f":"'w-E_Sp'!N136","v":0},{"$f":"'w-E_Sp'!O136","v":0},null,1,{"$f":"'m-E_Sp'!D136","v":0},{"$f":"'m-E_Sp'!N136","v":0},{"$f":"'m-E_Sp'!O136","v":0}]

{"sheet":"Ges-Erg_R","index":25,"n_rows":123,"n_cols":24,"rows_kept":123,"cut":false,"hidden":false,"merged":[[1,0,1,1],[1,3,1,11],[1,12,1,13],[1,15,1,23]]}
[]
[{"$f":"'w-E_R'!A1","v":"Wettkampfdaten-Art"},null,{"$f":"'w-E_R'!C1","v":"D-C/Regel-Schulen"},{"$f":"'w-E_R'!E1","v":"Ortsangabe,Datum"},null,null,null,null,null,null,null,null,{"$f":"'m-E_R'!A1","v":"Wettkampfdaten-Art"},null,{"$f":"'m-E_R'!C1","v":"D-C/Regel-Schulen"},{"$f":"'m-E_R'!E1","v":"Ortsangabe,Datum"}]
["Rang","SCHÜLERINNEN","Schule:","60m","Pkt","Schlagb.","Pkt","Kugel","Pkt","Weit","Pkt","Gesamt-PKT","Rang","SCHÜLER","Schule:","60m","Pkt","Schlagb.","Pkt","Kugel","Pkt","Weit","Pkt","Gesamt-PKT"]
[{"$f":"RANK(L4,$L$4:$L$123,0)","v":1},{"$f":"'w-E_R'!B3","v":"W1/01-Regel"},{"$f":"'w-E_R'!D3","v":0},{"$f":"'w-E_R'!F3","v":0},{"$f":"'w-E_R'!G3","v":0},{"$f":"'w-E_R'!H3","v":0},{"$f":"'w-E_R'!I3","v":0},{"$f":"'w-E_R'!J3","v":0},{"$f":"'w-E_R'!K3","v":0},{"$f":"'w-E_R'!L3","v":0},{"$f":"'w-E_R'!M3","v":0},{"$f":"'w-E_R'!P3","v":0},{"$f":"RANK(X4,$X$4:$X$123,0)","v":1},{"$f":"'m-E_R'!B3","v":"M1/01-Regel"},{"$f":"'m-E_R'!D3","v":0},{"$f":"'m-E_R'!F3","v":0},{"$f":"'m-E_R'!G3","v":0},{"$f":"'m-E_R'!H3","v":0},{"$f":"'m-E_R'!I3","v":0},{"$f":"'m-E_R'!J3","v":0},{"$f":"'m-E_R'!K3","v":0},{"$f":"'m-E_R'!L3","v":0},{"$f":"'m-E_R'!M3","v":0},{"$f":"'m-E_R'!P3","v":0}]
[1,{"$f":"'w-E_R'!B4","v":"W1/02-Regel"},{"$f":"'w-E_R'!D4","v":0},{"$f":"'w-E_R'!F4","v":0},{"$f":"'w-E_R'!G4","v":0},{"$f":"'w-E_R'!H4","v":0},{"$f":"'w-E_R'!I4","v":0},{"$f":"'w-E_R'!J4","v":0},{"$f":"'w-E_R'!K4","v":0},{"$f":"'w-E_R'!L4","v":0},{"$f":"'w-E_R'!M4","v":0},{"$f":"'w-E_R'!P4","v":0},1,{"$f":"'m-E_R'!B4","v":"M1/02-Regel"},{"$f":"'m-E_R'!D4","v":0},{"$f":"'m-E_R'!F4","v":0},{"$f":"'m-E_R'!G4","v":0},{"$f":"'m-E_R'!H4","v":0},{"$f":"'m-E_R'!I4","v":0},{"$f":"'m-E_R'!J4","v":0},{"$f":"'m-E_R'!K4","v":0},{"$f":"'m-E_R'!L4","v":0},{"$f":"'m-E_R'!M4","v":0},{"$f":"'m-E_R'!P4","v":0}]
[1,{"$f":"'w-E_R'!B5","v":"W1/03-Regel"},{"$f":"'w-E_R'!D5","v":0},{"$f":"'w-E_R'!F5","v":0},{"$f":"'w-E_R'!G5","v":0},{"$f":"'w-E_R'!H5","v":0},{"$f":"'w-E_R'!I5","v":0},{"$f":"'w-E_R'!J5","v":0},{"$f":"'w-E_R'!K5","v":0},{"$f":"'w-E_R'!L5","v":0},{"$f":"'w-E_R'!M5","v":0},{"$f":"'w-E_R'!P5","v":0},1,{"$f":"'m-E_R'!B5","v":"M1/03-Regel"},{"$f":"'m-E_R'!D5","v":0},{"$f":"'m-E_R'!F5","v":0},{"$f":"'m-E_R'!G5","v":0},{"$f":"'m-E_R'!H5","v":0},{"$f":"'m-E_R'!I5","v":0},{"$f":"'m-E_R'!J5","v":0},{"$f":"'m-E_R'!K5","v":0},{"$f":"'m-E_R'!L5","v":0},{"$f":"'m-E_R'!M5","v":0},{"$f":"'m-E_R'!P5","v":0}]
[1,{"$f":"'w-E_R'!B6","v":"W1/04-Regel"},{"$f":"'w-E_R'!D6","v":0},{"$f":"'w-E_R'!F6","v":0},{"$f":"'w-E_R'!G6","v":0},{"$f":"'w-E_R'!H6","v":0},{"$f":"'w-E_R'!I6","v":0},{"$f":"'w-E_R'!J6","v":0},{"$f":"'w-E_R'!K6","v":0},{"$f":"'w-E_R'!L6","v":0},{"$f":"'w-E_R'!M6","v":0},{"$f":"'w-E_R'!P6","v":0},1,{"$f":"'m-E_R'!B6","v":"M1/04-Regel"},{"$f":"'m-E_R'!D6","v":0},{"$f":"'m-E_R'!F6","v":0},{"$f":"'m-E_R'!G6","v":0},{"$f":"'m-E_R'!H6","v":0},{"$f":"'m-E_R'!I6","v":0},{"$f":"'m-E_R'!J6","v":0},{"$f":"'m-E_R'!K6","v":0},{"$f":"'m-E_R'!L6","v":0},{"$f":"'m-E_R'!M6","v":0},{"$f":"'m-E_R'!P6","v":0}]
[1,{"$f":"'w-E_R'!B7","v":"W1/05-Regel"},{"$f":"'w-E_R'!D7","v":0},{"$f":"'w-E_R'!F7","v":0},{"$f":"'w-E_R'!G7","v":0},{"$f":"'w-E_R'!H7","v":0},{"$f":"'w-E_R'!I7","v":0},{"$f":"'w-E_R'!J7","v":0},{"$f":"'w-E_R'!K7","v":0},{"$f":"'w-E_R'!L7","v":0},{"$f":"'w-E_R'!M7","v":0},{"$f":"'w-E_R'!P7","v":0},1,{"$f":"'m-E_R'!B7","v":"M1/05-Regel"},{"$f":"'m-E_R'!D7","v":0},{"$f":"'m-E_R'!F7","v":0},{"$f":"'m-E_R'!G7","v":0},{"$f":"'m-E_R'!H7","v":0},{"$f":"'m-E_R'!I7","v":0},{"$f":"'m-E_R'!J7","v":0},{"$f":"'m-E_R'!K7","v":0},{"$f":"'m-E_R'!L7","v":0},{"$f":"'m-E_R'!M7","v":0},{"$f":"'m-E_R'!P7","v":0}]
[1,{"$f":"'w-E_R'!B8","v":"W1/06-Regel"},{"$f":"'w-E_R'!D8","v":0},{"$f":"'w-E_R'!F8","v":0},{"$f":"'w-E_R'!G8","v":0},{"$f":"'w-E_R'!H8","v":0},{"$f":"'w-E_R'!I8","v":0},{"$f":"'w-E_R'!J8","v":0},{"$f":"'w-E_R'!K8","v":0},{"$f":"'w-E_R'!L8","v":0},{"$f":"'w-E_R'!M8","v":0},{"$f":"'w-E_R'!P8","v":0},1,{"$f":"'m-E_R'!B8","v":"M1/06-Regel"},{"$f":"'m-E_R'!D8","v":0},{"$f":"'m-E_R'!F8","v":0},{"$f":"'m-E_R'!G8","v":0},{"$f":"'m-E_R'!H8","v":0},{"$f":"'m-E_R'!I8","v":0},{"$f":"'m-E_R'!J8","v":0},{"$f":"'m-E_R'!K8","v":0},{"$f":"'m-E_R'!L8","v":0},{"$f":"'m-E_R'!M8","v":0},{"$f":"'m-E_R'!P8","v":0}]
[1,{"$f":"'w-E_R'!B10","v":"W2/01-Regel"},{"$f":"'w-E_R'!D10","v":0},{"$f":"'w-E_R'!F10","v":0},{"$f":"'w-E_R'!G10","v":0},{"$f":"'w-E_R'!H10","v":0},{"$f":"'w-E_R'!I10","v":0},{"$f":"'w-E_R'!J10","v":0},{"$f":"'w-E_R'!K10","v":0},{"$f":"'w-E_R'!L10","v":0},{"$f":"'w-E_R'!M10","v":0},{"$f":"'w-E_R'!P10","v":0},1,{"$f":"'m-E_R'!B10","v":"M2/01-Regel"},{"$f":"'m-E_R'!D10","v":0},{"$f":"'m-E_R'!F10","v":0},{"$f":"'m-E_R'!G10","v":0},{"$f":"'m-E_R'!H10","v":0},{"$f":"'m-E_R'!I10","v":0},{"$f":"'m-E_R'!J10","v":0},{"$f":"'m-E_R'!K10","v":0},{"$f":"'m-E_R'!L10","v":0},{"$f":"'m-E_R'!M10","v":0},{"$f":"'m-E_R'!P10","v":0}]
[1,{"$f":"'w-E_R'!B11","v":"W2/02-Regel"},{"$f":"'w-E_R'!D11","v":0},{"$f":"'w-E_R'!F11","v":0},{"$f":"'w-E_R'!G11","v":0},{"$f":"'w-E_R'!H11","v":0},{"$f":"'w-E_R'!I11","v":0},{"$f":"'w-E_R'!J11","v":0},{"$f":"'w-E_R'!K11","v":0},{"$f":"'w-E_R'!L11","v":0},{"$f":"'w-E_R'!M11","v":0},{"$f":"'w-E_R'!P11","v":0},1,{"$f":"'m-E_R'!B11","v":"M2/02-Regel"},{"$f":"'m-E_R'!D11","v":0},{"$f":"'m-E_R'!F11","v":0},{"$f":"'m-E_R'!G11","v":0},{"$f":"'m-E_R'!H11","v":0},{"$f":"'m-E_R'!I11","v":0},{"$f":"'m-E_R'!J11","v":0},{"$f":"'m-E_R'!K11","v":0},{"$f":"'m-E_R'!L11","v":0},{"$f":"'m-E_R'!M11","v":0},{"$f":"'m-E_R'!P11","v":0}]
[1,{"$f":"'w-E_R'!B12","v":"W2/03-Regel"},{"$f":"'w-E_R'!D12","v":0},{"$f":"'w-E_R'!F12","v":0},{"$f":"'w-E_R'!G12","v":0},{"$f":"'w-E_R'!H12","v":0},{"$f":"'w-E_R'!I12","v":0},{"$f":"'w-E_R'!J12","v":0},{"$f":"'w-E_R'!K12","v":0},{"$f":"'w-E_R'!L12","v":0},{"$f":"'w-E_R'!M12","v":0},{"$f":"'w-E_R'!P12","v":0},1,{"$f":"'m-E_R'!B12","v":"M2/03-Regel"},{"$f":"'m-E_R'!D12","v":0},{"$f":"'m-E_R'!F12","v":0},{"$f":"'m-E_R'!G12","v":0},{"$f":"'m-E_R'!H12","v":0},{"$f":"'m-E_R'!I12","v":0},{"$f":"'m-E_R'!J12","v":0},{"$f":"'m-E_R'!K12","v":0},{"$f":"'m-E_R'!L12","v":0},{"$f":"'m-E_R'!M12","v":0},{"$f":"'m-E_R'!P12","v":0}]
[1,{"$f":"'w-E_R'!B13","v":"W2/04-Regel"},{"$f":"'w-E_R'!D13","v":0},{"$f":"'w-E_R'!F13","v":0},{"$f":"'w-E_R'!G13","v":0},{"$f":"'w-E_R'!H13","v":0},{"$f":"'w-E_R'!I13","v":0},{"$f":"'w-E_R'!J13","v":0},{"$f":"'w-E_R'!K13","v":0},{"$f":"'w-E_R'!L13","v":0},{"$f":"'w-E_R'!M13","v":0},{"$f":"'w-E_R'!P13","v":0},1,{"$f":"'m-E_R'!B13","v":"M2/04-Regel"},{"$f":"'m-E_R'!D13","v":0},{"$f":"'m-E_R'!F13","v":0},{"$f":"'m-E_R'!G13","v":0},{"$f":"'m-E_R'!H13","v":0},{"$f":"'m-E_R'!I13","v":0},{"$f":"'m-E_R'!J13","v":0},{"$f":"'m-E_R'!K13","v":0},{"$f":"'m-E_R'!L13","v":0},{"$f":"'m-E_R'!M13","v":0},{"$f":"'m-E_R'!P13","v":0}]
[1,{"$f":"'w-E_R'!B14","v":"W2/05-Regel"},{"$f":"'w-E_R'!D14","v":0},{"$f":"'w-E_R'!F14","v":0},{"$f":"'w-E_R'!G14","v":0},{"$f":"'w-E_R'!H14","v":0},{"$f":"'w-E_R'!I14","v":0},{"$f":"'w-E_R'!J14","v":0},{"$f":"'w-E_R'!K14","v":0},{"$f":"'w-E_R'!L14","v":0},{"$f":"'w-E_R'!M14","v":0},{"$f":"'w-E_R'!P14","v":0},1,{"$f":"'m-E_R'!B14","v":"M2/05-Regel"},{"$f":"'m-E_R'!D14","v":0},{"$f":"'m-E_R'!F14","v":0},{"$f":"'m-E_R'!G14","v":0},{"$f":"'m-E_R'!H14","v":0},{"$f":"'m-E_R'!I14","v":0},{"$f":"'m-E_R'!J14","v":0},{"$f":"'m-E_R'!K14","v":0},{"$f":"'m-E_R'!L14","v":0},{"$f":"'m-E_R'!M14","v":0},{"$f":"'m-E_R'!P14","v":0}]
[1,{"$f":"'w-E_R'!B15","v":"W2/06-Regel"},{"$f":"'w-E_R'!D15","v":0},{"$f":"'w-E_R'!F15","v":0},{"$f":"'w-E_R'!G15","v":0},{"$f":"'w-E_R'!H15","v":0},{"$f":"'w-E_R'!I15","v":0},{"$f":"'w-E_R'!J15","v":0},{"$f":"'w-E_R'!K15","v":0},{"$f":"'w-E_R'!L15","v":0},{"$f":"'w-E_R'!M15","v":0},{"$f":"'w-E_R'!P15","v":0},1,{"$f":"'m-E_R'!B15","v":"M2/06-Regel"},{"$f":"'m-E_R'!D15","v":0},{"$f":"'m-E_R'!F15","v":0},{"$f":"'m-E_R'!G15","v":0},{"$f":"'m-E_R'!H15","v":0},{"$f":"'m-E_R'!I15","v":0},{"$f":"'m-E_R'!J15","v":0},{"$f":"'m-E_R'!K15","v":0},{"$f":"'m-E_R'!L15","v":0},{"$f":"'m-E_R'!M15","v":0},{"$f":"'m-E_R'!P15","v":0}]
[1,{"$f":"'w-E_R'!B17","v":"W3/01-Regel"},{"$f":"'w-E_R'!D17","v":0},{"$f":"'w-E_R'!F17","v":0},{"$f":"'w-E_R'!G17","v":0},{"$f":"'w-E_R'!H17","v":0},{"$f":"'w-E_R'!I17","v":0},{"$f":"'w-E_R'!J17","v":0},{"$f":"'w-E_R'!K17","v":0},{"$f":"'w-E_R'!L17","v":0},{"$f":"'w-E_R'!M17","v":0},{"$f":"'w-E_R'!P17","v":0},1,{"$f":"'m-E_R'!B17","v":"M3/01-Regel"},{"$f":"'m-E_R'!D17","v":0},{"$f":"'m-E_R'!F17","v":0},{"$f":"'m-E_R'!G17","v":0},{"$f":"'m-E_R'!H17","v":0},{"$f":"'m-E_R'!I17","v":0},{"$f":"'m-E_R'!J17","v":0},{"$f":"'m-E_R'!K17","v":0},{"$f":"'m-E_R'!L17","v":0},{"$f":"'m-E_R'!M17","v":0},{"$f":"'m-E_R'!P17","v":0}]
[1,{"$f":"'w-E_R'!B18","v":"W3/02-Regel"},{"$f":"'w-E_R'!D18","v":0},{"$f":"'w-E_R'!F18","v":0},{"$f":"'w-E_R'!G18","v":0},{"$f":"'w-E_R'!H18","v":0},{"$f":"'w-E_R'!I18","v":0},{"$f":"'w-E_R'!J18","v":0},{"$f":"'w-E_R'!K18","v":0},{"$f":"'w-E_R'!L18","v":0},{"$f":"'w-E_R'!M18","v":0},{"$f":"'w-E_R'!P18","v":0},1,{"$f":"'m-E_R'!B18","v":"M3/02-Regel"},{"$f":"'m-E_R'!D18","v":0},{"$f":"'m-E_R'!F18","v":0},{"$f":"'m-E_R'!G18","v":0},{"$f":"'m-E_R'!H18","v":0},{"$f":"'m-E_R'!I18","v":0},{"$f":"'m-E_R'!J18","v":0},{"$f":"'m-E_R'!K18","v":0},{"$f":"'m-E_R'!L18","v":0},{"$f":"'m-E_R'!M18","v":0},{"$f":"'m-E_R'!P18","v":0}]
[1,{"$f":"'w-E_R'!B19","v":"W3/03-Regel"},{"$f":"'w-E_R'!D19","v":0},{"$f":"'w-E_R'!F19","v":0},{"$f":"'w-E_R'!G19","v":0},{"$f":"'w-E_R'!H19","v":0},{"$f":"'w-E_R'!I19","v":0},{"$f":"'w-E_R'!J19","v":0},{"$f":"'w-E_R'!K19","v":0},{"$f":"'w-E_R'!L19","v":0},{"$f":"'w-E_R'!M19","v":0},{"$f":"'w-E_R'!P19","v":0},1,{"$f":"'m-E_R'!B19","v":"M3/03-Regel"},{"$f":"'m-E_R'!D19","v":0},{"$f":"'m-E_R'!F19","v":0},{"$f":"'m-E_R'!G19","v":0},{"$f":"'m-E_R'!H19","v":0},{"$f":"'m-E_R'!I19","v":0},{"$f":"'m-E_R'!J19","v":0},{"$f":"'m-E_R'!K19","v":0},{"$f":"'m-E_R'!L19","v":0},{"$f":"'m-E_R'!M19","v":0},{"$f":"'m-E_R'!P19","v":0}]
[1,{"$f":"'w-E_R'!B20","v":"W3/04-Regel"},{"$f":"'w-E_R'!D20","v":0},{"$f":"'w-E_R'!F20","v":0},{"$f":"'w-E_R'!G20","v":0},{"$f":"'w-E_R'!H20","v":0},{"$f":"'w-E_R'!I20","v":0},{"$f":"'w-E_R'!J20","v":0},{"$f":"'w-E_R'!K20","v":0},{"$f":"'w-E_R'!L20","v":0},{"$f":"'w-E_R'!M20","v":0},{"$f":"'w-E_R'!P20","v":0},1,{"$f":"'m-E_R'!B20","v":"M3/04-Regel"},{"$f":"'m-E_R'!D20","v":0},{"$f":"'m-E_R'!F20","v":0},{"$f":"'m-E_R'!G20","v":0},{"$f":"'m-E_R'!H20","v":0},{"$f":"'m-E_R'!I20","v":0},{"$f":"'m-E_R'!J20","v":0},{"$f":"'m-E_R'!K20","v":0},{"$f":"'m-E_R'!L20","v":0},{"$f":"'m-E_R'!M20","v":0},{"$f":"'m-E_R'!P20","v":0}]
[1,{"$f":"'w-E_R'!B21","v":"W3/05-Regel"},{"$f":"'w-E_R'!D21","v":0},{"$f":"'w-E_R'!F21","v":0},{"$f":"'w-E_R'!G21","v":0},{"$f":"'w-E_R'!H21","v":0},{"$f":"'w-E_R'!I21","v":0},{"$f":"'w-E_R'!J21","v":0},{"$f":"'w-E_R'!K21","v":0},{"$f":"'w-E_R'!L21","v":0},{"$f":"'w-E_R'!M21","v":0},{"$f":"'w-E_R'!P21","v":0},1,{"$f":"'m-E_R'!B21","v":"M3/05-Regel"},{"$f":"'m-E_R'!D21","v":0},{"$f":"'m-E_R'!F21","v":0},{"$f":"'m-E_R'!G21","v":0},{"$f":"'m-E_R'!H21","v":0},{"$f":"'m-E_R'!I21","v":0},{"$f":"'m-E_R'!J21","v":0},{"$f":"'m-E_R'!K21","v":0},{"$f":"'m-E_R'!L21","v":0},{"$f":"'m-E_R'!M21","v":0},{"$f":"'m-E_R'!P21","v":0}]
[1,{"$f":"'w-E_R'!B22","v":"W3/06-Regel"},{"$f":"'w-E_R'!D22","v":0},{"$f":"'w-E_R'!F22","v":0},{"$f":"'w-E_R'!G22","v":0},{"$f":"'w-E_R'!H22","v":0},{"$f":"'w-E_R'!I22","v":0},{"$f":"'w-E_R'!J22","v":0},{"$f":"'w-E_R'!K22","v":0},{"$f":"'w-E_R'!L22","v":0},{"$f":"'w-E_R'!M22","v":0},{"$f":"'w-E_R'!P22","v":0},1,{"$f":"'m-E_R'!B22","v":"M3/06-Regel"},{"$f":"'m-E_R'!D22","v":0},{"$f":"'m-E_R'!F22","v":0},{"$f":"'m-E_R'!G22","v":0},{"$f":"'m-E_R'!H22","v":0},{"$f":"'m-E_R'!I22","v":0},{"$f":"'m-E_R'!J22","v":0},{"$f":"'m-E_R'!K22","v":0},{"$f":"'m-E_R'!L22","v":0},{"$f":"'m-E_R'!M22","v":0},{"$f":"'m-E_R'!P22","v":0}]
[1,{"$f":"'w-E_R'!B24","v":"W4/01-Regel"},{"$f":"'w-E_R'!D24","v":0},{"$f":"'w-E_R'!F24","v":0},{"$f":"'w-E_R'!G24","v":0},{"$f":"'w-E_R'!H24","v":0},{"$f":"'w-E_R'!I24","v":0},{"$f":"'w-E_R'!J24","v":0},{"$f":"'w-E_R'!K24","v":0},{"$f":"'w-E_R'!L24","v":0},{"$f":"'w-E_R'!M24","v":0},{"$f":"'w-E_R'!P24","v":0},1,{"$f":"'m-E_R'!B24","v":"M4/01-Regel"},{"$f":"'m-E_R'!D24","v":0},{"$f":"'m-E_R'!F24","v":0},{"$f":"'m-E_R'!G24","v":0},{"$f":"'m-E_R'!H24","v":0},{"$f":"'m-E_R'!I24","v":0},{"$f":"'m-E_R'!J24","v":0},{"$f":"'m-E_R'!K24","v":0},{"$f":"'m-E_R'!L24","v":0},{"$f":"'m-E_R'!M24","v":0},{"$f":"'m-E_R'!P24","v":0}]
[1,{"$f":"'w-E_R'!B25","v":"W4/02-Regel"},{"$f":"'w-E_R'!D25","v":0},{"$f":"'w-E_R'!F25","v":0},{"$f":"'w-E_R'!G25","v":0},{"$f":"'w-E_R'!H25","v":0},{"$f":"'w-E_R'!I25","v":0},{"$f":"'w-E_R'!J25","v":0},{"$f":"'w-E_R'!K25","v":0},{"$f":"'w-E_R'!L25","v":0},{"$f":"'w-E_R'!M25","v":0},{"$f":"'w-E_R'!P25","v":0},1,{"$f":"'m-E_R'!B25","v":"M4/02-Regel"},{"$f":"'m-E_R'!D25","v":0},{"$f":"'m-E_R'!F25","v":0},{"$f":"'m-E_R'!G25","v":0},{"$f":"'m-E_R'!H25","v":0},{"$f":"'m-E_R'!I25","v":0},{"$f":"'m-E_R'!J25","v":0},{"$f":"'m-E_R'!K25","v":0},{"$f":"'m-E_R'!L25","v":0},{"$f":"'m-E_R'!M25","v":0},{"$f":"'m-E_R'!P25","v":0}]
[1,{"$f":"'w-E_R'!B26","v":"W4/03-Regel"},{"$f":"'w-E_R'!D26","v":0},{"$f":"'w-E_R'!F26","v":0},{"$f":"'w-E_R'!G26","v":0},{"$f":"'w-E_R'!H26","v":0},{"$f":"'w-E_R'!I26","v":0},{"$f":"'w-E_R'!J26","v":0},{"$f":"'w-E_R'!K26","v":0},{"$f":"'w-E_R'!L26","v":0},{"$f":"'w-E_R'!M26","v":0},{"$f":"'w-E_R'!P26","v":0},1,{"$f":"'m-E_R'!B26","v":"M4/03-Regel"},{"$f":"'m-E_R'!D26","v":0},{"$f":"'m-E_R'!F26","v":0},{"$f":"'m-E_R'!G26","v":0},{"$f":"'m-E_R'!H26","v":0},{"$f":"'m-E_R'!I26","v":0},{"$f":"'m-E_R'!J26","v":0},{"$f":"'m-E_R'!K26","v":0},{"$f":"'m-E_R'!L26","v":0},{"$f":"'m-E_R'!M26","v":0},{"$f":"'m-E_R'!P26","v":0}]
[1,{"$f":"'w-E_R'!B27","v":"W4/04-Regel"},{"$f":"'w-E_R'!D27","v":0},{"$f":"'w-E_R'!F27","v":0},{"$f":"'w-E_R'!G27","v":0},{"$f":"'w-E_R'!H27","v":0},{"$f":"'w-E_R'!I27","v":0},{"$f":"'w-E_R'!J27","v":0},{"$f":"'w-E_R'!K27","v":0},{"$f":"'w-E_R'!L27","v":0},{"$f":"'w-E_R'!M27","v":0},{"$f":"'w-E_R'!P27","v":0},1,{"$f":"'m-E_R'!B27","v":"M4/04-Regel"},{"$f":"'m-E_R'!D27","v":0},{"$f":"'m-E_R'!F27","v":0},{"$f":"'m-E_R'!G27","v":0},{"$f":"'m-E_R'!H27","v":0},{"$f":"'m-E_R'!I27","v":0},{"$f":"'m-E_R'!J27","v":0},{"$f":"'m-E_R'!K27","v":0},{"$f":"'m-E_R'!L27","v":0},{"$f":"'m-E_R'!M27","v":0},{"$f":"'m-E_R'!P27","v":0}]
[1,{"$f":"'w-E_R'!B28","v":"W4/05-Regel"},{"$f":"'w-E_R'!D28","v":0},{"$f":"'w-E_R'!F28","v":0},{"$f":"'w-E_R'!G28","v":0},{"$f":"'w-E_R'!H28","v":0},{"$f":"'w-E_R'!I28","v":0},{"$f":"'w-E_R'!J28","v":0},{"$f":"'w-E_R'!K28","v":0},{"$f":"'w-E_R'!L28","v":0},{"$f":"'w-E_R'!M28","v":0},{"$f":"'w-E_R'!P28","v":0},1,{"$f":"'m-E_R'!B28","v":"M4/05-Regel"},{"$f":"'m-E_R'!D28","v":0},{"$f":"'m-E_R'!F28","v":0},{"$f":"'m-E_R'!G28","v":0},{"$f":"'m-E_R'!H28","v":0},{"$f":"'m-E_R'!I28","v":0},{"$f":"'m-E_R'!J28","v":0},{"$f":"'m-E_R'!K28","v":0},{"$f":"'m-E_R'!L28","v":0},{"$f":"'m-E_R'!M28","v":0},{"$f":"'m-E_R'!P28","v":0}]
[1,{"$f":"'w-E_R'!B29","v":"W4/06-Regel"},{"$f":"'w-E_R'!D29","v":0},{"$f":"'w-E_R'!F29","v":0},{"$f":"'w-E_R'!G29","v":0},{"$f":"'w-E_R'!H29","v":0},{"$f":"'w-E_R'!I29","v":0},{"$f":"'w-E_R'!J29","v":0},{"$f":"'w-E_R'!K29","v":0},{"$f":"'w-E_R'!L29","v":0},{"$f":"'w-E_R'!M29","v":0},{"$f":"'w-E_R'!P29","v":0},1,{"$f":"'m-E_R'!B29","v":"M4/06-Regel"},{"$f":"'m-E_R'!D29","v":0},{"$f":"'m-E_R'!F29","v":0},{"$f":"'m-E_R'!G29","v":0},{"$f":"'m-E_R'!H29","v":0},{"$f":"'m-E_R'!I29","v":0},{"$f":"'m-E_R'!J29","v":0},{"$f":"'m-E_R'!K29","v":0},{"$f":"'m-E_R'!L29","v":0},{"$f":"'m-E_R'!M29","v":0},{"$f":"'m-E_R'!P29","v":0}]
[1,{"$f":"'w-E_R'!B31","v":"W5/01-Regel"},{"$f":"'w-E_R'!D31","v":0},{"$f":"'w-E_R'!F31","v":0},{"$f":"'w-E_R'!G31","v":0},{"$f":"'w-E_R'!H31","v":0},{"$f":"'w-E_R'!I31","v":0},{"$f":"'w-E_R'!J31","v":0},{"$f":"'w-E_R'!K31","v":0},{"$f":"'w-E_R'!L31","v":0},{"$f":"'w-E_R'!M31","v":0},{"$f":"'w-E_R'!P31","v":0},1,{"$f":"'m-E_R'!B31","v":"M5/01-Regel"},{"$f":"'m-E_R'!D31","v":0},{"$f":"'m-E_R'!F31","v":0},{"$f":"'m-E_R'!G31","v":0},{"$f":"'m-E_R'!H31","v":0},{"$f":"'m-E_R'!I31","v":0},{"$f":"'m-E_R'!J31","v":0},{"$f":"'m-E_R'!K31","v":0},{"$f":"'m-E_R'!L31","v":0},{"$f":"'m-E_R'!M31","v":0},{"$f":"'m-E_R'!P31","v":0}]
[1,{"$f":"'w-E_R'!B32","v":"W5/02-Regel"},{"$f":"'w-E_R'!D32","v":0},{"$f":"'w-E_R'!F32","v":0},{"$f":"'w-E_R'!G32","v":0},{"$f":"'w-E_R'!H32","v":0},{"$f":"'w-E_R'!I32","v":0},{"$f":"'w-E_R'!J32","v":0},{"$f":"'w-E_R'!K32","v":0},{"$f":"'w-E_R'!L32","v":0},{"$f":"'w-E_R'!M32","v":0},{"$f":"'w-E_R'!P32","v":0},1,{"$f":"'m-E_R'!B32","v":"M5/02-Regel"},{"$f":"'m-E_R'!D32","v":0},{"$f":"'m-E_R'!F32","v":0},{"$f":"'m-E_R'!G32","v":0},{"$f":"'m-E_R'!H32","v":0},{"$f":"'m-E_R'!I32","v":0},{"$f":"'m-E_R'!J32","v":0},{"$f":"'m-E_R'!K32","v":0},{"$f":"'m-E_R'!L32","v":0},{"$f":"'m-E_R'!M32","v":0},{"$f":"'m-E_R'!P32","v":0}]
[1,{"$f":"'w-E_R'!B33","v":"W5/03-Regel"},{"$f":"'w-E_R'!D33","v":0},{"$f":"'w-E_R'!F33","v":0},{"$f":"'w-E_R'!G33","v":0},{"$f":"'w-E_R'!H33","v":0},{"$f":"'w-E_R'!I33","v":0},{"$f":"'w-E_R'!J33","v":0},{"$f":"'w-E_R'!K33","v":0},{"$f":"'w-E_R'!L33","v":0},{"$f":"'w-E_R'!M33","v":0},{"$f":"'w-E_R'!P33","v":0},1,{"$f":"'m-E_R'!B33","v":"M5/03-Regel"},{"$f":"'m-E_R'!D33","v":0},{"$f":"'m-E_R'!F33","v":0},{"$f":"'m-E_R'!G33","v":0},{"$f":"'m-E_R'!H33","v":0},{"$f":"'m-E_R'!I33","v":0},{"$f":"'m-E_R'!J33","v":0},{"$f":"'m-E_R'!K33","v":0},{"$f":"'m-E_R'!L33","v":0},{"$f":"'m-E_R'!M33","v":0},{"$f":"'m-E_R'!P33","v":0}]
[1,{"$f":"'w-E_R'!B34","v":"W5/04-Regel"},{"$f":"'w-E_R'!D34","v":0},{"$f":"'w-E_R'!F34","v":0},{"$f":"'w-E_R'!G34","v":0},{"$f":"'w-E_R'!H34","v":0},{"$f":"'w-E_R'!I34","v":0},{"$f":"'w-E_R'!J34","v":0},{"$f":"'w-E_R'!K34","v":0},{"$f":"'w-E_R'!L34","v":0},{"$f":"'w-E_R'!M34","v":0},{"$f":"'w-E_R'!P34","v":0},1,{"$f":"'m-E_R'!B34","v":"M5/04-Regel"},{"$f":"'m-E_R'!D34","v":0},{"$f":"'m-E_R'!F34","v":0},{"$f":"'m-E_R'!G34","v":0},{"$f":"'m-E_R'!H34","v":0},{"$f":"'m-E_R'!I34","v":0},{"$f":"'m-E_R'!J34","v":0},{"$f":"'m-E_R'!K34","v":0},{"$f":"'m-E_R'!L34","v":0},{"$f":"'m-E_R'!M34","v":0},{"$f":"'m-E_R'!P34","v":0}]
[1,{"$f":"'w-E_R'!B35","v":"W5/05-Regel"},{"$f":"'w-E_R'!D35","v":0},{"$f":"'w-E_R'!F35","v":0},{"$f":"'w-E_R'!G35","v":0},{"$f":"'w-E_R'!H35","v":0},{"$f":"'w-E_R'!I35","v":0},{"$f":"'w-E_R'!J35","v":0},{"$f":"'w-E_R'!K35","v":0},{"$f":"'w-E_R'!L35","v":0},{"$f":"'w-E_R'!M35","v":0},{"$f":"'w-E_R'!P35","v":0},1,{"$f":"'m-E_R'!B35","v":"M5/05-Regel"},{"$f":"'m-E_R'!D35","v":0},{"$f":"'m-E_R'!F35","v":0},{"$f":"'m-E_R'!G35","v":0},{"$f":"'m-E_R'!H35","v":0},{"$f":"'m-E_R'!I35","v":0},{"$f":"'m-E_R'!J35","v":0},{"$f":"'m-E_R'!K35","v":0},{"$f":"'m-E_R'!L35","v":0},{"$f":"'m-E_R'!M35","v":0},{"$f":"'m-E_R'!P35","v":0}]
[1,{"$f":"'w-E_R'!B36","v":"W5/06-Regel"},{"$f":"'w-E_R'!D36","v":0},{"$f":"'w-E_R'!F36","v":0},{"$f":"'w-E_R'!G36","v":0},{"$f":"'w-E_R'!H36","v":0},{"$f":"'w-E_R'!I36","v":0},{"$f":"'w-E_R'!J36","v":0},{"$f":"'w-E_R'!K36","v":0},{"$f":"'w-E_R'!L36","v":0},{"$f":"'w-E_R'!M36","v":0},{"$f":"'w-E_R'!P36","v":0},1,{"$f":"'m-E_R'!B36","v":"M5/06-Regel"},{"$f":"'m-E_R'!D36","v":0},{"$f":"'m-E_R'!F36","v":0},{"$f":"'m-E_R'!G36","v":0},{"$f":"'m-E_R'!H36","v":0},{"$f":"'m-E_R'!I36","v":0},{"$f":"'m-E_R'!J36","v":0},{"$f":"'m-E_R'!K36","v":0},{"$f":"'m-E_R'!L36","v":0},{"$f":"'m-E_R'!M36","v":0},{"$f":"'m-E_R'!P36","v":0}]
[1,{"$f":"'w-E_R'!B38","v":"W6/01-Regel"},{"$f":"'w-E_R'!D38","v":0},{"$f":"'w-E_R'!F38","v":0},{"$f":"'w-E_R'!G38","v":0},{"$f":"'w-E_R'!H38","v":0},{"$f":"'w-E_R'!I38","v":0},{"$f":"'w-E_R'!J38","v":0},{"$f":"'w-E_R'!K38","v":0},{"$f":"'w-E_R'!L38","v":0},{"$f":"'w-E_R'!M38","v":0},{"$f":"'w-E_R'!P38","v":0},1,{"$f":"'m-E_R'!B38","v":"M6/01-Regel"},{"$f":"'m-E_R'!D38","v":0},{"$f":"'m-E_R'!F38","v":0},{"$f":"'m-E_R'!G38","v":0},{"$f":"'m-E_R'!H38","v":0},{"$f":"'m-E_R'!I38","v":0},{"$f":"'m-E_R'!J38","v":0},{"$f":"'m-E_R'!K38","v":0},{"$f":"'m-E_R'!L38","v":0},{"$f":"'m-E_R'!M38","v":0},{"$f":"'m-E_R'!P38","v":0}]
[1,{"$f":"'w-E_R'!B39","v":"W6/02-Regel"},{"$f":"'w-E_R'!D39","v":0},{"$f":"'w-E_R'!F39","v":0},{"$f":"'w-E_R'!G39","v":0},{"$f":"'w-E_R'!H39","v":0},{"$f":"'w-E_R'!I39","v":0},{"$f":"'w-E_R'!J39","v":0},{"$f":"'w-E_R'!K39","v":0},{"$f":"'w-E_R'!L39","v":0},{"$f":"'w-E_R'!M39","v":0},{"$f":"'w-E_R'!P39","v":0},1,{"$f":"'m-E_R'!B39","v":"M6/02-Regel"},{"$f":"'m-E_R'!D39","v":0},{"$f":"'m-E_R'!F39","v":0},{"$f":"'m-E_R'!G39","v":0},{"$f":"'m-E_R'!H39","v":0},{"$f":"'m-E_R'!I39","v":0},{"$f":"'m-E_R'!J39","v":0},{"$f":"'m-E_R'!K39","v":0},{"$f":"'m-E_R'!L39","v":0},{"$f":"'m-E_R'!M39","v":0},{"$f":"'m-E_R'!P39","v":0}]
[{"$f":"RANK(L36,$L$4:$L$123,0)","v":1},{"$f":"'w-E_R'!B40","v":"W6/03-Regel"},{"$f":"'w-E_R'!D40","v":0},{"$f":"'w-E_R'!F40","v":0},{"$f":"'w-E_R'!G40","v":0},{"$f":"'w-E_R'!H40","v":0},{"$f":"'w-E_R'!I40","v":0},{"$f":"'w-E_R'!J40","v":0},{"$f":"'w-E_R'!K40","v":0},{"$f":"'w-E_R'!L40","v":0},{"$f":"'w-E_R'!M40","v":0},{"$f":"'w-E_R'!P40","v":0},{"$f":"RANK(X36,$X$4:$X$123,0)","v":1},{"$f":"'m-E_R'!B40","v":"M6/03-Regel"},{"$f":"'m-E_R'!D40","v":0},{"$f":"'m-E_R'!F40","v":0},{"$f":"'m-E_R'!G40","v":0},{"$f":"'m-E_R'!H40","v":0},{"$f":"'m-E_R'!I40","v":0},{"$f":"'m-E_R'!J40","v":0},{"$f":"'m-E_R'!K40","v":0},{"$f":"'m-E_R'!L40","v":0},{"$f":"'m-E_R'!M40","v":0},{"$f":"'m-E_R'!P40","v":0}]
[1,{"$f":"'w-E_R'!B41","v":"W6/04-Regel"},{"$f":"'w-E_R'!D41","v":0},{"$f":"'w-E_R'!F41","v":0},{"$f":"'w-E_R'!G41","v":0},{"$f":"'w-E_R'!H41","v":0},{"$f":"'w-E_R'!I41","v":0},{"$f":"'w-E_R'!J41","v":0},{"$f":"'w-E_R'!K41","v":0},{"$f":"'w-E_R'!L41","v":0},{"$f":"'w-E_R'!M41","v":0},{"$f":"'w-E_R'!P41","v":0},1,{"$f":"'m-E_R'!B41","v":"M6/04-Regel"},{"$f":"'m-E_R'!D41","v":0},{"$f":"'m-E_R'!F41","v":0},{"$f":"'m-E_R'!G41","v":0},{"$f":"'m-E_R'!H41","v":0},{"$f":"'m-E_R'!I41","v":0},{"$f":"'m-E_R'!J41","v":0},{"$f":"'m-E_R'!K41","v":0},{"$f":"'m-E_R'!L41","v":0},{"$f":"'m-E_R'!M41","v":0},{"$f":"'m-E_R'!P41","v":0}]
[1,{"$f":"'w-E_R'!B42","v":"W6/05-Regel"},{"$f":"'w-E_R'!D42","v":0},{"$f":"'w-E_R'!F42","v":0},{"$f":"'w-E_R'!G42","v":0},{"$f":"'w-E_R'!H42","v":0},{"$f":"'w-E_R'!I42","v":0},{"$f":"'w-E_R'!J42","v":0},{"$f":"'w-E_R'!K42","v":0},{"$f":"'w-E_R'!L42","v":0},{"$f":"'w-E_R'!M42","v":0},{"$f":"'w-E_R'!P42","v":0},1,{"$f":"'m-E_R'!B42","v":"M6/05-Regel"},{"$f":"'m-E_R'!D42","v":0},{"$f":"'m-E_R'!F42","v":0},{"$f":"'m-E_R'!G42","v":0},{"$f":"'m-E_R'!H42","v":0},{"$f":"'m-E_R'!I42","v":0},{"$f":"'m-E_R'!J42","v":0},{"$f":"'m-E_R'!K42","v":0},{"$f":"'m-E_R'!L42","v":0},{"$f":"'m-E_R'!M42","v":0},{"$f":"'m-E_R'!P42","v":0}]
[1,{"$f":"'w-E_R'!B43","v":"W6/06-Regel"},{"$f":"'w-E_R'!D43","v":0},{"$f":"'w-E_R'!F43","v":0},{"$f":"'w-E_R'!G43","v":0},{"$f":"'w-E_R'!H43","v":0},{"$f":"'w-E_R'!I43","v":0},{"$f":"'w-E_R'!J43","v":0},{"$f":"'w-E_R'!K43","v":0},{"$f":"'w-E_R'!L43","v":0},{"$f":"'w-E_R'!M43","v":0},{"$f":"'w-E_R'!P43","v":0},1,{"$f":"'m-E_R'!B43","v":"M6/06-Regel"},{"$f":"'m-E_R'!D43","v":0},{"$f":"'m-E_R'!F43","v":0},{"$f":"'m-E_R'!G43","v":0},{"$f":"'m-E_R'!H43","v":0},{"$f":"'m-E_R'!I43","v":0},{"$f":"'m-E_R'!J43","v":0},{"$f":"'m-E_R'!K43","v":0},{"$f":"'m-E_R'!L43","v":0},{"$f":"'m-E_R'!M43","v":0},{"$f":"'m-E_R'!P43","v":0}]
[1,{"$f":"'w-E_R'!B45","v":"W7/01-Regel"},{"$f":"'w-E_R'!D45","v":0},{"$f":"'w-E_R'!F45","v":0},{"$f":"'w-E_R'!G45","v":0},{"$f":"'w-E_R'!H45","v":0},{"$f":"'w-E_R'!I45","v":0},{"$f":"'w-E_R'!J45","v":0},{"$f":"'w-E_R'!K45","v":0},{"$f":"'w-E_R'!L45","v":0},{"$f":"'w-E_R'!M45","v":0},{"$f":"'w-E_R'!P45","v":0},1,{"$f":"'m-E_R'!B45","v":"M7/01-Regel"},{"$f":"'m-E_R'!D45","v":0},{"$f":"'m-E_R'!F45","v":0},{"$f":"'m-E_R'!G45","v":0},{"$f":"'m-E_R'!H45","v":0},{"$f":"'m-E_R'!I45","v":0},{"$f":"'m-E_R'!J45","v":0},{"$f":"'m-E_R'!K45","v":0},{"$f":"'m-E_R'!L45","v":0},{"$f":"'m-E_R'!M45","v":0},{"$f":"'m-E_R'!P45","v":0}]
[1,{"$f":"'w-E_R'!B46","v":"W7/02-Regel"},{"$f":"'w-E_R'!D46","v":0},{"$f":"'w-E_R'!F46","v":0},{"$f":"'w-E_R'!G46","v":0},{"$f":"'w-E_R'!H46","v":0},{"$f":"'w-E_R'!I46","v":0},{"$f":"'w-E_R'!J46","v":0},{"$f":"'w-E_R'!K46","v":0},{"$f":"'w-E_R'!L46","v":0},{"$f":"'w-E_R'!M46","v":0},{"$f":"'w-E_R'!P46","v":0},1,{"$f":"'m-E_R'!B46","v":"M7/02-Regel"},{"$f":"'m-E_R'!D46","v":0},{"$f":"'m-E_R'!F46","v":0},{"$f":"'m-E_R'!G46","v":0},{"$f":"'m-E_R'!H46","v":0},{"$f":"'m-E_R'!I46","v":0},{"$f":"'m-E_R'!J46","v":0},{"$f":"'m-E_R'!K46","v":0},{"$f":"'m-E_R'!L46","v":0},{"$f":"'m-E_R'!M46","v":0},{"$f":"'m-E_R'!P46","v":0}]
[1,{"$f":"'w-E_R'!B47","v":"W7/03-Regel"},{"$f":"'w-E_R'!D47","v":0},{"$f":"'w-E_R'!F47","v":0},{"$f":"'w-E_R'!G47","v":0},{"$f":"'w-E_R'!H47","v":0},{"$f":"'w-E_R'!I47","v":0},{"$f":"'w-E_R'!J47","v":0},{"$f":"'w-E_R'!K47","v":0},{"$f":"'w-E_R'!L47","v":0},{"$f":"'w-E_R'!M47","v":0},{"$f":"'w-E_R'!P47","v":0},1,{"$f":"'m-E_R'!B47","v":"M7/03-Regel"},{"$f":"'m-E_R'!D47","v":0},{"$f":"'m-E_R'!F47","v":0},{"$f":"'m-E_R'!G47","v":0},{"$f":"'m-E_R'!H47","v":0},{"$f":"'m-E_R'!I47","v":0},{"$f":"'m-E_R'!J47","v":0},{"$f":"'m-E_R'!K47","v":0},{"$f":"'m-E_R'!L47","v":0},{"$f":"'m-E_R'!M47","v":0},{"$f":"'m-E_R'!P47","v":0}]
[1,{"$f":"'w-E_R'!B48","v":"W7/04-Regel"},{"$f":"'w-E_R'!D48","v":0},{"$f":"'w-E_R'!F48","v":0},{"$f":"'w-E_R'!G48","v":0},{"$f":"'w-E_R'!H48","v":0},{"$f":"'w-E_R'!I48","v":0},{"$f":"'w-E_R'!J48","v":0},{"$f":"'w-E_R'!K48","v":0},{"$f":"'w-E_R'!L48","v":0},{"$f":"'w-E_R'!M48","v":0},{"$f":"'w-E_R'!P48","v":0},1,{"$f":"'m-E_R'!B48","v":"M7/04-Regel"},{"$f":"'m-E_R'!D48","v":0},{"$f":"'m-E_R'!F48","v":0},{"$f":"'m-E_R'!G48","v":0},{"$f":"'m-E_R'!H48","v":0},{"$f":"'m-E_R'!I48","v":0},{"$f":"'m-E_R'!J48","v":0},{"$f":"'m-E_R'!K48","v":0},{"$f":"'m-E_R'!L48","v":0},{"$f":"'m-E_R'!M48","v":0},{"$f":"'m-E_R'!P48","v":0}]
[1,{"$f":"'w-E_R'!B49","v":"W7/05-Regel"},{"$f":"'w-E_R'!D49","v":0},{"$f":"'w-E_R'!F49","v":0},{"$f":"'w-E_R'!G49","v":0},{"$f":"'w-E_R'!H49","v":0},{"$f":"'w-E_R'!I49","v":0},{"$f":"'w-E_R'!J49","v":0},{"$f":"'w-E_R'!K49","v":0},{"$f":"'w-E_R'!L49","v":0},{"$f":"'w-E_R'!M49","v":0},{"$f":"'w-E_R'!P49","v":0},1,{"$f":"'m-E_R'!B49","v":"M7/05-Regel"},{"$f":"'m-E_R'!D49","v":0},{"$f":"'m-E_R'!F49","v":0},{"$f":"'m-E_R'!G49","v":0},{"$f":"'m-E_R'!H49","v":0},{"$f":"'m-E_R'!I49","v":0},{"$f":"'m-E_R'!J49","v":0},{"$f":"'m-E_R'!K49","v":0},{"$f":"'m-E_R'!L49","v":0},{"$f":"'m-E_R'!M49","v":0},{"$f":"'m-E_R'!P49","v":0}]
[1,{"$f":"'w-E_R'!B50","v":"W7/06-Regel"},{"$f":"'w-E_R'!D50","v":0},{"$f":"'w-E_R'!F50","v":0},{"$f":"'w-E_R'!G50","v":0},{"$f":"'w-E_R'!H50","v":0},{"$f":"'w-E_R'!I50","v":0},{"$f":"'w-E_R'!J50","v":0},{"$f":"'w-E_R'!K50","v":0},{"$f":"'w-E_R'!L50","v":0},{"$f":"'w-E_R'!M50","v":0},{"$f":"'w-E_R'!P50","v":0},1,{"$f":"'m-E_R'!B50","v":"M7/06-Regel"},{"$f":"'m-E_R'!D50","v":0},{"$f":"'m-E_R'!F50","v":0},{"$f":"'m-E_R'!G50","v":0},{"$f":"'m-E_R'!H50","v":0},{"$f":"'m-E_R'!I50","v":0},{"$f":"'m-E_R'!J50","v":0},{"$f":"'m-E_R'!K50","v":0},{"$f":"'m-E_R'!L50","v":0},{"$f":"'m-E_R'!M50","v":0},{"$f":"'m-E_R'!P50","v":0}]
[1,{"$f":"'w-E_R'!B52","v":"W8/01-Regel"},{"$f":"'w-E_R'!D52","v":0},{"$f":"'w-E_R'!F52","v":0},{"$f":"'w-E_R'!G52","v":0},{"$f":"'w-E_R'!H52","v":0},{"$f":"'w-E_R'!I52","v":0},{"$f":"'w-E_R'!J52","v":0},{"$f":"'w-E_R'!K52","v":0},{"$f":"'w-E_R'!L52","v":0},{"$f":"'w-E_R'!M52","v":0},{"$f":"'w-E_R'!P52","v":0},1,{"$f":"'m-E_R'!B52","v":"M8/01-Regel"},{"$f":"'m-E_R'!D52","v":0},{"$f":"'m-E_R'!F52","v":0},{"$f":"'m-E_R'!G52","v":0},{"$f":"'m-E_R'!H52","v":0},{"$f":"'m-E_R'!I52","v":0},{"$f":"'m-E_R'!J52","v":0},{"$f":"'m-E_R'!K52","v":0},{"$f":"'m-E_R'!L52","v":0},{"$f":"'m-E_R'!M52","v":0},{"$f":"'m-E_R'!P52","v":0}]
[1,{"$f":"'w-E_R'!B53","v":"W8/02-Regel"},{"$f":"'w-E_R'!D53","v":0},{"$f":"'w-E_R'!F53","v":0},{"$f":"'w-E_R'!G53","v":0},{"$f":"'w-E_R'!H53","v":0},{"$f":"'w-E_R'!I53","v":0},{"$f":"'w-E_R'!J53","v":0},{"$f":"'w-E_R'!K53","v":0},{"$f":"'w-E_R'!L53","v":0},{"$f":"'w-E_R'!M53","v":0},{"$f":"'w-E_R'!P53","v":0},1,{"$f":"'m-E_R'!B53","v":"M8/02-Regel"},{"$f":"'m-E_R'!D53","v":0},{"$f":"'m-E_R'!F53","v":0},{"$f":"'m-E_R'!G53","v":0},{"$f":"'m-E_R'!H53","v":0},{"$f":"'m-E_R'!I53","v":0},{"$f":"'m-E_R'!J53","v":0},{"$f":"'m-E_R'!K53","v":0},{"$f":"'m-E_R'!L53","v":0},{"$f":"'m-E_R'!M53","v":0},{"$f":"'m-E_R'!P53","v":0}]
[1,{"$f":"'w-E_R'!B54","v":"W8/03-Regel"},{"$f":"'w-E_R'!D54","v":0},{"$f":"'w-E_R'!F54","v":0},{"$f":"'w-E_R'!G54","v":0},{"$f":"'w-E_R'!H54","v":0},{"$f":"'w-E_R'!I54","v":0},{"$f":"'w-E_R'!J54","v":0},{"$f":"'w-E_R'!K54","v":0},{"$f":"'w-E_R'!L54","v":0},{"$f":"'w-E_R'!M54","v":0},{"$f":"'w-E_R'!P54","v":0},1,{"$f":"'m-E_R'!B54","v":"M8/03-Regel"},{"$f":"'m-E_R'!D54","v":0},{"$f":"'m-E_R'!F54","v":0},{"$f":"'m-E_R'!G54","v":0},{"$f":"'m-E_R'!H54","v":0},{"$f":"'m-E_R'!I54","v":0},{"$f":"'m-E_R'!J54","v":0},{"$f":"'m-E_R'!K54","v":0},{"$f":"'m-E_R'!L54","v":0},{"$f":"'m-E_R'!M54","v":0},{"$f":"'m-E_R'!P54","v":0}]
[1,{"$f":"'w-E_R'!B55","v":"W8/04-Regel"},{"$f":"'w-E_R'!D55","v":0},{"$f":"'w-E_R'!F55","v":0},{"$f":"'w-E_R'!G55","v":0},{"$f":"'w-E_R'!H55","v":0},{"$f":"'w-E_R'!I55","v":0},{"$f":"'w-E_R'!J55","v":0},{"$f":"'w-E_R'!K55","v":0},{"$f":"'w-E_R'!L55","v":0},{"$f":"'w-E_R'!M55","v":0},{"$f":"'w-E_R'!P55","v":0},1,{"$f":"'m-E_R'!B55","v":"M8/04-Regel"},{"$f":"'m-E_R'!D55","v":0},{"$f":"'m-E_R'!F55","v":0},{"$f":"'m-E_R'!G55","v":0},{"$f":"'m-E_R'!H55","v":0},{"$f":"'m-E_R'!I55","v":0},{"$f":"'m-E_R'!J55","v":0},{"$f":"'m-E_R'!K55","v":0},{"$f":"'m-E_R'!L55","v":0},{"$f":"'m-E_R'!M55","v":0},{"$f":"'m-E_R'!P55","v":0}]
[1,{"$f":"'w-E_R'!B56","v":"W8/05-Regel"},{"$f":"'w-E_R'!D56","v":0},{"$f":"'w-E_R'!F56","v":0},{"$f":"'w-E_R'!G56","v":0},{"$f":"'w-E_R'!H56","v":0},{"$f":"'w-E_R'!I56","v":0},{"$f":"'w-E_R'!J56","v":0},{"$f":"'w-E_R'!K56","v":0},{"$f":"'w-E_R'!L56","v":0},{"$f":"'w-E_R'!M56","v":0},{"$f":"'w-E_R'!P56","v":0},1,{"$f":"'m-E_R'!B56","v":"M8/05-Regel"},{"$f":"'m-E_R'!D56","v":0},{"$f":"'m-E_R'!F56","v":0},{"$f":"'m-E_R'!G56","v":0},{"$f":"'m-E_R'!H56","v":0},{"$f":"'m-E_R'!I56","v":0},{"$f":"'m-E_R'!J56","v":0},{"$f":"'m-E_R'!K56","v":0},{"$f":"'m-E_R'!L56","v":0},{"$f":"'m-E_R'!M56","v":0},{"$f":"'m-E_R'!P56","v":0}]
[1,{"$f":"'w-E_R'!B57","v":"W8/06-Regel"},{"$f":"'w-E_R'!D57","v":0},{"$f":"'w-E_R'!F57","v":0},{"$f":"'w-E_R'!G57","v":0},{"$f":"'w-E_R'!H57","v":0},{"$f":"'w-E_R'!I57","v":0},{"$f":"'w-E_R'!J57","v":0},{"$f":"'w-E_R'!K57","v":0},{"$f":"'w-E_R'!L57","v":0},{"$f":"'w-E_R'!M57","v":0},{"$f":"'w-E_R'!P57","v":0},1,{"$f":"'m-E_R'!B57","v":"M8/06-Regel"},{"$f":"'m-E_R'!D57","v":0},{"$f":"'m-E_R'!F57","v":0},{"$f":"'m-E_R'!G57","v":0},{"$f":"'m-E_R'!H57","v":0},{"$f":"'m-E_R'!I57","v":0},{"$f":"'m-E_R'!J57","v":0},{"$f":"'m-E_R'!K57","v":0},{"$f":"'m-E_R'!L57","v":0},{"$f":"'m-E_R'!M57","v":0},{"$f":"'m-E_R'!P57","v":0}]
[1,{"$f":"'w-E_R'!B59","v":"W9/01-Regel"},{"$f":"'w-E_R'!D59","v":0},{"$f":"'w-E_R'!F59","v":0},{"$f":"'w-E_R'!G59","v":0},{"$f":"'w-E_R'!H59","v":0},{"$f":"'w-E_R'!I59","v":0},{"$f":"'w-E_R'!J59","v":0},{"$f":"'w-E_R'!K59","v":0},{"$f":"'w-E_R'!L59","v":0},{"$f":"'w-E_R'!M59","v":0},{"$f":"'w-E_R'!P59","v":0},1,{"$f":"'m-E_R'!B59","v":"M9/01-Regel"},{"$f":"'m-E_R'!D59","v":0},{"$f":"'m-E_R'!F59","v":0},{"$f":"'m-E_R'!G59","v":0},{"$f":"'m-E_R'!H59","v":0},{"$f":"'m-E_R'!I59","v":0},{"$f":"'m-E_R'!J59","v":0},{"$f":"'m-E_R'!K59","v":0},{"$f":"'m-E_R'!L59","v":0},{"$f":"'m-E_R'!M59","v":0},{"$f":"'m-E_R'!P59","v":0}]
[1,{"$f":"'w-E_R'!B60","v":"W9/02-Regel"},{"$f":"'w-E_R'!D60","v":0},{"$f":"'w-E_R'!F60","v":0},{"$f":"'w-E_R'!G60","v":0},{"$f":"'w-E_R'!H60","v":0},{"$f":"'w-E_R'!I60","v":0},{"$f":"'w-E_R'!J60","v":0},{"$f":"'w-E_R'!K60","v":0},{"$f":"'w-E_R'!L60","v":0},{"$f":"'w-E_R'!M60","v":0},{"$f":"'w-E_R'!P60","v":0},1,{"$f":"'m-E_R'!B60","v":"M9/02-Regel"},{"$f":"'m-E_R'!D60","v":0},{"$f":"'m-E_R'!F60","v":0},{"$f":"'m-E_R'!G60","v":0},{"$f":"'m-E_R'!H60","v":0},{"$f":"'m-E_R'!I60","v":0},{"$f":"'m-E_R'!J60","v":0},{"$f":"'m-E_R'!K60","v":0},{"$f":"'m-E_R'!L60","v":0},{"$f":"'m-E_R'!M60","v":0},{"$f":"'m-E_R'!P60","v":0}]
[1,{"$f":"'w-E_R'!B61","v":"W9/03-Regel"},{"$f":"'w-E_R'!D61","v":0},{"$f":"'w-E_R'!F61","v":0},{"$f":"'w-E_R'!G61","v":0},{"$f":"'w-E_R'!H61","v":0},{"$f":"'w-E_R'!I61","v":0},{"$f":"'w-E_R'!J61","v":0},{"$f":"'w-E_R'!K61","v":0},{"$f":"'w-E_R'!L61","v":0},{"$f":"'w-E_R'!M61","v":0},{"$f":"'w-E_R'!P61","v":0},1,{"$f":"'m-E_R'!B61","v":"M9/03-Regel"},{"$f":"'m-E_R'!D61","v":0},{"$f":"'m-E_R'!F61","v":0},{"$f":"'m-E_R'!G61","v":0},{"$f":"'m-E_R'!H61","v":0},{"$f":"'m-E_R'!I61","v":0},{"$f":"'m-E_R'!J61","v":0},{"$f":"'m-E_R'!K61","v":0},{"$f":"'m-E_R'!L61","v":0},{"$f":"'m-E_R'!M61","v":0},{"$f":"'m-E_R'!P61","v":0}]
[1,{"$f":"'w-E_R'!B62","v":"W9/04-Regel"},{"$f":"'w-E_R'!D62","v":0},{"$f":"'w-E_R'!F62","v":0},{"$f":"'w-E_R'!G62","v":0},{"$f":"'w-E_R'!H62","v":0},{"$f":"'w-E_R'!I62","v":0},{"$f":"'w-E_R'!J62","v":0},{"$f":"'w-E_R'!K62","v":0},{"$f":"'w-E_R'!L62","v":0},{"$f":"'w-E_R'!M62","v":0},{"$f":"'w-E_R'!P62","v":0},1,{"$f":"'m-E_R'!B62","v":"M9/04-Regel"},{"$f":"'m-E_R'!D62","v":0},{"$f":"'m-E_R'!F62","v":0},{"$f":"'m-E_R'!G62","v":0},{"$f":"'m-E_R'!H62","v":0},{"$f":"'m-E_R'!I62","v":0},{"$f":"'m-E_R'!J62","v":0},{"$f":"'m-E_R'!K62","v":0},{"$f":"'m-E_R'!L62","v":0},{"$f":"'m-E_R'!M62","v":0},{"$f":"'m-E_R'!P62","v":0}]
[1,{"$f":"'w-E_R'!B63","v":"W9/05-Regel"},{"$f":"'w-E_R'!D63","v":0},{"$f":"'w-E_R'!F63","v":0},{"$f":"'w-E_R'!G63","v":0},{"$f":"'w-E_R'!H63","v":0},{"$f":"'w-E_R'!I63","v":0},{"$f":"'w-E_R'!J63","v":0},{"$f":"'w-E_R'!K63","v":0},{"$f":"'w-E_R'!L63","v":0},{"$f":"'w-E_R'!M63","v":0},{"$f":"'w-E_R'!P63","v":0},1,{"$f":"'m-E_R'!B63","v":"M9/05-Regel"},{"$f":"'m-E_R'!D63","v":0},{"$f":"'m-E_R'!F63","v":0},{"$f":"'m-E_R'!G63","v":0},{"$f":"'m-E_R'!H63","v":0},{"$f":"'m-E_R'!I63","v":0},{"$f":"'m-E_R'!J63","v":0},{"$f":"'m-E_R'!K63","v":0},{"$f":"'m-E_R'!L63","v":0},{"$f":"'m-E_R'!M63","v":0},{"$f":"'m-E_R'!P63","v":0}]
[1,{"$f":"'w-E_R'!B64","v":"W9/06-Regel"},{"$f":"'w-E_R'!D64","v":0},{"$f":"'w-E_R'!F64","v":0},{"$f":"'w-E_R'!G64","v":0},{"$f":"'w-E_R'!H64","v":0},{"$f":"'w-E_R'!I64","v":0},{"$f":"'w-E_R'!J64","v":0},{"$f":"'w-E_R'!K64","v":0},{"$f":"'w-E_R'!L64","v":0},{"$f":"'w-E_R'!M64","v":0},{"$f":"'w-E_R'!P64","v":0},1,{"$f":"'m-E_R'!B64","v":"M9/06-Regel"},{"$f":"'m-E_R'!D64","v":0},{"$f":"'m-E_R'!F64","v":0},{"$f":"'m-E_R'!G64","v":0},{"$f":"'m-E_R'!H64","v":0},{"$f":"'m-E_R'!I64","v":0},{"$f":"'m-E_R'!J64","v":0},{"$f":"'m-E_R'!K64","v":0},{"$f":"'m-E_R'!L64","v":0},{"$f":"'m-E_R'!M64","v":0},{"$f":"'m-E_R'!P64","v":0}]
[1,{"$f":"'w-E_R'!B66","v":"W10/01-Regel"},{"$f":"'w-E_R'!D66","v":0},{"$f":"'w-E_R'!F66","v":0},{"$f":"'w-E_R'!G66","v":0},{"$f":"'w-E_R'!H66","v":0},{"$f":"'w-E_R'!I66","v":0},{"$f":"'w-E_R'!J66","v":0},{"$f":"'w-E_R'!K66","v":0},{"$f":"'w-E_R'!L66","v":0},{"$f":"'w-E_R'!M66","v":0},{"$f":"'w-E_R'!P66","v":0},1,{"$f":"'m-E_R'!B66","v":"M10/01-Regel"},{"$f":"'m-E_R'!D66","v":0},{"$f":"'m-E_R'!F66","v":0},{"$f":"'m-E_R'!G66","v":0},{"$f":"'m-E_R'!H66","v":0},{"$f":"'m-E_R'!I66","v":0},{"$f":"'m-E_R'!J66","v":0},{"$f":"'m-E_R'!K66","v":0},{"$f":"'m-E_R'!L66","v":0},{"$f":"'m-E_R'!M66","v":0},{"$f":"'m-E_R'!P66","v":0}]
[1,{"$f":"'w-E_R'!B67","v":"W10/02-Regel"},{"$f":"'w-E_R'!D67","v":0},{"$f":"'w-E_R'!F67","v":0},{"$f":"'w-E_R'!G67","v":0},{"$f":"'w-E_R'!H67","v":0},{"$f":"'w-E_R'!I67","v":0},{"$f":"'w-E_R'!J67","v":0},{"$f":"'w-E_R'!K67","v":0},{"$f":"'w-E_R'!L67","v":0},{"$f":"'w-E_R'!M67","v":0},{"$f":"'w-E_R'!P67","v":0},1,{"$f":"'m-E_R'!B67","v":"M10/02-Regel"},{"$f":"'m-E_R'!D67","v":0},{"$f":"'m-E_R'!F67","v":0},{"$f":"'m-E_R'!G67","v":0},{"$f":"'m-E_R'!H67","v":0},{"$f":"'m-E_R'!I67","v":0},{"$f":"'m-E_R'!J67","v":0},{"$f":"'m-E_R'!K67","v":0},{"$f":"'m-E_R'!L67","v":0},{"$f":"'m-E_R'!M67","v":0},{"$f":"'m-E_R'!P67","v":0}]
[1,{"$f":"'w-E_R'!B68","v":"W10/03-Regel"},{"$f":"'w-E_R'!D68","v":0},{"$f":"'w-E_R'!F68","v":0},{"$f":"'w-E_R'!G68","v":0},{"$f":"'w-E_R'!H68","v":0},{"$f":"'w-E_R'!I68","v":0},{"$f":"'w-E_R'!J68","v":0},{"$f":"'w-E_R'!K68","v":0},{"$f":"'w-E_R'!L68","v":0},{"$f":"'w-E_R'!M68","v":0},{"$f":"'w-E_R'!P68","v":0},1,{"$f":"'m-E_R'!B68","v":"M10/03-Regel"},{"$f":"'m-E_R'!D68","v":0},{"$f":"'m-E_R'!F68","v":0},{"$f":"'m-E_R'!G68","v":0},{"$f":"'m-E_R'!H68","v":0},{"$f":"'m-E_R'!I68","v":0},{"$f":"'m-E_R'!J68","v":0},{"$f":"'m-E_R'!K68","v":0},{"$f":"'m-E_R'!L68","v":0},{"$f":"'m-E_R'!M68","v":0},{"$f":"'m-E_R'!P68","v":0}]
[1,{"$f":"'w-E_R'!B69","v":"W10/04-Regel"},{"$f":"'w-E_R'!D69","v":0},{"$f":"'w-E_R'!F69","v":0},{"$f":"'w-E_R'!G69","v":0},{"$f":"'w-E_R'!H69","v":0},{"$f":"'w-E_R'!I69","v":0},{"$f":"'w-E_R'!J69","v":0},{"$f":"'w-E_R'!K69","v":0},{"$f":"'w-E_R'!L69","v":0},{"$f":"'w-E_R'!M69","v":0},{"$f":"'w-E_R'!P69","v":0},1,{"$f":"'m-E_R'!B69","v":"M10/04-Regel"},{"$f":"'m-E_R'!D69","v":0},{"$f":"'m-E_R'!F69","v":0},{"$f":"'m-E_R'!G69","v":0},{"$f":"'m-E_R'!H69","v":0},{"$f":"'m-E_R'!I69","v":0},{"$f":"'m-E_R'!J69","v":0},{"$f":"'m-E_R'!K69","v":0},{"$f":"'m-E_R'!L69","v":0},{"$f":"'m-E_R'!M69","v":0},{"$f":"'m-E_R'!P69","v":0}]
[1,{"$f":"'w-E_R'!B70","v":"W10/05-Regel"},{"$f":"'w-E_R'!D70","v":0},{"$f":"'w-E_R'!F70","v":0},{"$f":"'w-E_R'!G70","v":0},{"$f":"'w-E_R'!H70","v":0},{"$f":"'w-E_R'!I70","v":0},{"$f":"'w-E_R'!J70","v":0},{"$f":"'w-E_R'!K70","v":0},{"$f":"'w-E_R'!L70","v":0},{"$f":"'w-E_R'!M70","v":0},{"$f":"'w-E_R'!P70","v":0},1,{"$f":"'m-E_R'!B70","v":"M10/05-Regel"},{"$f":"'m-E_R'!D70","v":0},{"$f":"'m-E_R'!F70","v":0},{"$f":"'m-E_R'!G70","v":0},{"$f":"'m-E_R'!H70","v":0},{"$f":"'m-E_R'!I70","v":0},{"$f":"'m-E_R'!J70","v":0},{"$f":"'m-E_R'!K70","v":0},{"$f":"'m-E_R'!L70","v":0},{"$f":"'m-E_R'!M70","v":0},{"$f":"'m-E_R'!P70","v":0}]
[1,{"$f":"'w-E_R'!B71","v":"W10/06-Regel"},{"$f":"'w-E_R'!D71","v":0},{"$f":"'w-E_R'!F71","v":0},{"$f":"'w-E_R'!G71","v":0},{"$f":"'w-E_R'!H71","v":0},{"$f":"'w-E_R'!I71","v":0},{"$f":"'w-E_R'!J71","v":0},{"$f":"'w-E_R'!K71","v":0},{"$f":"'w-E_R'!L71","v":0},{"$f":"'w-E_R'!M71","v":0},{"$f":"'w-E_R'!P71","v":0},1,{"$f":"'m-E_R'!B71","v":"M10/06-Regel"},{"$f":"'m-E_R'!D71","v":0},{"$f":"'m-E_R'!F71","v":0},{"$f":"'m-E_R'!G71","v":0},{"$f":"'m-E_R'!H71","v":0},{"$f":"'m-E_R'!I71","v":0},{"$f":"'m-E_R'!J71","v":0},{"$f":"'m-E_R'!K71","v":0},{"$f":"'m-E_R'!L71","v":0},{"$f":"'m-E_R'!M71","v":0},{"$f":"'m-E_R'!P71","v":0}]
[1,{"$f":"'w-E_R'!B73","v":"W11/01-Regel"},{"$f":"'w-E_R'!D73","v":0},{"$f":"'w-E_R'!F73","v":0},{"$f":"'w-E_R'!G73","v":0},{"$f":"'w-E_R'!H73","v":0},{"$f":"'w-E_R'!I73","v":0},{"$f":"'w-E_R'!J73","v":0},{"$f":"'w-E_R'!K73","v":0},{"$f":"'w-E_R'!L73","v":0},{"$f":"'w-E_R'!M73","v":0},{"$f":"'w-E_R'!P73","v":0},1,{"$f":"'m-E_R'!B73","v":"M11/01-Regel"},{"$f":"'m-E_R'!D73","v":0},{"$f":"'m-E_R'!F73","v":0},{"$f":"'m-E_R'!G73","v":0},{"$f":"'m-E_R'!H73","v":0},{"$f":"'m-E_R'!I73","v":0},{"$f":"'m-E_R'!J73","v":0},{"$f":"'m-E_R'!K73","v":0},{"$f":"'m-E_R'!L73","v":0},{"$f":"'m-E_R'!M73","v":0},{"$f":"'m-E_R'!P73","v":0}]
[1,{"$f":"'w-E_R'!B74","v":"W11/02-Regel"},{"$f":"'w-E_R'!D74","v":0},{"$f":"'w-E_R'!F74","v":0},{"$f":"'w-E_R'!G74","v":0},{"$f":"'w-E_R'!H74","v":0},{"$f":"'w-E_R'!I74","v":0},{"$f":"'w-E_R'!J74","v":0},{"$f":"'w-E_R'!K74","v":0},{"$f":"'w-E_R'!L74","v":0},{"$f":"'w-E_R'!M74","v":0},{"$f":"'w-E_R'!P74","v":0},1,{"$f":"'m-E_R'!B74","v":"M11/02-Regel"},{"$f":"'m-E_R'!D74","v":0},{"$f":"'m-E_R'!F74","v":0},{"$f":"'m-E_R'!G74","v":0},{"$f":"'m-E_R'!H74","v":0},{"$f":"'m-E_R'!I74","v":0},{"$f":"'m-E_R'!J74","v":0},{"$f":"'m-E_R'!K74","v":0},{"$f":"'m-E_R'!L74","v":0},{"$f":"'m-E_R'!M74","v":0},{"$f":"'m-E_R'!P74","v":0}]
[1,{"$f":"'w-E_R'!B75","v":"W11/03-Regel"},{"$f":"'w-E_R'!D75","v":0},{"$f":"'w-E_R'!F75","v":0},{"$f":"'w-E_R'!G75","v":0},{"$f":"'w-E_R'!H75","v":0},{"$f":"'w-E_R'!I75","v":0},{"$f":"'w-E_R'!J75","v":0},{"$f":"'w-E_R'!K75","v":0},{"$f":"'w-E_R'!L75","v":0},{"$f":"'w-E_R'!M75","v":0},{"$f":"'w-E_R'!P75","v":0},1,{"$f":"'m-E_R'!B75","v":"M11/03-Regel"},{"$f":"'m-E_R'!D75","v":0},{"$f":"'m-E_R'!F75","v":0},{"$f":"'m-E_R'!G75","v":0},{"$f":"'m-E_R'!H75","v":0},{"$f":"'m-E_R'!I75","v":0},{"$f":"'m-E_R'!J75","v":0},{"$f":"'m-E_R'!K75","v":0},{"$f":"'m-E_R'!L75","v":0},{"$f":"'m-E_R'!M75","v":0},{"$f":"'m-E_R'!P75","v":0}]
[1,{"$f":"'w-E_R'!B76","v":"W11/04-Regel"},{"$f":"'w-E_R'!D76","v":0},{"$f":"'w-E_R'!F76","v":0},{"$f":"'w-E_R'!G76","v":0},{"$f":"'w-E_R'!H76","v":0},{"$f":"'w-E_R'!I76","v":0},{"$f":"'w-E_R'!J76","v":0},{"$f":"'w-E_R'!K76","v":0},{"$f":"'w-E_R'!L76","v":0},{"$f":"'w-E_R'!M76","v":0},{"$f":"'w-E_R'!P76","v":0},1,{"$f":"'m-E_R'!B76","v":"M11/04-Regel"},{"$f":"'m-E_R'!D76","v":0},{"$f":"'m-E_R'!F76","v":0},{"$f":"'m-E_R'!G76","v":0},{"$f":"'m-E_R'!H76","v":0},{"$f":"'m-E_R'!I76","v":0},{"$f":"'m-E_R'!J76","v":0},{"$f":"'m-E_R'!K76","v":0},{"$f":"'m-E_R'!L76","v":0},{"$f":"'m-E_R'!M76","v":0},{"$f":"'m-E_R'!P76","v":0}]
[{"$f":"RANK(L68,$L$4:$L$123,0)","v":1},{"$f":"'w-E_R'!B77","v":"W11/05-Regel"},{"$f":"'w-E_R'!D77","v":0},{"$f":"'w-E_R'!F77","v":0},{"$f":"'w-E_R'!G77","v":0},{"$f":"'w-E_R'!H77","v":0},{"$f":"'w-E_R'!I77","v":0},{"$f":"'w-E_R'!J77","v":0},{"$f":"'w-E_R'!K77","v":0},{"$f":"'w-E_R'!L77","v":0},{"$f":"'w-E_R'!M77","v":0},{"$f":"'w-E_R'!P77","v":0},{"$f":"RANK(X68,$X$4:$X$123,0)","v":1},{"$f":"'m-E_R'!B77","v":"M11/05-Regel"},{"$f":"'m-E_R'!D77","v":0},{"$f":"'m-E_R'!F77","v":0},{"$f":"'m-E_R'!G77","v":0},{"$f":"'m-E_R'!H77","v":0},{"$f":"'m-E_R'!I77","v":0},{"$f":"'m-E_R'!J77","v":0},{"$f":"'m-E_R'!K77","v":0},{"$f":"'m-E_R'!L77","v":0},{"$f":"'m-E_R'!M77","v":0},{"$f":"'m-E_R'!P77","v":0}]
[1,{"$f":"'w-E_R'!B78","v":"W11/06-Regel"},{"$f":"'w-E_R'!D78","v":0},{"$f":"'w-E_R'!F78","v":0},{"$f":"'w-E_R'!G78","v":0},{"$f":"'w-E_R'!H78","v":0},{"$f":"'w-E_R'!I78","v":0},{"$f":"'w-E_R'!J78","v":0},{"$f":"'w-E_R'!K78","v":0},{"$f":"'w-E_R'!L78","v":0},{"$f":"'w-E_R'!M78","v":0},{"$f":"'w-E_R'!P78","v":0},1,{"$f":"'m-E_R'!B78","v":"M11/06-Regel"},{"$f":"'m-E_R'!D78","v":0},{"$f":"'m-E_R'!F78","v":0},{"$f":"'m-E_R'!G78","v":0},{"$f":"'m-E_R'!H78","v":0},{"$f":"'m-E_R'!I78","v":0},{"$f":"'m-E_R'!J78","v":0},{"$f":"'m-E_R'!K78","v":0},{"$f":"'m-E_R'!L78","v":0},{"$f":"'m-E_R'!M78","v":0},{"$f":"'m-E_R'!P78","v":0}]
[1,{"$f":"'w-E_R'!B80","v":"W12/01-Regel"},{"$f":"'w-E_R'!D80","v":0},{"$f":"'w-E_R'!F80","v":0},{"$f":"'w-E_R'!G80","v":0},{"$f":"'w-E_R'!H80","v":0},{"$f":"'w-E_R'!I80","v":0},{"$f":"'w-E_R'!J80","v":0},{"$f":"'w-E_R'!K80","v":0},{"$f":"'w-E_R'!L80","v":0},{"$f":"'w-E_R'!M80","v":0},{"$f":"'w-E_R'!P80","v":0},1,{"$f":"'m-E_R'!B80","v":"M12/01-Regel"},{"$f":"'m-E_R'!D80","v":0},{"$f":"'m-E_R'!F80","v":0},{"$f":"'m-E_R'!G80","v":0},{"$f":"'m-E_R'!H80","v":0},{"$f":"'m-E_R'!I80","v":0},{"$f":"'m-E_R'!J80","v":0},{"$f":"'m-E_R'!K80","v":0},{"$f":"'m-E_R'!L80","v":0},{"$f":"'m-E_R'!M80","v":0},{"$f":"'m-E_R'!P80","v":0}]
[1,{"$f":"'w-E_R'!B81","v":"W12/02-Regel"},{"$f":"'w-E_R'!D81","v":0},{"$f":"'w-E_R'!F81","v":0},{"$f":"'w-E_R'!G81","v":0},{"$f":"'w-E_R'!H81","v":0},{"$f":"'w-E_R'!I81","v":0},{"$f":"'w-E_R'!J81","v":0},{"$f":"'w-E_R'!K81","v":0},{"$f":"'w-E_R'!L81","v":0},{"$f":"'w-E_R'!M81","v":0},{"$f":"'w-E_R'!P81","v":0},1,{"$f":"'m-E_R'!B81","v":"M12/02-Regel"},{"$f":"'m-E_R'!D81","v":0},{"$f":"'m-E_R'!F81","v":0},{"$f":"'m-E_R'!G81","v":0},{"$f":"'m-E_R'!H81","v":0},{"$f":"'m-E_R'!I81","v":0},{"$f":"'m-E_R'!J81","v":0},{"$f":"'m-E_R'!K81","v":0},{"$f":"'m-E_R'!L81","v":0},{"$f":"'m-E_R'!M81","v":0},{"$f":"'m-E_R'!P81","v":0}]
[1,{"$f":"'w-E_R'!B82","v":"W12/03-Regel"},{"$f":"'w-E_R'!D82","v":0},{"$f":"'w-E_R'!F82","v":0},{"$f":"'w-E_R'!G82","v":0},{"$f":"'w-E_R'!H82","v":0},{"$f":"'w-E_R'!I82","v":0},{"$f":"'w-E_R'!J82","v":0},{"$f":"'w-E_R'!K82","v":0},{"$f":"'w-E_R'!L82","v":0},{"$f":"'w-E_R'!M82","v":0},{"$f":"'w-E_R'!P82","v":0},1,{"$f":"'m-E_R'!B82","v":"M12/03-Regel"},{"$f":"'m-E_R'!D82","v":0},{"$f":"'m-E_R'!F82","v":0},{"$f":"'m-E_R'!G82","v":0},{"$f":"'m-E_R'!H82","v":0},{"$f":"'m-E_R'!I82","v":0},{"$f":"'m-E_R'!J82","v":0},{"$f":"'m-E_R'!K82","v":0},{"$f":"'m-E_R'!L82","v":0},{"$f":"'m-E_R'!M82","v":0},{"$f":"'m-E_R'!P82","v":0}]
[1,{"$f":"'w-E_R'!B83","v":"W12/04-Regel"},{"$f":"'w-E_R'!D83","v":0},{"$f":"'w-E_R'!F83","v":0},{"$f":"'w-E_R'!G83","v":0},{"$f":"'w-E_R'!H83","v":0},{"$f":"'w-E_R'!I83","v":0},{"$f":"'w-E_R'!J83","v":0},{"$f":"'w-E_R'!K83","v":0},{"$f":"'w-E_R'!L83","v":0},{"$f":"'w-E_R'!M83","v":0},{"$f":"'w-E_R'!P83","v":0},1,{"$f":"'m-E_R'!B83","v":"M12/04-Regel"},{"$f":"'m-E_R'!D83","v":0},{"$f":"'m-E_R'!F83","v":0},{"$f":"'m-E_R'!G83","v":0},{"$f":"'m-E_R'!H83","v":0},{"$f":"'m-E_R'!I83","v":0},{"$f":"'m-E_R'!J83","v":0},{"$f":"'m-E_R'!K83","v":0},{"$f":"'m-E_R'!L83","v":0},{"$f":"'m-E_R'!M83","v":0},{"$f":"'m-E_R'!P83","v":0}]
[1,{"$f":"'w-E_R'!B84","v":"W12/05-Regel"},{"$f":"'w-E_R'!D84","v":0},{"$f":"'w-E_R'!F84","v":0},{"$f":"'w-E_R'!G84","v":0},{"$f":"'w-E_R'!H84","v":0},{"$f":"'w-E_R'!I84","v":0},{"$f":"'w-E_R'!J84","v":0},{"$f":"'w-E_R'!K84","v":0},{"$f":"'w-E_R'!L84","v":0},{"$f":"'w-E_R'!M84","v":0},{"$f":"'w-E_R'!P84","v":0},1,{"$f":"'m-E_R'!B84","v":"M12/05-Regel"},{"$f":"'m-E_R'!D84","v":0},{"$f":"'m-E_R'!F84","v":0},{"$f":"'m-E_R'!G84","v":0},{"$f":"'m-E_R'!H84","v":0},{"$f":"'m-E_R'!I84","v":0},{"$f":"'m-E_R'!J84","v":0},{"$f":"'m-E_R'!K84","v":0},{"$f":"'m-E_R'!L84","v":0},{"$f":"'m-E_R'!M84","v":0},{"$f":"'m-E_R'!P84","v":0}]
[1,{"$f":"'w-E_R'!B85","v":"W12/06-Regel"},{"$f":"'w-E_R'!D85","v":0},{"$f":"'w-E_R'!F85","v":0},{"$f":"'w-E_R'!G85","v":0},{"$f":"'w-E_R'!H85","v":0},{"$f":"'w-E_R'!I85","v":0},{"$f":"'w-E_R'!J85","v":0},{"$f":"'w-E_R'!K85","v":0},{"$f":"'w-E_R'!L85","v":0},{"$f":"'w-E_R'!M85","v":0},{"$f":"'w-E_R'!P85","v":0},1,{"$f":"'m-E_R'!B85","v":"M12/06-Regel"},{"$f":"'m-E_R'!D85","v":0},{"$f":"'m-E_R'!F85","v":0},{"$f":"'m-E_R'!G85","v":0},{"$f":"'m-E_R'!H85","v":0},{"$f":"'m-E_R'!I85","v":0},{"$f":"'m-E_R'!J85","v":0},{"$f":"'m-E_R'!K85","v":0},{"$f":"'m-E_R'!L85","v":0},{"$f":"'m-E_R'!M85","v":0},{"$f":"'m-E_R'!P85","v":0}]
[1,{"$f":"'w-E_R'!B87","v":"W13/01-Regel"},{"$f":"'w-E_R'!D87","v":0},{"$f":"'w-E_R'!F87","v":0},{"$f":"'w-E_R'!G87","v":0},{"$f":"'w-E_R'!H87","v":0},{"$f":"'w-E_R'!I87","v":0},{"$f":"'w-E_R'!J87","v":0},{"$f":"'w-E_R'!K87","v":0},{"$f":"'w-E_R'!L87","v":0},{"$f":"'w-E_R'!M87","v":0},{"$f":"'w-E_R'!P87","v":0},1,{"$f":"'m-E_R'!B87","v":"M13/01-Regel"},{"$f":"'m-E_R'!D87","v":0},{"$f":"'m-E_R'!F87","v":0},{"$f":"'m-E_R'!G87","v":0},{"$f":"'m-E_R'!H87","v":0},{"$f":"'m-E_R'!I87","v":0},{"$f":"'m-E_R'!J87","v":0},{"$f":"'m-E_R'!K87","v":0},{"$f":"'m-E_R'!L87","v":0},{"$f":"'m-E_R'!M87","v":0},{"$f":"'m-E_R'!P87","v":0}]
[1,{"$f":"'w-E_R'!B88","v":"W13/02-Regel"},{"$f":"'w-E_R'!D88","v":0},{"$f":"'w-E_R'!F88","v":0},{"$f":"'w-E_R'!G88","v":0},{"$f":"'w-E_R'!H88","v":0},{"$f":"'w-E_R'!I88","v":0},{"$f":"'w-E_R'!J88","v":0},{"$f":"'w-E_R'!K88","v":0},{"$f":"'w-E_R'!L88","v":0},{"$f":"'w-E_R'!M88","v":0},{"$f":"'w-E_R'!P88","v":0},1,{"$f":"'m-E_R'!B88","v":"M13/02-Regel"},{"$f":"'m-E_R'!D88","v":0},{"$f":"'m-E_R'!F88","v":0},{"$f":"'m-E_R'!G88","v":0},{"$f":"'m-E_R'!H88","v":0},{"$f":"'m-E_R'!I88","v":0},{"$f":"'m-E_R'!J88","v":0},{"$f":"'m-E_R'!K88","v":0},{"$f":"'m-E_R'!L88","v":0},{"$f":"'m-E_R'!M88","v":0},{"$f":"'m-E_R'!P88","v":0}]
[1,{"$f":"'w-E_R'!B89","v":"W13/03-Regel"},{"$f":"'w-E_R'!D89","v":0},{"$f":"'w-E_R'!F89","v":0},{"$f":"'w-E_R'!G89","v":0},{"$f":"'w-E_R'!H89","v":0},{"$f":"'w-E_R'!I89","v":0},{"$f":"'w-E_R'!J89","v":0},{"$f":"'w-E_R'!K89","v":0},{"$f":"'w-E_R'!L89","v":0},{"$f":"'w-E_R'!M89","v":0},{"$f":"'w-E_R'!P89","v":0},1,{"$f":"'m-E_R'!B89","v":"M13/03-Regel"},{"$f":"'m-E_R'!D89","v":0},{"$f":"'m-E_R'!F89","v":0},{"$f":"'m-E_R'!G89","v":0},{"$f":"'m-E_R'!H89","v":0},{"$f":"'m-E_R'!I89","v":0},{"$f":"'m-E_R'!J89","v":0},{"$f":"'m-E_R'!K89","v":0},{"$f":"'m-E_R'!L89","v":0},{"$f":"'m-E_R'!M89","v":0},{"$f":"'m-E_R'!P89","v":0}]
[1,{"$f":"'w-E_R'!B90","v":"W13/04-Regel"},{"$f":"'w-E_R'!D90","v":0},{"$f":"'w-E_R'!F90","v":0},{"$f":"'w-E_R'!G90","v":0},{"$f":"'w-E_R'!H90","v":0},{"$f":"'w-E_R'!I90","v":0},{"$f":"'w-E_R'!J90","v":0},{"$f":"'w-E_R'!K90","v":0},{"$f":"'w-E_R'!L90","v":0},{"$f":"'w-E_R'!M90","v":0},{"$f":"'w-E_R'!P90","v":0},1,{"$f":"'m-E_R'!B90","v":"M13/04-Regel"},{"$f":"'m-E_R'!D90","v":0},{"$f":"'m-E_R'!F90","v":0},{"$f":"'m-E_R'!G90","v":0},{"$f":"'m-E_R'!H90","v":0},{"$f":"'m-E_R'!I90","v":0},{"$f":"'m-E_R'!J90","v":0},{"$f":"'m-E_R'!K90","v":0},{"$f":"'m-E_R'!L90","v":0},{"$f":"'m-E_R'!M90","v":0},{"$f":"'m-E_R'!P90","v":0}]
[1,{"$f":"'w-E_R'!B91","v":"W13/05-Regel"},{"$f":"'w-E_R'!D91","v":0},{"$f":"'w-E_R'!F91","v":0},{"$f":"'w-E_R'!G91","v":0},{"$f":"'w-E_R'!H91","v":0},{"$f":"'w-E_R'!I91","v":0},{"$f":"'w-E_R'!J91","v":0},{"$f":"'w-E_R'!K91","v":0},{"$f":"'w-E_R'!L91","v":0},{"$f":"'w-E_R'!M91","v":0},{"$f":"'w-E_R'!P91","v":0},1,{"$f":"'m-E_R'!B91","v":"M13/05-Regel"},{"$f":"'m-E_R'!D91","v":0},{"$f":"'m-E_R'!F91","v":0},{"$f":"'m-E_R'!G91","v":0},{"$f":"'m-E_R'!H91","v":0},{"$f":"'m-E_R'!I91","v":0},{"$f":"'m-E_R'!J91","v":0},{"$f":"'m-E_R'!K91","v":0},{"$f":"'m-E_R'!L91","v":0},{"$f":"'m-E_R'!M91","v":0},{"$f":"'m-E_R'!P91","v":0}]
[1,{"$f":"'w-E_R'!B92","v":"W13/06-Regel"},{"$f":"'w-E_R'!D92","v":0},{"$f":"'w-E_R'!F92","v":0},{"$f":"'w-E_R'!G92","v":0},{"$f":"'w-E_R'!H92","v":0},{"$f":"'w-E_R'!I92","v":0},{"$f":"'w-E_R'!J92","v":0},{"$f":"'w-E_R'!K92","v":0},{"$f":"'w-E_R'!L92","v":0},{"$f":"'w-E_R'!M92","v":0},{"$f":"'w-E_R'!P92","v":0},1,{"$f":"'m-E_R'!B92","v":"M13/06-Regel"},{"$f":"'m-E_R'!D92","v":0},{"$f":"'m-E_R'!F92","v":0},{"$f":"'m-E_R'!G92","v":0},{"$f":"'m-E_R'!H92","v":0},{"$f":"'m-E_R'!I92","v":0},{"$f":"'m-E_R'!J92","v":0},{"$f":"'m-E_R'!K92","v":0},{"$f":"'m-E_R'!L92","v":0},{"$f":"'m-E_R'!M92","v":0},{"$f":"'m-E_R'!P92","v":0}]
[1,{"$f":"'w-E_R'!B94","v":"W14/01-Regel"},{"$f":"'w-E_R'!D94","v":0},{"$f":"'w-E_R'!F94","v":0},{"$f":"'w-E_R'!G94","v":0},{"$f":"'w-E_R'!H94","v":0},{"$f":"'w-E_R'!I94","v":0},{"$f":"'w-E_R'!J94","v":0},{"$f":"'w-E_R'!K94","v":0},{"$f":"'w-E_R'!L94","v":0},{"$f":"'w-E_R'!M94","v":0},{"$f":"'w-E_R'!P94","v":0},1,{"$f":"'m-E_R'!B94","v":"M14/01-Regel"},{"$f":"'m-E_R'!D94","v":0},{"$f":"'m-E_R'!F94","v":0},{"$f":"'m-E_R'!G94","v":0},{"$f":"'m-E_R'!H94","v":0},{"$f":"'m-E_R'!I94","v":0},{"$f":"'m-E_R'!J94","v":0},{"$f":"'m-E_R'!K94","v":0},{"$f":"'m-E_R'!L94","v":0},{"$f":"'m-E_R'!M94","v":0},{"$f":"'m-E_R'!P94","v":0}]
[1,{"$f":"'w-E_R'!B95","v":"W14/02-Regel"},{"$f":"'w-E_R'!D95","v":0},{"$f":"'w-E_R'!F95","v":0},{"$f":"'w-E_R'!G95","v":0},{"$f":"'w-E_R'!H95","v":0},{"$f":"'w-E_R'!I95","v":0},{"$f":"'w-E_R'!J95","v":0},{"$f":"'w-E_R'!K95","v":0},{"$f":"'w-E_R'!L95","v":0},{"$f":"'w-E_R'!M95","v":0},{"$f":"'w-E_R'!P95","v":0},1,{"$f":"'m-E_R'!B95","v":"M14/02-Regel"},{"$f":"'m-E_R'!D95","v":0},{"$f":"'m-E_R'!F95","v":0},{"$f":"'m-E_R'!G95","v":0},{"$f":"'m-E_R'!H95","v":0},{"$f":"'m-E_R'!I95","v":0},{"$f":"'m-E_R'!J95","v":0},{"$f":"'m-E_R'!K95","v":0},{"$f":"'m-E_R'!L95","v":0},{"$f":"'m-E_R'!M95","v":0},{"$f":"'m-E_R'!P95","v":0}]
[1,{"$f":"'w-E_R'!B96","v":"W14/03-Regel"},{"$f":"'w-E_R'!D96","v":0},{"$f":"'w-E_R'!F96","v":0},{"$f":"'w-E_R'!G96","v":0},{"$f":"'w-E_R'!H96","v":0},{"$f":"'w-E_R'!I96","v":0},{"$f":"'w-E_R'!J96","v":0},{"$f":"'w-E_R'!K96","v":0},{"$f":"'w-E_R'!L96","v":0},{"$f":"'w-E_R'!M96","v":0},{"$f":"'w-E_R'!P96","v":0},1,{"$f":"'m-E_R'!B96","v":"M14/03-Regel"},{"$f":"'m-E_R'!D96","v":0},{"$f":"'m-E_R'!F96","v":0},{"$f":"'m-E_R'!G96","v":0},{"$f":"'m-E_R'!H96","v":0},{"$f":"'m-E_R'!I96","v":0},{"$f":"'m-E_R'!J96","v":0},{"$f":"'m-E_R'!K96","v":0},{"$f":"'m-E_R'!L96","v":0},{"$f":"'m-E_R'!M96","v":0},{"$f":"'m-E_R'!P96","v":0}]
[1,{"$f":"'w-E_R'!B97","v":"W14/04-Regel"},{"$f":"'w-E_R'!D97","v":0},{"$f":"'w-E_R'!F97","v":0},{"$f":"'w-E_R'!G97","v":0},{"$f":"'w-E_R'!H97","v":0},{"$f":"'w-E_R'!I97","v":0},{"$f":"'w-E_R'!J97","v":0},{"$f":"'w-E_R'!K97","v":0},{"$f":"'w-E_R'!L97","v":0},{"$f":"'w-E_R'!M97","v":0},{"$f":"'w-E_R'!P97","v":0},1,{"$f":"'m-E_R'!B97","v":"M14/04-Regel"},{"$f":"'m-E_R'!D97","v":0},{"$f":"'m-E_R'!F97","v":0},{"$f":"'m-E_R'!G97","v":0},{"$f":"'m-E_R'!H97","v":0},{"$f":"'m-E_R'!I97","v":0},{"$f":"'m-E_R'!J97","v":0},{"$f":"'m-E_R'!K97","v":0},{"$f":"'m-E_R'!L97","v":0},{"$f":"'m-E_R'!M97","v":0},{"$f":"'m-E_R'!P97","v":0}]
[1,{"$f":"'w-E_R'!B98","v":"W14/05-Regel"},{"$f":"'w-E_R'!D98","v":0},{"$f":"'w-E_R'!F98","v":0},{"$f":"'w-E_R'!G98","v":0},{"$f":"'w-E_R'!H98","v":0},{"$f":"'w-E_R'!I98","v":0},{"$f":"'w-E_R'!J98","v":0},{"$f":"'w-E_R'!K98","v":0},{"$f":"'w-E_R'!L98","v":0},{"$f":"'w-E_R'!M98","v":0},{"$f":"'w-E_R'!P98","v":0},1,{"$f":"'m-E_R'!B98","v":"M14/05-Regel"},{"$f":"'m-E_R'!D98","v":0},{"$f":"'m-E_R'!F98","v":0},{"$f":"'m-E_R'!G98","v":0},{"$f":"'m-E_R'!H98","v":0},{"$f":"'m-E_R'!I98","v":0},{"$f":"'m-E_R'!J98","v":0},{"$f":"'m-E_R'!K98","v":0},{"$f":"'m-E_R'!L98","v":0},{"$f":"'m-E_R'!M98","v":0},{"$f":"'m-E_R'!P98","v":0}]
[1,{"$f":"'w-E_R'!B99","v":"W14/06-Regel"},{"$f":"'w-E_R'!D99","v":0},{"$f":"'w-E_R'!F99","v":0},{"$f":"'w-E_R'!G99","v":0},{"$f":"'w-E_R'!H99","v":0},{"$f":"'w-E_R'!I99","v":0},{"$f":"'w-E_R'!J99","v":0},{"$f":"'w-E_R'!K99","v":0},{"$f":"'w-E_R'!L99","v":0},{"$f":"'w-E_R'!M99","v":0},{"$f":"'w-E_R'!P99","v":0},1,{"$f":"'m-E_R'!B99","v":"M14/06-Regel"},{"$f":"'m-E_R'!D99","v":0},{"$f":"'m-E_R'!F99","v":0},{"$f":"'m-E_R'!G99","v":0},{"$f":"'m-E_R'!H99","v":0},{"$f":"'m-E_R'!I99","v":0},{"$f":"'m-E_R'!J99","v":0},{"$f":"'m-E_R'!K99","v":0},{"$f":"'m-E_R'!L99","v":0},{"$f":"'m-E_R'!M99","v":0},{"$f":"'m-E_R'!P99","v":0}]
[1,{"$f":"'w-E_R'!B101","v":"W15/01-Regel"},{"$f":"'w-E_R'!D101","v":0},{"$f":"'w-E_R'!F101","v":0},{"$f":"'w-E_R'!G101","v":0},{"$f":"'w-E_R'!H101","v":0},{"$f":"'w-E_R'!I101","v":0},{"$f":"'w-E_R'!J101","v":0},{"$f":"'w-E_R'!K101","v":0},{"$f":"'w-E_R'!L101","v":0},{"$f":"'w-E_R'!M101","v":0},{"$f":"'w-E_R'!P101","v":0},1,{"$f":"'m-E_R'!B101","v":"M15/01-Regel"},{"$f":"'m-E_R'!D101","v":0},{"$f":"'m-E_R'!F101","v":0},{"$f":"'m-E_R'!G101","v":0},{"$f":"'m-E_R'!H101","v":0},{"$f":"'m-E_R'!I101","v":0},{"$f":"'m-E_R'!J101","v":0},{"$f":"'m-E_R'!K101","v":0},{"$f":"'m-E_R'!L101","v":0},{"$f":"'m-E_R'!M101","v":0},{"$f":"'m-E_R'!P101","v":0}]
[1,{"$f":"'w-E_R'!B102","v":"W15/02-Regel"},{"$f":"'w-E_R'!D102","v":0},{"$f":"'w-E_R'!F102","v":0},{"$f":"'w-E_R'!G102","v":0},{"$f":"'w-E_R'!H102","v":0},{"$f":"'w-E_R'!I102","v":0},{"$f":"'w-E_R'!J102","v":0},{"$f":"'w-E_R'!K102","v":0},{"$f":"'w-E_R'!L102","v":0},{"$f":"'w-E_R'!M102","v":0},{"$f":"'w-E_R'!P102","v":0},1,{"$f":"'m-E_R'!B102","v":"M15/02-Regel"},{"$f":"'m-E_R'!D102","v":0},{"$f":"'m-E_R'!F102","v":0},{"$f":"'m-E_R'!G102","v":0},{"$f":"'m-E_R'!H102","v":0},{"$f":"'m-E_R'!I102","v":0},{"$f":"'m-E_R'!J102","v":0},{"$f":"'m-E_R'!K102","v":0},{"$f":"'m-E_R'!L102","v":0},{"$f":"'m-E_R'!M102","v":0},{"$f":"'m-E_R'!P102","v":0}]
[1,{"$f":"'w-E_R'!B103","v":"W15/03-Regel"},{"$f":"'w-E_R'!D103","v":0},{"$f":"'w-E_R'!F103","v":0},{"$f":"'w-E_R'!G103","v":0},{"$f":"'w-E_R'!H103","v":0},{"$f":"'w-E_R'!I103","v":0},{"$f":"'w-E_R'!J103","v":0},{"$f":"'w-E_R'!K103","v":0},{"$f":"'w-E_R'!L103","v":0},{"$f":"'w-E_R'!M103","v":0},{"$f":"'w-E_R'!P103","v":0},1,{"$f":"'m-E_R'!B103","v":"M15/03-Regel"},{"$f":"'m-E_R'!D103","v":0},{"$f":"'m-E_R'!F103","v":0},{"$f":"'m-E_R'!G103","v":0},{"$f":"'m-E_R'!H103","v":0},{"$f":"'m-E_R'!I103","v":0},{"$f":"'m-E_R'!J103","v":0},{"$f":"'m-E_R'!K103","v":0},{"$f":"'m-E_R'!L103","v":0},{"$f":"'m-E_R'!M103","v":0},{"$f":"'m-E_R'!P103","v":0}]
[1,{"$f":"'w-E_R'!B104","v":"W15/04-Regel"},{"$f":"'w-E_R'!D104","v":0},{"$f":"'w-E_R'!F104","v":0},{"$f":"'w-E_R'!G104","v":0},{"$f":"'w-E_R'!H104","v":0},{"$f":"'w-E_R'!I104","v":0},{"$f":"'w-E_R'!J104","v":0},{"$f":"'w-E_R'!K104","v":0},{"$f":"'w-E_R'!L104","v":0},{"$f":"'w-E_R'!M104","v":0},{"$f":"'w-E_R'!P104","v":0},1,{"$f":"'m-E_R'!B104","v":"M15/04-Regel"},{"$f":"'m-E_R'!D104","v":0},{"$f":"'m-E_R'!F104","v":0},{"$f":"'m-E_R'!G104","v":0},{"$f":"'m-E_R'!H104","v":0},{"$f":"'m-E_R'!I104","v":0},{"$f":"'m-E_R'!J104","v":0},{"$f":"'m-E_R'!K104","v":0},{"$f":"'m-E_R'!L104","v":0},{"$f":"'m-E_R'!M104","v":0},{"$f":"'m-E_R'!P104","v":0}]
[1,{"$f":"'w-E_R'!B105","v":"W15/05-Regel"},{"$f":"'w-E_R'!D105","v":0},{"$f":"'w-E_R'!F105","v":0},{"$f":"'w-E_R'!G105","v":0},{"$f":"'w-E_R'!H105","v":0},{"$f":"'w-E_R'!I105","v":0},{"$f":"'w-E_R'!J105","v":0},{"$f":"'w-E_R'!K105","v":0},{"$f":"'w-E_R'!L105","v":0},{"$f":"'w-E_R'!M105","v":0},{"$f":"'w-E_R'!P105","v":0},1,{"$f":"'m-E_R'!B105","v":"M15/05-Regel"},{"$f":"'m-E_R'!D105","v":0},{"$f":"'m-E_R'!F105","v":0},{"$f":"'m-E_R'!G105","v":0},{"$f":"'m-E_R'!H105","v":0},{"$f":"'m-E_R'!I105","v":0},{"$f":"'m-E_R'!J105","v":0},{"$f":"'m-E_R'!K105","v":0},{"$f":"'m-E_R'!L105","v":0},{"$f":"'m-E_R'!M105","v":0},{"$f":"'m-E_R'!P105","v":0}]
[1,{"$f":"'w-E_R'!B106","v":"W15/06-Regel"},{"$f":"'w-E_R'!D106","v":0},{"$f":"'w-E_R'!F106","v":0},{"$f":"'w-E_R'!G106","v":0},{"$f":"'w-E_R'!H106","v":0},{"$f":"'w-E_R'!I106","v":0},{"$f":"'w-E_R'!J106","v":0},{"$f":"'w-E_R'!K106","v":0},{"$f":"'w-E_R'!L106","v":0},{"$f":"'w-E_R'!M106","v":0},{"$f":"'w-E_R'!P106","v":0},1,{"$f":"'m-E_R'!B106","v":"M15/06-Regel"},{"$f":"'m-E_R'!D106","v":0},{"$f":"'m-E_R'!F106","v":0},{"$f":"'m-E_R'!G106","v":0},{"$f":"'m-E_R'!H106","v":0},{"$f":"'m-E_R'!I106","v":0},{"$f":"'m-E_R'!J106","v":0},{"$f":"'m-E_R'!K106","v":0},{"$f":"'m-E_R'!L106","v":0},{"$f":"'m-E_R'!M106","v":0},{"$f":"'m-E_R'!P106","v":0}]
[1,{"$f":"'w-E_R'!B108","v":"W16/01-Regel"},{"$f":"'w-E_R'!D108","v":0},{"$f":"'w-E_R'!F108","v":0},{"$f":"'w-E_R'!G108","v":0},{"$f":"'w-E_R'!H108","v":0},{"$f":"'w-E_R'!I108","v":0},{"$f":"'w-E_R'!J108","v":0},{"$f":"'w-E_R'!K108","v":0},{"$f":"'w-E_R'!L108","v":0},{"$f":"'w-E_R'!M108","v":0},{"$f":"'w-E_R'!P108","v":0},1,{"$f":"'m-E_R'!B108","v":"M16/01-Regel"},{"$f":"'m-E_R'!D108","v":0},{"$f":"'m-E_R'!F108","v":0},{"$f":"'m-E_R'!G108","v":0},{"$f":"'m-E_R'!H108","v":0},{"$f":"'m-E_R'!I108","v":0},{"$f":"'m-E_R'!J108","v":0},{"$f":"'m-E_R'!K108","v":0},{"$f":"'m-E_R'!L108","v":0},{"$f":"'m-E_R'!M108","v":0},{"$f":"'m-E_R'!P108","v":0}]
[1,{"$f":"'w-E_R'!B109","v":"W16/02-Regel"},{"$f":"'w-E_R'!D109","v":0},{"$f":"'w-E_R'!F109","v":0},{"$f":"'w-E_R'!G109","v":0},{"$f":"'w-E_R'!H109","v":0},{"$f":"'w-E_R'!I109","v":0},{"$f":"'w-E_R'!J109","v":0},{"$f":"'w-E_R'!K109","v":0},{"$f":"'w-E_R'!L109","v":0},{"$f":"'w-E_R'!M109","v":0},{"$f":"'w-E_R'!P109","v":0},1,{"$f":"'m-E_R'!B109","v":"M16/02-Regel"},{"$f":"'m-E_R'!D109","v":0},{"$f":"'m-E_R'!F109","v":0},{"$f":"'m-E_R'!G109","v":0},{"$f":"'m-E_R'!H109","v":0},{"$f":"'m-E_R'!I109","v":0},{"$f":"'m-E_R'!J109","v":0},{"$f":"'m-E_R'!K109","v":0},{"$f":"'m-E_R'!L109","v":0},{"$f":"'m-E_R'!M109","v":0},{"$f":"'m-E_R'!P109","v":0}]
[1,{"$f":"'w-E_R'!B110","v":"W16/03-Regel"},{"$f":"'w-E_R'!D110","v":0},{"$f":"'w-E_R'!F110","v":0},{"$f":"'w-E_R'!G110","v":0},{"$f":"'w-E_R'!H110","v":0},{"$f":"'w-E_R'!I110","v":0},{"$f":"'w-E_R'!J110","v":0},{"$f":"'w-E_R'!K110","v":0},{"$f":"'w-E_R'!L110","v":0},{"$f":"'w-E_R'!M110","v":0},{"$f":"'w-E_R'!P110","v":0},1,{"$f":"'m-E_R'!B110","v":"M16/03-Regel"},{"$f":"'m-E_R'!D110","v":0},{"$f":"'m-E_R'!F110","v":0},{"$f":"'m-E_R'!G110","v":0},{"$f":"'m-E_R'!H110","v":0},{"$f":"'m-E_R'!I110","v":0},{"$f":"'m-E_R'!J110","v":0},{"$f":"'m-E_R'!K110","v":0},{"$f":"'m-E_R'!L110","v":0},{"$f":"'m-E_R'!M110","v":0},{"$f":"'m-E_R'!P110","v":0}]
[1,{"$f":"'w-E_R'!B111","v":"W16/04-Regel"},{"$f":"'w-E_R'!D111","v":0},{"$f":"'w-E_R'!F111","v":0},{"$f":"'w-E_R'!G111","v":0},{"$f":"'w-E_R'!H111","v":0},{"$f":"'w-E_R'!I111","v":0},{"$f":"'w-E_R'!J111","v":0},{"$f":"'w-E_R'!K111","v":0},{"$f":"'w-E_R'!L111","v":0},{"$f":"'w-E_R'!M111","v":0},{"$f":"'w-E_R'!P111","v":0},1,{"$f":"'m-E_R'!B111","v":"M16/04-Regel"},{"$f":"'m-E_R'!D111","v":0},{"$f":"'m-E_R'!F111","v":0},{"$f":"'m-E_R'!G111","v":0},{"$f":"'m-E_R'!H111","v":0},{"$f":"'m-E_R'!I111","v":0},{"$f":"'m-E_R'!J111","v":0},{"$f":"'m-E_R'!K111","v":0},{"$f":"'m-E_R'!L111","v":0},{"$f":"'m-E_R'!M111","v":0},{"$f":"'m-E_R'!P111","v":0}]
[1,{"$f":"'w-E_R'!B112","v":"W16/05-Regel"},{"$f":"'w-E_R'!D112","v":0},{"$f":"'w-E_R'!F112","v":0},{"$f":"'w-E_R'!G112","v":0},{"$f":"'w-E_R'!H112","v":0},{"$f":"'w-E_R'!I112","v":0},{"$f":"'w-E_R'!J112","v":0},{"$f":"'w-E_R'!K112","v":0},{"$f":"'w-E_R'!L112","v":0},{"$f":"'w-E_R'!M112","v":0},{"$f":"'w-E_R'!P112","v":0},1,{"$f":"'m-E_R'!B112","v":"M16/05-Regel"},{"$f":"'m-E_R'!D112","v":0},{"$f":"'m-E_R'!F112","v":0},{"$f":"'m-E_R'!G112","v":0},{"$f":"'m-E_R'!H112","v":0},{"$f":"'m-E_R'!I112","v":0},{"$f":"'m-E_R'!J112","v":0},{"$f":"'m-E_R'!K112","v":0},{"$f":"'m-E_R'!L112","v":0},{"$f":"'m-E_R'!M112","v":0},{"$f":"'m-E_R'!P112","v":0}]
[1,{"$f":"'w-E_R'!B113","v":"W16/06-Regel"},{"$f":"'w-E_R'!D113","v":0},{"$f":"'w-E_R'!F113","v":0},{"$f":"'w-E_R'!G113","v":0},{"$f":"'w-E_R'!H113","v":0},{"$f":"'w-E_R'!I113","v":0},{"$f":"'w-E_R'!J113","v":0},{"$f":"'w-E_R'!K113","v":0},{"$f":"'w-E_R'!L113","v":0},{"$f":"'w-E_R'!M113","v":0},{"$f":"'w-E_R'!P113","v":0},1,{"$f":"'m-E_R'!B113","v":"M16/06-Regel"},{"$f":"'m-E_R'!D113","v":0},{"$f":"'m-E_R'!F113","v":0},{"$f":"'m-E_R'!G113","v":0},{"$f":"'m-E_R'!H113","v":0},{"$f":"'m-E_R'!I113","v":0},{"$f":"'m-E_R'!J113","v":0},{"$f":"'m-E_R'!K113","v":0},{"$f":"'m-E_R'!L113","v":0},{"$f":"'m-E_R'!M113","v":0},{"$f":"'m-E_R'!P113","v":0}]
[{"$f":"RANK(L100,$L$4:$L$123,0)","v":1},{"$f":"'w-E_R'!B115","v":"W17/01-Regel"},{"$f":"'w-E_R'!D115","v":0},{"$f":"'w-E_R'!F115","v":0},{"$f":"'w-E_R'!G115","v":0},{"$f":"'w-E_R'!H115","v":0},{"$f":"'w-E_R'!I115","v":0},{"$f":"'w-E_R'!J115","v":0},{"$f":"'w-E_R'!K115","v":0},{"$f":"'w-E_R'!L115","v":0},{"$f":"'w-E_R'!M115","v":0},{"$f":"'w-E_R'!P115","v":0},{"$f":"RANK(X100,$X$4:$X$123,0)","v":1},{"$f":"'m-E_R'!B115","v":"M17/01-Regel"},{"$f":"'m-E_R'!D115","v":0},{"$f":"'m-E_R'!F115","v":0},{"$f":"'m-E_R'!G115","v":0},{"$f":"'m-E_R'!H115","v":0},{"$f":"'m-E_R'!I115","v":0},{"$f":"'m-E_R'!J115","v":0},{"$f":"'m-E_R'!K115","v":0},{"$f":"'m-E_R'!L115","v":0},{"$f":"'m-E_R'!M115","v":0},{"$f":"'m-E_R'!P115","v":0}]
[1,{"$f":"'w-E_R'!B116","v":"W17/02-Regel"},{"$f":"'w-E_R'!D116","v":0},{"$f":"'w-E_R'!F116","v":0},{"$f":"'w-E_R'!G116","v":0},{"$f":"'w-E_R'!H116","v":0},{"$f":"'w-E_R'!I116","v":0},{"$f":"'w-E_R'!J116","v":0},{"$f":"'w-E_R'!K116","v":0},{"$f":"'w-E_R'!L116","v":0},{"$f":"'w-E_R'!M116","v":0},{"$f":"'w-E_R'!P116","v":0},1,{"$f":"'m-E_R'!B116","v":"M17/02-Regel"},{"$f":"'m-E_R'!D116","v":0},{"$f":"'m-E_R'!F116","v":0},{"$f":"'m-E_R'!G116","v":0},{"$f":"'m-E_R'!H116","v":0},{"$f":"'m-E_R'!I116","v":0},{"$f":"'m-E_R'!J116","v":0},{"$f":"'m-E_R'!K116","v":0},{"$f":"'m-E_R'!L116","v":0},{"$f":"'m-E_R'!M116","v":0},{"$f":"'m-E_R'!P116","v":0}]
[1,{"$f":"'w-E_R'!B117","v":"W17/03-Regel"},{"$f":"'w-E_R'!D117","v":0},{"$f":"'w-E_R'!F117","v":0},{"$f":"'w-E_R'!G117","v":0},{"$f":"'w-E_R'!H117","v":0},{"$f":"'w-E_R'!I117","v":0},{"$f":"'w-E_R'!J117","v":0},{"$f":"'w-E_R'!K117","v":0},{"$f":"'w-E_R'!L117","v":0},{"$f":"'w-E_R'!M117","v":0},{"$f":"'w-E_R'!P117","v":0},1,{"$f":"'m-E_R'!B117","v":"M17/03-Regel"},{"$f":"'m-E_R'!D117","v":0},{"$f":"'m-E_R'!F117","v":0},{"$f":"'m-E_R'!G117","v":0},{"$f":"'m-E_R'!H117","v":0},{"$f":"'m-E_R'!I117","v":0},{"$f":"'m-E_R'!J117","v":0},{"$f":"'m-E_R'!K117","v":0},{"$f":"'m-E_R'!L117","v":0},{"$f":"'m-E_R'!M117","v":0},{"$f":"'m-E_R'!P117","v":0}]
[1,{"$f":"'w-E_R'!B118","v":"W17/04-Regel"},{"$f":"'w-E_R'!D118","v":0},{"$f":"'w-E_R'!F118","v":0},{"$f":"'w-E_R'!G118","v":0},{"$f":"'w-E_R'!H118","v":0},{"$f":"'w-E_R'!I118","v":0},{"$f":"'w-E_R'!J118","v":0},{"$f":"'w-E_R'!K118","v":0},{"$f":"'w-E_R'!L118","v":0},{"$f":"'w-E_R'!M118","v":0},{"$f":"'w-E_R'!P118","v":0},1,{"$f":"'m-E_R'!B118","v":"M17/04-Regel"},{"$f":"'m-E_R'!D118","v":0},{"$f":"'m-E_R'!F118","v":0},{"$f":"'m-E_R'!G118","v":0},{"$f":"'m-E_R'!H118","v":0},{"$f":"'m-E_R'!I118","v":0},{"$f":"'m-E_R'!J118","v":0},{"$f":"'m-E_R'!K118","v":0},{"$f":"'m-E_R'!L118","v":0},{"$f":"'m-E_R'!M118","v":0},{"$f":"'m-E_R'!P118","v":0}]
[1,{"$f":"'w-E_R'!B119","v":"W17/05-Regel"},{"$f":"'w-E_R'!D119","v":0},{"$f":"'w-E_R'!F119","v":0},{"$f":"'w-E_R'!G119","v":0},{"$f":"'w-E_R'!H119","v":0},{"$f":"'w-E_R'!I119","v":0},{"$f":"'w-E_R'!J119","v":0},{"$f":"'w-E_R'!K119","v":0},{"$f":"'w-E_R'!L119","v":0},{"$f":"'w-E_R'!M119","v":0},{"$f":"'w-E_R'!P119","v":0},1,{"$f":"'m-E_R'!B119","v":"M17/05-Regel"},{"$f":"'m-E_R'!D119","v":0},{"$f":"'m-E_R'!F119","v":0},{"$f":"'m-E_R'!G119","v":0},{"$f":"'m-E_R'!H119","v":0},{"$f":"'m-E_R'!I119","v":0},{"$f":"'m-E_R'!J119","v":0},{"$f":"'m-E_R'!K119","v":0},{"$f":"'m-E_R'!L119","v":0},{"$f":"'m-E_R'!M119","v":0},{"$f":"'m-E_R'!P119","v":0}]
[1,{"$f":"'w-E_R'!B120","v":"W17/06-Regel"},{"$f":"'w-E_R'!D120","v":0},{"$f":"'w-E_R'!F120","v":0},{"$f":"'w-E_R'!G120","v":0},{"$f":"'w-E_R'!H120","v":0},{"$f":"'w-E_R'!I120","v":0},{"$f":"'w-E_R'!J120","v":0},{"$f":"'w-E_R'!K120","v":0},{"$f":"'w-E_R'!L120","v":0},{"$f":"'w-E_R'!M120","v":0},{"$f":"'w-E_R'!P120","v":0},1,{"$f":"'m-E_R'!B120","v":"M17/06-Regel"},{"$f":"'m-E_R'!D120","v":0},{"$f":"'m-E_R'!F120","v":0},{"$f":"'m-E_R'!G120","v":0},{"$f":"'m-E_R'!H120","v":0},{"$f":"'m-E_R'!I120","v":0},{"$f":"'m-E_R'!J120","v":0},{"$f":"'m-E_R'!K120","v":0},{"$f":"'m-E_R'!L120","v":0},{"$f":"'m-E_R'!M120","v":0},{"$f":"'m-E_R'!P120","v":0}]
[1,{"$f":"'w-E_R'!B122","v":"W18/01-Regel"},{"$f":"'w-E_R'!D122","v":0},{"$f":"'w-E_R'!F122","v":0},{"$f":"'w-E_R'!G122","v":0},{"$f":"'w-E_R'!H122","v":0},{"$f":"'w-E_R'!I122","v":0},{"$f":"'w-E_R'!J122","v":0},{"$f":"'w-E_R'!K122","v":0},{"$f":"'w-E_R'!L122","v":0},{"$f":"'w-E_R'!M122","v":0},{"$f":"'w-E_R'!P122","v":0},1,{"$f":"'m-E_R'!B122","v":"M18/01-Regel"},{"$f":"'m-E_R'!D122","v":0},{"$f":"'m-E_R'!F122","v":0},{"$f":"'m-E_R'!G122","v":0},{"$f":"'m-E_R'!H122","v":0},{"$f":"'m-E_R'!I122","v":0},{"$f":"'m-E_R'!J122","v":0},{"$f":"'m-E_R'!K122","v":0},{"$f":"'m-E_R'!L122","v":0},{"$f":"'m-E_R'!M122","v":0},{"$f":"'m-E_R'!P122","v":0}]
[1,{"$f":"'w-E_R'!B123","v":"W18/02-Regel"},{"$f":"'w-E_R'!D123","v":0},{"$f":"'w-E_R'!F123","v":0},{"$f":"'w-E_R'!G123","v":0},{"$f":"'w-E_R'!H123","v":0},{"$f":"'w-E_R'!I123","v":0},{"$f":"'w-E_R'!J123","v":0},{"$f":"'w-E_R'!K123","v":0},{"$f":"'w-E_R'!L123","v":0},{"$f":"'w-E_R'!M123","v":0},{"$f":"'w-E_R'!P123","v":0},1,{"$f":"'m-E_R'!B123","v":"M18/02-Regel"},{"$f":"'m-E_R'!D123","v":0},{"$f":"'m-E_R'!F123","v":0},{"$f":"'m-E_R'!G123","v":0},{"$f":"'m-E_R'!H123","v":0},{"$f":"'m-E_R'!I123","v":0},{"$f":"'m-E_R'!J123","v":0},{"$f":"'m-E_R'!K123","v":0},{"$f":"'m-E_R'!L123","v":0},{"$f":"'m-E_R'!M123","v":0},{"$f":"'m-E_R'!P123","v":0}]
[1,{"$f":"'w-E_R'!B124","v":"W18/03-Regel"},{"$f":"'w-E_R'!D124","v":0},{"$f":"'w-E_R'!F124","v":0},{"$f":"'w-E_R'!G124","v":0},{"$f":"'w-E_R'!H124","v":0},{"$f":"'w-E_R'!I124","v":0},{"$f":"'w-E_R'!J124","v":0},{"$f":"'w-E_R'!K124","v":0},{"$f":"'w-E_R'!L124","v":0},{"$f":"'w-E_R'!M124","v":0},{"$f":"'w-E_R'!P124","v":0},1,{"$f":"'m-E_R'!B124","v":"M18/03-Regel"},{"$f":"'m-E_R'!D124","v":0},{"$f":"'m-E_R'!F124","v":0},{"$f":"'m-E_R'!G124","v":0},{"$f":"'m-E_R'!H124","v":0},{"$f":"'m-E_R'!I124","v":0},{"$f":"'m-E_R'!J124","v":0},{"$f":"'m-E_R'!K124","v":0},{"$f":"'m-E_R'!L124","v":0},{"$f":"'m-E_R'!M124","v":0},{"$f":"'m-E_R'!P124","v":0}]
[1,{"$f":"'w-E_R'!B125","v":"W18/04-Regel"},{"$f":"'w-E_R'!D125","v":0},{"$f":"'w-E_R'!F125","v":0},{"$f":"'w-E_R'!G125","v":0},{"$f":"'w-E_R'!H125","v":0},{"$f":"'w-E_R'!I125","v":0},{"$f":"'w-E_R'!J125","v":0},{"$f":"'w-E_R'!K125","v":0},{"$f":"'w-E_R'!L125","v":0},{"$f":"'w-E_R'!M125","v":0},{"$f":"'w-E_R'!P125","v":0},1,{"$f":"'m-E_R'!B125","v":"M18/04-Regel"},{"$f":"'m-E_R'!D125","v":0},{"$f":"'m-E_R'!F125","v":0},{"$f":"'m-E_R'!G125","v":0},{"$f":"'m-E_R'!H125","v":0},{"$f":"'m-E_R'!I125","v":0},{"$f":"'m-E_R'!J125","v":0},{"$f":"'m-E_R'!K125","v":0},{"$f":"'m-E_R'!L125","v":0},{"$f":"'m-E_R'!M125","v":0},{"$f":"'m-E_R'!P125","v":0}]
[1,{"$f":"'w-E_R'!B126","v":"W18/05-Regel"},{"$f":"'w-E_R'!D126","v":0},{"$f":"'w-E_R'!F126","v":0},{"$f":"'w-E_R'!G126","v":0},{"$f":"'w-E_R'!H126","v":0},{"$f":"'w-E_R'!I126","v":0},{"$f":"'w-E_R'!J126","v":0},{"$f":"'w-E_R'!K126","v":0},{"$f":"'w-E_R'!L126","v":0},{"$f":"'w-E_R'!M126","v":0},{"$f":"'w-E_R'!P126","v":0},1,{"$f":"'m-E_R'!B126","v":"M18/05-Regel"},{"$f":"'m-E_R'!D126","v":0},{"$f":"'m-E_R'!F126","v":0},{"$f":"'m-E_R'!G126","v":0},{"$f":"'m-E_R'!H126","v":0},{"$f":"'m-E_R'!I126","v":0},{"$f":"'m-E_R'!J126","v":0},{"$f":"'m-E_R'!K126","v":0},{"$f":"'m-E_R'!L126","v":0},{"$f":"'m-E_R'!M126","v":0},{"$f":"'m-E_R'!P126","v":0}]
[1,{"$f":"'w-E_R'!B127","v":"W18/06-Regel"},{"$f":"'w-E_R'!D127","v":0},{"$f":"'w-E_R'!F127","v":0},{"$f":"'w-E_R'!G127","v":0},{"$f":"'w-E_R'!H127","v":0},{"$f":"'w-E_R'!I127","v":0},{"$f":"'w-E_R'!J127","v":0},{"$f":"'w-E_R'!K127","v":0},{"$f":"'w-E_R'!L127","v":0},{"$f":"'w-E_R'!M127","v":0},{"$f":"'w-E_R'!P127","v":0},1,{"$f":"'m-E_R'!B127","v":"M18/06-Regel"},{"$f":"'m-E_R'!D127","v":0},{"$f":"'m-E_R'!F127","v":0},{"$f":"'m-E_R'!G127","v":0},{"$f":"'m-E_R'!H127","v":0},{"$f":"'m-E_R'!I127","v":0},{"$f":"'m-E_R'!J127","v":0},{"$f":"'m-E_R'!K127","v":0},{"$f":"'m-E_R'!L127","v":0},{"$f":"'m-E_R'!M127","v":0},{"$f":"'m-E_R'!P127","v":0}]
[1,{"$f":"'w-E_R'!B129","v":"W19/01-Regel"},{"$f":"'w-E_R'!D129","v":0},{"$f":"'w-E_R'!F129","v":0},{"$f":"'w-E_R'!G129","v":0},{"$f":"'w-E_R'!H129","v":0},{"$f":"'w-E_R'!I129","v":0},{"$f":"'w-E_R'!J129","v":0},{"$f":"'w-E_R'!K129","v":0},{"$f":"'w-E_R'!L129","v":0},{"$f":"'w-E_R'!M129","v":0},{"$f":"'w-E_R'!P129","v":0},1,{"$f":"'m-E_R'!B129","v":"M19/01-Regel"},{"$f":"'m-E_R'!D129","v":0},{"$f":"'m-E_R'!F129","v":0},{"$f":"'m-E_R'!G129","v":0},{"$f":"'m-E_R'!H129","v":0},{"$f":"'m-E_R'!I129","v":0},{"$f":"'m-E_R'!J129","v":0},{"$f":"'m-E_R'!K129","v":0},{"$f":"'m-E_R'!L129","v":0},{"$f":"'m-E_R'!M129","v":0},{"$f":"'m-E_R'!P129","v":0}]
[1,{"$f":"'w-E_R'!B130","v":"W19/02-Regel"},{"$f":"'w-E_R'!D130","v":0},{"$f":"'w-E_R'!F130","v":0},{"$f":"'w-E_R'!G130","v":0},{"$f":"'w-E_R'!H130","v":0},{"$f":"'w-E_R'!I130","v":0},{"$f":"'w-E_R'!J130","v":0},{"$f":"'w-E_R'!K130","v":0},{"$f":"'w-E_R'!L130","v":0},{"$f":"'w-E_R'!M130","v":0},{"$f":"'w-E_R'!P130","v":0},1,{"$f":"'m-E_R'!B130","v":"M19/02-Regel"},{"$f":"'m-E_R'!D130","v":0},{"$f":"'m-E_R'!F130","v":0},{"$f":"'m-E_R'!G130","v":0},{"$f":"'m-E_R'!H130","v":0},{"$f":"'m-E_R'!I130","v":0},{"$f":"'m-E_R'!J130","v":0},{"$f":"'m-E_R'!K130","v":0},{"$f":"'m-E_R'!L130","v":0},{"$f":"'m-E_R'!M130","v":0},{"$f":"'m-E_R'!P130","v":0}]
[1,{"$f":"'w-E_R'!B131","v":"W19/03-Regel"},{"$f":"'w-E_R'!D131","v":0},{"$f":"'w-E_R'!F131","v":0},{"$f":"'w-E_R'!G131","v":0},{"$f":"'w-E_R'!H131","v":0},{"$f":"'w-E_R'!I131","v":0},{"$f":"'w-E_R'!J131","v":0},{"$f":"'w-E_R'!K131","v":0},{"$f":"'w-E_R'!L131","v":0},{"$f":"'w-E_R'!M131","v":0},{"$f":"'w-E_R'!P131","v":0},1,{"$f":"'m-E_R'!B131","v":"M19/03-Regel"},{"$f":"'m-E_R'!D131","v":0},{"$f":"'m-E_R'!F131","v":0},{"$f":"'m-E_R'!G131","v":0},{"$f":"'m-E_R'!H131","v":0},{"$f":"'m-E_R'!I131","v":0},{"$f":"'m-E_R'!J131","v":0},{"$f":"'m-E_R'!K131","v":0},{"$f":"'m-E_R'!L131","v":0},{"$f":"'m-E_R'!M131","v":0},{"$f":"'m-E_R'!P131","v":0}]
[1,{"$f":"'w-E_R'!B132","v":"W19/04-Regel"},{"$f":"'w-E_R'!D132","v":0},{"$f":"'w-E_R'!F132","v":0},{"$f":"'w-E_R'!G132","v":0},{"$f":"'w-E_R'!H132","v":0},{"$f":"'w-E_R'!I132","v":0},{"$f":"'w-E_R'!J132","v":0},{"$f":"'w-E_R'!K132","v":0},{"$f":"'w-E_R'!L132","v":0},{"$f":"'w-E_R'!M132","v":0},{"$f":"'w-E_R'!P132","v":0},1,{"$f":"'m-E_R'!B132","v":"M19/04-Regel"},{"$f":"'m-E_R'!D132","v":0},{"$f":"'m-E_R'!F132","v":0},{"$f":"'m-E_R'!G132","v":0},{"$f":"'m-E_R'!H132","v":0},{"$f":"'m-E_R'!I132","v":0},{"$f":"'m-E_R'!J132","v":0},{"$f":"'m-E_R'!K132","v":0},{"$f":"'m-E_R'!L132","v":0},{"$f":"'m-E_R'!M132","v":0},{"$f":"'m-E_R'!P132","v":0}]
[1,{"$f":"'w-E_R'!B133","v":"W19/05-Regel"},{"$f":"'w-E_R'!D133","v":0},{"$f":"'w-E_R'!F133","v":0},{"$f":"'w-E_R'!G133","v":0},{"$f":"'w-E_R'!H133","v":0},{"$f":"'w-E_R'!I133","v":0},{"$f":"'w-E_R'!J133","v":0},{"$f":"'w-E_R'!K133","v":0},{"$f":"'w-E_R'!L133","v":0},{"$f":"'w-E_R'!M133","v":0},{"$f":"'w-E_R'!P133","v":0},1,{"$f":"'m-E_R'!B133","v":"M19/05-Regel"},{"$f":"'m-E_R'!D133","v":0},{"$f":"'m-E_R'!F133","v":0},{"$f":"'m-E_R'!G133","v":0},{"$f":"'m-E_R'!H133","v":0},{"$f":"'m-E_R'!I133","v":0},{"$f":"'m-E_R'!J133","v":0},{"$f":"'m-E_R'!K133","v":0},{"$f":"'m-E_R'!L133","v":0},{"$f":"'m-E_R'!M133","v":0},{"$f":"'m-E_R'!P133","v":0}]
[1,{"$f":"'w-E_R'!B134","v":"W19/06-Regel"},{"$f":"'w-E_R'!D134","v":0},{"$f":"'w-E_R'!F134","v":0},{"$f":"'w-E_R'!G134","v":0},{"$f":"'w-E_R'!H134","v":0},{"$f":"'w-E_R'!I134","v":0},{"$f":"'w-E_R'!J134","v":0},{"$f":"'w-E_R'!K134","v":0},{"$f":"'w-E_R'!L134","v":0},{"$f":"'w-E_R'!M134","v":0},{"$f":"'w-E_R'!P134","v":0},1,{"$f":"'m-E_R'!B134","v":"M19/06-Regel"},{"$f":"'m-E_R'!D134","v":0},{"$f":"'m-E_R'!F134","v":0},{"$f":"'m-E_R'!G134","v":0},{"$f":"'m-E_R'!H134","v":0},{"$f":"'m-E_R'!I134","v":0},{"$f":"'m-E_R'!J134","v":0},{"$f":"'m-E_R'!K134","v":0},{"$f":"'m-E_R'!L134","v":0},{"$f":"'m-E_R'!M134","v":0},{"$f":"'m-E_R'!P134","v":0}]
[1,{"$f":"'w-E_R'!B136","v":"W20/01-Regel"},{"$f":"'w-E_R'!D136","v":0},{"$f":"'w-E_R'!F136","v":0},{"$f":"'w-E_R'!G136","v":0},{"$f":"'w-E_R'!H136","v":0},{"$f":"'w-E_R'!I136","v":0},{"$f":"'w-E_R'!J136","v":0},{"$f":"'w-E_R'!K136","v":0},{"$f":"'w-E_R'!L136","v":0},{"$f":"'w-E_R'!M136","v":0},{"$f":"'w-E_R'!P136","v":0},1,{"$f":"'m-E_R'!B136","v":"M20/01-Regel"},{"$f":"'m-E_R'!D136","v":0},{"$f":"'m-E_R'!F136","v":0},{"$f":"'m-E_R'!G136","v":0},{"$f":"'m-E_R'!H136","v":0},{"$f":"'m-E_R'!I136","v":0},{"$f":"'m-E_R'!J136","v":0},{"$f":"'m-E_R'!K136","v":0},{"$f":"'m-E_R'!L136","v":0},{"$f":"'m-E_R'!M136","v":0},{"$f":"'m-E_R'!P136","v":0}]
[1,{"$f":"'w-E_R'!B137","v":"W20/02-Regel"},{"$f":"'w-E_R'!D137","v":0},{"$f":"'w-E_R'!F137","v":0},{"$f":"'w-E_R'!G137","v":0},{"$f":"'w-E_R'!H137","v":0},{"$f":"'w-E_R'!I137","v":0},{"$f":"'w-E_R'!J137","v":0},{"$f":"'w-E_R'!K137","v":0},{"$f":"'w-E_R'!L137","v":0},{"$f":"'w-E_R'!M137","v":0},{"$f":"'w-E_R'!P137","v":0},1,{"$f":"'m-E_R'!B137","v":"M20/02-Regel"},{"$f":"'m-E_R'!D137","v":0},{"$f":"'m-E_R'!F137","v":0},{"$f":"'m-E_R'!G137","v":0},{"$f":"'m-E_R'!H137","v":0},{"$f":"'m-E_R'!I137","v":0},{"$f":"'m-E_R'!J137","v":0},{"$f":"'m-E_R'!K137","v":0},{"$f":"'m-E_R'!L137","v":0},{"$f":"'m-E_R'!M137","v":0},{"$f":"'m-E_R'!P137","v":0}]
[1,{"$f":"'w-E_R'!B138","v":"W20/03-Regel"},{"$f":"'w-E_R'!D138","v":0},{"$f":"'w-E_R'!F138","v":0},{"$f":"'w-E_R'!G138","v":0},{"$f":"'w-E_R'!H138","v":0},{"$f":"'w-E_R'!I138","v":0},{"$f":"'w-E_R'!J138","v":0},{"$f":"'w-E_R'!K138","v":0},{"$f":"'w-E_R'!L138","v":0},{"$f":"'w-E_R'!M138","v":0},{"$f":"'w-E_R'!P138","v":0},1,{"$f":"'m-E_R'!B138","v":"M20/03-Regel"},{"$f":"'m-E_R'!D138","v":0},{"$f":"'m-E_R'!F138","v":0},{"$f":"'m-E_R'!G138","v":0},{"$f":"'m-E_R'!H138","v":0},{"$f":"'m-E_R'!I138","v":0},{"$f":"'m-E_R'!J138","v":0},{"$f":"'m-E_R'!K138","v":0},{"$f":"'m-E_R'!L138","v":0},{"$f":"'m-E_R'!M138","v":0},{"$f":"'m-E_R'!P138","v":0}]
[1,{"$f":"'w-E_R'!B139","v":"W20/04-Regel"},{"$f":"'w-E_R'!D139","v":0},{"$f":"'w-E_R'!F139","v":0},{"$f":"'w-E_R'!G139","v":0},{"$f":"'w-E_R'!H139","v":0},{"$f":"'w-E_R'!I139","v":0},{"$f":"'w-E_R'!J139","v":0},{"$f":"'w-E_R'!K139","v":0},{"$f":"'w-E_R'!L139","v":0},{"$f":"'w-E_R'!M139","v":0},{"$f":"'w-E_R'!P139","v":0},1,{"$f":"'m-E_R'!B139","v":"M20/04-Regel"},{"$f":"'m-E_R'!D139","v":0},{"$f":"'m-E_R'!F139","v":0},{"$f":"'m-E_R'!G139","v":0},{"$f":"'m-E_R'!H139","v":0},{"$f":"'m-E_R'!I139","v":0},{"$f":"'m-E_R'!J139","v":0},{"$f":"'m-E_R'!K139","v":0},{"$f":"'m-E_R'!L139","v":0},{"$f":"'m-E_R'!M139","v":0},{"$f":"'m-E_R'!P139","v":0}]
[1,{"$f":"'w-E_R'!B140","v":"W20/05-Regel"},{"$f":"'w-E_R'!D140","v":0},{"$f":"'w-E_R'!F140","v":0},{"$f":"'w-E_R'!G140","v":0},{"$f":"'w-E_R'!H140","v":0},{"$f":"'w-E_R'!I140","v":0},{"$f":"'w-E_R'!J140","v":0},{"$f":"'w-E_R'!K140","v":0},{"$f":"'w-E_R'!L140","v":0},{"$f":"'w-E_R'!M140","v":0},{"$f":"'w-E_R'!P140","v":0},1,{"$f":"'m-E_R'!B140","v":"M20/05-Regel"},{"$f":"'m-E_R'!D140","v":0},{"$f":"'m-E_R'!F140","v":0},{"$f":"'m-E_R'!G140","v":0},{"$f":"'m-E_R'!H140","v":0},{"$f":"'m-E_R'!I140","v":0},{"$f":"'m-E_R'!J140","v":0},{"$f":"'m-E_R'!K140","v":0},{"$f":"'m-E_R'!L140","v":0},{"$f":"'m-E_R'!M140","v":0},{"$f":"'m-E_R'!P140","v":0}]
[1,{"$f":"'w-E_R'!B141","v":"W20/06-Regel"},{"$f":"'w-E_R'!D141","v":0},{"$f":"'w-E_R'!F141","v":0},{"$f":"'w-E_R'!G141","v":0},{"$f":"'w-E_R'!H141","v":0},{"$f":"'w-E_R'!I141","v":0},{"$f":"'w-E_R'!J141","v":0},{"$f":"'w-E_R'!K141","v":0},{"$f":"'w-E_R'!L141","v":0},{"$f":"'w-E_R'!M141","v":0},{"$f":"'w-E_R'!P141","v":0},1,{"$f":"'m-E_R'!B141","v":"M20/06-Regel"},{"$f":"'m-E_R'!D141","v":0},{"$f":"'m-E_R'!F141","v":0},{"$f":"'m-E_R'!G141","v":0},{"$f":"'m-E_R'!H141","v":0},{"$f":"'m-E_R'!I141","v":0},{"$f":"'m-E_R'!J141","v":0},{"$f":"'m-E_R'!K141","v":0},{"$f":"'m-E_R'!L141","v":0},{"$f":"'m-E_R'!M141","v":0},{"$f":"'m-E_R'!P141","v":0}]

{"sheet":"Ges-Erg_Sp","index":26,"n_rows":123,"n_cols":24,"rows_kept":123,"cut":false,"hidden":false,"merged":[[1,0,1,1],[1,3,1,11],[1,12,1,13],[1,15,1,23]]}
[]
[{"$f":"'w-E_Sp'!A1","v":"Wettkampfdaten-Art"},null,{"$f":"'w-E_Sp'!C1","v":"D-C/Sport-Schwerpunkt"},{"$f":"'w-E_Sp'!E1","v":"Ortsangabe,Datum"},null,null,null,null,null,null,null,null,{"$f":"'m-E_Sp'!A1","v":"Wettkampfdaten-Art"},null,{"$f":"'m-E_Sp'!C1","v":"D-C/Sport-Schwerpunkt"},{"$f":"'m-E_Sp'!E1","v":"Ortsangabe,Datum"}]
["Rang","SCHÜLERINNEN","Schule:","60m","Pkt","Schlagb.","Pkt","Kugel","Pkt","Weit","Pkt","Gesamt-PKT","Rang","SCHÜLER","Schule:","60m","Pkt","Schlagb.","Pkt","Kugel","Pkt","Weit","Pkt","Gesamt-PKT"]
[{"$f":"RANK(L4,$L$4:$L$123,0)","v":1},{"$f":"'w-E_Sp'!B3","v":"W1/01-Sport"},{"$f":"'w-E_Sp'!D3","v":0},{"$f":"'w-E_Sp'!F3","v":0},{"$f":"'w-E_Sp'!G3","v":0},{"$f":"'w-E_Sp'!H3","v":0},{"$f":"'w-E_Sp'!I3","v":0},{"$f":"'w-E_Sp'!J3","v":0},{"$f":"'w-E_Sp'!K3","v":0},{"$f":"'w-E_Sp'!L3","v":0},{"$f":"'w-E_Sp'!M3","v":0},{"$f":"'w-E_Sp'!P3","v":0},{"$f":"RANK(X4,$X$4:$X$123,0)","v":1},{"$f":"'m-E_Sp'!B3","v":"M1/01-Sport"},{"$f":"'m-E_Sp'!D3","v":0},{"$f":"'m-E_Sp'!F3","v":0},{"$f":"'m-E_Sp'!G3","v":0},{"$f":"'m-E_Sp'!H3","v":0},{"$f":"'m-E_Sp'!I3","v":0},{"$f":"'m-E_Sp'!J3","v":0},{"$f":"'m-E_Sp'!K3","v":0},{"$f":"'m-E_Sp'!L3","v":0},{"$f":"'m-E_Sp'!M3","v":0},{"$f":"'m-E_Sp'!P3","v":0}]
[1,{"$f":"'w-E_Sp'!B4","v":"W1/02-Sport"},{"$f":"'w-E_Sp'!D4","v":0},{"$f":"'w-E_Sp'!F4","v":0},{"$f":"'w-E_Sp'!G4","v":0},{"$f":"'w-E_Sp'!H4","v":0},{"$f":"'w-E_Sp'!I4","v":0},{"$f":"'w-E_Sp'!J4","v":0},{"$f":"'w-E_Sp'!K4","v":0},{"$f":"'w-E_Sp'!L4","v":0},{"$f":"'w-E_Sp'!M4","v":0},{"$f":"'w-E_Sp'!P4","v":0},1,{"$f":"'m-E_Sp'!B4","v":"M1/02-Sport"},{"$f":"'m-E_Sp'!D4","v":0},{"$f":"'m-E_Sp'!F4","v":0},{"$f":"'m-E_Sp'!G4","v":0},{"$f":"'m-E_Sp'!H4","v":0},{"$f":"'m-E_Sp'!I4","v":0},{"$f":"'m-E_Sp'!J4","v":0},{"$f":"'m-E_Sp'!K4","v":0},{"$f":"'m-E_Sp'!L4","v":0},{"$f":"'m-E_Sp'!M4","v":0},{"$f":"'m-E_Sp'!P4","v":0}]
[1,{"$f":"'w-E_Sp'!B5","v":"W1/03-Sport"},{"$f":"'w-E_Sp'!D5","v":0},{"$f":"'w-E_Sp'!F5","v":0},{"$f":"'w-E_Sp'!G5","v":0},{"$f":"'w-E_Sp'!H5","v":0},{"$f":"'w-E_Sp'!I5","v":0},{"$f":"'w-E_Sp'!J5","v":0},{"$f":"'w-E_Sp'!K5","v":0},{"$f":"'w-E_Sp'!L5","v":0},{"$f":"'w-E_Sp'!M5","v":0},{"$f":"'w-E_Sp'!P5","v":0},1,{"$f":"'m-E_Sp'!B5","v":"M1/03-Sport"},{"$f":"'m-E_Sp'!D5","v":0},{"$f":"'m-E_Sp'!F5","v":0},{"$f":"'m-E_Sp'!G5","v":0},{"$f":"'m-E_Sp'!H5","v":0},{"$f":"'m-E_Sp'!I5","v":0},{"$f":"'m-E_Sp'!J5","v":0},{"$f":"'m-E_Sp'!K5","v":0},{"$f":"'m-E_Sp'!L5","v":0},{"$f":"'m-E_Sp'!M5","v":0},{"$f":"'m-E_Sp'!P5","v":0}]
[1,{"$f":"'w-E_Sp'!B6","v":"W1/04-Sport"},{"$f":"'w-E_Sp'!D6","v":0},{"$f":"'w-E_Sp'!F6","v":0},{"$f":"'w-E_Sp'!G6","v":0},{"$f":"'w-E_Sp'!H6","v":0},{"$f":"'w-E_Sp'!I6","v":0},{"$f":"'w-E_Sp'!J6","v":0},{"$f":"'w-E_Sp'!K6","v":0},{"$f":"'w-E_Sp'!L6","v":0},{"$f":"'w-E_Sp'!M6","v":0},{"$f":"'w-E_Sp'!P6","v":0},1,{"$f":"'m-E_Sp'!B6","v":"M1/04-Sport"},{"$f":"'m-E_Sp'!D6","v":0},{"$f":"'m-E_Sp'!F6","v":0},{"$f":"'m-E_Sp'!G6","v":0},{"$f":"'m-E_Sp'!H6","v":0},{"$f":"'m-E_Sp'!I6","v":0},{"$f":"'m-E_Sp'!J6","v":0},{"$f":"'m-E_Sp'!K6","v":0},{"$f":"'m-E_Sp'!L6","v":0},{"$f":"'m-E_Sp'!M6","v":0},{"$f":"'m-E_Sp'!P6","v":0}]
[1,{"$f":"'w-E_Sp'!B7","v":"W1/05-Sport"},{"$f":"'w-E_Sp'!D7","v":0},{"$f":"'w-E_Sp'!F7","v":0},{"$f":"'w-E_Sp'!G7","v":0},{"$f":"'w-E_Sp'!H7","v":0},{"$f":"'w-E_Sp'!I7","v":0},{"$f":"'w-E_Sp'!J7","v":0},{"$f":"'w-E_Sp'!K7","v":0},{"$f":"'w-E_Sp'!L7","v":0},{"$f":"'w-E_Sp'!M7","v":0},{"$f":"'w-E_Sp'!P7","v":0},1,{"$f":"'m-E_Sp'!B7","v":"M1/05-Sport"},{"$f":"'m-E_Sp'!D7","v":0},{"$f":"'m-E_Sp'!F7","v":0},{"$f":"'m-E_Sp'!G7","v":0},{"$f":"'m-E_Sp'!H7","v":0},{"$f":"'m-E_Sp'!I7","v":0},{"$f":"'m-E_Sp'!J7","v":0},{"$f":"'m-E_Sp'!K7","v":0},{"$f":"'m-E_Sp'!L7","v":0},{"$f":"'m-E_Sp'!M7","v":0},{"$f":"'m-E_Sp'!P7","v":0}]
[1,{"$f":"'w-E_Sp'!B8","v":"W1/06-Sport"},{"$f":"'w-E_Sp'!D8","v":0},{"$f":"'w-E_Sp'!F8","v":0},{"$f":"'w-E_Sp'!G8","v":0},{"$f":"'w-E_Sp'!H8","v":0},{"$f":"'w-E_Sp'!I8","v":0},{"$f":"'w-E_Sp'!J8","v":0},{"$f":"'w-E_Sp'!K8","v":0},{"$f":"'w-E_Sp'!L8","v":0},{"$f":"'w-E_Sp'!M8","v":0},{"$f":"'w-E_Sp'!P8","v":0},1,{"$f":"'m-E_Sp'!B8","v":"M1/06-Sport"},{"$f":"'m-E_Sp'!D8","v":0},{"$f":"'m-E_Sp'!F8","v":0},{"$f":"'m-E_Sp'!G8","v":0},{"$f":"'m-E_Sp'!H8","v":0},{"$f":"'m-E_Sp'!I8","v":0},{"$f":"'m-E_Sp'!J8","v":0},{"$f":"'m-E_Sp'!K8","v":0},{"$f":"'m-E_Sp'!L8","v":0},{"$f":"'m-E_Sp'!M8","v":0},{"$f":"'m-E_Sp'!P8","v":0}]
[1,{"$f":"'w-E_Sp'!B10","v":"W2/01-Sport"},{"$f":"'w-E_Sp'!D10","v":0},{"$f":"'w-E_Sp'!F10","v":0},{"$f":"'w-E_Sp'!G10","v":0},{"$f":"'w-E_Sp'!H10","v":0},{"$f":"'w-E_Sp'!I10","v":0},{"$f":"'w-E_Sp'!J10","v":0},{"$f":"'w-E_Sp'!K10","v":0},{"$f":"'w-E_Sp'!L10","v":0},{"$f":"'w-E_Sp'!M10","v":0},{"$f":"'w-E_Sp'!P10","v":0},1,{"$f":"'m-E_Sp'!B10","v":"M2/01-Sport"},{"$f":"'m-E_Sp'!D10","v":0},{"$f":"'m-E_Sp'!F10","v":0},{"$f":"'m-E_Sp'!G10","v":0},{"$f":"'m-E_Sp'!H10","v":0},{"$f":"'m-E_Sp'!I10","v":0},{"$f":"'m-E_Sp'!J10","v":0},{"$f":"'m-E_Sp'!K10","v":0},{"$f":"'m-E_Sp'!L10","v":0},{"$f":"'m-E_Sp'!M10","v":0},{"$f":"'m-E_Sp'!P10","v":0}]
[1,{"$f":"'w-E_Sp'!B11","v":"W2/02-Sport"},{"$f":"'w-E_Sp'!D11","v":0},{"$f":"'w-E_Sp'!F11","v":0},{"$f":"'w-E_Sp'!G11","v":0},{"$f":"'w-E_Sp'!H11","v":0},{"$f":"'w-E_Sp'!I11","v":0},{"$f":"'w-E_Sp'!J11","v":0},{"$f":"'w-E_Sp'!K11","v":0},{"$f":"'w-E_Sp'!L11","v":0},{"$f":"'w-E_Sp'!M11","v":0},{"$f":"'w-E_Sp'!P11","v":0},1,{"$f":"'m-E_Sp'!B11","v":"M2/02-Sport"},{"$f":"'m-E_Sp'!D11","v":0},{"$f":"'m-E_Sp'!F11","v":0},{"$f":"'m-E_Sp'!G11","v":0},{"$f":"'m-E_Sp'!H11","v":0},{"$f":"'m-E_Sp'!I11","v":0},{"$f":"'m-E_Sp'!J11","v":0},{"$f":"'m-E_Sp'!K11","v":0},{"$f":"'m-E_Sp'!L11","v":0},{"$f":"'m-E_Sp'!M11","v":0},{"$f":"'m-E_Sp'!P11","v":0}]
[1,{"$f":"'w-E_Sp'!B12","v":"W2/03-Sport"},{"$f":"'w-E_Sp'!D12","v":0},{"$f":"'w-E_Sp'!F12","v":0},{"$f":"'w-E_Sp'!G12","v":0},{"$f":"'w-E_Sp'!H12","v":0},{"$f":"'w-E_Sp'!I12","v":0},{"$f":"'w-E_Sp'!J12","v":0},{"$f":"'w-E_Sp'!K12","v":0},{"$f":"'w-E_Sp'!L12","v":0},{"$f":"'w-E_Sp'!M12","v":0},{"$f":"'w-E_Sp'!P12","v":0},1,{"$f":"'m-E_Sp'!B12","v":"M2/03-Sport"},{"$f":"'m-E_Sp'!D12","v":0},{"$f":"'m-E_Sp'!F12","v":0},{"$f":"'m-E_Sp'!G12","v":0},{"$f":"'m-E_Sp'!H12","v":0},{"$f":"'m-E_Sp'!I12","v":0},{"$f":"'m-E_Sp'!J12","v":0},{"$f":"'m-E_Sp'!K12","v":0},{"$f":"'m-E_Sp'!L12","v":0},{"$f":"'m-E_Sp'!M12","v":0},{"$f":"'m-E_Sp'!P12","v":0}]
[1,{"$f":"'w-E_Sp'!B13","v":"W2/04-Sport"},{"$f":"'w-E_Sp'!D13","v":0},{"$f":"'w-E_Sp'!F13","v":0},{"$f":"'w-E_Sp'!G13","v":0},{"$f":"'w-E_Sp'!H13","v":0},{"$f":"'w-E_Sp'!I13","v":0},{"$f":"'w-E_Sp'!J13","v":0},{"$f":"'w-E_Sp'!K13","v":0},{"$f":"'w-E_Sp'!L13","v":0},{"$f":"'w-E_Sp'!M13","v":0},{"$f":"'w-E_Sp'!P13","v":0},1,{"$f":"'m-E_Sp'!B13","v":"M2/04-Sport"},{"$f":"'m-E_Sp'!D13","v":0},{"$f":"'m-E_Sp'!F13","v":0},{"$f":"'m-E_Sp'!G13","v":0},{"$f":"'m-E_Sp'!H13","v":0},{"$f":"'m-E_Sp'!I13","v":0},{"$f":"'m-E_Sp'!J13","v":0},{"$f":"'m-E_Sp'!K13","v":0},{"$f":"'m-E_Sp'!L13","v":0},{"$f":"'m-E_Sp'!M13","v":0},{"$f":"'m-E_Sp'!P13","v":0}]
[1,{"$f":"'w-E_Sp'!B14","v":"W2/05-Sport"},{"$f":"'w-E_Sp'!D14","v":0},{"$f":"'w-E_Sp'!F14","v":0},{"$f":"'w-E_Sp'!G14","v":0},{"$f":"'w-E_Sp'!H14","v":0},{"$f":"'w-E_Sp'!I14","v":0},{"$f":"'w-E_Sp'!J14","v":0},{"$f":"'w-E_Sp'!K14","v":0},{"$f":"'w-E_Sp'!L14","v":0},{"$f":"'w-E_Sp'!M14","v":0},{"$f":"'w-E_Sp'!P14","v":0},1,{"$f":"'m-E_Sp'!B14","v":"M2/05-Sport"},{"$f":"'m-E_Sp'!D14","v":0},{"$f":"'m-E_Sp'!F14","v":0},{"$f":"'m-E_Sp'!G14","v":0},{"$f":"'m-E_Sp'!H14","v":0},{"$f":"'m-E_Sp'!I14","v":0},{"$f":"'m-E_Sp'!J14","v":0},{"$f":"'m-E_Sp'!K14","v":0},{"$f":"'m-E_Sp'!L14","v":0},{"$f":"'m-E_Sp'!M14","v":0},{"$f":"'m-E_Sp'!P14","v":0}]
[1,{"$f":"'w-E_Sp'!B15","v":"W2/06-Sport"},{"$f":"'w-E_Sp'!D15","v":0},{"$f":"'w-E_Sp'!F15","v":0},{"$f":"'w-E_Sp'!G15","v":0},{"$f":"'w-E_Sp'!H15","v":0},{"$f":"'w-E_Sp'!I15","v":0},{"$f":"'w-E_Sp'!J15","v":0},{"$f":"'w-E_Sp'!K15","v":0},{"$f":"'w-E_Sp'!L15","v":0},{"$f":"'w-E_Sp'!M15","v":0},{"$f":"'w-E_Sp'!P15","v":0},1,{"$f":"'m-E_Sp'!B15","v":"M2/06-Sport"},{"$f":"'m-E_Sp'!D15","v":0},{"$f":"'m-E_Sp'!F15","v":0},{"$f":"'m-E_Sp'!G15","v":0},{"$f":"'m-E_Sp'!H15","v":0},{"$f":"'m-E_Sp'!I15","v":0},{"$f":"'m-E_Sp'!J15","v":0},{"$f":"'m-E_Sp'!K15","v":0},{"$f":"'m-E_Sp'!L15","v":0},{"$f":"'m-E_Sp'!M15","v":0},{"$f":"'m-E_Sp'!P15","v":0}]
[1,{"$f":"'w-E_Sp'!B17","v":"W3/01-Sport"},{"$f":"'w-E_Sp'!D17","v":0},{"$f":"'w-E_Sp'!F17","v":0},{"$f":"'w-E_Sp'!G17","v":0},{"$f":"'w-E_Sp'!H17","v":0},{"$f":"'w-E_Sp'!I17","v":0},{"$f":"'w-E_Sp'!J17","v":0},{"$f":"'w-E_Sp'!K17","v":0},{"$f":"'w-E_Sp'!L17","v":0},{"$f":"'w-E_Sp'!M17","v":0},{"$f":"'w-E_Sp'!P17","v":0},1,{"$f":"'m-E_Sp'!B17","v":"M3/01-Sport"},{"$f":"'m-E_Sp'!D17","v":0},{"$f":"'m-E_Sp'!F17","v":0},{"$f":"'m-E_Sp'!G17","v":0},{"$f":"'m-E_Sp'!H17","v":0},{"$f":"'m-E_Sp'!I17","v":0},{"$f":"'m-E_Sp'!J17","v":0},{"$f":"'m-E_Sp'!K17","v":0},{"$f":"'m-E_Sp'!L17","v":0},{"$f":"'m-E_Sp'!M17","v":0},{"$f":"'m-E_Sp'!P17","v":0}]
[1,{"$f":"'w-E_Sp'!B18","v":"W3/02-Sport"},{"$f":"'w-E_Sp'!D18","v":0},{"$f":"'w-E_Sp'!F18","v":0},{"$f":"'w-E_Sp'!G18","v":0},{"$f":"'w-E_Sp'!H18","v":0},{"$f":"'w-E_Sp'!I18","v":0},{"$f":"'w-E_Sp'!J18","v":0},{"$f":"'w-E_Sp'!K18","v":0},{"$f":"'w-E_Sp'!L18","v":0},{"$f":"'w-E_Sp'!M18","v":0},{"$f":"'w-E_Sp'!P18","v":0},1,{"$f":"'m-E_Sp'!B18","v":"M3/02-Sport"},{"$f":"'m-E_Sp'!D18","v":0},{"$f":"'m-E_Sp'!F18","v":0},{"$f":"'m-E_Sp'!G18","v":0},{"$f":"'m-E_Sp'!H18","v":0},{"$f":"'m-E_Sp'!I18","v":0},{"$f":"'m-E_Sp'!J18","v":0},{"$f":"'m-E_Sp'!K18","v":0},{"$f":"'m-E_Sp'!L18","v":0},{"$f":"'m-E_Sp'!M18","v":0},{"$f":"'m-E_Sp'!P18","v":0}]
[1,{"$f":"'w-E_Sp'!B19","v":"W3/03-Sport"},{"$f":"'w-E_Sp'!D19","v":0},{"$f":"'w-E_Sp'!F19","v":0},{"$f":"'w-E_Sp'!G19","v":0},{"$f":"'w-E_Sp'!H19","v":0},{"$f":"'w-E_Sp'!I19","v":0},{"$f":"'w-E_Sp'!J19","v":0},{"$f":"'w-E_Sp'!K19","v":0},{"$f":"'w-E_Sp'!L19","v":0},{"$f":"'w-E_Sp'!M19","v":0},{"$f":"'w-E_Sp'!P19","v":0},1,{"$f":"'m-E_Sp'!B19","v":"M3/03-Sport"},{"$f":"'m-E_Sp'!D19","v":0},{"$f":"'m-E_Sp'!F19","v":0},{"$f":"'m-E_Sp'!G19","v":0},{"$f":"'m-E_Sp'!H19","v":0},{"$f":"'m-E_Sp'!I19","v":0},{"$f":"'m-E_Sp'!J19","v":0},{"$f":"'m-E_Sp'!K19","v":0},{"$f":"'m-E_Sp'!L19","v":0},{"$f":"'m-E_Sp'!M19","v":0},{"$f":"'m-E_Sp'!P19","v":0}]
[1,{"$f":"'w-E_Sp'!B20","v":"W3/04-Sport"},{"$f":"'w-E_Sp'!D20","v":0},{"$f":"'w-E_Sp'!F20","v":0},{"$f":"'w-E_Sp'!G20","v":0},{"$f":"'w-E_Sp'!H20","v":0},{"$f":"'w-E_Sp'!I20","v":0},{"$f":"'w-E_Sp'!J20","v":0},{"$f":"'w-E_Sp'!K20","v":0},{"$f":"'w-E_Sp'!L20","v":0},{"$f":"'w-E_Sp'!M20","v":0},{"$f":"'w-E_Sp'!P20","v":0},1,{"$f":"'m-E_Sp'!B20","v":"M3/04-Sport"},{"$f":"'m-E_Sp'!D20","v":0},{"$f":"'m-E_Sp'!F20","v":0},{"$f":"'m-E_Sp'!G20","v":0},{"$f":"'m-E_Sp'!H20","v":0},{"$f":"'m-E_Sp'!I20","v":0},{"$f":"'m-E_Sp'!J20","v":0},{"$f":"'m-E_Sp'!K20","v":0},{"$f":"'m-E_Sp'!L20","v":0},{"$f":"'m-E_Sp'!M20","v":0},{"$f":"'m-E_Sp'!P20","v":0}]
[1,{"$f":"'w-E_Sp'!B21","v":"W3/05-Sport"},{"$f":"'w-E_Sp'!D21","v":0},{"$f":"'w-E_Sp'!F21","v":0},{"$f":"'w-E_Sp'!G21","v":0},{"$f":"'w-E_Sp'!H21","v":0},{"$f":"'w-E_Sp'!I21","v":0},{"$f":"'w-E_Sp'!J21","v":0},{"$f":"'w-E_Sp'!K21","v":0},{"$f":"'w-E_Sp'!L21","v":0},{"$f":"'w-E_Sp'!M21","v":0},{"$f":"'w-E_Sp'!P21","v":0},1,{"$f":"'m-E_Sp'!B21","v":"M3/05-Sport"},{"$f":"'m-E_Sp'!D21","v":0},{"$f":"'m-E_Sp'!F21","v":0},{"$f":"'m-E_Sp'!G21","v":0},{"$f":"'m-E_Sp'!H21","v":0},{"$f":"'m-E_Sp'!I21","v":0},{"$f":"'m-E_Sp'!J21","v":0},{"$f":"'m-E_Sp'!K21","v":0},{"$f":"'m-E_Sp'!L21","v":0},{"$f":"'m-E_Sp'!M21","v":0},{"$f":"'m-E_Sp'!P21","v":0}]
[1,{"$f":"'w-E_Sp'!B22","v":"W3/06-Sport"},{"$f":"'w-E_Sp'!D22","v":0},{"$f":"'w-E_Sp'!F22","v":0},{"$f":"'w-E_Sp'!G22","v":0},{"$f":"'w-E_Sp'!H22","v":0},{"$f":"'w-E_Sp'!I22","v":0},{"$f":"'w-E_Sp'!J22","v":0},{"$f":"'w-E_Sp'!K22","v":0},{"$f":"'w-E_Sp'!L22","v":0},{"$f":"'w-E_Sp'!M22","v":0},{"$f":"'w-E_Sp'!P22","v":0},1,{"$f":"'m-E_Sp'!B22","v":"M3/06-Sport"},{"$f":"'m-E_Sp'!D22","v":0},{"$f":"'m-E_Sp'!F22","v":0},{"$f":"'m-E_Sp'!G22","v":0},{"$f":"'m-E_Sp'!H22","v":0},{"$f":"'m-E_Sp'!I22","v":0},{"$f":"'m-E_Sp'!J22","v":0},{"$f":"'m-E_Sp'!K22","v":0},{"$f":"'m-E_Sp'!L22","v":0},{"$f":"'m-E_Sp'!M22","v":0},{"$f":"'m-E_Sp'!P22","v":0}]
[1,{"$f":"'w-E_Sp'!B24","v":"W4/01-Sport"},{"$f":"'w-E_Sp'!D24","v":0},{"$f":"'w-E_Sp'!F24","v":0},{"$f":"'w-E_Sp'!G24","v":0},{"$f":"'w-E_Sp'!H24","v":0},{"$f":"'w-E_Sp'!I24","v":0},{"$f":"'w-E_Sp'!J24","v":0},{"$f":"'w-E_Sp'!K24","v":0},{"$f":"'w-E_Sp'!L24","v":0},{"$f":"'w-E_Sp'!M24","v":0},{"$f":"'w-E_Sp'!P24","v":0},1,{"$f":"'m-E_Sp'!B24","v":"M4/01-Sport"},{"$f":"'m-E_Sp'!D24","v":0},{"$f":"'m-E_Sp'!F24","v":0},{"$f":"'m-E_Sp'!G24","v":0},{"$f":"'m-E_Sp'!H24","v":0},{"$f":"'m-E_Sp'!I24","v":0},{"$f":"'m-E_Sp'!J24","v":0},{"$f":"'m-E_Sp'!K24","v":0},{"$f":"'m-E_Sp'!L24","v":0},{"$f":"'m-E_Sp'!M24","v":0},{"$f":"'m-E_Sp'!P24","v":0}]
[1,{"$f":"'w-E_Sp'!B25","v":"W4/02-Sport"},{"$f":"'w-E_Sp'!D25","v":0},{"$f":"'w-E_Sp'!F25","v":0},{"$f":"'w-E_Sp'!G25","v":0},{"$f":"'w-E_Sp'!H25","v":0},{"$f":"'w-E_Sp'!I25","v":0},{"$f":"'w-E_Sp'!J25","v":0},{"$f":"'w-E_Sp'!K25","v":0},{"$f":"'w-E_Sp'!L25","v":0},{"$f":"'w-E_Sp'!M25","v":0},{"$f":"'w-E_Sp'!P25","v":0},1,{"$f":"'m-E_Sp'!B25","v":"M4/02-Sport"},{"$f":"'m-E_Sp'!D25","v":0},{"$f":"'m-E_Sp'!F25","v":0},{"$f":"'m-E_Sp'!G25","v":0},{"$f":"'m-E_Sp'!H25","v":0},{"$f":"'m-E_Sp'!I25","v":0},{"$f":"'m-E_Sp'!J25","v":0},{"$f":"'m-E_Sp'!K25","v":0},{"$f":"'m-E_Sp'!L25","v":0},{"$f":"'m-E_Sp'!M25","v":0},{"$f":"'m-E_Sp'!P25","v":0}]
[1,{"$f":"'w-E_Sp'!B26","v":"W4/03-Sport"},{"$f":"'w-E_Sp'!D26","v":0},{"$f":"'w-E_Sp'!F26","v":0},{"$f":"'w-E_Sp'!G26","v":0},{"$f":"'w-E_Sp'!H26","v":0},{"$f":"'w-E_Sp'!I26","v":0},{"$f":"'w-E_Sp'!J26","v":0},{"$f":"'w-E_Sp'!K26","v":0},{"$f":"'w-E_Sp'!L26","v":0},{"$f":"'w-E_Sp'!M26","v":0},{"$f":"'w-E_Sp'!P26","v":0},1,{"$f":"'m-E_Sp'!B26","v":"M4/03-Sport"},{"$f":"'m-E_Sp'!D26","v":0},{"$f":"'m-E_Sp'!F26","v":0},{"$f":"'m-E_Sp'!G26","v":0},{"$f":"'m-E_Sp'!H26","v":0},{"$f":"'m-E_Sp'!I26","v":0},{"$f":"'m-E_Sp'!J26","v":0},{"$f":"'m-E_Sp'!K26","v":0},{"$f":"'m-E_Sp'!L26","v":0},{"$f":"'m-E_Sp'!M26","v":0},{"$f":"'m-E_Sp'!P26","v":0}]
[1,{"$f":"'w-E_Sp'!B27","v":"W4/04-Sport"},{"$f":"'w-E_Sp'!D27","v":0},{"$f":"'w-E_Sp'!F27","v":0},{"$f":"'w-E_Sp'!G27","v":0},{"$f":"'w-E_Sp'!H27","v":0},{"$f":"'w-E_Sp'!I27","v":0},{"$f":"'w-E_Sp'!J27","v":0},{"$f":"'w-E_Sp'!K27","v":0},{"$f":"'w-E_Sp'!L27","v":0},{"$f":"'w-E_Sp'!M27","v":0},{"$f":"'w-E_Sp'!P27","v":0},1,{"$f":"'m-E_Sp'!B27","v":"M4/04-Sport"},{"$f":"'m-E_Sp'!D27","v":0},{"$f":"'m-E_Sp'!F27","v":0},{"$f":"'m-E_Sp'!G27","v":0},{"$f":"'m-E_Sp'!H27","v":0},{"$f":"'m-E_Sp'!I27","v":0},{"$f":"'m-E_Sp'!J27","v":0},{"$f":"'m-E_Sp'!K27","v":0},{"$f":"'m-E_Sp'!L27","v":0},{"$f":"'m-E_Sp'!M27","v":0},{"$f":"'m-E_Sp'!P27","v":0}]
[1,{"$f":"'w-E_Sp'!B28","v":"W4/05-Sport"},{"$f":"'w-E_Sp'!D28","v":0},{"$f":"'w-E_Sp'!F28","v":0},{"$f":"'w-E_Sp'!G28","v":0},{"$f":"'w-E_Sp'!H28","v":0},{"$f":"'w-E_Sp'!I28","v":0},{"$f":"'w-E_Sp'!J28","v":0},{"$f":"'w-E_Sp'!K28","v":0},{"$f":"'w-E_Sp'!L28","v":0},{"$f":"'w-E_Sp'!M28","v":0},{"$f":"'w-E_Sp'!P28","v":0},1,{"$f":"'m-E_Sp'!B28","v":"M4/05-Sport"},{"$f":"'m-E_Sp'!D28","v":0},{"$f":"'m-E_Sp'!F28","v":0},{"$f":"'m-E_Sp'!G28","v":0},{"$f":"'m-E_Sp'!H28","v":0},{"$f":"'m-E_Sp'!I28","v":0},{"$f":"'m-E_Sp'!J28","v":0},{"$f":"'m-E_Sp'!K28","v":0},{"$f":"'m-E_Sp'!L28","v":0},{"$f":"'m-E_Sp'!M28","v":0},{"$f":"'m-E_Sp'!P28","v":0}]
[1,{"$f":"'w-E_Sp'!B29","v":"W4/06-Sport"},{"$f":"'w-E_Sp'!D29","v":0},{"$f":"'w-E_Sp'!F29","v":0},{"$f":"'w-E_Sp'!G29","v":0},{"$f":"'w-E_Sp'!H29","v":0},{"$f":"'w-E_Sp'!I29","v":0},{"$f":"'w-E_Sp'!J29","v":0},{"$f":"'w-E_Sp'!K29","v":0},{"$f":"'w-E_Sp'!L29","v":0},{"$f":"'w-E_Sp'!M29","v":0},{"$f":"'w-E_Sp'!P29","v":0},1,{"$f":"'m-E_Sp'!B29","v":"M4/06-Sport"},{"$f":"'m-E_Sp'!D29","v":0},{"$f":"'m-E_Sp'!F29","v":0},{"$f":"'m-E_Sp'!G29","v":0},{"$f":"'m-E_Sp'!H29","v":0},{"$f":"'m-E_Sp'!I29","v":0},{"$f":"'m-E_Sp'!J29","v":0},{"$f":"'m-E_Sp'!K29","v":0},{"$f":"'m-E_Sp'!L29","v":0},{"$f":"'m-E_Sp'!M29","v":0},{"$f":"'m-E_Sp'!P29","v":0}]
[1,{"$f":"'w-E_Sp'!B31","v":"W5/01-Sport"},{"$f":"'w-E_Sp'!D31","v":0},{"$f":"'w-E_Sp'!F31","v":0},{"$f":"'w-E_Sp'!G31","v":0},{"$f":"'w-E_Sp'!H31","v":0},{"$f":"'w-E_Sp'!I31","v":0},{"$f":"'w-E_Sp'!J31","v":0},{"$f":"'w-E_Sp'!K31","v":0},{"$f":"'w-E_Sp'!L31","v":0},{"$f":"'w-E_Sp'!M31","v":0},{"$f":"'w-E_Sp'!P31","v":0},1,{"$f":"'m-E_Sp'!B31","v":"M5/01-Sport"},{"$f":"'m-E_Sp'!D31","v":0},{"$f":"'m-E_Sp'!F31","v":0},{"$f":"'m-E_Sp'!G31","v":0},{"$f":"'m-E_Sp'!H31","v":0},{"$f":"'m-E_Sp'!I31","v":0},{"$f":"'m-E_Sp'!J31","v":0},{"$f":"'m-E_Sp'!K31","v":0},{"$f":"'m-E_Sp'!L31","v":0},{"$f":"'m-E_Sp'!M31","v":0},{"$f":"'m-E_Sp'!P31","v":0}]
[1,{"$f":"'w-E_Sp'!B32","v":"W5/02-Sport"},{"$f":"'w-E_Sp'!D32","v":0},{"$f":"'w-E_Sp'!F32","v":0},{"$f":"'w-E_Sp'!G32","v":0},{"$f":"'w-E_Sp'!H32","v":0},{"$f":"'w-E_Sp'!I32","v":0},{"$f":"'w-E_Sp'!J32","v":0},{"$f":"'w-E_Sp'!K32","v":0},{"$f":"'w-E_Sp'!L32","v":0},{"$f":"'w-E_Sp'!M32","v":0},{"$f":"'w-E_Sp'!P32","v":0},1,{"$f":"'m-E_Sp'!B32","v":"M5/02-Sport"},{"$f":"'m-E_Sp'!D32","v":0},{"$f":"'m-E_Sp'!F32","v":0},{"$f":"'m-E_Sp'!G32","v":0},{"$f":"'m-E_Sp'!H32","v":0},{"$f":"'m-E_Sp'!I32","v":0},{"$f":"'m-E_Sp'!J32","v":0},{"$f":"'m-E_Sp'!K32","v":0},{"$f":"'m-E_Sp'!L32","v":0},{"$f":"'m-E_Sp'!M32","v":0},{"$f":"'m-E_Sp'!P32","v":0}]
[1,{"$f":"'w-E_Sp'!B33","v":"W5/03-Sport"},{"$f":"'w-E_Sp'!D33","v":0},{"$f":"'w-E_Sp'!F33","v":0},{"$f":"'w-E_Sp'!G33","v":0},{"$f":"'w-E_Sp'!H33","v":0},{"$f":"'w-E_Sp'!I33","v":0},{"$f":"'w-E_Sp'!J33","v":0},{"$f":"'w-E_Sp'!K33","v":0},{"$f":"'w-E_Sp'!L33","v":0},{"$f":"'w-E_Sp'!M33","v":0},{"$f":"'w-E_Sp'!P33","v":0},1,{"$f":"'m-E_Sp'!B33","v":"M5/03-Sport"},{"$f":"'m-E_Sp'!D33","v":0},{"$f":"'m-E_Sp'!F33","v":0},{"$f":"'m-E_Sp'!G33","v":0},{"$f":"'m-E_Sp'!H33","v":0},{"$f":"'m-E_Sp'!I33","v":0},{"$f":"'m-E_Sp'!J33","v":0},{"$f":"'m-E_Sp'!K33","v":0},{"$f":"'m-E_Sp'!L33","v":0},{"$f":"'m-E_Sp'!M33","v":0},{"$f":"'m-E_Sp'!P33","v":0}]
[1,{"$f":"'w-E_Sp'!B34","v":"W5/04-Sport"},{"$f":"'w-E_Sp'!D34","v":0},{"$f":"'w-E_Sp'!F34","v":0},{"$f":"'w-E_Sp'!G34","v":0},{"$f":"'w-E_Sp'!H34","v":0},{"$f":"'w-E_Sp'!I34","v":0},{"$f":"'w-E_Sp'!J34","v":0},{"$f":"'w-E_Sp'!K34","v":0},{"$f":"'w-E_Sp'!L34","v":0},{"$f":"'w-E_Sp'!M34","v":0},{"$f":"'w-E_Sp'!P34","v":0},1,{"$f":"'m-E_Sp'!B34","v":"M5/04-Sport"},{"$f":"'m-E_Sp'!D34","v":0},{"$f":"'m-E_Sp'!F34","v":0},{"$f":"'m-E_Sp'!G34","v":0},{"$f":"'m-E_Sp'!H34","v":0},{"$f":"'m-E_Sp'!I34","v":0},{"$f":"'m-E_Sp'!J34","v":0},{"$f":"'m-E_Sp'!K34","v":0},{"$f":"'m-E_Sp'!L34","v":0},{"$f":"'m-E_Sp'!M34","v":0},{"$f":"'m-E_Sp'!P34","v":0}]
[1,{"$f":"'w-E_Sp'!B35","v":"W5/05-Sport"},{"$f":"'w-E_Sp'!D35","v":0},{"$f":"'w-E_Sp'!F35","v":0},{"$f":"'w-E_Sp'!G35","v":0},{"$f":"'w-E_Sp'!H35","v":0},{"$f":"'w-E_Sp'!I35","v":0},{"$f":"'w-E_Sp'!J35","v":0},{"$f":"'w-E_Sp'!K35","v":0},{"$f":"'w-E_Sp'!L35","v":0},{"$f":"'w-E_Sp'!M35","v":0},{"$f":"'w-E_Sp'!P35","v":0},1,{"$f":"'m-E_Sp'!B35","v":"M5/05-Sport"},{"$f":"'m-E_Sp'!D35","v":0},{"$f":"'m-E_Sp'!F35","v":0},{"$f":"'m-E_Sp'!G35","v":0},{"$f":"'m-E_Sp'!H35","v":0},{"$f":"'m-E_Sp'!I35","v":0},{"$f":"'m-E_Sp'!J35","v":0},{"$f":"'m-E_Sp'!K35","v":0},{"$f":"'m-E_Sp'!L35","v":0},{"$f":"'m-E_Sp'!M35","v":0},{"$f":"'m-E_Sp'!P35","v":0}]
[1,{"$f":"'w-E_Sp'!B36","v":"W5/06-Sport"},{"$f":"'w-E_Sp'!D36","v":0},{"$f":"'w-E_Sp'!F36","v":0},{"$f":"'w-E_Sp'!G36","v":0},{"$f":"'w-E_Sp'!H36","v":0},{"$f":"'w-E_Sp'!I36","v":0},{"$f":"'w-E_Sp'!J36","v":0},{"$f":"'w-E_Sp'!K36","v":0},{"$f":"'w-E_Sp'!L36","v":0},{"$f":"'w-E_Sp'!M36","v":0},{"$f":"'w-E_Sp'!P36","v":0},1,{"$f":"'m-E_Sp'!B36","v":"M5/06-Sport"},{"$f":"'m-E_Sp'!D36","v":0},{"$f":"'m-E_Sp'!F36","v":0},{"$f":"'m-E_Sp'!G36","v":0},{"$f":"'m-E_Sp'!H36","v":0},{"$f":"'m-E_Sp'!I36","v":0},{"$f":"'m-E_Sp'!J36","v":0},{"$f":"'m-E_Sp'!K36","v":0},{"$f":"'m-E_Sp'!L36","v":0},{"$f":"'m-E_Sp'!M36","v":0},{"$f":"'m-E_Sp'!P36","v":0}]
[1,{"$f":"'w-E_Sp'!B38","v":"W6/01-Sport"},{"$f":"'w-E_Sp'!D38","v":0},{"$f":"'w-E_Sp'!F38","v":0},{"$f":"'w-E_Sp'!G38","v":0},{"$f":"'w-E_Sp'!H38","v":0},{"$f":"'w-E_Sp'!I38","v":0},{"$f":"'w-E_Sp'!J38","v":0},{"$f":"'w-E_Sp'!K38","v":0},{"$f":"'w-E_Sp'!L38","v":0},{"$f":"'w-E_Sp'!M38","v":0},{"$f":"'w-E_Sp'!P38","v":0},1,{"$f":"'m-E_Sp'!B38","v":"M6/01-Sport"},{"$f":"'m-E_Sp'!D38","v":0},{"$f":"'m-E_Sp'!F38","v":0},{"$f":"'m-E_Sp'!G38","v":0},{"$f":"'m-E_Sp'!H38","v":0},{"$f":"'m-E_Sp'!I38","v":0},{"$f":"'m-E_Sp'!J38","v":0},{"$f":"'m-E_Sp'!K38","v":0},{"$f":"'m-E_Sp'!L38","v":0},{"$f":"'m-E_Sp'!M38","v":0},{"$f":"'m-E_Sp'!P38","v":0}]
[1,{"$f":"'w-E_Sp'!B39","v":"W6/02-Sport"},{"$f":"'w-E_Sp'!D39","v":0},{"$f":"'w-E_Sp'!F39","v":0},{"$f":"'w-E_Sp'!G39","v":0},{"$f":"'w-E_Sp'!H39","v":0},{"$f":"'w-E_Sp'!I39","v":0},{"$f":"'w-E_Sp'!J39","v":0},{"$f":"'w-E_Sp'!K39","v":0},{"$f":"'w-E_Sp'!L39","v":0},{"$f":"'w-E_Sp'!M39","v":0},{"$f":"'w-E_Sp'!P39","v":0},1,{"$f":"'m-E_Sp'!B39","v":"M6/02-Sport"},{"$f":"'m-E_Sp'!D39","v":0},{"$f":"'m-E_Sp'!F39","v":0},{"$f":"'m-E_Sp'!G39","v":0},{"$f":"'m-E_Sp'!H39","v":0},{"$f":"'m-E_Sp'!I39","v":0},{"$f":"'m-E_Sp'!J39","v":0},{"$f":"'m-E_Sp'!K39","v":0},{"$f":"'m-E_Sp'!L39","v":0},{"$f":"'m-E_Sp'!M39","v":0},{"$f":"'m-E_Sp'!P39","v":0}]
[{"$f":"RANK(L36,$L$4:$L$123,0)","v":1},{"$f":"'w-E_Sp'!B40","v":"W6/03-Sport"},{"$f":"'w-E_Sp'!D40","v":0},{"$f":"'w-E_Sp'!F40","v":0},{"$f":"'w-E_Sp'!G40","v":0},{"$f":"'w-E_Sp'!H40","v":0},{"$f":"'w-E_Sp'!I40","v":0},{"$f":"'w-E_Sp'!J40","v":0},{"$f":"'w-E_Sp'!K40","v":0},{"$f":"'w-E_Sp'!L40","v":0},{"$f":"'w-E_Sp'!M40","v":0},{"$f":"'w-E_Sp'!P40","v":0},{"$f":"RANK(X36,$X$4:$X$123,0)","v":1},{"$f":"'m-E_Sp'!B40","v":"M6/03-Sport"},{"$f":"'m-E_Sp'!D40","v":0},{"$f":"'m-E_Sp'!F40","v":0},{"$f":"'m-E_Sp'!G40","v":0},{"$f":"'m-E_Sp'!H40","v":0},{"$f":"'m-E_Sp'!I40","v":0},{"$f":"'m-E_Sp'!J40","v":0},{"$f":"'m-E_Sp'!K40","v":0},{"$f":"'m-E_Sp'!L40","v":0},{"$f":"'m-E_Sp'!M40","v":0},{"$f":"'m-E_Sp'!P40","v":0}]
[1,{"$f":"'w-E_Sp'!B41","v":"W6/04-Sport"},{"$f":"'w-E_Sp'!D41","v":0},{"$f":"'w-E_Sp'!F41","v":0},{"$f":"'w-E_Sp'!G41","v":0},{"$f":"'w-E_Sp'!H41","v":0},{"$f":"'w-E_Sp'!I41","v":0},{"$f":"'w-E_Sp'!J41","v":0},{"$f":"'w-E_Sp'!K41","v":0},{"$f":"'w-E_Sp'!L41","v":0},{"$f":"'w-E_Sp'!M41","v":0},{"$f":"'w-E_Sp'!P41","v":0},1,{"$f":"'m-E_Sp'!B41","v":"M6/04-Sport"},{"$f":"'m-E_Sp'!D41","v":0},{"$f":"'m-E_Sp'!F41","v":0},{"$f":"'m-E_Sp'!G41","v":0},{"$f":"'m-E_Sp'!H41","v":0},{"$f":"'m-E_Sp'!I41","v":0},{"$f":"'m-E_Sp'!J41","v":0},{"$f":"'m-E_Sp'!K41","v":0},{"$f":"'m-E_Sp'!L41","v":0},{"$f":"'m-E_Sp'!M41","v":0},{"$f":"'m-E_Sp'!P41","v":0}]
[1,{"$f":"'w-E_Sp'!B42","v":"W6/05-Sport"},{"$f":"'w-E_Sp'!D42","v":0},{"$f":"'w-E_Sp'!F42","v":0},{"$f":"'w-E_Sp'!G42","v":0},{"$f":"'w-E_Sp'!H42","v":0},{"$f":"'w-E_Sp'!I42","v":0},{"$f":"'w-E_Sp'!J42","v":0},{"$f":"'w-E_Sp'!K42","v":0},{"$f":"'w-E_Sp'!L42","v":0},{"$f":"'w-E_Sp'!M42","v":0},{"$f":"'w-E_Sp'!P42","v":0},1,{"$f":"'m-E_Sp'!B42","v":"M6/05-Sport"},{"$f":"'m-E_Sp'!D42","v":0},{"$f":"'m-E_Sp'!F42","v":0},{"$f":"'m-E_Sp'!G42","v":0},{"$f":"'m-E_Sp'!H42","v":0},{"$f":"'m-E_Sp'!I42","v":0},{"$f":"'m-E_Sp'!J42","v":0},{"$f":"'m-E_Sp'!K42","v":0},{"$f":"'m-E_Sp'!L42","v":0},{"$f":"'m-E_Sp'!M42","v":0},{"$f":"'m-E_Sp'!P42","v":0}]
[1,{"$f":"'w-E_Sp'!B43","v":"W6/06-Sport"},{"$f":"'w-E_Sp'!D43","v":0},{"$f":"'w-E_Sp'!F43","v":0},{"$f":"'w-E_Sp'!G43","v":0},{"$f":"'w-E_Sp'!H43","v":0},{"$f":"'w-E_Sp'!I43","v":0},{"$f":"'w-E_Sp'!J43","v":0},{"$f":"'w-E_Sp'!K43","v":0},{"$f":"'w-E_Sp'!L43","v":0},{"$f":"'w-E_Sp'!M43","v":0},{"$f":"'w-E_Sp'!P43","v":0},1,{"$f":"'m-E_Sp'!B43","v":"M6/06-Sport"},{"$f":"'m-E_Sp'!D43","v":0},{"$f":"'m-E_Sp'!F43","v":0},{"$f":"'m-E_Sp'!G43","v":0},{"$f":"'m-E_Sp'!H43","v":0},{"$f":"'m-E_Sp'!I43","v":0},{"$f":"'m-E_Sp'!J43","v":0},{"$f":"'m-E_Sp'!K43","v":0},{"$f":"'m-E_Sp'!L43","v":0},{"$f":"'m-E_Sp'!M43","v":0},{"$f":"'m-E_Sp'!P43","v":0}]
[1,{"$f":"'w-E_Sp'!B45","v":"W7/01-Sport"},{"$f":"'w-E_Sp'!D45","v":0},{"$f":"'w-E_Sp'!F45","v":0},{"$f":"'w-E_Sp'!G45","v":0},{"$f":"'w-E_Sp'!H45","v":0},{"$f":"'w-E_Sp'!I45","v":0},{"$f":"'w-E_Sp'!J45","v":0},{"$f":"'w-E_Sp'!K45","v":0},{"$f":"'w-E_Sp'!L45","v":0},{"$f":"'w-E_Sp'!M45","v":0},{"$f":"'w-E_Sp'!P45","v":0},1,{"$f":"'m-E_Sp'!B45","v":"M7/01-Sport"},{"$f":"'m-E_Sp'!D45","v":0},{"$f":"'m-E_Sp'!F45","v":0},{"$f":"'m-E_Sp'!G45","v":0},{"$f":"'m-E_Sp'!H45","v":0},{"$f":"'m-E_Sp'!I45","v":0},{"$f":"'m-E_Sp'!J45","v":0},{"$f":"'m-E_Sp'!K45","v":0},{"$f":"'m-E_Sp'!L45","v":0},{"$f":"'m-E_Sp'!M45","v":0},{"$f":"'m-E_Sp'!P45","v":0}]
[1,{"$f":"'w-E_Sp'!B46","v":"W7/02-Sport"},{"$f":"'w-E_Sp'!D46","v":0},{"$f":"'w-E_Sp'!F46","v":0},{"$f":"'w-E_Sp'!G46","v":0},{"$f":"'w-E_Sp'!H46","v":0},{"$f":"'w-E_Sp'!I46","v":0},{"$f":"'w-E_Sp'!J46","v":0},{"$f":"'w-E_Sp'!K46","v":0},{"$f":"'w-E_Sp'!L46","v":0},{"$f":"'w-E_Sp'!M46","v":0},{"$f":"'w-E_Sp'!P46","v":0},1,{"$f":"'m-E_Sp'!B46","v":"M7/02-Sport"},{"$f":"'m-E_Sp'!D46","v":0},{"$f":"'m-E_Sp'!F46","v":0},{"$f":"'m-E_Sp'!G46","v":0},{"$f":"'m-E_Sp'!H46","v":0},{"$f":"'m-E_Sp'!I46","v":0},{"$f":"'m-E_Sp'!J46","v":0},{"$f":"'m-E_Sp'!K46","v":0},{"$f":"'m-E_Sp'!L46","v":0},{"$f":"'m-E_Sp'!M46","v":0},{"$f":"'m-E_Sp'!P46","v":0}]
[1,{"$f":"'w-E_Sp'!B47","v":"W7/03-Sport"},{"$f":"'w-E_Sp'!D47","v":0},{"$f":"'w-E_Sp'!F47","v":0},{"$f":"'w-E_Sp'!G47","v":0},{"$f":"'w-E_Sp'!H47","v":0},{"$f":"'w-E_Sp'!I47","v":0},{"$f":"'w-E_Sp'!J47","v":0},{"$f":"'w-E_Sp'!K47","v":0},{"$f":"'w-E_Sp'!L47","v":0},{"$f":"'w-E_Sp'!M47","v":0},{"$f":"'w-E_Sp'!P47","v":0},1,{"$f":"'m-E_Sp'!B47","v":"M7/03-Sport"},{"$f":"'m-E_Sp'!D47","v":0},{"$f":"'m-E_Sp'!F47","v":0},{"$f":"'m-E_Sp'!G47","v":0},{"$f":"'m-E_Sp'!H47","v":0},{"$f":"'m-E_Sp'!I47","v":0},{"$f":"'m-E_Sp'!J47","v":0},{"$f":"'m-E_Sp'!K47","v":0},{"$f":"'m-E_Sp'!L47","v":0},{"$f":"'m-E_Sp'!M47","v":0},{"$f":"'m-E_Sp'!P47","v":0}]
[1,{"$f":"'w-E_Sp'!B48","v":"W7/04-Sport"},{"$f":"'w-E_Sp'!D48","v":0},{"$f":"'w-E_Sp'!F48","v":0},{"$f":"'w-E_Sp'!G48","v":0},{"$f":"'w-E_Sp'!H48","v":0},{"$f":"'w-E_Sp'!I48","v":0},{"$f":"'w-E_Sp'!J48","v":0},{"$f":"'w-E_Sp'!K48","v":0},{"$f":"'w-E_Sp'!L48","v":0},{"$f":"'w-E_Sp'!M48","v":0},{"$f":"'w-E_Sp'!P48","v":0},1,{"$f":"'m-E_Sp'!B48","v":"M7/04-Sport"},{"$f":"'m-E_Sp'!D48","v":0},{"$f":"'m-E_Sp'!F48","v":0},{"$f":"'m-E_Sp'!G48","v":0},{"$f":"'m-E_Sp'!H48","v":0},{"$f":"'m-E_Sp'!I48","v":0},{"$f":"'m-E_Sp'!J48","v":0},{"$f":"'m-E_Sp'!K48","v":0},{"$f":"'m-E_Sp'!L48","v":0},{"$f":"'m-E_Sp'!M48","v":0},{"$f":"'m-E_Sp'!P48","v":0}]
[1,{"$f":"'w-E_Sp'!B49","v":"W7/05-Sport"},{"$f":"'w-E_Sp'!D49","v":0},{"$f":"'w-E_Sp'!F49","v":0},{"$f":"'w-E_Sp'!G49","v":0},{"$f":"'w-E_Sp'!H49","v":0},{"$f":"'w-E_Sp'!I49","v":0},{"$f":"'w-E_Sp'!J49","v":0},{"$f":"'w-E_Sp'!K49","v":0},{"$f":"'w-E_Sp'!L49","v":0},{"$f":"'w-E_Sp'!M49","v":0},{"$f":"'w-E_Sp'!P49","v":0},1,{"$f":"'m-E_Sp'!B49","v":"M7/05-Sport"},{"$f":"'m-E_Sp'!D49","v":0},{"$f":"'m-E_Sp'!F49","v":0},{"$f":"'m-E_Sp'!G49","v":0},{"$f":"'m-E_Sp'!H49","v":0},{"$f":"'m-E_Sp'!I49","v":0},{"$f":"'m-E_Sp'!J49","v":0},{"$f":"'m-E_Sp'!K49","v":0},{"$f":"'m-E_Sp'!L49","v":0},{"$f":"'m-E_Sp'!M49","v":0},{"$f":"'m-E_Sp'!P49","v":0}]
[1,{"$f":"'w-E_Sp'!B50","v":"W7/06-Sport"},{"$f":"'w-E_Sp'!D50","v":0},{"$f":"'w-E_Sp'!F50","v":0},{"$f":"'w-E_Sp'!G50","v":0},{"$f":"'w-E_Sp'!H50","v":0},{"$f":"'w-E_Sp'!I50","v":0},{"$f":"'w-E_Sp'!J50","v":0},{"$f":"'w-E_Sp'!K50","v":0},{"$f":"'w-E_Sp'!L50","v":0},{"$f":"'w-E_Sp'!M50","v":0},{"$f":"'w-E_Sp'!P50","v":0},1,{"$f":"'m-E_Sp'!B50","v":"M7/06-Sport"},{"$f":"'m-E_Sp'!D50","v":0},{"$f":"'m-E_Sp'!F50","v":0},{"$f":"'m-E_Sp'!G50","v":0},{"$f":"'m-E_Sp'!H50","v":0},{"$f":"'m-E_Sp'!I50","v":0},{"$f":"'m-E_Sp'!J50","v":0},{"$f":"'m-E_Sp'!K50","v":0},{"$f":"'m-E_Sp'!L50","v":0},{"$f":"'m-E_Sp'!M50","v":0},{"$f":"'m-E_Sp'!P50","v":0}]
[1,{"$f":"'w-E_Sp'!B52","v":"W8/01-Sport"},{"$f":"'w-E_Sp'!D52","v":0},{"$f":"'w-E_Sp'!F52","v":0},{"$f":"'w-E_Sp'!G52","v":0},{"$f":"'w-E_Sp'!H52","v":0},{"$f":"'w-E_Sp'!I52","v":0},{"$f":"'w-E_Sp'!J52","v":0},{"$f":"'w-E_Sp'!K52","v":0},{"$f":"'w-E_Sp'!L52","v":0},{"$f":"'w-E_Sp'!M52","v":0},{"$f":"'w-E_Sp'!P52","v":0},1,{"$f":"'m-E_Sp'!B52","v":"M8/01-Sport"},{"$f":"'m-E_Sp'!D52","v":0},{"$f":"'m-E_Sp'!F52","v":0},{"$f":"'m-E_Sp'!G52","v":0},{"$f":"'m-E_Sp'!H52","v":0},{"$f":"'m-E_Sp'!I52","v":0},{"$f":"'m-E_Sp'!J52","v":0},{"$f":"'m-E_Sp'!K52","v":0},{"$f":"'m-E_Sp'!L52","v":0},{"$f":"'m-E_Sp'!M52","v":0},{"$f":"'m-E_Sp'!P52","v":0}]
[1,{"$f":"'w-E_Sp'!B53","v":"W8/02-Sport"},{"$f":"'w-E_Sp'!D53","v":0},{"$f":"'w-E_Sp'!F53","v":0},{"$f":"'w-E_Sp'!G53","v":0},{"$f":"'w-E_Sp'!H53","v":0},{"$f":"'w-E_Sp'!I53","v":0},{"$f":"'w-E_Sp'!J53","v":0},{"$f":"'w-E_Sp'!K53","v":0},{"$f":"'w-E_Sp'!L53","v":0},{"$f":"'w-E_Sp'!M53","v":0},{"$f":"'w-E_Sp'!P53","v":0},1,{"$f":"'m-E_Sp'!B53","v":"M8/02-Sport"},{"$f":"'m-E_Sp'!D53","v":0},{"$f":"'m-E_Sp'!F53","v":0},{"$f":"'m-E_Sp'!G53","v":0},{"$f":"'m-E_Sp'!H53","v":0},{"$f":"'m-E_Sp'!I53","v":0},{"$f":"'m-E_Sp'!J53","v":0},{"$f":"'m-E_Sp'!K53","v":0},{"$f":"'m-E_Sp'!L53","v":0},{"$f":"'m-E_Sp'!M53","v":0},{"$f":"'m-E_Sp'!P53","v":0}]
[1,{"$f":"'w-E_Sp'!B54","v":"W8/03-Sport"},{"$f":"'w-E_Sp'!D54","v":0},{"$f":"'w-E_Sp'!F54","v":0},{"$f":"'w-E_Sp'!G54","v":0},{"$f":"'w-E_Sp'!H54","v":0},{"$f":"'w-E_Sp'!I54","v":0},{"$f":"'w-E_Sp'!J54","v":0},{"$f":"'w-E_Sp'!K54","v":0},{"$f":"'w-E_Sp'!L54","v":0},{"$f":"'w-E_Sp'!M54","v":0},{"$f":"'w-E_Sp'!P54","v":0},1,{"$f":"'m-E_Sp'!B54","v":"M8/03-Sport"},{"$f":"'m-E_Sp'!D54","v":0},{"$f":"'m-E_Sp'!F54","v":0},{"$f":"'m-E_Sp'!G54","v":0},{"$f":"'m-E_Sp'!H54","v":0},{"$f":"'m-E_Sp'!I54","v":0},{"$f":"'m-E_Sp'!J54","v":0},{"$f":"'m-E_Sp'!K54","v":0},{"$f":"'m-E_Sp'!L54","v":0},{"$f":"'m-E_Sp'!M54","v":0},{"$f":"'m-E_Sp'!P54","v":0}]
[1,{"$f":"'w-E_Sp'!B55","v":"W8/04-Sport"},{"$f":"'w-E_Sp'!D55","v":0},{"$f":"'w-E_Sp'!F55","v":0},{"$f":"'w-E_Sp'!G55","v":0},{"$f":"'w-E_Sp'!H55","v":0},{"$f":"'w-E_Sp'!I55","v":0},{"$f":"'w-E_Sp'!J55","v":0},{"$f":"'w-E_Sp'!K55","v":0},{"$f":"'w-E_Sp'!L55","v":0},{"$f":"'w-E_Sp'!M55","v":0},{"$f":"'w-E_Sp'!P55","v":0},1,{"$f":"'m-E_Sp'!B55","v":"M8/04-Sport"},{"$f":"'m-E_Sp'!D55","v":0},{"$f":"'m-E_Sp'!F55","v":0},{"$f":"'m-E_Sp'!G55","v":0},{"$f":"'m-E_Sp'!H55","v":0},{"$f":"'m-E_Sp'!I55","v":0},{"$f":"'m-E_Sp'!J55","v":0},{"$f":"'m-E_Sp'!K55","v":0},{"$f":"'m-E_Sp'!L55","v":0},{"$f":"'m-E_Sp'!M55","v":0},{"$f":"'m-E_Sp'!P55","v":0}]
[1,{"$f":"'w-E_Sp'!B56","v":"W8/05-Sport"},{"$f":"'w-E_Sp'!D56","v":0},{"$f":"'w-E_Sp'!F56","v":0},{"$f":"'w-E_Sp'!G56","v":0},{"$f":"'w-E_Sp'!H56","v":0},{"$f":"'w-E_Sp'!I56","v":0},{"$f":"'w-E_Sp'!J56","v":0},{"$f":"'w-E_Sp'!K56","v":0},{"$f":"'w-E_Sp'!L56","v":0},{"$f":"'w-E_Sp'!M56","v":0},{"$f":"'w-E_Sp'!P56","v":0},1,{"$f":"'m-E_Sp'!B56","v":"M8/05-Sport"},{"$f":"'m-E_Sp'!D56","v":0},{"$f":"'m-E_Sp'!F56","v":0},{"$f":"'m-E_Sp'!G56","v":0},{"$f":"'m-E_Sp'!H56","v":0},{"$f":"'m-E_Sp'!I56","v":0},{"$f":"'m-E_Sp'!J56","v":0},{"$f":"'m-E_Sp'!K56","v":0},{"$f":"'m-E_Sp'!L56","v":0},{"$f":"'m-E_Sp'!M56","v":0},{"$f":"'m-E_Sp'!P56","v":0}]
[1,{"$f":"'w-E_Sp'!B57","v":"W8/06-Sport"},{"$f":"'w-E_Sp'!D57","v":0},{"$f":"'w-E_Sp'!F57","v":0},{"$f":"'w-E_Sp'!G57","v":0},{"$f":"'w-E_Sp'!H57","v":0},{"$f":"'w-E_Sp'!I57","v":0},{"$f":"'w-E_Sp'!J57","v":0},{"$f":"'w-E_Sp'!K57","v":0},{"$f":"'w-E_Sp'!L57","v":0},{"$f":"'w-E_Sp'!M57","v":0},{"$f":"'w-E_Sp'!P57","v":0},1,{"$f":"'m-E_Sp'!B57","v":"M8/06-Sport"},{"$f":"'m-E_Sp'!D57","v":0},{"$f":"'m-E_Sp'!F57","v":0},{"$f":"'m-E_Sp'!G57","v":0},{"$f":"'m-E_Sp'!H57","v":0},{"$f":"'m-E_Sp'!I57","v":0},{"$f":"'m-E_Sp'!J57","v":0},{"$f":"'m-E_Sp'!K57","v":0},{"$f":"'m-E_Sp'!L57","v":0},{"$f":"'m-E_Sp'!M57","v":0},{"$f":"'m-E_Sp'!P57","v":0}]
[1,{"$f":"'w-E_Sp'!B59","v":"W9/01-Sport"},{"$f":"'w-E_Sp'!D59","v":0},{"$f":"'w-E_Sp'!F59","v":0},{"$f":"'w-E_Sp'!G59","v":0},{"$f":"'w-E_Sp'!H59","v":0},{"$f":"'w-E_Sp'!I59","v":0},{"$f":"'w-E_Sp'!J59","v":0},{"$f":"'w-E_Sp'!K59","v":0},{"$f":"'w-E_Sp'!L59","v":0},{"$f":"'w-E_Sp'!M59","v":0},{"$f":"'w-E_Sp'!P59","v":0},1,{"$f":"'m-E_Sp'!B59","v":"M9/01-Sport"},{"$f":"'m-E_Sp'!D59","v":0},{"$f":"'m-E_Sp'!F59","v":0},{"$f":"'m-E_Sp'!G59","v":0},{"$f":"'m-E_Sp'!H59","v":0},{"$f":"'m-E_Sp'!I59","v":0},{"$f":"'m-E_Sp'!J59","v":0},{"$f":"'m-E_Sp'!K59","v":0},{"$f":"'m-E_Sp'!L59","v":0},{"$f":"'m-E_Sp'!M59","v":0},{"$f":"'m-E_Sp'!P59","v":0}]
[1,{"$f":"'w-E_Sp'!B60","v":"W9/02-Sport"},{"$f":"'w-E_Sp'!D60","v":0},{"$f":"'w-E_Sp'!F60","v":0},{"$f":"'w-E_Sp'!G60","v":0},{"$f":"'w-E_Sp'!H60","v":0},{"$f":"'w-E_Sp'!I60","v":0},{"$f":"'w-E_Sp'!J60","v":0},{"$f":"'w-E_Sp'!K60","v":0},{"$f":"'w-E_Sp'!L60","v":0},{"$f":"'w-E_Sp'!M60","v":0},{"$f":"'w-E_Sp'!P60","v":0},1,{"$f":"'m-E_Sp'!B60","v":"M9/02-Sport"},{"$f":"'m-E_Sp'!D60","v":0},{"$f":"'m-E_Sp'!F60","v":0},{"$f":"'m-E_Sp'!G60","v":0},{"$f":"'m-E_Sp'!H60","v":0},{"$f":"'m-E_Sp'!I60","v":0},{"$f":"'m-E_Sp'!J60","v":0},{"$f":"'m-E_Sp'!K60","v":0},{"$f":"'m-E_Sp'!L60","v":0},{"$f":"'m-E_Sp'!M60","v":0},{"$f":"'m-E_Sp'!P60","v":0}]
[1,{"$f":"'w-E_Sp'!B61","v":"W9/03-Sport"},{"$f":"'w-E_Sp'!D61","v":0},{"$f":"'w-E_Sp'!F61","v":0},{"$f":"'w-E_Sp'!G61","v":0},{"$f":"'w-E_Sp'!H61","v":0},{"$f":"'w-E_Sp'!I61","v":0},{"$f":"'w-E_Sp'!J61","v":0},{"$f":"'w-E_Sp'!K61","v":0},{"$f":"'w-E_Sp'!L61","v":0},{"$f":"'w-E_Sp'!M61","v":0},{"$f":"'w-E_Sp'!P61","v":0},1,{"$f":"'m-E_Sp'!B61","v":"M9/03-Sport"},{"$f":"'m-E_Sp'!D61","v":0},{"$f":"'m-E_Sp'!F61","v":0},{"$f":"'m-E_Sp'!G61","v":0},{"$f":"'m-E_Sp'!H61","v":0},{"$f":"'m-E_Sp'!I61","v":0},{"$f":"'m-E_Sp'!J61","v":0},{"$f":"'m-E_Sp'!K61","v":0},{"$f":"'m-E_Sp'!L61","v":0},{"$f":"'m-E_Sp'!M61","v":0},{"$f":"'m-E_Sp'!P61","v":0}]
[1,{"$f":"'w-E_Sp'!B62","v":"W9/04-Sport"},{"$f":"'w-E_Sp'!D62","v":0},{"$f":"'w-E_Sp'!F62","v":0},{"$f":"'w-E_Sp'!G62","v":0},{"$f":"'w-E_Sp'!H62","v":0},{"$f":"'w-E_Sp'!I62","v":0},{"$f":"'w-E_Sp'!J62","v":0},{"$f":"'w-E_Sp'!K62","v":0},{"$f":"'w-E_Sp'!L62","v":0},{"$f":"'w-E_Sp'!M62","v":0},{"$f":"'w-E_Sp'!P62","v":0},1,{"$f":"'m-E_Sp'!B62","v":"M9/04-Sport"},{"$f":"'m-E_Sp'!D62","v":0},{"$f":"'m-E_Sp'!F62","v":0},{"$f":"'m-E_Sp'!G62","v":0},{"$f":"'m-E_Sp'!H62","v":0},{"$f":"'m-E_Sp'!I62","v":0},{"$f":"'m-E_Sp'!J62","v":0},{"$f":"'m-E_Sp'!K62","v":0},{"$f":"'m-E_Sp'!L62","v":0},{"$f":"'m-E_Sp'!M62","v":0},{"$f":"'m-E_Sp'!P62","v":0}]
[1,{"$f":"'w-E_Sp'!B63","v":"W9/05-Sport"},{"$f":"'w-E_Sp'!D63","v":0},{"$f":"'w-E_Sp'!F63","v":0},{"$f":"'w-E_Sp'!G63","v":0},{"$f":"'w-E_Sp'!H63","v":0},{"$f":"'w-E_Sp'!I63","v":0},{"$f":"'w-E_Sp'!J63","v":0},{"$f":"'w-E_Sp'!K63","v":0},{"$f":"'w-E_Sp'!L63","v":0},{"$f":"'w-E_Sp'!M63","v":0},{"$f":"'w-E_Sp'!P63","v":0},1,{"$f":"'m-E_Sp'!B63","v":"M9/05-Sport"},{"$f":"'m-E_Sp'!D63","v":0},{"$f":"'m-E_Sp'!F63","v":0},{"$f":"'m-E_Sp'!G63","v":0},{"$f":"'m-E_Sp'!H63","v":0},{"$f":"'m-E_Sp'!I63","v":0},{"$f":"'m-E_Sp'!J63","v":0},{"$f":"'m-E_Sp'!K63","v":0},{"$f":"'m-E_Sp'!L63","v":0},{"$f":"'m-E_Sp'!M63","v":0},{"$f":"'m-E_Sp'!P63","v":0}]
[1,{"$f":"'w-E_Sp'!B64","v":"W9/06-Sport"},{"$f":"'w-E_Sp'!D64","v":0},{"$f":"'w-E_Sp'!F64","v":0},{"$f":"'w-E_Sp'!G64","v":0},{"$f":"'w-E_Sp'!H64","v":0},{"$f":"'w-E_Sp'!I64","v":0},{"$f":"'w-E_Sp'!J64","v":0},{"$f":"'w-E_Sp'!K64","v":0},{"$f":"'w-E_Sp'!L64","v":0},{"$f":"'w-E_Sp'!M64","v":0},{"$f":"'w-E_Sp'!P64","v":0},1,{"$f":"'m-E_Sp'!B64","v":"M9/06-Sport"},{"$f":"'m-E_Sp'!D64","v":0},{"$f":"'m-E_Sp'!F64","v":0},{"$f":"'m-E_Sp'!G64","v":0},{"$f":"'m-E_Sp'!H64","v":0},{"$f":"'m-E_Sp'!I64","v":0},{"$f":"'m-E_Sp'!J64","v":0},{"$f":"'m-E_Sp'!K64","v":0},{"$f":"'m-E_Sp'!L64","v":0},{"$f":"'m-E_Sp'!M64","v":0},{"$f":"'m-E_Sp'!P64","v":0}]
[1,{"$f":"'w-E_Sp'!B66","v":"W10/01-Sport"},{"$f":"'w-E_Sp'!D66","v":0},{"$f":"'w-E_Sp'!F66","v":0},{"$f":"'w-E_Sp'!G66","v":0},{"$f":"'w-E_Sp'!H66","v":0},{"$f":"'w-E_Sp'!I66","v":0},{"$f":"'w-E_Sp'!J66","v":0},{"$f":"'w-E_Sp'!K66","v":0},{"$f":"'w-E_Sp'!L66","v":0},{"$f":"'w-E_Sp'!M66","v":0},{"$f":"'w-E_Sp'!P66","v":0},1,{"$f":"'m-E_Sp'!B66","v":"M10/01-Sport"},{"$f":"'m-E_Sp'!D66","v":0},{"$f":"'m-E_Sp'!F66","v":0},{"$f":"'m-E_Sp'!G66","v":0},{"$f":"'m-E_Sp'!H66","v":0},{"$f":"'m-E_Sp'!I66","v":0},{"$f":"'m-E_Sp'!J66","v":0},{"$f":"'m-E_Sp'!K66","v":0},{"$f":"'m-E_Sp'!L66","v":0},{"$f":"'m-E_Sp'!M66","v":0},{"$f":"'m-E_Sp'!P66","v":0}]
[1,{"$f":"'w-E_Sp'!B67","v":"W10/02-Sport"},{"$f":"'w-E_Sp'!D67","v":0},{"$f":"'w-E_Sp'!F67","v":0},{"$f":"'w-E_Sp'!G67","v":0},{"$f":"'w-E_Sp'!H67","v":0},{"$f":"'w-E_Sp'!I67","v":0},{"$f":"'w-E_Sp'!J67","v":0},{"$f":"'w-E_Sp'!K67","v":0},{"$f":"'w-E_Sp'!L67","v":0},{"$f":"'w-E_Sp'!M67","v":0},{"$f":"'w-E_Sp'!P67","v":0},1,{"$f":"'m-E_Sp'!B67","v":"M10/02-Sport"},{"$f":"'m-E_Sp'!D67","v":0},{"$f":"'m-E_Sp'!F67","v":0},{"$f":"'m-E_Sp'!G67","v":0},{"$f":"'m-E_Sp'!H67","v":0},{"$f":"'m-E_Sp'!I67","v":0},{"$f":"'m-E_Sp'!J67","v":0},{"$f":"'m-E_Sp'!K67","v":0},{"$f":"'m-E_Sp'!L67","v":0},{"$f":"'m-E_Sp'!M67","v":0},{"$f":"'m-E_Sp'!P67","v":0}]
[1,{"$f":"'w-E_Sp'!B68","v":"W10/03-Sport"},{"$f":"'w-E_Sp'!D68","v":0},{"$f":"'w-E_Sp'!F68","v":0},{"$f":"'w-E_Sp'!G68","v":0},{"$f":"'w-E_Sp'!H68","v":0},{"$f":"'w-E_Sp'!I68","v":0},{"$f":"'w-E_Sp'!J68","v":0},{"$f":"'w-E_Sp'!K68","v":0},{"$f":"'w-E_Sp'!L68","v":0},{"$f":"'w-E_Sp'!M68","v":0},{"$f":"'w-E_Sp'!P68","v":0},1,{"$f":"'m-E_Sp'!B68","v":"M10/03-Sport"},{"$f":"'m-E_Sp'!D68","v":0},{"$f":"'m-E_Sp'!F68","v":0},{"$f":"'m-E_Sp'!G68","v":0},{"$f":"'m-E_Sp'!H68","v":0},{"$f":"'m-E_Sp'!I68","v":0},{"$f":"'m-E_Sp'!J68","v":0},{"$f":"'m-E_Sp'!K68","v":0},{"$f":"'m-E_Sp'!L68","v":0},{"$f":"'m-E_Sp'!M68","v":0},{"$f":"'m-E_Sp'!P68","v":0}]
[1,{"$f":"'w-E_Sp'!B69","v":"W10/04-Sport"},{"$f":"'w-E_Sp'!D69","v":0},{"$f":"'w-E_Sp'!F69","v":0},{"$f":"'w-E_Sp'!G69","v":0},{"$f":"'w-E_Sp'!H69","v":0},{"$f":"'w-E_Sp'!I69","v":0},{"$f":"'w-E_Sp'!J69","v":0},{"$f":"'w-E_Sp'!K69","v":0},{"$f":"'w-E_Sp'!L69","v":0},{"$f":"'w-E_Sp'!M69","v":0},{"$f":"'w-E_Sp'!P69","v":0},1,{"$f":"'m-E_Sp'!B69","v":"M10/04-Sport"},{"$f":"'m-E_Sp'!D69","v":0},{"$f":"'m-E_Sp'!F69","v":0},{"$f":"'m-E_Sp'!G69","v":0},{"$f":"'m-E_Sp'!H69","v":0},{"$f":"'m-E_Sp'!I69","v":0},{"$f":"'m-E_Sp'!J69","v":0},{"$f":"'m-E_Sp'!K69","v":0},{"$f":"'m-E_Sp'!L69","v":0},{"$f":"'m-E_Sp'!M69","v":0},{"$f":"'m-E_Sp'!P69","v":0}]
[1,{"$f":"'w-E_Sp'!B70","v":"W10/05-Sport"},{"$f":"'w-E_Sp'!D70","v":0},{"$f":"'w-E_Sp'!F70","v":0},{"$f":"'w-E_Sp'!G70","v":0},{"$f":"'w-E_Sp'!H70","v":0},{"$f":"'w-E_Sp'!I70","v":0},{"$f":"'w-E_Sp'!J70","v":0},{"$f":"'w-E_Sp'!K70","v":0},{"$f":"'w-E_Sp'!L70","v":0},{"$f":"'w-E_Sp'!M70","v":0},{"$f":"'w-E_Sp'!P70","v":0},1,{"$f":"'m-E_Sp'!B70","v":"M10/05-Sport"},{"$f":"'m-E_Sp'!D70","v":0},{"$f":"'m-E_Sp'!F70","v":0},{"$f":"'m-E_Sp'!G70","v":0},{"$f":"'m-E_Sp'!H70","v":0},{"$f":"'m-E_Sp'!I70","v":0},{"$f":"'m-E_Sp'!J70","v":0},{"$f":"'m-E_Sp'!K70","v":0},{"$f":"'m-E_Sp'!L70","v":0},{"$f":"'m-E_Sp'!M70","v":0},{"$f":"'m-E_Sp'!P70","v":0}]
[1,{"$f":"'w-E_Sp'!B71","v":"W10/06-Sport"},{"$f":"'w-E_Sp'!D71","v":0},{"$f":"'w-E_Sp'!F71","v":0},{"$f":"'w-E_Sp'!G71","v":0},{"$f":"'w-E_Sp'!H71","v":0},{"$f":"'w-E_Sp'!I71","v":0},{"$f":"'w-E_Sp'!J71","v":0},{"$f":"'w-E_Sp'!K71","v":0},{"$f":"'w-E_Sp'!L71","v":0},{"$f":"'w-E_Sp'!M71","v":0},{"$f":"'w-E_Sp'!P71","v":0},1,{"$f":"'m-E_Sp'!B71","v":"M10/06-Sport"},{"$f":"'m-E_Sp'!D71","v":0},{"$f":"'m-E_Sp'!F71","v":0},{"$f":"'m-E_Sp'!G71","v":0},{"$f":"'m-E_Sp'!H71","v":0},{"$f":"'m-E_Sp'!I71","v":0},{"$f":"'m-E_Sp'!J71","v":0},{"$f":"'m-E_Sp'!K71","v":0},{"$f":"'m-E_Sp'!L71","v":0},{"$f":"'m-E_Sp'!M71","v":0},{"$f":"'m-E_Sp'!P71","v":0}]
[1,{"$f":"'w-E_Sp'!B73","v":"W11/01-Sport"},{"$f":"'w-E_Sp'!D73","v":0},{"$f":"'w-E_Sp'!F73","v":0},{"$f":"'w-E_Sp'!G73","v":0},{"$f":"'w-E_Sp'!H73","v":0},{"$f":"'w-E_Sp'!I73","v":0},{"$f":"'w-E_Sp'!J73","v":0},{"$f":"'w-E_Sp'!K73","v":0},{"$f":"'w-E_Sp'!L73","v":0},{"$f":"'w-E_Sp'!M73","v":0},{"$f":"'w-E_Sp'!P73","v":0},1,{"$f":"'m-E_Sp'!B73","v":"M11/01-Sport"},{"$f":"'m-E_Sp'!D73","v":0},{"$f":"'m-E_Sp'!F73","v":0},{"$f":"'m-E_Sp'!G73","v":0},{"$f":"'m-E_Sp'!H73","v":0},{"$f":"'m-E_Sp'!I73","v":0},{"$f":"'m-E_Sp'!J73","v":0},{"$f":"'m-E_Sp'!K73","v":0},{"$f":"'m-E_Sp'!L73","v":0},{"$f":"'m-E_Sp'!M73","v":0},{"$f":"'m-E_Sp'!P73","v":0}]
[1,{"$f":"'w-E_Sp'!B74","v":"W11/02-Sport"},{"$f":"'w-E_Sp'!D74","v":0},{"$f":"'w-E_Sp'!F74","v":0},{"$f":"'w-E_Sp'!G74","v":0},{"$f":"'w-E_Sp'!H74","v":0},{"$f":"'w-E_Sp'!I74","v":0},{"$f":"'w-E_Sp'!J74","v":0},{"$f":"'w-E_Sp'!K74","v":0},{"$f":"'w-E_Sp'!L74","v":0},{"$f":"'w-E_Sp'!M74","v":0},{"$f":"'w-E_Sp'!P74","v":0},1,{"$f":"'m-E_Sp'!B74","v":"M11/02-Sport"},{"$f":"'m-E_Sp'!D74","v":0},{"$f":"'m-E_Sp'!F74","v":0},{"$f":"'m-E_Sp'!G74","v":0},{"$f":"'m-E_Sp'!H74","v":0},{"$f":"'m-E_Sp'!I74","v":0},{"$f":"'m-E_Sp'!J74","v":0},{"$f":"'m-E_Sp'!K74","v":0},{"$f":"'m-E_Sp'!L74","v":0},{"$f":"'m-E_Sp'!M74","v":0},{"$f":"'m-E_Sp'!P74","v":0}]
[1,{"$f":"'w-E_Sp'!B75","v":"W11/03-Sport"},{"$f":"'w-E_Sp'!D75","v":0},{"$f":"'w-E_Sp'!F75","v":0},{"$f":"'w-E_Sp'!G75","v":0},{"$f":"'w-E_Sp'!H75","v":0},{"$f":"'w-E_Sp'!I75","v":0},{"$f":"'w-E_Sp'!J75","v":0},{"$f":"'w-E_Sp'!K75","v":0},{"$f":"'w-E_Sp'!L75","v":0},{"$f":"'w-E_Sp'!M75","v":0},{"$f":"'w-E_Sp'!P75","v":0},1,{"$f":"'m-E_Sp'!B75","v":"M11/03-Sport"},{"$f":"'m-E_Sp'!D75","v":0},{"$f":"'m-E_Sp'!F75","v":0},{"$f":"'m-E_Sp'!G75","v":0},{"$f":"'m-E_Sp'!H75","v":0},{"$f":"'m-E_Sp'!I75","v":0},{"$f":"'m-E_Sp'!J75","v":0},{"$f":"'m-E_Sp'!K75","v":0},{"$f":"'m-E_Sp'!L75","v":0},{"$f":"'m-E_Sp'!M75","v":0},{"$f":"'m-E_Sp'!P75","v":0}]
[1,{"$f":"'w-E_Sp'!B76","v":"W11/04-Sport"},{"$f":"'w-E_Sp'!D76","v":0},{"$f":"'w-E_Sp'!F76","v":0},{"$f":"'w-E_Sp'!G76","v":0},{"$f":"'w-E_Sp'!H76","v":0},{"$f":"'w-E_Sp'!I76","v":0},{"$f":"'w-E_Sp'!J76","v":0},{"$f":"'w-E_Sp'!K76","v":0},{"$f":"'w-E_Sp'!L76","v":0},{"$f":"'w-E_Sp'!M76","v":0},{"$f":"'w-E_Sp'!P76","v":0},1,{"$f":"'m-E_Sp'!B76","v":"M11/04-Sport"},{"$f":"'m-E_Sp'!D76","v":0},{"$f":"'m-E_Sp'!F76","v":0},{"$f":"'m-E_Sp'!G76","v":0},{"$f":"'m-E_Sp'!H76","v":0},{"$f":"'m-E_Sp'!I76","v":0},{"$f":"'m-E_Sp'!J76","v":0},{"$f":"'m-E_Sp'!K76","v":0},{"$f":"'m-E_Sp'!L76","v":0},{"$f":"'m-E_Sp'!M76","v":0},{"$f":"'m-E_Sp'!P76","v":0}]
[{"$f":"RANK(L68,$L$4:$L$123,0)","v":1},{"$f":"'w-E_Sp'!B77","v":"W11/05-Sport"},{"$f":"'w-E_Sp'!D77","v":0},{"$f":"'w-E_Sp'!F77","v":0},{"$f":"'w-E_Sp'!G77","v":0},{"$f":"'w-E_Sp'!H77","v":0},{"$f":"'w-E_Sp'!I77","v":0},{"$f":"'w-E_Sp'!J77","v":0},{"$f":"'w-E_Sp'!K77","v":0},{"$f":"'w-E_Sp'!L77","v":0},{"$f":"'w-E_Sp'!M77","v":0},{"$f":"'w-E_Sp'!P77","v":0},{"$f":"RANK(X68,$X$4:$X$123,0)","v":1},{"$f":"'m-E_Sp'!B77","v":"M11/05-Sport"},{"$f":"'m-E_Sp'!D77","v":0},{"$f":"'m-E_Sp'!F77","v":0},{"$f":"'m-E_Sp'!G77","v":0},{"$f":"'m-E_Sp'!H77","v":0},{"$f":"'m-E_Sp'!I77","v":0},{"$f":"'m-E_Sp'!J77","v":0},{"$f":"'m-E_Sp'!K77","v":0},{"$f":"'m-E_Sp'!L77","v":0},{"$f":"'m-E_Sp'!M77","v":0},{"$f":"'m-E_Sp'!P77","v":0}]
[1,{"$f":"'w-E_Sp'!B78","v":"W11/06-Sport"},{"$f":"'w-E_Sp'!D78","v":0},{"$f":"'w-E_Sp'!F78","v":0},{"$f":"'w-E_Sp'!G78","v":0},{"$f":"'w-E_Sp'!H78","v":0},{"$f":"'w-E_Sp'!I78","v":0},{"$f":"'w-E_Sp'!J78","v":0},{"$f":"'w-E_Sp'!K78","v":0},{"$f":"'w-E_Sp'!L78","v":0},{"$f":"'w-E_Sp'!M78","v":0},{"$f":"'w-E_Sp'!P78","v":0},1,{"$f":"'m-E_Sp'!B78","v":"M11/06-Sport"},{"$f":"'m-E_Sp'!D78","v":0},{"$f":"'m-E_Sp'!F78","v":0},{"$f":"'m-E_Sp'!G78","v":0},{"$f":"'m-E_Sp'!H78","v":0},{"$f":"'m-E_Sp'!I78","v":0},{"$f":"'m-E_Sp'!J78","v":0},{"$f":"'m-E_Sp'!K78","v":0},{"$f":"'m-E_Sp'!L78","v":0},{"$f":"'m-E_Sp'!M78","v":0},{"$f":"'m-E_Sp'!P78","v":0}]
[1,{"$f":"'w-E_Sp'!B80","v":"W12/01-Sport"},{"$f":"'w-E_Sp'!D80","v":0},{"$f":"'w-E_Sp'!F80","v":0},{"$f":"'w-E_Sp'!G80","v":0},{"$f":"'w-E_Sp'!H80","v":0},{"$f":"'w-E_Sp'!I80","v":0},{"$f":"'w-E_Sp'!J80","v":0},{"$f":"'w-E_Sp'!K80","v":0},{"$f":"'w-E_Sp'!L80","v":0},{"$f":"'w-E_Sp'!M80","v":0},{"$f":"'w-E_Sp'!P80","v":0},1,{"$f":"'m-E_Sp'!B80","v":"M12/01-Sport"},{"$f":"'m-E_Sp'!D80","v":0},{"$f":"'m-E_Sp'!F80","v":0},{"$f":"'m-E_Sp'!G80","v":0},{"$f":"'m-E_Sp'!H80","v":0},{"$f":"'m-E_Sp'!I80","v":0},{"$f":"'m-E_Sp'!J80","v":0},{"$f":"'m-E_Sp'!K80","v":0},{"$f":"'m-E_Sp'!L80","v":0},{"$f":"'m-E_Sp'!M80","v":0},{"$f":"'m-E_Sp'!P80","v":0}]
[1,{"$f":"'w-E_Sp'!B81","v":"W12/02-Sport"},{"$f":"'w-E_Sp'!D81","v":0},{"$f":"'w-E_Sp'!F81","v":0},{"$f":"'w-E_Sp'!G81","v":0},{"$f":"'w-E_Sp'!H81","v":0},{"$f":"'w-E_Sp'!I81","v":0},{"$f":"'w-E_Sp'!J81","v":0},{"$f":"'w-E_Sp'!K81","v":0},{"$f":"'w-E_Sp'!L81","v":0},{"$f":"'w-E_Sp'!M81","v":0},{"$f":"'w-E_Sp'!P81","v":0},1,{"$f":"'m-E_Sp'!B81","v":"M12/02-Sport"},{"$f":"'m-E_Sp'!D81","v":0},{"$f":"'m-E_Sp'!F81","v":0},{"$f":"'m-E_Sp'!G81","v":0},{"$f":"'m-E_Sp'!H81","v":0},{"$f":"'m-E_Sp'!I81","v":0},{"$f":"'m-E_Sp'!J81","v":0},{"$f":"'m-E_Sp'!K81","v":0},{"$f":"'m-E_Sp'!L81","v":0},{"$f":"'m-E_Sp'!M81","v":0},{"$f":"'m-E_Sp'!P81","v":0}]
[1,{"$f":"'w-E_Sp'!B82","v":"W12/03-Sport"},{"$f":"'w-E_Sp'!D82","v":0},{"$f":"'w-E_Sp'!F82","v":0},{"$f":"'w-E_Sp'!G82","v":0},{"$f":"'w-E_Sp'!H82","v":0},{"$f":"'w-E_Sp'!I82","v":0},{"$f":"'w-E_Sp'!J82","v":0},{"$f":"'w-E_Sp'!K82","v":0},{"$f":"'w-E_Sp'!L82","v":0},{"$f":"'w-E_Sp'!M82","v":0},{"$f":"'w-E_Sp'!P82","v":0},1,{"$f":"'m-E_Sp'!B82","v":"M12/03-Sport"},{"$f":"'m-E_Sp'!D82","v":0},{"$f":"'m-E_Sp'!F82","v":0},{"$f":"'m-E_Sp'!G82","v":0},{"$f":"'m-E_Sp'!H82","v":0},{"$f":"'m-E_Sp'!I82","v":0},{"$f":"'m-E_Sp'!J82","v":0},{"$f":"'m-E_Sp'!K82","v":0},{"$f":"'m-E_Sp'!L82","v":0},{"$f":"'m-E_Sp'!M82","v":0},{"$f":"'m-E_Sp'!P82","v":0}]
[1,{"$f":"'w-E_Sp'!B83","v":"W12/04-Sport"},{"$f":"'w-E_Sp'!D83","v":0},{"$f":"'w-E_Sp'!F83","v":0},{"$f":"'w-E_Sp'!G83","v":0},{"$f":"'w-E_Sp'!H83","v":0},{"$f":"'w-E_Sp'!I83","v":0},{"$f":"'w-E_Sp'!J83","v":0},{"$f":"'w-E_Sp'!K83","v":0},{"$f":"'w-E_Sp'!L83","v":0},{"$f":"'w-E_Sp'!M83","v":0},{"$f":"'w-E_Sp'!P83","v":0},1,{"$f":"'m-E_Sp'!B83","v":"M12/04-Sport"},{"$f":"'m-E_Sp'!D83","v":0},{"$f":"'m-E_Sp'!F83","v":0},{"$f":"'m-E_Sp'!G83","v":0},{"$f":"'m-E_Sp'!H83","v":0},{"$f":"'m-E_Sp'!I83","v":0},{"$f":"'m-E_Sp'!J83","v":0},{"$f":"'m-E_Sp'!K83","v":0},{"$f":"'m-E_Sp'!L83","v":0},{"$f":"'m-E_Sp'!M83","v":0},{"$f":"'m-E_Sp'!P83","v":0}]
[1,{"$f":"'w-E_Sp'!B84","v":"W12/05-Sport"},{"$f":"'w-E_Sp'!D84","v":0},{"$f":"'w-E_Sp'!F84","v":0},{"$f":"'w-E_Sp'!G84","v":0},{"$f":"'w-E_Sp'!H84","v":0},{"$f":"'w-E_Sp'!I84","v":0},{"$f":"'w-E_Sp'!J84","v":0},{"$f":"'w-E_Sp'!K84","v":0},{"$f":"'w-E_Sp'!L84","v":0},{"$f":"'w-E_Sp'!M84","v":0},{"$f":"'w-E_Sp'!P84","v":0},1,{"$f":"'m-E_Sp'!B84","v":"M12/05-Sport"},{"$f":"'m-E_Sp'!D84","v":0},{"$f":"'m-E_Sp'!F84","v":0},{"$f":"'m-E_Sp'!G84","v":0},{"$f":"'m-E_Sp'!H84","v":0},{"$f":"'m-E_Sp'!I84","v":0},{"$f":"'m-E_Sp'!J84","v":0},{"$f":"'m-E_Sp'!K84","v":0},{"$f":"'m-E_Sp'!L84","v":0},{"$f":"'m-E_Sp'!M84","v":0},{"$f":"'m-E_Sp'!P84","v":0}]
[1,{"$f":"'w-E_Sp'!B85","v":"W12/06-Sport"},{"$f":"'w-E_Sp'!D85","v":0},{"$f":"'w-E_Sp'!F85","v":0},{"$f":"'w-E_Sp'!G85","v":0},{"$f":"'w-E_Sp'!H85","v":0},{"$f":"'w-E_Sp'!I85","v":0},{"$f":"'w-E_Sp'!J85","v":0},{"$f":"'w-E_Sp'!K85","v":0},{"$f":"'w-E_Sp'!L85","v":0},{"$f":"'w-E_Sp'!M85","v":0},{"$f":"'w-E_Sp'!P85","v":0},1,{"$f":"'m-E_Sp'!B85","v":"M12/06-Sport"},{"$f":"'m-E_Sp'!D85","v":0},{"$f":"'m-E_Sp'!F85","v":0},{"$f":"'m-E_Sp'!G85","v":0},{"$f":"'m-E_Sp'!H85","v":0},{"$f":"'m-E_Sp'!I85","v":0},{"$f":"'m-E_Sp'!J85","v":0},{"$f":"'m-E_Sp'!K85","v":0},{"$f":"'m-E_Sp'!L85","v":0},{"$f":"'m-E_Sp'!M85","v":0},{"$f":"'m-E_Sp'!P85","v":0}]
[1,{"$f":"'w-E_Sp'!B87","v":"W13/01-Sport"},{"$f":"'w-E_Sp'!D87","v":0},{"$f":"'w-E_Sp'!F87","v":0},{"$f":"'w-E_Sp'!G87","v":0},{"$f":"'w-E_Sp'!H87","v":0},{"$f":"'w-E_Sp'!I87","v":0},{"$f":"'w-E_Sp'!J87","v":0},{"$f":"'w-E_Sp'!K87","v":0},{"$f":"'w-E_Sp'!L87","v":0},{"$f":"'w-E_Sp'!M87","v":0},{"$f":"'w-E_Sp'!P87","v":0},1,{"$f":"'m-E_Sp'!B87","v":"M13/01-Sport"},{"$f":"'m-E_Sp'!D87","v":0},{"$f":"'m-E_Sp'!F87","v":0},{"$f":"'m-E_Sp'!G87","v":0},{"$f":"'m-E_Sp'!H87","v":0},{"$f":"'m-E_Sp'!I87","v":0},{"$f":"'m-E_Sp'!J87","v":0},{"$f":"'m-E_Sp'!K87","v":0},{"$f":"'m-E_Sp'!L87","v":0},{"$f":"'m-E_Sp'!M87","v":0},{"$f":"'m-E_Sp'!P87","v":0}]
[1,{"$f":"'w-E_Sp'!B88","v":"W13/02-Sport"},{"$f":"'w-E_Sp'!D88","v":0},{"$f":"'w-E_Sp'!F88","v":0},{"$f":"'w-E_Sp'!G88","v":0},{"$f":"'w-E_Sp'!H88","v":0},{"$f":"'w-E_Sp'!I88","v":0},{"$f":"'w-E_Sp'!J88","v":0},{"$f":"'w-E_Sp'!K88","v":0},{"$f":"'w-E_Sp'!L88","v":0},{"$f":"'w-E_Sp'!M88","v":0},{"$f":"'w-E_Sp'!P88","v":0},1,{"$f":"'m-E_Sp'!B88","v":"M13/02-Sport"},{"$f":"'m-E_Sp'!D88","v":0},{"$f":"'m-E_Sp'!F88","v":0},{"$f":"'m-E_Sp'!G88","v":0},{"$f":"'m-E_Sp'!H88","v":0},{"$f":"'m-E_Sp'!I88","v":0},{"$f":"'m-E_Sp'!J88","v":0},{"$f":"'m-E_Sp'!K88","v":0},{"$f":"'m-E_Sp'!L88","v":0},{"$f":"'m-E_Sp'!M88","v":0},{"$f":"'m-E_Sp'!P88","v":0}]
[1,{"$f":"'w-E_Sp'!B89","v":"W13/03-Sport"},{"$f":"'w-E_Sp'!D89","v":0},{"$f":"'w-E_Sp'!F89","v":0},{"$f":"'w-E_Sp'!G89","v":0},{"$f":"'w-E_Sp'!H89","v":0},{"$f":"'w-E_Sp'!I89","v":0},{"$f":"'w-E_Sp'!J89","v":0},{"$f":"'w-E_Sp'!K89","v":0},{"$f":"'w-E_Sp'!L89","v":0},{"$f":"'w-E_Sp'!M89","v":0},{"$f":"'w-E_Sp'!P89","v":0},1,{"$f":"'m-E_Sp'!B89","v":"M13/03-Sport"},{"$f":"'m-E_Sp'!D89","v":0},{"$f":"'m-E_Sp'!F89","v":0},{"$f":"'m-E_Sp'!G89","v":0},{"$f":"'m-E_Sp'!H89","v":0},{"$f":"'m-E_Sp'!I89","v":0},{"$f":"'m-E_Sp'!J89","v":0},{"$f":"'m-E_Sp'!K89","v":0},{"$f":"'m-E_Sp'!L89","v":0},{"$f":"'m-E_Sp'!M89","v":0},{"$f":"'m-E_Sp'!P89","v":0}]
[1,{"$f":"'w-E_Sp'!B90","v":"W13/04-Sport"},{"$f":"'w-E_Sp'!D90","v":0},{"$f":"'w-E_Sp'!F90","v":0},{"$f":"'w-E_Sp'!G90","v":0},{"$f":"'w-E_Sp'!H90","v":0},{"$f":"'w-E_Sp'!I90","v":0},{"$f":"'w-E_Sp'!J90","v":0},{"$f":"'w-E_Sp'!K90","v":0},{"$f":"'w-E_Sp'!L90","v":0},{"$f":"'w-E_Sp'!M90","v":0},{"$f":"'w-E_Sp'!P90","v":0},1,{"$f":"'m-E_Sp'!B90","v":"M13/04-Sport"},{"$f":"'m-E_Sp'!D90","v":0},{"$f":"'m-E_Sp'!F90","v":0},{"$f":"'m-E_Sp'!G90","v":0},{"$f":"'m-E_Sp'!H90","v":0},{"$f":"'m-E_Sp'!I90","v":0},{"$f":"'m-E_Sp'!J90","v":0},{"$f":"'m-E_Sp'!K90","v":0},{"$f":"'m-E_Sp'!L90","v":0},{"$f":"'m-E_Sp'!M90","v":0},{"$f":"'m-E_Sp'!P90","v":0}]
[1,{"$f":"'w-E_Sp'!B91","v":"W13/05-Sport"},{"$f":"'w-E_Sp'!D91","v":0},{"$f":"'w-E_Sp'!F91","v":0},{"$f":"'w-E_Sp'!G91","v":0},{"$f":"'w-E_Sp'!H91","v":0},{"$f":"'w-E_Sp'!I91","v":0},{"$f":"'w-E_Sp'!J91","v":0},{"$f":"'w-E_Sp'!K91","v":0},{"$f":"'w-E_Sp'!L91","v":0},{"$f":"'w-E_Sp'!M91","v":0},{"$f":"'w-E_Sp'!P91","v":0},1,{"$f":"'m-E_Sp'!B91","v":"M13/05-Sport"},{"$f":"'m-E_Sp'!D91","v":0},{"$f":"'m-E_Sp'!F91","v":0},{"$f":"'m-E_Sp'!G91","v":0},{"$f":"'m-E_Sp'!H91","v":0},{"$f":"'m-E_Sp'!I91","v":0},{"$f":"'m-E_Sp'!J91","v":0},{"$f":"'m-E_Sp'!K91","v":0},{"$f":"'m-E_Sp'!L91","v":0},{"$f":"'m-E_Sp'!M91","v":0},{"$f":"'m-E_Sp'!P91","v":0}]
[1,{"$f":"'w-E_Sp'!B92","v":"W13/06-Sport"},{"$f":"'w-E_Sp'!D92","v":0},{"$f":"'w-E_Sp'!F92","v":0},{"$f":"'w-E_Sp'!G92","v":0},{"$f":"'w-E_Sp'!H92","v":0},{"$f":"'w-E_Sp'!I92","v":0},{"$f":"'w-E_Sp'!J92","v":0},{"$f":"'w-E_Sp'!K92","v":0},{"$f":"'w-E_Sp'!L92","v":0},{"$f":"'w-E_Sp'!M92","v":0},{"$f":"'w-E_Sp'!P92","v":0},1,{"$f":"'m-E_Sp'!B92","v":"M13/06-Sport"},{"$f":"'m-E_Sp'!D92","v":0},{"$f":"'m-E_Sp'!F92","v":0},{"$f":"'m-E_Sp'!G92","v":0},{"$f":"'m-E_Sp'!H92","v":0},{"$f":"'m-E_Sp'!I92","v":0},{"$f":"'m-E_Sp'!J92","v":0},{"$f":"'m-E_Sp'!K92","v":0},{"$f":"'m-E_Sp'!L92","v":0},{"$f":"'m-E_Sp'!M92","v":0},{"$f":"'m-E_Sp'!P92","v":0}]
[1,{"$f":"'w-E_Sp'!B94","v":"W14/01-Sport"},{"$f":"'w-E_Sp'!D94","v":0},{"$f":"'w-E_Sp'!F94","v":0},{"$f":"'w-E_Sp'!G94","v":0},{"$f":"'w-E_Sp'!H94","v":0},{"$f":"'w-E_Sp'!I94","v":0},{"$f":"'w-E_Sp'!J94","v":0},{"$f":"'w-E_Sp'!K94","v":0},{"$f":"'w-E_Sp'!L94","v":0},{"$f":"'w-E_Sp'!M94","v":0},{"$f":"'w-E_Sp'!P94","v":0},1,{"$f":"'m-E_Sp'!B94","v":"M14/01-Sport"},{"$f":"'m-E_Sp'!D94","v":0},{"$f":"'m-E_Sp'!F94","v":0},{"$f":"'m-E_Sp'!G94","v":0},{"$f":"'m-E_Sp'!H94","v":0},{"$f":"'m-E_Sp'!I94","v":0},{"$f":"'m-E_Sp'!J94","v":0},{"$f":"'m-E_Sp'!K94","v":0},{"$f":"'m-E_Sp'!L94","v":0},{"$f":"'m-E_Sp'!M94","v":0},{"$f":"'m-E_Sp'!P94","v":0}]
[1,{"$f":"'w-E_Sp'!B95","v":"W14/02-Sport"},{"$f":"'w-E_Sp'!D95","v":0},{"$f":"'w-E_Sp'!F95","v":0},{"$f":"'w-E_Sp'!G95","v":0},{"$f":"'w-E_Sp'!H95","v":0},{"$f":"'w-E_Sp'!I95","v":0},{"$f":"'w-E_Sp'!J95","v":0},{"$f":"'w-E_Sp'!K95","v":0},{"$f":"'w-E_Sp'!L95","v":0},{"$f":"'w-E_Sp'!M95","v":0},{"$f":"'w-E_Sp'!P95","v":0},1,{"$f":"'m-E_Sp'!B95","v":"M14/02-Sport"},{"$f":"'m-E_Sp'!D95","v":0},{"$f":"'m-E_Sp'!F95","v":0},{"$f":"'m-E_Sp'!G95","v":0},{"$f":"'m-E_Sp'!H95","v":0},{"$f":"'m-E_Sp'!I95","v":0},{"$f":"'m-E_Sp'!J95","v":0},{"$f":"'m-E_Sp'!K95","v":0},{"$f":"'m-E_Sp'!L95","v":0},{"$f":"'m-E_Sp'!M95","v":0},{"$f":"'m-E_Sp'!P95","v":0}]
[1,{"$f":"'w-E_Sp'!B96","v":"W14/03-Sport"},{"$f":"'w-E_Sp'!D96","v":0},{"$f":"'w-E_Sp'!F96","v":0},{"$f":"'w-E_Sp'!G96","v":0},{"$f":"'w-E_Sp'!H96","v":0},{"$f":"'w-E_Sp'!I96","v":0},{"$f":"'w-E_Sp'!J96","v":0},{"$f":"'w-E_Sp'!K96","v":0},{"$f":"'w-E_Sp'!L96","v":0},{"$f":"'w-E_Sp'!M96","v":0},{"$f":"'w-E_Sp'!P96","v":0},1,{"$f":"'m-E_Sp'!B96","v":"M14/03-Sport"},{"$f":"'m-E_Sp'!D96","v":0},{"$f":"'m-E_Sp'!F96","v":0},{"$f":"'m-E_Sp'!G96","v":0},{"$f":"'m-E_Sp'!H96","v":0},{"$f":"'m-E_Sp'!I96","v":0},{"$f":"'m-E_Sp'!J96","v":0},{"$f":"'m-E_Sp'!K96","v":0},{"$f":"'m-E_Sp'!L96","v":0},{"$f":"'m-E_Sp'!M96","v":0},{"$f":"'m-E_Sp'!P96","v":0}]
[1,{"$f":"'w-E_Sp'!B97","v":"W14/04-Sport"},{"$f":"'w-E_Sp'!D97","v":0},{"$f":"'w-E_Sp'!F97","v":0},{"$f":"'w-E_Sp'!G97","v":0},{"$f":"'w-E_Sp'!H97","v":0},{"$f":"'w-E_Sp'!I97","v":0},{"$f":"'w-E_Sp'!J97","v":0},{"$f":"'w-E_Sp'!K97","v":0},{"$f":"'w-E_Sp'!L97","v":0},{"$f":"'w-E_Sp'!M97","v":0},{"$f":"'w-E_Sp'!P97","v":0},1,{"$f":"'m-E_Sp'!B97","v":"M14/04-Sport"},{"$f":"'m-E_Sp'!D97","v":0},{"$f":"'m-E_Sp'!F97","v":0},{"$f":"'m-E_Sp'!G97","v":0},{"$f":"'m-E_Sp'!H97","v":0},{"$f":"'m-E_Sp'!I97","v":0},{"$f":"'m-E_Sp'!J97","v":0},{"$f":"'m-E_Sp'!K97","v":0},{"$f":"'m-E_Sp'!L97","v":0},{"$f":"'m-E_Sp'!M97","v":0},{"$f":"'m-E_Sp'!P97","v":0}]
[1,{"$f":"'w-E_Sp'!B98","v":"W14/05-Sport"},{"$f":"'w-E_Sp'!D98","v":0},{"$f":"'w-E_Sp'!F98","v":0},{"$f":"'w-E_Sp'!G98","v":0},{"$f":"'w-E_Sp'!H98","v":0},{"$f":"'w-E_Sp'!I98","v":0},{"$f":"'w-E_Sp'!J98","v":0},{"$f":"'w-E_Sp'!K98","v":0},{"$f":"'w-E_Sp'!L98","v":0},{"$f":"'w-E_Sp'!M98","v":0},{"$f":"'w-E_Sp'!P98","v":0},1,{"$f":"'m-E_Sp'!B98","v":"M14/05-Sport"},{"$f":"'m-E_Sp'!D98","v":0},{"$f":"'m-E_Sp'!F98","v":0},{"$f":"'m-E_Sp'!G98","v":0},{"$f":"'m-E_Sp'!H98","v":0},{"$f":"'m-E_Sp'!I98","v":0},{"$f":"'m-E_Sp'!J98","v":0},{"$f":"'m-E_Sp'!K98","v":0},{"$f":"'m-E_Sp'!L98","v":0},{"$f":"'m-E_Sp'!M98","v":0},{"$f":"'m-E_Sp'!P98","v":0}]
[1,{"$f":"'w-E_Sp'!B99","v":"W14/06-Sport"},{"$f":"'w-E_Sp'!D99","v":0},{"$f":"'w-E_Sp'!F99","v":0},{"$f":"'w-E_Sp'!G99","v":0},{"$f":"'w-E_Sp'!H99","v":0},{"$f":"'w-E_Sp'!I99","v":0},{"$f":"'w-E_Sp'!J99","v":0},{"$f":"'w-E_Sp'!K99","v":0},{"$f":"'w-E_Sp'!L99","v":0},{"$f":"'w-E_Sp'!M99","v":0},{"$f":"'w-E_Sp'!P99","v":0},1,{"$f":"'m-E_Sp'!B99","v":"M14/06-Sport"},{"$f":"'m-E_Sp'!D99","v":0},{"$f":"'m-E_Sp'!F99","v":0},{"$f":"'m-E_Sp'!G99","v":0},{"$f":"'m-E_Sp'!H99","v":0},{"$f":"'m-E_Sp'!I99","v":0},{"$f":"'m-E_Sp'!J99","v":0},{"$f":"'m-E_Sp'!K99","v":0},{"$f":"'m-E_Sp'!L99","v":0},{"$f":"'m-E_Sp'!M99","v":0},{"$f":"'m-E_Sp'!P99","v":0}]
[1,{"$f":"'w-E_Sp'!B101","v":"W15/01-Sport"},{"$f":"'w-E_Sp'!D101","v":0},{"$f":"'w-E_Sp'!F101","v":0},{"$f":"'w-E_Sp'!G101","v":0},{"$f":"'w-E_Sp'!H101","v":0},{"$f":"'w-E_Sp'!I101","v":0},{"$f":"'w-E_Sp'!J101","v":0},{"$f":"'w-E_Sp'!K101","v":0},{"$f":"'w-E_Sp'!L101","v":0},{"$f":"'w-E_Sp'!M101","v":0},{"$f":"'w-E_Sp'!P101","v":0},1,{"$f":"'m-E_Sp'!B101","v":"M15/01-Sport"},{"$f":"'m-E_Sp'!D101","v":0},{"$f":"'m-E_Sp'!F101","v":0},{"$f":"'m-E_Sp'!G101","v":0},{"$f":"'m-E_Sp'!H101","v":0},{"$f":"'m-E_Sp'!I101","v":0},{"$f":"'m-E_Sp'!J101","v":0},{"$f":"'m-E_Sp'!K101","v":0},{"$f":"'m-E_Sp'!L101","v":0},{"$f":"'m-E_Sp'!M101","v":0},{"$f":"'m-E_Sp'!P101","v":0}]
[1,{"$f":"'w-E_Sp'!B102","v":"W15/02-Sport"},{"$f":"'w-E_Sp'!D102","v":0},{"$f":"'w-E_Sp'!F102","v":0},{"$f":"'w-E_Sp'!G102","v":0},{"$f":"'w-E_Sp'!H102","v":0},{"$f":"'w-E_Sp'!I102","v":0},{"$f":"'w-E_Sp'!J102","v":0},{"$f":"'w-E_Sp'!K102","v":0},{"$f":"'w-E_Sp'!L102","v":0},{"$f":"'w-E_Sp'!M102","v":0},{"$f":"'w-E_Sp'!P102","v":0},1,{"$f":"'m-E_Sp'!B102","v":"M15/02-Sport"},{"$f":"'m-E_Sp'!D102","v":0},{"$f":"'m-E_Sp'!F102","v":0},{"$f":"'m-E_Sp'!G102","v":0},{"$f":"'m-E_Sp'!H102","v":0},{"$f":"'m-E_Sp'!I102","v":0},{"$f":"'m-E_Sp'!J102","v":0},{"$f":"'m-E_Sp'!K102","v":0},{"$f":"'m-E_Sp'!L102","v":0},{"$f":"'m-E_Sp'!M102","v":0},{"$f":"'m-E_Sp'!P102","v":0}]
[1,{"$f":"'w-E_Sp'!B103","v":"W15/03-Sport"},{"$f":"'w-E_Sp'!D103","v":0},{"$f":"'w-E_Sp'!F103","v":0},{"$f":"'w-E_Sp'!G103","v":0},{"$f":"'w-E_Sp'!H103","v":0},{"$f":"'w-E_Sp'!I103","v":0},{"$f":"'w-E_Sp'!J103","v":0},{"$f":"'w-E_Sp'!K103","v":0},{"$f":"'w-E_Sp'!L103","v":0},{"$f":"'w-E_Sp'!M103","v":0},{"$f":"'w-E_Sp'!P103","v":0},1,{"$f":"'m-E_Sp'!B103","v":"M15/03-Sport"},{"$f":"'m-E_Sp'!D103","v":0},{"$f":"'m-E_Sp'!F103","v":0},{"$f":"'m-E_Sp'!G103","v":0},{"$f":"'m-E_Sp'!H103","v":0},{"$f":"'m-E_Sp'!I103","v":0},{"$f":"'m-E_Sp'!J103","v":0},{"$f":"'m-E_Sp'!K103","v":0},{"$f":"'m-E_Sp'!L103","v":0},{"$f":"'m-E_Sp'!M103","v":0},{"$f":"'m-E_Sp'!P103","v":0}]
[1,{"$f":"'w-E_Sp'!B104","v":"W15/04-Sport"},{"$f":"'w-E_Sp'!D104","v":0},{"$f":"'w-E_Sp'!F104","v":0},{"$f":"'w-E_Sp'!G104","v":0},{"$f":"'w-E_Sp'!H104","v":0},{"$f":"'w-E_Sp'!I104","v":0},{"$f":"'w-E_Sp'!J104","v":0},{"$f":"'w-E_Sp'!K104","v":0},{"$f":"'w-E_Sp'!L104","v":0},{"$f":"'w-E_Sp'!M104","v":0},{"$f":"'w-E_Sp'!P104","v":0},1,{"$f":"'m-E_Sp'!B104","v":"M15/04-Sport"},{"$f":"'m-E_Sp'!D104","v":0},{"$f":"'m-E_Sp'!F104","v":0},{"$f":"'m-E_Sp'!G104","v":0},{"$f":"'m-E_Sp'!H104","v":0},{"$f":"'m-E_Sp'!I104","v":0},{"$f":"'m-E_Sp'!J104","v":0},{"$f":"'m-E_Sp'!K104","v":0},{"$f":"'m-E_Sp'!L104","v":0},{"$f":"'m-E_Sp'!M104","v":0},{"$f":"'m-E_Sp'!P104","v":0}]
[1,{"$f":"'w-E_Sp'!B105","v":"W15/05-Sport"},{"$f":"'w-E_Sp'!D105","v":0},{"$f":"'w-E_Sp'!F105","v":0},{"$f":"'w-E_Sp'!G105","v":0},{"$f":"'w-E_Sp'!H105","v":0},{"$f":"'w-E_Sp'!I105","v":0},{"$f":"'w-E_Sp'!J105","v":0},{"$f":"'w-E_Sp'!K105","v":0},{"$f":"'w-E_Sp'!L105","v":0},{"$f":"'w-E_Sp'!M105","v":0},{"$f":"'w-E_Sp'!P105","v":0},1,{"$f":"'m-E_Sp'!B105","v":"M15/05-Sport"},{"$f":"'m-E_Sp'!D105","v":0},{"$f":"'m-E_Sp'!F105","v":0},{"$f":"'m-E_Sp'!G105","v":0},{"$f":"'m-E_Sp'!H105","v":0},{"$f":"'m-E_Sp'!I105","v":0},{"$f":"'m-E_Sp'!J105","v":0},{"$f":"'m-E_Sp'!K105","v":0},{"$f":"'m-E_Sp'!L105","v":0},{"$f":"'m-E_Sp'!M105","v":0},{"$f":"'m-E_Sp'!P105","v":0}]
[1,{"$f":"'w-E_Sp'!B106","v":"W15/06-Sport"},{"$f":"'w-E_Sp'!D106","v":0},{"$f":"'w-E_Sp'!F106","v":0},{"$f":"'w-E_Sp'!G106","v":0},{"$f":"'w-E_Sp'!H106","v":0},{"$f":"'w-E_Sp'!I106","v":0},{"$f":"'w-E_Sp'!J106","v":0},{"$f":"'w-E_Sp'!K106","v":0},{"$f":"'w-E_Sp'!L106","v":0},{"$f":"'w-E_Sp'!M106","v":0},{"$f":"'w-E_Sp'!P106","v":0},1,{"$f":"'m-E_Sp'!B106","v":"M15/06-Sport"},{"$f":"'m-E_Sp'!D106","v":0},{"$f":"'m-E_Sp'!F106","v":0},{"$f":"'m-E_Sp'!G106","v":0},{"$f":"'m-E_Sp'!H106","v":0},{"$f":"'m-E_Sp'!I106","v":0},{"$f":"'m-E_Sp'!J106","v":0},{"$f":"'m-E_Sp'!K106","v":0},{"$f":"'m-E_Sp'!L106","v":0},{"$f":"'m-E_Sp'!M106","v":0},{"$f":"'m-E_Sp'!P106","v":0}]
[1,{"$f":"'w-E_Sp'!B108","v":"W16/01-Sport"},{"$f":"'w-E_Sp'!D108","v":0},{"$f":"'w-E_Sp'!F108","v":0},{"$f":"'w-E_Sp'!G108","v":0},{"$f":"'w-E_Sp'!H108","v":0},{"$f":"'w-E_Sp'!I108","v":0},{"$f":"'w-E_Sp'!J108","v":0},{"$f":"'w-E_Sp'!K108","v":0},{"$f":"'w-E_Sp'!L108","v":0},{"$f":"'w-E_Sp'!M108","v":0},{"$f":"'w-E_Sp'!P108","v":0},1,{"$f":"'m-E_Sp'!B108","v":"M16/01-Sport"},{"$f":"'m-E_Sp'!D108","v":0},{"$f":"'m-E_Sp'!F108","v":0},{"$f":"'m-E_Sp'!G108","v":0},{"$f":"'m-E_Sp'!H108","v":0},{"$f":"'m-E_Sp'!I108","v":0},{"$f":"'m-E_Sp'!J108","v":0},{"$f":"'m-E_Sp'!K108","v":0},{"$f":"'m-E_Sp'!L108","v":0},{"$f":"'m-E_Sp'!M108","v":0},{"$f":"'m-E_Sp'!P108","v":0}]
[1,{"$f":"'w-E_Sp'!B109","v":"W16/02-Sport"},{"$f":"'w-E_Sp'!D109","v":0},{"$f":"'w-E_Sp'!F109","v":0},{"$f":"'w-E_Sp'!G109","v":0},{"$f":"'w-E_Sp'!H109","v":0},{"$f":"'w-E_Sp'!I109","v":0},{"$f":"'w-E_Sp'!J109","v":0},{"$f":"'w-E_Sp'!K109","v":0},{"$f":"'w-E_Sp'!L109","v":0},{"$f":"'w-E_Sp'!M109","v":0},{"$f":"'w-E_Sp'!P109","v":0},1,{"$f":"'m-E_Sp'!B109","v":"M16/02-Sport"},{"$f":"'m-E_Sp'!D109","v":0},{"$f":"'m-E_Sp'!F109","v":0},{"$f":"'m-E_Sp'!G109","v":0},{"$f":"'m-E_Sp'!H109","v":0},{"$f":"'m-E_Sp'!I109","v":0},{"$f":"'m-E_Sp'!J109","v":0},{"$f":"'m-E_Sp'!K109","v":0},{"$f":"'m-E_Sp'!L109","v":0},{"$f":"'m-E_Sp'!M109","v":0},{"$f":"'m-E_Sp'!P109","v":0}]
[1,{"$f":"'w-E_Sp'!B110","v":"W16/03-Sport"},{"$f":"'w-E_Sp'!D110","v":0},{"$f":"'w-E_Sp'!F110","v":0},{"$f":"'w-E_Sp'!G110","v":0},{"$f":"'w-E_Sp'!H110","v":0},{"$f":"'w-E_Sp'!I110","v":0},{"$f":"'w-E_Sp'!J110","v":0},{"$f":"'w-E_Sp'!K110","v":0},{"$f":"'w-E_Sp'!L110","v":0},{"$f":"'w-E_Sp'!M110","v":0},{"$f":"'w-E_Sp'!P110","v":0},1,{"$f":"'m-E_Sp'!B110","v":"M16/03-Sport"},{"$f":"'m-E_Sp'!D110","v":0},{"$f":"'m-E_Sp'!F110","v":0},{"$f":"'m-E_Sp'!G110","v":0},{"$f":"'m-E_Sp'!H110","v":0},{"$f":"'m-E_Sp'!I110","v":0},{"$f":"'m-E_Sp'!J110","v":0},{"$f":"'m-E_Sp'!K110","v":0},{"$f":"'m-E_Sp'!L110","v":0},{"$f":"'m-E_Sp'!M110","v":0},{"$f":"'m-E_Sp'!P110","v":0}]
[1,{"$f":"'w-E_Sp'!B111","v":"W16/04-Sport"},{"$f":"'w-E_Sp'!D111","v":0},{"$f":"'w-E_Sp'!F111","v":0},{"$f":"'w-E_Sp'!G111","v":0},{"$f":"'w-E_Sp'!H111","v":0},{"$f":"'w-E_Sp'!I111","v":0},{"$f":"'w-E_Sp'!J111","v":0},{"$f":"'w-E_Sp'!K111","v":0},{"$f":"'w-E_Sp'!L111","v":0},{"$f":"'w-E_Sp'!M111","v":0},{"$f":"'w-E_Sp'!P111","v":0},1,{"$f":"'m-E_Sp'!B111","v":"M16/04-Sport"},{"$f":"'m-E_Sp'!D111","v":0},{"$f":"'m-E_Sp'!F111","v":0},{"$f":"'m-E_Sp'!G111","v":0},{"$f":"'m-E_Sp'!H111","v":0},{"$f":"'m-E_Sp'!I111","v":0},{"$f":"'m-E_Sp'!J111","v":0},{"$f":"'m-E_Sp'!K111","v":0},{"$f":"'m-E_Sp'!L111","v":0},{"$f":"'m-E_Sp'!M111","v":0},{"$f":"'m-E_Sp'!P111","v":0}]
[1,{"$f":"'w-E_Sp'!B112","v":"W16/05-Sport"},{"$f":"'w-E_Sp'!D112","v":0},{"$f":"'w-E_Sp'!F112","v":0},{"$f":"'w-E_Sp'!G112","v":0},{"$f":"'w-E_Sp'!H112","v":0},{"$f":"'w-E_Sp'!I112","v":0},{"$f":"'w-E_Sp'!J112","v":0},{"$f":"'w-E_Sp'!K112","v":0},{"$f":"'w-E_Sp'!L112","v":0},{"$f":"'w-E_Sp'!M112","v":0},{"$f":"'w-E_Sp'!P112","v":0},1,{"$f":"'m-E_Sp'!B112","v":"M16/05-Sport"},{"$f":"'m-E_Sp'!D112","v":0},{"$f":"'m-E_Sp'!F112","v":0},{"$f":"'m-E_Sp'!G112","v":0},{"$f":"'m-E_Sp'!H112","v":0},{"$f":"'m-E_Sp'!I112","v":0},{"$f":"'m-E_Sp'!J112","v":0},{"$f":"'m-E_Sp'!K112","v":0},{"$f":"'m-E_Sp'!L112","v":0},{"$f":"'m-E_Sp'!M112","v":0},{"$f":"'m-E_Sp'!P112","v":0}]
[1,{"$f":"'w-E_Sp'!B113","v":"W16/06-Sport"},{"$f":"'w-E_Sp'!D113","v":0},{"$f":"'w-E_Sp'!F113","v":0},{"$f":"'w-E_Sp'!G113","v":0},{"$f":"'w-E_Sp'!H113","v":0},{"$f":"'w-E_Sp'!I113","v":0},{"$f":"'w-E_Sp'!J113","v":0},{"$f":"'w-E_Sp'!K113","v":0},{"$f":"'w-E_Sp'!L113","v":0},{"$f":"'w-E_Sp'!M113","v":0},{"$f":"'w-E_Sp'!P113","v":0},1,{"$f":"'m-E_Sp'!B113","v":"M16/06-Sport"},{"$f":"'m-E_Sp'!D113","v":0},{"$f":"'m-E_Sp'!F113","v":0},{"$f":"'m-E_Sp'!G113","v":0},{"$f":"'m-E_Sp'!H113","v":0},{"$f":"'m-E_Sp'!I113","v":0},{"$f":"'m-E_Sp'!J113","v":0},{"$f":"'m-E_Sp'!K113","v":0},{"$f":"'m-E_Sp'!L113","v":0},{"$f":"'m-E_Sp'!M113","v":0},{"$f":"'m-E_Sp'!P113","v":0}]
[{"$f":"RANK(L100,$L$4:$L$123,0)","v":1},{"$f":"'w-E_Sp'!B115","v":"W17/01-Sport"},{"$f":"'w-E_Sp'!D115","v":0},{"$f":"'w-E_Sp'!F115","v":0},{"$f":"'w-E_Sp'!G115","v":0},{"$f":"'w-E_Sp'!H115","v":0},{"$f":"'w-E_Sp'!I115","v":0},{"$f":"'w-E_Sp'!J115","v":0},{"$f":"'w-E_Sp'!K115","v":0},{"$f":"'w-E_Sp'!L115","v":0},{"$f":"'w-E_Sp'!M115","v":0},{"$f":"'w-E_Sp'!P115","v":0},{"$f":"RANK(X100,$X$4:$X$123,0)","v":1},{"$f":"'m-E_Sp'!B115","v":"M17/01-Sport"},{"$f":"'m-E_Sp'!D115","v":0},{"$f":"'m-E_Sp'!F115","v":0},{"$f":"'m-E_Sp'!G115","v":0},{"$f":"'m-E_Sp'!H115","v":0},{"$f":"'m-E_Sp'!I115","v":0},{"$f":"'m-E_Sp'!J115","v":0},{"$f":"'m-E_Sp'!K115","v":0},{"$f":"'m-E_Sp'!L115","v":0},{"$f":"'m-E_Sp'!M115","v":0},{"$f":"'m-E_Sp'!P115","v":0}]
[1,{"$f":"'w-E_Sp'!B116","v":"W17/02-Sport"},{"$f":"'w-E_Sp'!D116","v":0},{"$f":"'w-E_Sp'!F116","v":0},{"$f":"'w-E_Sp'!G116","v":0},{"$f":"'w-E_Sp'!H116","v":0},{"$f":"'w-E_Sp'!I116","v":0},{"$f":"'w-E_Sp'!J116","v":0},{"$f":"'w-E_Sp'!K116","v":0},{"$f":"'w-E_Sp'!L116","v":0},{"$f":"'w-E_Sp'!M116","v":0},{"$f":"'w-E_Sp'!P116","v":0},1,{"$f":"'m-E_Sp'!B116","v":"M17/02-Sport"},{"$f":"'m-E_Sp'!D116","v":0},{"$f":"'m-E_Sp'!F116","v":0},{"$f":"'m-E_Sp'!G116","v":0},{"$f":"'m-E_Sp'!H116","v":0},{"$f":"'m-E_Sp'!I116","v":0},{"$f":"'m-E_Sp'!J116","v":0},{"$f":"'m-E_Sp'!K116","v":0},{"$f":"'m-E_Sp'!L116","v":0},{"$f":"'m-E_Sp'!M116","v":0},{"$f":"'m-E_Sp'!P116","v":0}]
[1,{"$f":"'w-E_Sp'!B117","v":"W17/03-Sport"},{"$f":"'w-E_Sp'!D117","v":0},{"$f":"'w-E_Sp'!F117","v":0},{"$f":"'w-E_Sp'!G117","v":0},{"$f":"'w-E_Sp'!H117","v":0},{"$f":"'w-E_Sp'!I117","v":0},{"$f":"'w-E_Sp'!J117","v":0},{"$f":"'w-E_Sp'!K117","v":0},{"$f":"'w-E_Sp'!L117","v":0},{"$f":"'w-E_Sp'!M117","v":0},{"$f":"'w-E_Sp'!P117","v":0},1,{"$f":"'m-E_Sp'!B117","v":"M17/03-Sport"},{"$f":"'m-E_Sp'!D117","v":0},{"$f":"'m-E_Sp'!F117","v":0},{"$f":"'m-E_Sp'!G117","v":0},{"$f":"'m-E_Sp'!H117","v":0},{"$f":"'m-E_Sp'!I117","v":0},{"$f":"'m-E_Sp'!J117","v":0},{"$f":"'m-E_Sp'!K117","v":0},{"$f":"'m-E_Sp'!L117","v":0},{"$f":"'m-E_Sp'!M117","v":0},{"$f":"'m-E_Sp'!P117","v":0}]
[1,{"$f":"'w-E_Sp'!B118","v":"W17/04-Sport"},{"$f":"'w-E_Sp'!D118","v":0},{"$f":"'w-E_Sp'!F118","v":0},{"$f":"'w-E_Sp'!G118","v":0},{"$f":"'w-E_Sp'!H118","v":0},{"$f":"'w-E_Sp'!I118","v":0},{"$f":"'w-E_Sp'!J118","v":0},{"$f":"'w-E_Sp'!K118","v":0},{"$f":"'w-E_Sp'!L118","v":0},{"$f":"'w-E_Sp'!M118","v":0},{"$f":"'w-E_Sp'!P118","v":0},1,{"$f":"'m-E_Sp'!B118","v":"M17/04-Sport"},{"$f":"'m-E_Sp'!D118","v":0},{"$f":"'m-E_Sp'!F118","v":0},{"$f":"'m-E_Sp'!G118","v":0},{"$f":"'m-E_Sp'!H118","v":0},{"$f":"'m-E_Sp'!I118","v":0},{"$f":"'m-E_Sp'!J118","v":0},{"$f":"'m-E_Sp'!K118","v":0},{"$f":"'m-E_Sp'!L118","v":0},{"$f":"'m-E_Sp'!M118","v":0},{"$f":"'m-E_Sp'!P118","v":0}]
[1,{"$f":"'w-E_Sp'!B119","v":"W17/05-Sport"},{"$f":"'w-E_Sp'!D119","v":0},{"$f":"'w-E_Sp'!F119","v":0},{"$f":"'w-E_Sp'!G119","v":0},{"$f":"'w-E_Sp'!H119","v":0},{"$f":"'w-E_Sp'!I119","v":0},{"$f":"'w-E_Sp'!J119","v":0},{"$f":"'w-E_Sp'!K119","v":0},{"$f":"'w-E_Sp'!L119","v":0},{"$f":"'w-E_Sp'!M119","v":0},{"$f":"'w-E_Sp'!P119","v":0},1,{"$f":"'m-E_Sp'!B119","v":"M17/05-Sport"},{"$f":"'m-E_Sp'!D119","v":0},{"$f":"'m-E_Sp'!F119","v":0},{"$f":"'m-E_Sp'!G119","v":0},{"$f":"'m-E_Sp'!H119","v":0},{"$f":"'m-E_Sp'!I119","v":0},{"$f":"'m-E_Sp'!J119","v":0},{"$f":"'m-E_Sp'!K119","v":0},{"$f":"'m-E_Sp'!L119","v":0},{"$f":"'m-E_Sp'!M119","v":0},{"$f":"'m-E_Sp'!P119","v":0}]
[1,{"$f":"'w-E_Sp'!B120","v":"W17/06-Sport"},{"$f":"'w-E_Sp'!D120","v":0},{"$f":"'w-E_Sp'!F120","v":0},{"$f":"'w-E_Sp'!G120","v":0},{"$f":"'w-E_Sp'!H120","v":0},{"$f":"'w-E_Sp'!I120","v":0},{"$f":"'w-E_Sp'!J120","v":0},{"$f":"'w-E_Sp'!K120","v":0},{"$f":"'w-E_Sp'!L120","v":0},{"$f":"'w-E_Sp'!M120","v":0},{"$f":"'w-E_Sp'!P120","v":0},1,{"$f":"'m-E_Sp'!B120","v":"M17/06-Sport"},{"$f":"'m-E_Sp'!D120","v":0},{"$f":"'m-E_Sp'!F120","v":0},{"$f":"'m-E_Sp'!G120","v":0},{"$f":"'m-E_Sp'!H120","v":0},{"$f":"'m-E_Sp'!I120","v":0},{"$f":"'m-E_Sp'!J120","v":0},{"$f":"'m-E_Sp'!K120","v":0},{"$f":"'m-E_Sp'!L120","v":0},{"$f":"'m-E_Sp'!M120","v":0},{"$f":"'m-E_Sp'!P120","v":0}]
[1,{"$f":"'w-E_Sp'!B122","v":"W18/01-Sport"},{"$f":"'w-E_Sp'!D122","v":0},{"$f":"'w-E_Sp'!F122","v":0},{"$f":"'w-E_Sp'!G122","v":0},{"$f":"'w-E_Sp'!H122","v":0},{"$f":"'w-E_Sp'!I122","v":0},{"$f":"'w-E_Sp'!J122","v":0},{"$f":"'w-E_Sp'!K122","v":0},{"$f":"'w-E_Sp'!L122","v":0},{"$f":"'w-E_Sp'!M122","v":0},{"$f":"'w-E_Sp'!P122","v":0},1,{"$f":"'m-E_Sp'!B122","v":"M18/01-Sport"},{"$f":"'m-E_Sp'!D122","v":0},{"$f":"'m-E_Sp'!F122","v":0},{"$f":"'m-E_Sp'!G122","v":0},{"$f":"'m-E_Sp'!H122","v":0},{"$f":"'m-E_Sp'!I122","v":0},{"$f":"'m-E_Sp'!J122","v":0},{"$f":"'m-E_Sp'!K122","v":0},{"$f":"'m-E_Sp'!L122","v":0},{"$f":"'m-E_Sp'!M122","v":0},{"$f":"'m-E_Sp'!P122","v":0}]
[1,{"$f":"'w-E_Sp'!B123","v":"W18/02-Sport"},{"$f":"'w-E_Sp'!D123","v":0},{"$f":"'w-E_Sp'!F123","v":0},{"$f":"'w-E_Sp'!G123","v":0},{"$f":"'w-E_Sp'!H123","v":0},{"$f":"'w-E_Sp'!I123","v":0},{"$f":"'w-E_Sp'!J123","v":0},{"$f":"'w-E_Sp'!K123","v":0},{"$f":"'w-E_Sp'!L123","v":0},{"$f":"'w-E_Sp'!M123","v":0},{"$f":"'w-E_Sp'!P123","v":0},1,{"$f":"'m-E_Sp'!B123","v":"M18/02-Sport"},{"$f":"'m-E_Sp'!D123","v":0},{"$f":"'m-E_Sp'!F123","v":0},{"$f":"'m-E_Sp'!G123","v":0},{"$f":"'m-E_Sp'!H123","v":0},{"$f":"'m-E_Sp'!I123","v":0},{"$f":"'m-E_Sp'!J123","v":0},{"$f":"'m-E_Sp'!K123","v":0},{"$f":"'m-E_Sp'!L123","v":0},{"$f":"'m-E_Sp'!M123","v":0},{"$f":"'m-E_Sp'!P123","v":0}]
[1,{"$f":"'w-E_Sp'!B124","v":"W18/03-Sport"},{"$f":"'w-E_Sp'!D124","v":0},{"$f":"'w-E_Sp'!F124","v":0},{"$f":"'w-E_Sp'!G124","v":0},{"$f":"'w-E_Sp'!H124","v":0},{"$f":"'w-E_Sp'!I124","v":0},{"$f":"'w-E_Sp'!J124","v":0},{"$f":"'w-E_Sp'!K124","v":0},{"$f":"'w-E_Sp'!L124","v":0},{"$f":"'w-E_Sp'!M124","v":0},{"$f":"'w-E_Sp'!P124","v":0},1,{"$f":"'m-E_Sp'!B124","v":"M18/03-Sport"},{"$f":"'m-E_Sp'!D124","v":0},{"$f":"'m-E_Sp'!F124","v":0},{"$f":"'m-E_Sp'!G124","v":0},{"$f":"'m-E_Sp'!H124","v":0},{"$f":"'m-E_Sp'!I124","v":0},{"$f":"'m-E_Sp'!J124","v":0},{"$f":"'m-E_Sp'!K124","v":0},{"$f":"'m-E_Sp'!L124","v":0},{"$f":"'m-E_Sp'!M124","v":0},{"$f":"'m-E_Sp'!P124","v":0}]
[1,{"$f":"'w-E_Sp'!B125","v":"W18/04-Sport"},{"$f":"'w-E_Sp'!D125","v":0},{"$f":"'w-E_Sp'!F125","v":0},{"$f":"'w-E_Sp'!G125","v":0},{"$f":"'w-E_Sp'!H125","v":0},{"$f":"'w-E_Sp'!I125","v":0},{"$f":"'w-E_Sp'!J125","v":0},{"$f":"'w-E_Sp'!K125","v":0},{"$f":"'w-E_Sp'!L125","v":0},{"$f":"'w-E_Sp'!M125","v":0},{"$f":"'w-E_Sp'!P125","v":0},1,{"$f":"'m-E_Sp'!B125","v":"M18/04-Sport"},{"$f":"'m-E_Sp'!D125","v":0},{"$f":"'m-E_Sp'!F125","v":0},{"$f":"'m-E_Sp'!G125","v":0},{"$f":"'m-E_Sp'!H125","v":0},{"$f":"'m-E_Sp'!I125","v":0},{"$f":"'m-E_Sp'!J125","v":0},{"$f":"'m-E_Sp'!K125","v":0},{"$f":"'m-E_Sp'!L125","v":0},{"$f":"'m-E_Sp'!M125","v":0},{"$f":"'m-E_Sp'!P125","v":0}]
[1,{"$f":"'w-E_Sp'!B126","v":"W18/05-Sport"},{"$f":"'w-E_Sp'!D126","v":0},{"$f":"'w-E_Sp'!F126","v":0},{"$f":"'w-E_Sp'!G126","v":0},{"$f":"'w-E_Sp'!H126","v":0},{"$f":"'w-E_Sp'!I126","v":0},{"$f":"'w-E_Sp'!J126","v":0},{"$f":"'w-E_Sp'!K126","v":0},{"$f":"'w-E_Sp'!L126","v":0},{"$f":"'w-E_Sp'!M126","v":0},{"$f":"'w-E_Sp'!P126","v":0},1,{"$f":"'m-E_Sp'!B126","v":"M18/05-Sport"},{"$f":"'m-E_Sp'!D126","v":0},{"$f":"'m-E_Sp'!F126","v":0},{"$f":"'m-E_Sp'!G126","v":0},{"$f":"'m-E_Sp'!H126","v":0},{"$f":"'m-E_Sp'!I126","v":0},{"$f":"'m-E_Sp'!J126","v":0},{"$f":"'m-E_Sp'!K126","v":0},{"$f":"'m-E_Sp'!L126","v":0},{"$f":"'m-E_Sp'!M126","v":0},{"$f":"'m-E_Sp'!P126","v":0}]
[1,{"$f":"'w-E_Sp'!B127","v":"W18/06-Sport"},{"$f":"'w-E_Sp'!D127","v":0},{"$f":"'w-E_Sp'!F127","v":0},{"$f":"'w-E_Sp'!G127","v":0},{"$f":"'w-E_Sp'!H127","v":0},{"$f":"'w-E_Sp'!I127","v":0},{"$f":"'w-E_Sp'!J127","v":0},{"$f":"'w-E_Sp'!K127","v":0},{"$f":"'w-E_Sp'!L127","v":0},{"$f":"'w-E_Sp'!M127","v":0},{"$f":"'w-E_Sp'!P127","v":0},1,{"$f":"'m-E_Sp'!B127","v":"M18/06-Sport"},{"$f":"'m-E_Sp'!D127","v":0},{"$f":"'m-E_Sp'!F127","v":0},{"$f":"'m-E_Sp'!G127","v":0},{"$f":"'m-E_Sp'!H127","v":0},{"$f":"'m-E_Sp'!I127","v":0},{"$f":"'m-E_Sp'!J127","v":0},{"$f":"'m-E_Sp'!K127","v":0},{"$f":"'m-E_Sp'!L127","v":0},{"$f":"'m-E_Sp'!M127","v":0},{"$f":"'m-E_Sp'!P127","v":0}]
[1,{"$f":"'w-E_Sp'!B129","v":"W19/01-Sport"},{"$f":"'w-E_Sp'!D129","v":0},{"$f":"'w-E_Sp'!F129","v":0},{"$f":"'w-E_Sp'!G129","v":0},{"$f":"'w-E_Sp'!H129","v":0},{"$f":"'w-E_Sp'!I129","v":0},{"$f":"'w-E_Sp'!J129","v":0},{"$f":"'w-E_Sp'!K129","v":0},{"$f":"'w-E_Sp'!L129","v":0},{"$f":"'w-E_Sp'!M129","v":0},{"$f":"'w-E_Sp'!P129","v":0},1,{"$f":"'m-E_Sp'!B129","v":"M19/01-Sport"},{"$f":"'m-E_Sp'!D129","v":0},{"$f":"'m-E_Sp'!F129","v":0},{"$f":"'m-E_Sp'!G129","v":0},{"$f":"'m-E_Sp'!H129","v":0},{"$f":"'m-E_Sp'!I129","v":0},{"$f":"'m-E_Sp'!J129","v":0},{"$f":"'m-E_Sp'!K129","v":0},{"$f":"'m-E_Sp'!L129","v":0},{"$f":"'m-E_Sp'!M129","v":0},{"$f":"'m-E_Sp'!P129","v":0}]
[1,{"$f":"'w-E_Sp'!B130","v":"W19/02-Sport"},{"$f":"'w-E_Sp'!D130","v":0},{"$f":"'w-E_Sp'!F130","v":0},{"$f":"'w-E_Sp'!G130","v":0},{"$f":"'w-E_Sp'!H130","v":0},{"$f":"'w-E_Sp'!I130","v":0},{"$f":"'w-E_Sp'!J130","v":0},{"$f":"'w-E_Sp'!K130","v":0},{"$f":"'w-E_Sp'!L130","v":0},{"$f":"'w-E_Sp'!M130","v":0},{"$f":"'w-E_Sp'!P130","v":0},1,{"$f":"'m-E_Sp'!B130","v":"M19/02-Sport"},{"$f":"'m-E_Sp'!D130","v":0},{"$f":"'m-E_Sp'!F130","v":0},{"$f":"'m-E_Sp'!G130","v":0},{"$f":"'m-E_Sp'!H130","v":0},{"$f":"'m-E_Sp'!I130","v":0},{"$f":"'m-E_Sp'!J130","v":0},{"$f":"'m-E_Sp'!K130","v":0},{"$f":"'m-E_Sp'!L130","v":0},{"$f":"'m-E_Sp'!M130","v":0},{"$f":"'m-E_Sp'!P130","v":0}]
[1,{"$f":"'w-E_Sp'!B131","v":"W19/03-Sport"},{"$f":"'w-E_Sp'!D131","v":0},{"$f":"'w-E_Sp'!F131","v":0},{"$f":"'w-E_Sp'!G131","v":0},{"$f":"'w-E_Sp'!H131","v":0},{"$f":"'w-E_Sp'!I131","v":0},{"$f":"'w-E_Sp'!J131","v":0},{"$f":"'w-E_Sp'!K131","v":0},{"$f":"'w-E_Sp'!L131","v":0},{"$f":"'w-E_Sp'!M131","v":0},{"$f":"'w-E_Sp'!P131","v":0},1,{"$f":"'m-E_Sp'!B131","v":"M19/03-Sport"},{"$f":"'m-E_Sp'!D131","v":0},{"$f":"'m-E_Sp'!F131","v":0},{"$f":"'m-E_Sp'!G131","v":0},{"$f":"'m-E_Sp'!H131","v":0},{"$f":"'m-E_Sp'!I131","v":0},{"$f":"'m-E_Sp'!J131","v":0},{"$f":"'m-E_Sp'!K131","v":0},{"$f":"'m-E_Sp'!L131","v":0},{"$f":"'m-E_Sp'!M131","v":0},{"$f":"'m-E_Sp'!P131","v":0}]
[1,{"$f":"'w-E_Sp'!B132","v":"W19/04-Sport"},{"$f":"'w-E_Sp'!D132","v":0},{"$f":"'w-E_Sp'!F132","v":0},{"$f":"'w-E_Sp'!G132","v":0},{"$f":"'w-E_Sp'!H132","v":0},{"$f":"'w-E_Sp'!I132","v":0},{"$f":"'w-E_Sp'!J132","v":0},{"$f":"'w-E_Sp'!K132","v":0},{"$f":"'w-E_Sp'!L132","v":0},{"$f":"'w-E_Sp'!M132","v":0},{"$f":"'w-E_Sp'!P132","v":0},1,{"$f":"'m-E_Sp'!B132","v":"M19/04-Sport"},{"$f":"'m-E_Sp'!D132","v":0},{"$f":"'m-E_Sp'!F132","v":0},{"$f":"'m-E_Sp'!G132","v":0},{"$f":"'m-E_Sp'!H132","v":0},{"$f":"'m-E_Sp'!I132","v":0},{"$f":"'m-E_Sp'!J132","v":0},{"$f":"'m-E_Sp'!K132","v":0},{"$f":"'m-E_Sp'!L132","v":0},{"$f":"'m-E_Sp'!M132","v":0},{"$f":"'m-E_Sp'!P132","v":0}]
[1,{"$f":"'w-E_Sp'!B133","v":"W19/05-Sport"},{"$f":"'w-E_Sp'!D133","v":0},{"$f":"'w-E_Sp'!F133","v":0},{"$f":"'w-E_Sp'!G133","v":0},{"$f":"'w-E_Sp'!H133","v":0},{"$f":"'w-E_Sp'!I133","v":0},{"$f":"'w-E_Sp'!J133","v":0},{"$f":"'w-E_Sp'!K133","v":0},{"$f":"'w-E_Sp'!L133","v":0},{"$f":"'w-E_Sp'!M133","v":0},{"$f":"'w-E_Sp'!P133","v":0},1,{"$f":"'m-E_Sp'!B133","v":"M19/05-Sport"},{"$f":"'m-E_Sp'!D133","v":0},{"$f":"'m-E_Sp'!F133","v":0},{"$f":"'m-E_Sp'!G133","v":0},{"$f":"'m-E_Sp'!H133","v":0},{"$f":"'m-E_Sp'!I133","v":0},{"$f":"'m-E_Sp'!J133","v":0},{"$f":"'m-E_Sp'!K133","v":0},{"$f":"'m-E_Sp'!L133","v":0},{"$f":"'m-E_Sp'!M133","v":0},{"$f":"'m-E_Sp'!P133","v":0}]
[1,{"$f":"'w-E_Sp'!B134","v":"W19/06-Sport"},{"$f":"'w-E_Sp'!D134","v":0},{"$f":"'w-E_Sp'!F134","v":0},{"$f":"'w-E_Sp'!G134","v":0},{"$f":"'w-E_Sp'!H134","v":0},{"$f":"'w-E_Sp'!I134","v":0},{"$f":"'w-E_Sp'!J134","v":0},{"$f":"'w-E_Sp'!K134","v":0},{"$f":"'w-E_Sp'!L134","v":0},{"$f":"'w-E_Sp'!M134","v":0},{"$f":"'w-E_Sp'!P134","v":0},1,{"$f":"'m-E_Sp'!B134","v":"M19/06-Sport"},{"$f":"'m-E_Sp'!D134","v":0},{"$f":"'m-E_Sp'!F134","v":0},{"$f":"'m-E_Sp'!G134","v":0},{"$f":"'m-E_Sp'!H134","v":0},{"$f":"'m-E_Sp'!I134","v":0},{"$f":"'m-E_Sp'!J134","v":0},{"$f":"'m-E_Sp'!K134","v":0},{"$f":"'m-E_Sp'!L134","v":0},{"$f":"'m-E_Sp'!M134","v":0},{"$f":"'m-E_Sp'!P134","v":0}]
[1,{"$f":"'w-E_Sp'!B136","v":"W20/01-Sport"},{"$f":"'w-E_Sp'!D136","v":0},{"$f":"'w-E_Sp'!F136","v":0},{"$f":"'w-E_Sp'!G136","v":0},{"$f":"'w-E_Sp'!H136","v":0},{"$f":"'w-E_Sp'!I136","v":0},{"$f":"'w-E_Sp'!J136","v":0},{"$f":"'w-E_Sp'!K136","v":0},{"$f":"'w-E_Sp'!L136","v":0},{"$f":"'w-E_Sp'!M136","v":0},{"$f":"'w-E_Sp'!P136","v":0},1,{"$f":"'m-E_Sp'!B136","v":"M20/01-Sport"},{"$f":"'m-E_Sp'!D136","v":0},{"$f":"'m-E_Sp'!F136","v":0},{"$f":"'m-E_Sp'!G136","v":0},{"$f":"'m-E_Sp'!H136","v":0},{"$f":"'m-E_Sp'!I136","v":0},{"$f":"'m-E_Sp'!J136","v":0},{"$f":"'m-E_Sp'!K136","v":0},{"$f":"'m-E_Sp'!L136","v":0},{"$f":"'m-E_Sp'!M136","v":0},{"$f":"'m-E_Sp'!P136","v":0}]
[1,{"$f":"'w-E_Sp'!B137","v":"W20/02-Sport"},{"$f":"'w-E_Sp'!D137","v":0},{"$f":"'w-E_Sp'!F137","v":0},{"$f":"'w-E_Sp'!G137","v":0},{"$f":"'w-E_Sp'!H137","v":0},{"$f":"'w-E_Sp'!I137","v":0},{"$f":"'w-E_Sp'!J137","v":0},{"$f":"'w-E_Sp'!K137","v":0},{"$f":"'w-E_Sp'!L137","v":0},{"$f":"'w-E_Sp'!M137","v":0},{"$f":"'w-E_Sp'!P137","v":0},1,{"$f":"'m-E_Sp'!B137","v":"M20/02-Sport"},{"$f":"'m-E_Sp'!D137","v":0},{"$f":"'m-E_Sp'!F137","v":0},{"$f":"'m-E_Sp'!G137","v":0},{"$f":"'m-E_Sp'!H137","v":0},{"$f":"'m-E_Sp'!I137","v":0},{"$f":"'m-E_Sp'!J137","v":0},{"$f":"'m-E_Sp'!K137","v":0},{"$f":"'m-E_Sp'!L137","v":0},{"$f":"'m-E_Sp'!M137","v":0},{"$f":"'m-E_Sp'!P137","v":0}]
[1,{"$f":"'w-E_Sp'!B138","v":"W20/03-Sport"},{"$f":"'w-E_Sp'!D138","v":0},{"$f":"'w-E_Sp'!F138","v":0},{"$f":"'w-E_Sp'!G138","v":0},{"$f":"'w-E_Sp'!H138","v":0},{"$f":"'w-E_Sp'!I138","v":0},{"$f":"'w-E_Sp'!J138","v":0},{"$f":"'w-E_Sp'!K138","v":0},{"$f":"'w-E_Sp'!L138","v":0},{"$f":"'w-E_Sp'!M138","v":0},{"$f":"'w-E_Sp'!P138","v":0},1,{"$f":"'m-E_Sp'!B138","v":"M20/03-Sport"},{"$f":"'m-E_Sp'!D138","v":0},{"$f":"'m-E_Sp'!F138","v":0},{"$f":"'m-E_Sp'!G138","v":0},{"$f":"'m-E_Sp'!H138","v":0},{"$f":"'m-E_Sp'!I138","v":0},{"$f":"'m-E_Sp'!J138","v":0},{"$f":"'m-E_Sp'!K138","v":0},{"$f":"'m-E_Sp'!L138","v":0},{"$f":"'m-E_Sp'!M138","v":0},{"$f":"'m-E_Sp'!P138","v":0}]
[1,{"$f":"'w-E_Sp'!B139","v":"W20/04-Sport"},{"$f":"'w-E_Sp'!D139","v":0},{"$f":"'w-E_Sp'!F139","v":0},{"$f":"'w-E_Sp'!G139","v":0},{"$f":"'w-E_Sp'!H139","v":0},{"$f":"'w-E_Sp'!I139","v":0},{"$f":"'w-E_Sp'!J139","v":0},{"$f":"'w-E_Sp'!K139","v":0},{"$f":"'w-E_Sp'!L139","v":0},{"$f":"'w-E_Sp'!M139","v":0},{"$f":"'w-E_Sp'!P139","v":0},1,{"$f":"'m-E_Sp'!B139","v":"M20/04-Sport"},{"$f":"'m-E_Sp'!D139","v":0},{"$f":"'m-E_Sp'!F139","v":0},{"$f":"'m-E_Sp'!G139","v":0},{"$f":"'m-E_Sp'!H139","v":0},{"$f":"'m-E_Sp'!I139","v":0},{"$f":"'m-E_Sp'!J139","v":0},{"$f":"'m-E_Sp'!K139","v":0},{"$f":"'m-E_Sp'!L139","v":0},{"$f":"'m-E_Sp'!M139","v":0},{"$f":"'m-E_Sp'!P139","v":0}]
[1,{"$f":"'w-E_Sp'!B140","v":"W20/05-Sport"},{"$f":"'w-E_Sp'!D140","v":0},{"$f":"'w-E_Sp'!F140","v":0},{"$f":"'w-E_Sp'!G140","v":0},{"$f":"'w-E_Sp'!H140","v":0},{"$f":"'w-E_Sp'!I140","v":0},{"$f":"'w-E_Sp'!J140","v":0},{"$f":"'w-E_Sp'!K140","v":0},{"$f":"'w-E_Sp'!L140","v":0},{"$f":"'w-E_Sp'!M140","v":0},{"$f":"'w-E_Sp'!P140","v":0},1,{"$f":"'m-E_Sp'!B140","v":"M20/05-Sport"},{"$f":"'m-E_Sp'!D140","v":0},{"$f":"'m-E_Sp'!F140","v":0},{"$f":"'m-E_Sp'!G140","v":0},{"$f":"'m-E_Sp'!H140","v":0},{"$f":"'m-E_Sp'!I140","v":0},{"$f":"'m-E_Sp'!J140","v":0},{"$f":"'m-E_Sp'!K140","v":0},{"$f":"'m-E_Sp'!L140","v":0},{"$f":"'m-E_Sp'!M140","v":0},{"$f":"'m-E_Sp'!P140","v":0}]
[1,{"$f":"'w-E_Sp'!B141","v":"W20/06-Sport"},{"$f":"'w-E_Sp'!D141","v":0},{"$f":"'w-E_Sp'!F141","v":0},{"$f":"'w-E_Sp'!G141","v":0},{"$f":"'w-E_Sp'!H141","v":0},{"$f":"'w-E_Sp'!I141","v":0},{"$f":"'w-E_Sp'!J141","v":0},{"$f":"'w-E_Sp'!K141","v":0},{"$f":"'w-E_Sp'!L141","v":0},{"$f":"'w-E_Sp'!M141","v":0},{"$f":"'w-E_Sp'!P141","v":0},1,{"$f":"'m-E_Sp'!B141","v":"M20/06-Sport"},{"$f":"'m-E_Sp'!D141","v":0},{"$f":"'m-E_Sp'!F141","v":0},{"$f":"'m-E_Sp'!G141","v":0},{"$f":"'m-E_Sp'!H141","v":0},{"$f":"'m-E_Sp'!I141","v":0},{"$f":"'m-E_Sp'!J141","v":0},{"$f":"'m-E_Sp'!K141","v":0},{"$f":"'m-E_Sp'!L141","v":0},{"$f":"'m-E_Sp'!M141","v":0},{"$f":"'m-E_Sp'!P141","v":0}]

{"sheet":"Schweizer-Punktetabelle","index":27,"n_rows":25,"n_cols":11,"rows_kept":25,"cut":false,"hidden":false,"merged":[]}
["Schweizer Punktetabelle für die ÖLV Cuppunkteberechnung:"]
[]
["Läufe:"]
["Punkte=A*((B-Leistung)/100)^C",null,null,"In die Formel müssen alle Leistungen in Sekunden x 100 eingesetzt werden!"]
[]
["Sprünge:"]
["Punkte=A*((Leistung-B)/100)^C",null,null,"In die Formel müssen alle Leistungen in Zentimetern eingesetzt werden!"]
[]
["Männer","A","B","C"]
["60m",17.686955000000001,1397,2.1,"Leistung:",null,"sek.",null,null,"Punkte:",{"$f":"IF(F10=0,0,INT(B10*EXP(D10*LN((C10-F10*100)/100))))","v":0}]
["5x80m *)",0.35598200000000002,8600,2.1,"Leistung:",null,"sek.",null,null,"Punkte:",{"$f":"IF(F11=0,0,INT(2*(B11*EXP(D11*LN((C11-F11*100)/100)))))","v":0}]
["Weit",180.85908000000001,190,1,"Leistung:",null,"m",null,null,"Punkte:",{"$f":"IF(F12=0,0,INT(B12*EXP(D12*LN((F12*100-C12)/100))))","v":0}]
["Kugel",82.491673000000006,178,0.9,"Leistung:",null,"m",null,null,"Punkte:",0]
["Ball",18,800,0.9,"Leistung:",null,"m",null,null,"Punkte:",{"$f":"IF(F14=0,0,INT(B14*EXP(D14*LN((F14*100-C14)/100))))","v":0}]
[]
["*)für die Berechnung der Punkte wurde die 4x100m Formel verwendet"]
[]
["Frauen","A","B","C"]
["60m",19.742424,1417,2.1,"Leistung:",null,"sek.",null,null,"Punkte:",{"$f":"IF(F19=0,0,INT(B19*EXP(D19*LN((C19-F19*100)/100))))","v":0}]
["5x80m *)",0.40554800000000002,8720,2.1,"Leistung:",null,"sek.",null,null,"Punkte:",{"$f":"IF(F20=0,0,INT(2*(B20*EXP(D20*LN((C20-F20*100)/100)))))","v":0}]
["Weit",220.628792,180,1,"Leistung:",null,"m",null,null,"Punkte:",{"$f":"IF(F21=0,0,INT(B21*EXP(D21*LN((F21*100-C21)/100))))","v":0}]
["Kugel ",83.435372999999998,130,0.9,"Leistung:",null,"m",null,null,"Punkte:",0]
["Ball",22,500,0.9,"Leistung:",null,"m",null,null,"Punkte:",0]
[]
["*)für die Berechnung der Punkte wurde die 4x100m Formel verwendet"]